{"text_format":"3","workbook":"xlsx","n_sheets":1,"sheets":["人民警察职位体检人员名单"],"not_rendered":{"external_links":1,"defined_names":1},"read":"whole","date_system":"1900"}

{"sheet":"人民警察职位体检人员名单","index":0,"n_rows":121,"n_cols":6,"rows_kept":121,"merged":[[0,0,0,1],[1,0,1,5]]}
["附件2："]
["贵州省2025年度四级联考（六盘水考区）人民警察职位体检人员名单"]
["序号","姓名","准考证号","职位代码","报考单位","报考职位"]
[1,"付凯","204021805622","8000101","六枝特区公安局",{"$f":"VLOOKUP(C4,'[1]2025年公开招录公务员（人民警察）笔试成绩1'!$B$1:$W$65536,22,FALSE)","v":"民警"}]
[2,"胡兵洋","204021805610","8000101","六枝特区公安局",{"$f":"VLOOKUP(C5,'[1]2025年公开招录公务员（人民警察）笔试成绩1'!$B$1:$W$65536,22,FALSE)","v":"民警"}]
[3,"王保贵","204021806929","8000101","六枝特区公安局",{"$f":"VLOOKUP(C6,'[1]2025年公开招录公务员（人民警察）笔试成绩1'!$B$1:$W$65536,22,FALSE)","v":"民警"}]
[4,"尚建","204021807316","8000102","六枝特区公安局",{"$f":"VLOOKUP(C7,'[1]2025年公开招录公务员（人民警察）笔试成绩1'!$B$1:$W$65536,22,FALSE)","v":"民警"}]
[5,"杨选辉","204021801413","8000102","六枝特区公安局",{"$f":"VLOOKUP(C8,'[1]2025年公开招录公务员（人民警察）笔试成绩1'!$B$1:$W$65536,22,FALSE)","v":"民警"}]
[6,"何治宏","204021806005","8000103","六枝特区公安局",{"$f":"VLOOKUP(C9,'[1]2025年公开招录公务员（人民警察）笔试成绩1'!$B$1:$W$65536,22,FALSE)","v":"民警"}]
[7,"黄苏丽","204021803204","8000104","六枝特区公安局",{"$f":"VLOOKUP(C10,'[1]2025年公开招录公务员（人民警察）笔试成绩1'!$B$1:$W$65536,22,FALSE)","v":"民警"}]
[8,"付霞","204021804611","8000105","六枝特区公安局",{"$f":"VLOOKUP(C11,'[1]2025年公开招录公务员（人民警察）笔试成绩1'!$B$1:$W$65536,22,FALSE)","v":"民警"}]
[9,"刘杰","204021803525","8000106","六枝特区公安局",{"$f":"VLOOKUP(C12,'[1]2025年公开招录公务员（人民警察）笔试成绩1'!$B$1:$W$65536,22,FALSE)","v":"民警"}]
[10,"李金威","204021802823","8000107","六枝特区公安局",{"$f":"VLOOKUP(C13,'[1]2025年公开招录公务员（人民警察）笔试成绩1'!$B$1:$W$65536,22,FALSE)","v":"民警"}]
[11,"江小波","204021805122","8000107","六枝特区公安局",{"$f":"VLOOKUP(C14,'[1]2025年公开招录公务员（人民警察）笔试成绩1'!$B$1:$W$65536,22,FALSE)","v":"民警"}]
[12,"张蝶","204021801828","8000108","六枝特区公安局",{"$f":"VLOOKUP(C15,'[1]2025年公开招录公务员（人民警察）笔试成绩1'!$B$1:$W$65536,22,FALSE)","v":"民警"}]
[13,"赵敏琪","204021806413","8000110","六枝特区公安局",{"$f":"VLOOKUP(C16,'[1]2025年公开招录公务员（人民警察）笔试成绩1'!$B$1:$W$65536,22,FALSE)","v":"民警"}]
[14,"施启行","204021803205","8000111","六枝特区公安局",{"$f":"VLOOKUP(C17,'[1]2025年公开招录公务员（人民警察）笔试成绩1'!$B$1:$W$65536,22,FALSE)","v":"民警"}]
[15,"张普","204021801122","8000112","六枝特区公安局",{"$f":"VLOOKUP(C18,'[1]2025年公开招录公务员（人民警察）笔试成绩1'!$B$1:$W$65536,22,FALSE)","v":"民警"}]
[16,"姚亮","204021803926","8000113","六枝特区公安局",{"$f":"VLOOKUP(C19,'[1]2025年公开招录公务员（人民警察）笔试成绩1'!$B$1:$W$65536,22,FALSE)","v":"民警"}]
[17,"唐忍忍","204021800719","8000114","六枝特区公安局",{"$f":"VLOOKUP(C20,'[1]2025年公开招录公务员（人民警察）笔试成绩1'!$B$1:$W$65536,22,FALSE)","v":"民警"}]
[18,"胡飘","204021805508","8000115","六枝特区公安局",{"$f":"VLOOKUP(C21,'[1]2025年公开招录公务员（人民警察）笔试成绩1'!$B$1:$W$65536,22,FALSE)","v":"民警"}]
[19,"王桃","204021803827","8000116","六枝特区公安局",{"$f":"VLOOKUP(C22,'[1]2025年公开招录公务员（人民警察）笔试成绩1'!$B$1:$W$65536,22,FALSE)","v":"民警"}]
[20,"肖敏","204021804217","8000117","六枝特区公安局",{"$f":"VLOOKUP(C23,'[1]2025年公开招录公务员（人民警察）笔试成绩1'!$B$1:$W$65536,22,FALSE)","v":"民警"}]
[21,"朱聪","204021805617","8000118","六枝特区公安局",{"$f":"VLOOKUP(C24,'[1]2025年公开招录公务员（人民警察）笔试成绩1'!$B$1:$W$65536,22,FALSE)","v":"民警"}]
[22,"吕馨婷","204021801808","8000119","六枝特区公安局",{"$f":"VLOOKUP(C25,'[1]2025年公开招录公务员（人民警察）笔试成绩1'!$B$1:$W$65536,22,FALSE)","v":"民警"}]
[23,"刘卓","204021801701","8000201","盘州市公安局",{"$f":"VLOOKUP(C26,'[1]2025年公开招录公务员（人民警察）笔试成绩1'!$B$1:$W$65536,22,FALSE)","v":"民警"}]
[24,"冯绍虎","204021806019","8000201","盘州市公安局",{"$f":"VLOOKUP(C27,'[1]2025年公开招录公务员（人民警察）笔试成绩1'!$B$1:$W$65536,22,FALSE)","v":"民警"}]
[25,"崔涛","204021806201","8000202","盘州市公安局",{"$f":"VLOOKUP(C28,'[1]2025年公开招录公务员（人民警察）笔试成绩1'!$B$1:$W$65536,22,FALSE)","v":"民警"}]
[26,"杨志","204021803415","8000202","盘州市公安局",{"$f":"VLOOKUP(C29,'[1]2025年公开招录公务员（人民警察）笔试成绩1'!$B$1:$W$65536,22,FALSE)","v":"民警"}]
[27,"汪尘","204021805413","8000204","盘州市公安局",{"$f":"VLOOKUP(C30,'[1]2025年公开招录公务员（人民警察）笔试成绩1'!$B$1:$W$65536,22,FALSE)","v":"民警"}]
[28,"安钟铭","204021806607","8000204","盘州市公安局",{"$f":"VLOOKUP(C31,'[1]2025年公开招录公务员（人民警察）笔试成绩1'!$B$1:$W$65536,22,FALSE)","v":"民警"}]
[29,"邵东升","204021802819","8000205","盘州市公安局",{"$f":"VLOOKUP(C32,'[1]2025年公开招录公务员（人民警察）笔试成绩1'!$B$1:$W$65536,22,FALSE)","v":"民警"}]
[30,"余婷","204021806428","8000206","盘州市公安局",{"$f":"VLOOKUP(C33,'[1]2025年公开招录公务员（人民警察）笔试成绩1'!$B$1:$W$65536,22,FALSE)","v":"民警"}]
[31,"杨蕾","204021800706","8000207","盘州市公安局",{"$f":"VLOOKUP(C34,'[1]2025年公开招录公务员（人民警察）笔试成绩1'!$B$1:$W$65536,22,FALSE)","v":"民警（网络安全管理）"}]
[32,"田放","204021801709","8000207","盘州市公安局",{"$f":"VLOOKUP(C35,'[1]2025年公开招录公务员（人民警察）笔试成绩1'!$B$1:$W$65536,22,FALSE)","v":"民警（网络安全管理）"}]
[33,"牛小雨","204021803401","8000207","盘州市公安局",{"$f":"VLOOKUP(C36,'[1]2025年公开招录公务员（人民警察）笔试成绩1'!$B$1:$W$65536,22,FALSE)","v":"民警（网络安全管理）"}]
[34,"李方韬","204021807117","8000208","盘州市公安局",{"$f":"VLOOKUP(C37,'[1]2025年公开招录公务员（人民警察）笔试成绩1'!$B$1:$W$65536,22,FALSE)","v":"民警（网络安全管理）"}]
[35,"许春茂","204021803030","8000208","盘州市公安局",{"$f":"VLOOKUP(C38,'[1]2025年公开招录公务员（人民警察）笔试成绩1'!$B$1:$W$65536,22,FALSE)","v":"民警（网络安全管理）"}]
[36,"张春梅","204021801523","8000209","盘州市公安局",{"$f":"VLOOKUP(C39,'[1]2025年公开招录公务员（人民警察）笔试成绩1'!$B$1:$W$65536,22,FALSE)","v":"民警（金融财会）"}]
[37,"杨洁","204021806514","8000209","盘州市公安局",{"$f":"VLOOKUP(C40,'[1]2025年公开招录公务员（人民警察）笔试成绩1'!$B$1:$W$65536,22,FALSE)","v":"民警（金融财会）"}]
[38,"孙洁","204021801708","8000209","盘州市公安局",{"$f":"VLOOKUP(C41,'[1]2025年公开招录公务员（人民警察）笔试成绩1'!$B$1:$W$65536,22,FALSE)","v":"民警（金融财会）"}]
[39,"朱志","204021805114","8000210","盘州市公安局",{"$f":"VLOOKUP(C42,'[1]2025年公开招录公务员（人民警察）笔试成绩1'!$B$1:$W$65536,22,FALSE)","v":"民警（金融财会）"}]
[40,"黄家豪","204021806228","8000211","盘州市公安局",{"$f":"VLOOKUP(C43,'[1]2025年公开招录公务员（人民警察）笔试成绩1'!$B$1:$W$65536,22,FALSE)","v":"民警（法医）"}]
[41,"路程","204021807708","8000212","盘州市公安局",{"$f":"VLOOKUP(C44,'[1]2025年公开招录公务员（人民警察）笔试成绩1'!$B$1:$W$65536,22,FALSE)","v":"民警"}]
[42,"高子键","204021800926","8000213","盘州市公安局",{"$f":"VLOOKUP(C45,'[1]2025年公开招录公务员（人民警察）笔试成绩1'!$B$1:$W$65536,22,FALSE)","v":"民警"}]
[43,"廖锡超","204021801408","8000213","盘州市公安局",{"$f":"VLOOKUP(C46,'[1]2025年公开招录公务员（人民警察）笔试成绩1'!$B$1:$W$65536,22,FALSE)","v":"民警"}]
[44,"顾思远","204021804001","8000214","盘州市公安局",{"$f":"VLOOKUP(C47,'[1]2025年公开招录公务员（人民警察）笔试成绩1'!$B$1:$W$65536,22,FALSE)","v":"民警"}]
[45,"何卓怡","204021806007","8000214","盘州市公安局",{"$f":"VLOOKUP(C48,'[1]2025年公开招录公务员（人民警察）笔试成绩1'!$B$1:$W$65536,22,FALSE)","v":"民警"}]
[46,"张航","204021803428","8000215","盘州市公安局",{"$f":"VLOOKUP(C49,'[1]2025年公开招录公务员（人民警察）笔试成绩1'!$B$1:$W$65536,22,FALSE)","v":"民警"}]
[47,"虎恩权","204021802522","8000215","盘州市公安局",{"$f":"VLOOKUP(C50,'[1]2025年公开招录公务员（人民警察）笔试成绩1'!$B$1:$W$65536,22,FALSE)","v":"民警"}]
[48,"刘家耀","204021803315","8000216","盘州市公安局",{"$f":"VLOOKUP(C51,'[1]2025年公开招录公务员（人民警察）笔试成绩1'!$B$1:$W$65536,22,FALSE)","v":"民警"}]
[49,"董燮","204021800915","8000216","盘州市公安局",{"$f":"VLOOKUP(C52,'[1]2025年公开招录公务员（人民警察）笔试成绩1'!$B$1:$W$65536,22,FALSE)","v":"民警"}]
[50,"黄朴连","204021801521","8000217","盘州市公安局",{"$f":"VLOOKUP(C53,'[1]2025年公开招录公务员（人民警察）笔试成绩1'!$B$1:$W$65536,22,FALSE)","v":"民警"}]
[51,"申维星","204021806606","8000217","盘州市公安局",{"$f":"VLOOKUP(C54,'[1]2025年公开招录公务员（人民警察）笔试成绩1'!$B$1:$W$65536,22,FALSE)","v":"民警"}]
[52,"张玲","204021804225","8000218","盘州市公安局",{"$f":"VLOOKUP(C55,'[1]2025年公开招录公务员（人民警察）笔试成绩1'!$B$1:$W$65536,22,FALSE)","v":"民警"}]
[53,"李亚婷","204021805709","8000218","盘州市公安局",{"$f":"VLOOKUP(C56,'[1]2025年公开招录公务员（人民警察）笔试成绩1'!$B$1:$W$65536,22,FALSE)","v":"民警"}]
[54,"唐博雅","204021805425","8000219","盘州市公安局",{"$f":"VLOOKUP(C57,'[1]2025年公开招录公务员（人民警察）笔试成绩1'!$B$1:$W$65536,22,FALSE)","v":"民警"}]
[55,"杨瑚","204021801309","8000219","盘州市公安局",{"$f":"VLOOKUP(C58,'[1]2025年公开招录公务员（人民警察）笔试成绩1'!$B$1:$W$65536,22,FALSE)","v":"民警"}]
[56,"李霜露","204021802305","8000220","盘州市公安局",{"$f":"VLOOKUP(C59,'[1]2025年公开招录公务员（人民警察）笔试成绩1'!$B$1:$W$65536,22,FALSE)","v":"民警"}]
[57,"刘浦雯","204021802025","8000220","盘州市公安局",{"$f":"VLOOKUP(C60,'[1]2025年公开招录公务员（人民警察）笔试成绩1'!$B$1:$W$65536,22,FALSE)","v":"民警"}]
[58,"任凌熠","204021806829","8000301","六盘水市水城区公安局",{"$f":"VLOOKUP(C61,'[1]2025年公开招录公务员（人民警察）笔试成绩1'!$B$1:$W$65536,22,FALSE)","v":"民警"}]
[59,"罗宇西","204021806312","8000301","六盘水市水城区公安局",{"$f":"VLOOKUP(C62,'[1]2025年公开招录公务员（人民警察）笔试成绩1'!$B$1:$W$65536,22,FALSE)","v":"民警"}]
[60,"何华琴","204021805602","8000302","六盘水市水城区公安局",{"$f":"VLOOKUP(C63,'[1]2025年公开招录公务员（人民警察）笔试成绩1'!$B$1:$W$65536,22,FALSE)","v":"民警（法医）"}]
[61,"周景昭","204021806926","8000303","六盘水市水城区公安局",{"$f":"VLOOKUP(C64,'[1]2025年公开招录公务员（人民警察）笔试成绩1'!$B$1:$W$65536,22,FALSE)","v":"民警（网络安全管理）"}]
[62,"罗皓琪","204021806415","8000303","六盘水市水城区公安局",{"$f":"VLOOKUP(C65,'[1]2025年公开招录公务员（人民警察）笔试成绩1'!$B$1:$W$65536,22,FALSE)","v":"民警（网络安全管理）"}]
[63,"冯鑫","204021801426","8000304","六盘水市水城区公安局",{"$f":"VLOOKUP(C66,'[1]2025年公开招录公务员（人民警察）笔试成绩1'!$B$1:$W$65536,22,FALSE)","v":"民警"}]
[64,"徐力丽","204021800313","8000305","六盘水市水城区公安局",{"$f":"VLOOKUP(C67,'[1]2025年公开招录公务员（人民警察）笔试成绩1'!$B$1:$W$65536,22,FALSE)","v":"民警"}]
[65,"冯亚","204021807719","8000305","六盘水市水城区公安局",{"$f":"VLOOKUP(C68,'[1]2025年公开招录公务员（人民警察）笔试成绩1'!$B$1:$W$65536,22,FALSE)","v":"民警"}]
[66,"李晓勇","204021802917","8000306","六盘水市水城区公安局",{"$f":"VLOOKUP(C69,'[1]2025年公开招录公务员（人民警察）笔试成绩1'!$B$1:$W$65536,22,FALSE)","v":"民警"}]
[67,"肖家乐","204021803322","8000306","六盘水市水城区公安局",{"$f":"VLOOKUP(C70,'[1]2025年公开招录公务员（人民警察）笔试成绩1'!$B$1:$W$65536,22,FALSE)","v":"民警"}]
[68,"罗寻","204021802630","8000307","六盘水市水城区公安局",{"$f":"VLOOKUP(C71,'[1]2025年公开招录公务员（人民警察）笔试成绩1'!$B$1:$W$65536,22,FALSE)","v":"民警"}]
[69,"王丕鑫","204021805503","8000307","六盘水市水城区公安局",{"$f":"VLOOKUP(C72,'[1]2025年公开招录公务员（人民警察）笔试成绩1'!$B$1:$W$65536,22,FALSE)","v":"民警"}]
[70,"王安龙","204021800727","8000308","六盘水市水城区公安局",{"$f":"VLOOKUP(C73,'[1]2025年公开招录公务员（人民警察）笔试成绩1'!$B$1:$W$65536,22,FALSE)","v":"民警"}]
[71,"李选竹","204021800429","8000308","六盘水市水城区公安局",{"$f":"VLOOKUP(C74,'[1]2025年公开招录公务员（人民警察）笔试成绩1'!$B$1:$W$65536,22,FALSE)","v":"民警"}]
[72,"刘元元","204021804423","8000309","六盘水市水城区公安局",{"$f":"VLOOKUP(C75,'[1]2025年公开招录公务员（人民警察）笔试成绩1'!$B$1:$W$65536,22,FALSE)","v":"民警"}]
[73,"张嫚","204021803004","8000310","六盘水市水城区公安局",{"$f":"VLOOKUP(C76,'[1]2025年公开招录公务员（人民警察）笔试成绩1'!$B$1:$W$65536,22,FALSE)","v":"民警"}]
[74,"李夏悦","204021805222","8000311","六盘水市水城区公安局",{"$f":"VLOOKUP(C77,'[1]2025年公开招录公务员（人民警察）笔试成绩1'!$B$1:$W$65536,22,FALSE)","v":"民警"}]
[75,"赵正洵","204021807027","8000312","六盘水市水城区公安局",{"$f":"VLOOKUP(C78,'[1]2025年公开招录公务员（人民警察）笔试成绩1'!$B$1:$W$65536,22,FALSE)","v":"民警"}]
[76,"陈威","202021702527","8000401","六盘水市公安局钟山分局",{"$f":"VLOOKUP(C79,'[1]2025年公开招录公务员（人民警察）笔试成绩1'!$B$1:$W$65536,22,FALSE)","v":"民警"}]
[77,"张高荣","202021704606","8000402","六盘水市公安局钟山分局",{"$f":"VLOOKUP(C80,'[1]2025年公开招录公务员（人民警察）笔试成绩1'!$B$1:$W$65536,22,FALSE)","v":"民警"}]
[78,"李瑞玲","202021704220","8000403","六盘水市公安局钟山分局",{"$f":"VLOOKUP(C81,'[1]2025年公开招录公务员（人民警察）笔试成绩1'!$B$1:$W$65536,22,FALSE)","v":"民警"}]
[79,"闫富贵","202021705010","8000404","六盘水市公安局钟山分局",{"$f":"VLOOKUP(C82,'[1]2025年公开招录公务员（人民警察）笔试成绩1'!$B$1:$W$65536,22,FALSE)","v":"民警"}]
[80,"赵旭东","202021705311","8000404","六盘水市公安局钟山分局",{"$f":"VLOOKUP(C83,'[1]2025年公开招录公务员（人民警察）笔试成绩1'!$B$1:$W$65536,22,FALSE)","v":"民警"}]
[81,"李济良","202021703723","8000404","六盘水市公安局钟山分局",{"$f":"VLOOKUP(C84,'[1]2025年公开招录公务员（人民警察）笔试成绩1'!$B$1:$W$65536,22,FALSE)","v":"民警"}]
[82,"邹开娅","202021705809","8000405","六盘水市公安局钟山分局",{"$f":"VLOOKUP(C85,'[1]2025年公开招录公务员（人民警察）笔试成绩1'!$B$1:$W$65536,22,FALSE)","v":"民警"}]
[83,"李娥","202021704423","8000405","六盘水市公安局钟山分局",{"$f":"VLOOKUP(C86,'[1]2025年公开招录公务员（人民警察）笔试成绩1'!$B$1:$W$65536,22,FALSE)","v":"民警"}]
[84,"顾晓玉","202021703714","8000406","六盘水市公安局钟山分局",{"$f":"VLOOKUP(C87,'[1]2025年公开招录公务员（人民警察）笔试成绩1'!$B$1:$W$65536,22,FALSE)","v":"民警"}]
[85,"李笙语","202021705615","8000406","六盘水市公安局钟山分局",{"$f":"VLOOKUP(C88,'[1]2025年公开招录公务员（人民警察）笔试成绩1'!$B$1:$W$65536,22,FALSE)","v":"民警"}]
[86,"张竣雯","202021704313","8000406","六盘水市公安局钟山分局",{"$f":"VLOOKUP(C89,'[1]2025年公开招录公务员（人民警察）笔试成绩1'!$B$1:$W$65536,22,FALSE)","v":"民警"}]
[87,"张恒铭","202021700616","8000407","六盘水市公安局钟山分局",{"$f":"VLOOKUP(C90,'[1]2025年公开招录公务员（人民警察）笔试成绩1'!$B$1:$W$65536,22,FALSE)","v":"民警"}]
[88,"李曌宇","202021705707","8000407","六盘水市公安局钟山分局",{"$f":"VLOOKUP(C91,'[1]2025年公开招录公务员（人民警察）笔试成绩1'!$B$1:$W$65536,22,FALSE)","v":"民警"}]
[89,"蔡明康","202021705328","8000407","六盘水市公安局钟山分局",{"$f":"VLOOKUP(C92,'[1]2025年公开招录公务员（人民警察）笔试成绩1'!$B$1:$W$65536,22,FALSE)","v":"民警"}]
[90,"李若彤","202021705124","8000408","六盘水市公安局钟山分局",{"$f":"VLOOKUP(C93,'[1]2025年公开招录公务员（人民警察）笔试成绩1'!$B$1:$W$65536,22,FALSE)","v":"民警"}]
[91,"李訾龙","202021702216","8000408","六盘水市公安局钟山分局",{"$f":"VLOOKUP(C94,'[1]2025年公开招录公务员（人民警察）笔试成绩1'!$B$1:$W$65536,22,FALSE)","v":"民警"}]
[92,"朱丹","202021701421","8000408","六盘水市公安局钟山分局",{"$f":"VLOOKUP(C95,'[1]2025年公开招录公务员（人民警察）笔试成绩1'!$B$1:$W$65536,22,FALSE)","v":"民警"}]
[93,"陈懿","202021700422","8000408","六盘水市公安局钟山分局",{"$f":"VLOOKUP(C96,'[1]2025年公开招录公务员（人民警察）笔试成绩1'!$B$1:$W$65536,22,FALSE)","v":"民警"}]
[94,"朱皋","202021701307","8000409","六盘水市公安局钟山分局",{"$f":"VLOOKUP(C97,'[1]2025年公开招录公务员（人民警察）笔试成绩1'!$B$1:$W$65536,22,FALSE)","v":"民警"}]
[95,"陶毓珂","202021702401","8000409","六盘水市公安局钟山分局",{"$f":"VLOOKUP(C98,'[1]2025年公开招录公务员（人民警察）笔试成绩1'!$B$1:$W$65536,22,FALSE)","v":"民警"}]
[96,"赵丁皓","202021700720","8000409","六盘水市公安局钟山分局",{"$f":"VLOOKUP(C99,'[1]2025年公开招录公务员（人民警察）笔试成绩1'!$B$1:$W$65536,22,FALSE)","v":"民警"}]
[97,"苏德涛","202021705503","8000410","六盘水市公安局钟山分局",{"$f":"VLOOKUP(C100,'[1]2025年公开招录公务员（人民警察）笔试成绩1'!$B$1:$W$65536,22,FALSE)","v":"民警（金融财会）"}]
[98,"龚伟杰","202021700217","8000411","六盘水市公安局钟山分局",{"$f":"VLOOKUP(C101,'[1]2025年公开招录公务员（人民警察）笔试成绩1'!$B$1:$W$65536,22,FALSE)","v":"民警"}]
[99,"袁行","202021704017","8000411","六盘水市公安局钟山分局",{"$f":"VLOOKUP(C102,'[1]2025年公开招录公务员（人民警察）笔试成绩1'!$B$1:$W$65536,22,FALSE)","v":"民警"}]
[100,"何书红","202021701107","8000412","六盘水市公安局钟山分局",{"$f":"VLOOKUP(C103,'[1]2025年公开招录公务员（人民警察）笔试成绩1'!$B$1:$W$65536,22,FALSE)","v":"民警（法医）"}]
[101,"田亚鑫","202021704829","8000413","六盘水市公安局钟山分局",{"$f":"VLOOKUP(C104,'[1]2025年公开招录公务员（人民警察）笔试成绩1'!$B$1:$W$65536,22,FALSE)","v":"民警"}]
[102,"孙楠","202021704923","8000414","六盘水市公安局钟山分局",{"$f":"VLOOKUP(C105,'[1]2025年公开招录公务员（人民警察）笔试成绩1'!$B$1:$W$65536,22,FALSE)","v":"民警"}]
[103,"田野","202021700325","8000501","六盘水市公安交通管理局（六盘水市公安局交通警察支队）直属一大队",{"$f":"VLOOKUP(C106,'[1]2025年公开招录公务员（人民警察）笔试成绩1'!$B$1:$W$65536,22,FALSE)","v":"民警"}]
[104,"赵达","202021702718","8000501","六盘水市公安交通管理局（六盘水市公安局交通警察支队）直属一大队",{"$f":"VLOOKUP(C107,'[1]2025年公开招录公务员（人民警察）笔试成绩1'!$B$1:$W$65536,22,FALSE)","v":"民警"}]
[105,"陈星宇","202021705807","8000501","六盘水市公安交通管理局（六盘水市公安局交通警察支队）直属一大队",{"$f":"VLOOKUP(C108,'[1]2025年公开招录公务员（人民警察）笔试成绩1'!$B$1:$W$65536,22,FALSE)","v":"民警"}]
[106,"崔庆兴","202021701112","8000501","六盘水市公安交通管理局（六盘水市公安局交通警察支队）直属一大队",{"$f":"VLOOKUP(C109,'[1]2025年公开招录公务员（人民警察）笔试成绩1'!$B$1:$W$65536,22,FALSE)","v":"民警"}]
[107,"石国富","202021704314","8000501","六盘水市公安交通管理局（六盘水市公安局交通警察支队）直属一大队",{"$f":"VLOOKUP(C110,'[1]2025年公开招录公务员（人民警察）笔试成绩1'!$B$1:$W$65536,22,FALSE)","v":"民警"}]
[108,"杨淳乐","202021701416","8000502","六盘水市公安交通管理局（六盘水市公安局交通警察支队）直属一大队",{"$f":"VLOOKUP(C111,'[1]2025年公开招录公务员（人民警察）笔试成绩1'!$B$1:$W$65536,22,FALSE)","v":"民警"}]
[109,"胡雨淳","202021705713","8000502","六盘水市公安交通管理局（六盘水市公安局交通警察支队）直属一大队",{"$f":"VLOOKUP(C112,'[1]2025年公开招录公务员（人民警察）笔试成绩1'!$B$1:$W$65536,22,FALSE)","v":"民警"}]
[110,"吴豪芮","202021702903","8000503","六盘水市公安交通管理局（六盘水市公安局交通警察支队）直属一大队",{"$f":"VLOOKUP(C113,'[1]2025年公开招录公务员（人民警察）笔试成绩1'!$B$1:$W$65536,22,FALSE)","v":"民警（网络安全管理）"}]
[111,"管涛","202021703221","8000503","六盘水市公安交通管理局（六盘水市公安局交通警察支队）直属一大队",{"$f":"VLOOKUP(C114,'[1]2025年公开招录公务员（人民警察）笔试成绩1'!$B$1:$W$65536,22,FALSE)","v":"民警（网络安全管理）"}]
[112,"辛家龙","202021704518","8000504","六盘水市公安交通管理局（六盘水市公安局交通警察支队）直属一大队",{"$f":"VLOOKUP(C115,'[1]2025年公开招录公务员（人民警察）笔试成绩1'!$B$1:$W$65536,22,FALSE)","v":"民警"}]
[113,"夏捷","202021702519","8000504","六盘水市公安交通管理局（六盘水市公安局交通警察支队）直属一大队",{"$f":"VLOOKUP(C116,'[1]2025年公开招录公务员（人民警察）笔试成绩1'!$B$1:$W$65536,22,FALSE)","v":"民警"}]
[114,"龙秋朴","202021702804","8000505","六盘水市公安交通管理局（六盘水市公安局交通警察支队）直属一大队",{"$f":"VLOOKUP(C117,'[1]2025年公开招录公务员（人民警察）笔试成绩1'!$B$1:$W$65536,22,FALSE)","v":"民警"}]
[115,"潘佳茜","202021702504","8000505","六盘水市公安交通管理局（六盘水市公安局交通警察支队）直属一大队",{"$f":"VLOOKUP(C118,'[1]2025年公开招录公务员（人民警察）笔试成绩1'!$B$1:$W$65536,22,FALSE)","v":"民警"}]
[116,"王旋","202021705806","8000505","六盘水市公安交通管理局（六盘水市公安局交通警察支队）直属一大队",{"$f":"VLOOKUP(C119,'[1]2025年公开招录公务员（人民警察）笔试成绩1'!$B$1:$W$65536,22,FALSE)","v":"民警"}]
[117,"邱浩峰","203021807910","8000801","六盘水市水城区人民法院",{"$f":"VLOOKUP(C120,'[1]2025年公开招录公务员（人民警察）笔试成绩1'!$B$1:$W$65536,22,FALSE)","v":"司法警察"}]
[118,"朱运","203021807901","8000801","六盘水市水城区人民法院",{"$f":"VLOOKUP(C121,'[1]2025年公开招录公务员（人民警察）笔试成绩1'!$B$1:$W$65536,22,FALSE)","v":"司法警察"}]