{"text_format":"3","workbook":"xlsx","n_sheets":2,"sheets":["Sheet1","Sheet2"],"not_rendered":{"external_links":1,"defined_names":3},"read":"whole","date_system":"1900"}

{"sheet":"Sheet1","index":0,"n_rows":91,"n_cols":6,"rows_kept":91,"merged":[[0,0,0,1],[1,0,1,5]]}
["附件："]
["黔西县2019年面向社会公开招聘事业单位工作人员体检结果公示名单"]
["面试准考证号","姓名","性别","报考单位及代码","报考职位及代码","体检结果"]
[201901002,"李强","男","300101黔西县公安监管场所医疗卫生服务站","01工作员","合格"]
[201901001,"刘建军","男","300101黔西县公安监管场所医疗卫生服务站","01工作员","合格"]
[201901004,"安清宇","男","300101黔西县公安监管场所医疗卫生服务站","01工作员","合格"]
[201901009,"朱毅平","男","300101黔西县公安监管场所医疗卫生服务站","01工作员","合格"]
[201901003,"吕林","男","300101黔西县公安监管场所医疗卫生服务站","01工作员","合格"]
[201901005,"黄明飞","男","300101黔西县公安监管场所医疗卫生服务站","01工作员","合格"]
[201902002,"谢道明","男","300101黔西县公安监管场所医疗卫生服务站","02工作员","合格"]
[201902001,"侯涛","男","300101黔西县公安监管场所医疗卫生服务站","02工作员","合格"]
[201902003,"胡思华","男","300101黔西县公安监管场所医疗卫生服务站","02工作员","合格"]
[201902005,"庄青山","男","300101黔西县公安监管场所医疗卫生服务站","02工作员","合格"]
[201902008,"王杰","男","300101黔西县公安监管场所医疗卫生服务站","02工作员","合格"]
[201902012,"陈致欣","男","300101黔西县公安监管场所医疗卫生服务站","02工作员","合格"]
[201908003,"付偲利","男","300101黔西县公安监管场所医疗卫生服务站","03工作员","合格"]
[201908019,"李彬","男","300101黔西县公安监管场所医疗卫生服务站","03工作员","合格"]
[201908001,"曾新","男","300101黔西县公安监管场所医疗卫生服务站","03工作员","合格"]
[201908002,"杨洋","男","300101黔西县公安监管场所医疗卫生服务站","03工作员","合格"]
[201908017,"张倩倩","男","300101黔西县公安监管场所医疗卫生服务站","03工作员","合格"]
[201908006,"李雪","男","300101黔西县公安监管场所医疗卫生服务站","03工作员","合格"]
[201902019,"骆王玉骦","女","300101黔西县公安监管场所医疗卫生服务站","04工作员","合格"]
[201902022,"先雪梅","女","300101黔西县公安监管场所医疗卫生服务站","04工作员","合格"]
[201909001,"袁茂雪","女","300101黔西县公安监管场所医疗卫生服务站","05工作员","合格"]
[201909004,"杨梦","女","300101黔西县公安监管场所医疗卫生服务站","05工作员","合格"]
[201909006,"陈颖","女","300101黔西县公安监管场所医疗卫生服务站","05工作员","合格"]
[201909002,"贺妮","女","300101黔西县公安监管场所医疗卫生服务站","05工作员","合格"]
[201901019,"段永吉","男","300101黔西县公安监管场所医疗卫生服务站","06工作员","合格"]
[201901020,"罗隆程","男","300101黔西县公安监管场所医疗卫生服务站","06工作员","合格"]
[201901022,"何元成","男","300101黔西县公安监管场所医疗卫生服务站","06工作员","合格"]
[201901025,"杜汝祥","男","300101黔西县公安监管场所医疗卫生服务站","06工作员","合格"]
[201902025,"王桂琼","女","300101黔西县公安监管场所医疗卫生服务站","07工作员","暂放"]
[201902026,"杨小雨","女","300101黔西县公安监管场所医疗卫生服务站","07工作员","合格"]
[201903003,"高浩然","男","300201黔西县市场监管综合行政执法大队","08工作员","合格"]
[201903004,"陈映伶","女","300201黔西县市场监管综合行政执法大队","08工作员","合格"]
[201903002,"吴萧萧","女","300201黔西县市场监管综合行政执法大队","08工作员","合格"]
[201903001,"李睿","男","300201黔西县市场监管综合行政执法大队","08工作员","合格"]
[201903005,"吕丽平","女","300201黔西县市场监管综合行政执法大队","08工作员","合格"]
[201903009,"张蓝菱","女","300201黔西县市场监管综合行政执法大队","08工作员","合格"]
[201903008,"熊晚霞","女","300201黔西县市场监管综合行政执法大队","08工作员","合格"]
[201903010,"胡芳","女","300201黔西县市场监管综合行政执法大队","08工作员","合格"]
[201903014,"许正颉","男","300201黔西县市场监管综合行政执法大队","08工作员","合格"]
[201903007,"夏银花","女","300201黔西县市场监管综合行政执法大队","08工作员","合格"]
[201904001,"王曦煜","女","300201黔西县市场监管综合行政执法大队","09工作员","合格"]
[201904003,"孟雄","男","300201黔西县市场监管综合行政执法大队","09工作员","合格"]
[201904002,"徐琪","女","300201黔西县市场监管综合行政执法大队","09工作员","合格"]
[201904004,"张帅","男","300201黔西县市场监管综合行政执法大队","09工作员","合格"]
[201904006,"廖婷","女","300201黔西县市场监管综合行政执法大队","09工作员","合格"]
[201904020,"黄飞燕","女","300201黔西县市场监管综合行政执法大队","09工作员","合格"]
[201904011,"龙宇婷","女","300201黔西县市场监管综合行政执法大队","09工作员","合格"]
[201904009,"谢莎","女","300201黔西县市场监管综合行政执法大队","09工作员","合格"]
[201904005,"吕松","男","300201黔西县市场监管综合行政执法大队","09工作员","合格"]
[201904008,"丁剑兰","女","300201黔西县市场监管综合行政执法大队","09工作员","合格"]
[201905005,"苏梅","女","300201黔西县市场监管综合行政执法大队","10工作员","合格"]
[201905007,"申琅","男","300201黔西县市场监管综合行政执法大队","10工作员","合格"]
[201905001,"李欧霞","女","300201黔西县市场监管综合行政执法大队","10工作员","合格"]
[201905003,"宁恒","女","300201黔西县市场监管综合行政执法大队","10工作员","合格"]
[201905004,"左璐婕","女","300201黔西县市场监管综合行政执法大队","10工作员","合格"]
[201905002,"马肖严","男","300201黔西县市场监管综合行政执法大队","10工作员","合格"]
[201905012,"张江文","男","300201黔西县市场监管综合行政执法大队","10工作员","合格"]
[201905010,"陈艳梅","女","300201黔西县市场监管综合行政执法大队","10工作员","合格"]
[201905013,"王文","男","300201黔西县市场监管综合行政执法大队","10工作员","合格"]
[201905020,"孟希宇","男","300201黔西县市场监管综合行政执法大队","10工作员","合格"]
[201906001,"陈磊","男","300201黔西县市场监管综合行政执法大队","11工作员","合格"]
[201906002,"毛庭志","男","300201黔西县市场监管综合行政执法大队","11工作员","合格"]
[201906004,"许浪","男","300201黔西县市场监管综合行政执法大队","11工作员","合格"]
[201906009,"李明明","女","300201黔西县市场监管综合行政执法大队","11工作员","合格"]
[201906003,"陈海","男","300201黔西县市场监管综合行政执法大队","11工作员","合格"]
[201906013,"何丹","女","300201黔西县市场监管综合行政执法大队","11工作员","合格"]
[201906008,"赵利晔","女","300201黔西县市场监管综合行政执法大队","11工作员","合格"]
[201906016,"李宇","男","300201黔西县市场监管综合行政执法大队","11工作员","合格"]
[201906007,"邓曦","男","300201黔西县市场监管综合行政执法大队","11工作员","合格"]
[201906011,"赵群","女","300201黔西县市场监管综合行政执法大队","11工作员","合格"]
[201907002,"刘余江","女","300201黔西县市场监管综合行政执法大队","12工作员","合格"]
[201907003,"文琴","女","300201黔西县市场监管综合行政执法大队","12工作员","合格"]
[201907007,"李文志","男","300201黔西县市场监管综合行政执法大队","13工作员","合格"]
[201907009,"李阳","女","300201黔西县市场监管综合行政执法大队","13工作员","合格"]
[201907011,"王睿","男","300201黔西县市场监管综合行政执法大队","13工作员","合格"]
[201907012,"黄清","女","300201黔西县市场监管综合行政执法大队","13工作员","合格"]
[201907008,"肖丽娟","女","300201黔西县市场监管综合行政执法大队","13工作员","合格"]
[201907019,"余妮","女","300201黔西县市场监管综合行政执法大队","13工作员","合格"]
[201907025,"吴榕","女","300201黔西县市场监管综合行政执法大队","14工作员","合格"]
[201907029,"郭东","男","300201黔西县市场监管综合行政执法大队","14工作员","合格"]
[201909014,"陈敏","女","300201黔西县市场监管综合行政执法大队","15工作员","合格"]
[201909018,"燕丹丹","女","300201黔西县市场监管综合行政执法大队","15工作员","合格"]
[201909017,"罗雪","女","300201黔西县市场监管综合行政执法大队","15工作员","合格"]
[201909026,"李梦莹","女","300201黔西县市场监管综合行政执法大队","15工作员","合格"]
[201904018,"刘威","男","300201黔西县市场监管综合行政执法大队","16工作员","合格"]
[201908023,"黄庆华","男","300201黔西县市场监管综合行政执法大队","16工作员","合格"]
[201908028,"陈露情","女","300201黔西县市场监管综合行政执法大队","17工作员","合格"]
[201908030,"陈雪","女","300201黔西县市场监管综合行政执法大队","17工作员","合格"]

{"sheet":"Sheet2","index":1,"n_rows":88,"n_cols":4,"rows_kept":88}
["李强","男",{"$f":"VLOOKUP(A1,[1]市场监管!$A$1:$IV$65536,2,0)","v":"男"},{"$f":"IF(B1=C1,1,0)","v":1}]
["刘建军","男",{"$f":"VLOOKUP(A2,[1]市场监管!$A$1:$IV$65536,2,0)","v":"男"},{"$f":"IF(B2=C2,1,0)","v":1}]
["安清宇","男",{"$f":"VLOOKUP(A3,[1]市场监管!$A$1:$IV$65536,2,0)","v":"男"},1]
["朱毅平","男",{"$f":"VLOOKUP(A4,[1]市场监管!$A$1:$IV$65536,2,0)","v":"男"},1]
["吕林","男",{"$f":"VLOOKUP(A5,[1]市场监管!$A$1:$IV$65536,2,0)","v":"男"},1]
["黄明飞","男",{"$f":"VLOOKUP(A6,[1]市场监管!$A$1:$IV$65536,2,0)","v":"男"},1]
["谢道明","男",{"$f":"VLOOKUP(A7,[1]市场监管!$A$1:$IV$65536,2,0)","v":"男"},1]
["侯涛","男",{"$f":"VLOOKUP(A8,[1]市场监管!$A$1:$IV$65536,2,0)","v":"男"},1]
["胡思华","男",{"$f":"VLOOKUP(A9,[1]市场监管!$A$1:$IV$65536,2,0)","v":"男"},1]
["庄青山","男",{"$f":"VLOOKUP(A10,[1]市场监管!$A$1:$IV$65536,2,0)","v":"男"},1]
["王杰","男",{"$f":"VLOOKUP(A11,[1]市场监管!$A$1:$IV$65536,2,0)","v":"男"},1]
["陈致欣","男",{"$f":"VLOOKUP(A12,[1]市场监管!$A$1:$IV$65536,2,0)","v":"男"},1]
["付偲利","男",{"$f":"VLOOKUP(A13,[1]市场监管!$A$1:$IV$65536,2,0)","v":"男"},1]
["李彬","男",{"$f":"VLOOKUP(A14,[1]市场监管!$A$1:$IV$65536,2,0)","v":"男"},1]
["曾新","男",{"$f":"VLOOKUP(A15,[1]市场监管!$A$1:$IV$65536,2,0)","v":"男"},1]
["杨洋","男",{"$f":"VLOOKUP(A16,[1]市场监管!$A$1:$IV$65536,2,0)","v":"男"},1]
["张倩倩","男",{"$f":"VLOOKUP(A17,[1]市场监管!$A$1:$IV$65536,2,0)","v":"男"},1]
["李雪","男",{"$f":"VLOOKUP(A18,[1]市场监管!$A$1:$IV$65536,2,0)","v":"男"},1]
["骆王玉骦","女",{"$f":"VLOOKUP(A19,[1]市场监管!$A$1:$IV$65536,2,0)","v":"女"},1]
["先雪梅","女",{"$f":"VLOOKUP(A20,[1]市场监管!$A$1:$IV$65536,2,0)","v":"女"},1]
["袁茂雪","女",{"$f":"VLOOKUP(A21,[1]市场监管!$A$1:$IV$65536,2,0)","v":"女"},1]
["杨梦","女",{"$f":"VLOOKUP(A22,[1]市场监管!$A$1:$IV$65536,2,0)","v":"女"},1]
["陈颖","女",{"$f":"VLOOKUP(A23,[1]市场监管!$A$1:$IV$65536,2,0)","v":"女"},1]
["贺妮","女",{"$f":"VLOOKUP(A24,[1]市场监管!$A$1:$IV$65536,2,0)","v":"女"},1]
["段永吉","男",{"$f":"VLOOKUP(A25,[1]市场监管!$A$1:$IV$65536,2,0)","v":"男"},1]
["罗隆程","男",{"$f":"VLOOKUP(A26,[1]市场监管!$A$1:$IV$65536,2,0)","v":"男"},1]
["何元成","男",{"$f":"VLOOKUP(A27,[1]市场监管!$A$1:$IV$65536,2,0)","v":"男"},1]
["杜汝祥","男",{"$f":"VLOOKUP(A28,[1]市场监管!$A$1:$IV$65536,2,0)","v":"男"},1]
["王桂琼","女",{"$f":"VLOOKUP(A29,[1]市场监管!$A$1:$IV$65536,2,0)","v":"女"},1]
["杨小雨","女",{"$f":"VLOOKUP(A30,[1]市场监管!$A$1:$IV$65536,2,0)","v":"女"},1]
["高浩然","男",{"$f":"VLOOKUP(A31,[1]市场监管!$A$1:$IV$65536,2,0)","v":"男"},1]
["陈映伶","女",{"$f":"VLOOKUP(A32,[1]市场监管!$A$1:$IV$65536,2,0)","v":"女"},1]
["吴萧萧","女",{"$f":"VLOOKUP(A33,[1]市场监管!$A$1:$IV$65536,2,0)","v":"女"},1]
["李睿","男",{"$f":"VLOOKUP(A34,[1]市场监管!$A$1:$IV$65536,2,0)","v":"男"},{"$f":"IF(B34=C34,1,0)","v":1}]
["吕丽平","女",{"$f":"VLOOKUP(A35,[1]市场监管!$A$1:$IV$65536,2,0)","v":"女"},1]
["张蓝菱","女",{"$f":"VLOOKUP(A36,[1]市场监管!$A$1:$IV$65536,2,0)","v":"女"},1]
["熊晚霞","女",{"$f":"VLOOKUP(A37,[1]市场监管!$A$1:$IV$65536,2,0)","v":"女"},1]
["胡芳","女",{"$f":"VLOOKUP(A38,[1]市场监管!$A$1:$IV$65536,2,0)","v":"女"},1]
["许正颉","男",{"$f":"VLOOKUP(A39,[1]市场监管!$A$1:$IV$65536,2,0)","v":"男"},1]
["夏银花","女",{"$f":"VLOOKUP(A40,[1]市场监管!$A$1:$IV$65536,2,0)","v":"女"},1]
["王曦煜","女",{"$f":"VLOOKUP(A41,[1]市场监管!$A$1:$IV$65536,2,0)","v":"女"},1]
["孟雄","男",{"$f":"VLOOKUP(A42,[1]市场监管!$A$1:$IV$65536,2,0)","v":"男"},1]
["徐琪","女",{"$f":"VLOOKUP(A43,[1]市场监管!$A$1:$IV$65536,2,0)","v":"女"},1]
["张帅","男",{"$f":"VLOOKUP(A44,[1]市场监管!$A$1:$IV$65536,2,0)","v":"男"},1]
["廖婷","女",{"$f":"VLOOKUP(A45,[1]市场监管!$A$1:$IV$65536,2,0)","v":"女"},1]
["黄飞燕","女",{"$f":"VLOOKUP(A46,[1]市场监管!$A$1:$IV$65536,2,0)","v":"女"},1]
["龙宇婷","女",{"$f":"VLOOKUP(A47,[1]市场监管!$A$1:$IV$65536,2,0)","v":"女"},1]
["谢莎","女",{"$f":"VLOOKUP(A48,[1]市场监管!$A$1:$IV$65536,2,0)","v":"女"},1]
["吕松","男",{"$f":"VLOOKUP(A49,[1]市场监管!$A$1:$IV$65536,2,0)","v":"男"},1]
["丁剑兰","女",{"$f":"VLOOKUP(A50,[1]市场监管!$A$1:$IV$65536,2,0)","v":"女"},1]
["苏梅","女",{"$f":"VLOOKUP(A51,[1]市场监管!$A$1:$IV$65536,2,0)","v":"女"},1]
["申琅","男",{"$f":"VLOOKUP(A52,[1]市场监管!$A$1:$IV$65536,2,0)","v":"男"},1]
["李欧霞","女",{"$f":"VLOOKUP(A53,[1]市场监管!$A$1:$IV$65536,2,0)","v":"女"},1]
["宁恒","女",{"$f":"VLOOKUP(A54,[1]市场监管!$A$1:$IV$65536,2,0)","v":"女"},1]
["左璐婕","女",{"$f":"VLOOKUP(A55,[1]市场监管!$A$1:$IV$65536,2,0)","v":"女"},1]
["马肖严","男",{"$f":"VLOOKUP(A56,[1]市场监管!$A$1:$IV$65536,2,0)","v":"男"},1]
["张江文","男",{"$f":"VLOOKUP(A57,[1]市场监管!$A$1:$IV$65536,2,0)","v":"男"},1]
["陈艳梅","女",{"$f":"VLOOKUP(A58,[1]市场监管!$A$1:$IV$65536,2,0)","v":"女"},1]
["王文","男",{"$f":"VLOOKUP(A59,[1]市场监管!$A$1:$IV$65536,2,0)","v":"男"},1]
["孟希宇","男",{"$f":"VLOOKUP(A60,[1]市场监管!$A$1:$IV$65536,2,0)","v":"男"},1]
["陈磊","男",{"$f":"VLOOKUP(A61,[1]市场监管!$A$1:$IV$65536,2,0)","v":"男"},1]
["毛庭志","男",{"$f":"VLOOKUP(A62,[1]市场监管!$A$1:$IV$65536,2,0)","v":"男"},1]
["许浪","男",{"$f":"VLOOKUP(A63,[1]市场监管!$A$1:$IV$65536,2,0)","v":"男"},1]
["李明明","女",{"$f":"VLOOKUP(A64,[1]市场监管!$A$1:$IV$65536,2,0)","v":"女"},1]
["陈海","男",{"$f":"VLOOKUP(A65,[1]市场监管!$A$1:$IV$65536,2,0)","v":"男"},1]
["何丹","女",{"$f":"VLOOKUP(A66,[1]市场监管!$A$1:$IV$65536,2,0)","v":"女"},{"$f":"IF(B66=C66,1,0)","v":1}]
["赵利晔","女",{"$f":"VLOOKUP(A67,[1]市场监管!$A$1:$IV$65536,2,0)","v":"女"},1]
["李宇","男",{"$f":"VLOOKUP(A68,[1]市场监管!$A$1:$IV$65536,2,0)","v":"男"},1]
["邓曦","男",{"$f":"VLOOKUP(A69,[1]市场监管!$A$1:$IV$65536,2,0)","v":"男"},1]
["赵群","女",{"$f":"VLOOKUP(A70,[1]市场监管!$A$1:$IV$65536,2,0)","v":"女"},1]
["刘余江","女",{"$f":"VLOOKUP(A71,[1]市场监管!$A$1:$IV$65536,2,0)","v":"女"},1]
["文琴","女",{"$f":"VLOOKUP(A72,[1]市场监管!$A$1:$IV$65536,2,0)","v":"女"},1]
["李文志","男",{"$f":"VLOOKUP(A73,[1]市场监管!$A$1:$IV$65536,2,0)","v":"男"},1]
["李阳","女",{"$f":"VLOOKUP(A74,[1]市场监管!$A$1:$IV$65536,2,0)","v":"女"},1]
["王睿","女",{"$f":"VLOOKUP(A75,[1]市场监管!$A$1:$IV$65536,2,0)","v":"男"},0]
["黄清","女",{"$f":"VLOOKUP(A76,[1]市场监管!$A$1:$IV$65536,2,0)","v":"女"},1]
["肖丽娟","女",{"$f":"VLOOKUP(A77,[1]市场监管!$A$1:$IV$65536,2,0)","v":"女"},1]
["余妮","女",{"$f":"VLOOKUP(A78,[1]市场监管!$A$1:$IV$65536,2,0)","v":"女"},1]
["吴榕","女",{"$f":"VLOOKUP(A79,[1]市场监管!$A$1:$IV$65536,2,0)","v":"女"},1]
["郭东","男",{"$f":"VLOOKUP(A80,[1]市场监管!$A$1:$IV$65536,2,0)","v":"男"},1]
["陈敏","女",{"$f":"VLOOKUP(A81,[1]市场监管!$A$1:$IV$65536,2,0)","v":"女"},1]
["燕丹丹","女",{"$f":"VLOOKUP(A82,[1]市场监管!$A$1:$IV$65536,2,0)","v":"女"},1]
["罗雪","女",{"$f":"VLOOKUP(A83,[1]市场监管!$A$1:$IV$65536,2,0)","v":"女"},1]
["李梦莹","女",{"$f":"VLOOKUP(A84,[1]市场监管!$A$1:$IV$65536,2,0)","v":"女"},1]
["刘威","男",{"$f":"VLOOKUP(A85,[1]市场监管!$A$1:$IV$65536,2,0)","v":"男"},1]
["黄庆华","男",{"$f":"VLOOKUP(A86,[1]市场监管!$A$1:$IV$65536,2,0)","v":"男"},1]
["陈露情","女",{"$f":"VLOOKUP(A87,[1]市场监管!$A$1:$IV$65536,2,0)","v":"女"},1]
["陈雪","女",{"$f":"VLOOKUP(A88,[1]市场监管!$A$1:$IV$65536,2,0)","v":"女"},1]