{"text_format":"3","workbook":"xlsx","n_sheets":1,"sheets":["病理科技师"],"not_rendered":{"external_links":2,"defined_names":1},"read":"whole","date_system":"1900"}

{"sheet":"病理科技师","index":0,"n_rows":140,"n_cols":8,"rows_kept":140}
["序号","姓名","身份证号","岗位名称","岗位代码","抽签号","面试成绩","是否进入资格复审"]
[20,"邓庞娟","522324****6562X","病理科技师","B01",{"$f":"VLOOKUP(B2,[1]sheet1!$E$1:$F$65536,2,FALSE)","v":39},{"$f":"VLOOKUP(F2,[2]带公式模板!$A:$K,11,FALSE)","v":{"v":95.6666666666667,"d":"95.67"}},"是"]
[136,"赵飞艳","522424****60624","病理科技师","B01",{"$f":"VLOOKUP(B3,[1]sheet1!$E$1:$F$65536,2,FALSE)","v":112},{"$f":"VLOOKUP(F3,[2]带公式模板!$A:$K,11,FALSE)","v":{"v":92,"d":"92.00"}},"是"]
[7,"徐芳婷","522425****93026","病理科技师","B01",{"$f":"VLOOKUP(B4,[1]sheet1!$E$1:$F$65536,2,FALSE)","v":109},{"$f":"VLOOKUP(F4,[2]带公式模板!$A:$K,11,FALSE)","v":{"v":84.3333333333333,"d":"84.33"}}]
[1,"李韬","522423****00835","病理科技师","B01",{"$f":"VLOOKUP(B5,[1]sheet1!$E$1:$F$65536,2,FALSE)","v":61},{"$f":"VLOOKUP(F5,[2]带公式模板!$A:$K,11,FALSE)","v":{"v":78.6666666666667,"d":"78.67"}}]
[24,"姚元芳","522626****50066","病理科技师","B01",{"$f":"VLOOKUP(B6,[1]sheet1!$E$1:$F$65536,2,FALSE)","v":6},{"$f":"VLOOKUP(F6,[2]带公式模板!$A:$K,11,FALSE)","v":{"v":76.3333333333333,"d":"76.33"}}]
[102,"黄颍埼","520103****73625","病理科技师","B01",{"$f":"VLOOKUP(B7,[1]sheet1!$E$1:$F$65536,2,FALSE)","v":36},{"$f":"VLOOKUP(F7,[2]带公式模板!$A:$K,11,FALSE)","v":{"v":76,"d":"76.00"}}]
[47,"程羽","522526****41227","病理科技师","B01",{"$f":"VLOOKUP(B8,[1]sheet1!$E$1:$F$65536,2,FALSE)","v":133},{"$f":"VLOOKUP(F8,[2]带公式模板!$A:$K,11,FALSE)","v":{"v":74.6666666666667,"d":"74.67"}}]
[55,"朱家洪","522121****40212","病理科技师","B01",{"$f":"VLOOKUP(B9,[1]sheet1!$E$1:$F$65536,2,FALSE)","v":110},{"$f":"VLOOKUP(F9,[2]带公式模板!$A:$K,11,FALSE)","v":{"v":74.6666666666667,"d":"74.67"}}]
[62,"班旭","522422****74237","病理科技师","B01",{"$f":"VLOOKUP(B10,[1]sheet1!$E$1:$F$65536,2,FALSE)","v":28},{"$f":"VLOOKUP(F10,[2]带公式模板!$A:$K,11,FALSE)","v":{"v":74.6666666666667,"d":"74.67"}}]
[34,"石彩群","522229****23420","病理科技师","B01",{"$f":"VLOOKUP(B11,[1]sheet1!$E$1:$F$65536,2,FALSE)","v":63},{"$f":"VLOOKUP(F11,[2]带公式模板!$A:$K,11,FALSE)","v":{"v":72.3333333333333,"d":"72.33"}}]
[138,"王权瑞","522636****80813","病理科技师","B01",{"$f":"VLOOKUP(B12,[1]sheet1!$E$1:$F$65536,2,FALSE)","v":20},{"$f":"VLOOKUP(F12,[2]带公式模板!$A:$K,11,FALSE)","v":{"v":71.6666666666667,"d":"71.67"}}]
[81,"何昌红","522129****52020","病理科技师","B01",{"$f":"VLOOKUP(B13,[1]sheet1!$E$1:$F$65536,2,FALSE)","v":31},{"$f":"VLOOKUP(F13,[2]带公式模板!$A:$K,11,FALSE)","v":{"v":69.3333333333333,"d":"69.33"}}]
[88,"周瑶","522428****83260","病理科技师","B01",{"$f":"VLOOKUP(B14,[1]sheet1!$E$1:$F$65536,2,FALSE)","v":118},{"$f":"VLOOKUP(F14,[2]带公式模板!$A:$K,11,FALSE)","v":{"v":68,"d":"68.00"}}]
[133,"司卜齐","520202****87468","病理科技师","B01",{"$f":"VLOOKUP(B15,[1]sheet1!$E$1:$F$65536,2,FALSE)","v":123},{"$f":"VLOOKUP(F15,[2]带公式模板!$A:$K,11,FALSE)","v":{"v":68,"d":"68.00"}}]
[126,"欧泗成","522630****50154","病理科技师","B01",{"$f":"VLOOKUP(B16,[1]sheet1!$E$1:$F$65536,2,FALSE)","v":96},{"$f":"VLOOKUP(F16,[2]带公式模板!$A:$K,11,FALSE)","v":{"v":66.6666666666667,"d":"66.67"}}]
[122,"何满","522422****70167","病理科技师","B01",{"$f":"VLOOKUP(B17,[1]sheet1!$E$1:$F$65536,2,FALSE)","v":14},{"$f":"VLOOKUP(F17,[2]带公式模板!$A:$K,11,FALSE)","v":{"v":66.3333333333333,"d":"66.33"}}]
[13,"王德栋","522425****68115","病理科技师","B01",{"$f":"VLOOKUP(B18,[1]sheet1!$E$1:$F$65536,2,FALSE)","v":102},{"$f":"VLOOKUP(F18,[2]带公式模板!$A:$K,11,FALSE)","v":{"v":65.6666666666667,"d":"65.67"}}]
[59,"李光亮","522229****61210","病理科技师","B01",{"$f":"VLOOKUP(B19,[1]sheet1!$E$1:$F$65536,2,FALSE)","v":106},{"$f":"VLOOKUP(F19,[2]带公式模板!$A:$K,11,FALSE)","v":{"v":65.6666666666667,"d":"65.67"}}]
[95,"肖华敏","522124****11644","病理科技师","B01",{"$f":"VLOOKUP(B20,[1]sheet1!$E$1:$F$65536,2,FALSE)","v":60},{"$f":"VLOOKUP(F20,[2]带公式模板!$A:$K,11,FALSE)","v":{"v":65.6666666666667,"d":"65.67"}}]
[128,"陆星霖","522127****33035","病理科技师","B01",{"$f":"VLOOKUP(B21,[1]sheet1!$E$1:$F$65536,2,FALSE)","v":129},{"$f":"VLOOKUP(F21,[2]带公式模板!$A:$K,11,FALSE)","v":{"v":64.6666666666667,"d":"64.67"}}]
[15,"曾琳","522129****33526","病理科技师","B01",{"$f":"VLOOKUP(B22,[1]sheet1!$E$1:$F$65536,2,FALSE)","v":90},{"$f":"VLOOKUP(F22,[2]带公式模板!$A:$K,11,FALSE)","v":{"v":63,"d":"63.00"}}]
[30,"梁煜彬","522221****31212","病理科技师","B01",{"$f":"VLOOKUP(B23,[1]sheet1!$E$1:$F$65536,2,FALSE)","v":41},{"$f":"VLOOKUP(F23,[2]带公式模板!$A:$K,11,FALSE)","v":{"v":63,"d":"63.00"}}]
[31,"刘璇","522427****37286","病理科技师","B01",{"$f":"VLOOKUP(B24,[1]sheet1!$E$1:$F$65536,2,FALSE)","v":114},{"$f":"VLOOKUP(F24,[2]带公式模板!$A:$K,11,FALSE)","v":{"v":63,"d":"63.00"}}]
[39,"叶诺","520202****84022","病理科技师","B01",{"$f":"VLOOKUP(B25,[1]sheet1!$E$1:$F$65536,2,FALSE)","v":59},{"$f":"VLOOKUP(F25,[2]带公式模板!$A:$K,11,FALSE)","v":{"v":63,"d":"63.00"}}]
[93,"方雪","522121****71860","病理科技师","B01",{"$f":"VLOOKUP(B26,[1]sheet1!$E$1:$F$65536,2,FALSE)","v":115},{"$f":"VLOOKUP(F26,[2]带公式模板!$A:$K,11,FALSE)","v":{"v":63,"d":"63.00"}}]
[113,"赵婧涵","520111****31545","病理科技师","B01",{"$f":"VLOOKUP(B27,[1]sheet1!$E$1:$F$65536,2,FALSE)","v":119},{"$f":"VLOOKUP(F27,[2]带公式模板!$A:$K,11,FALSE)","v":{"v":63,"d":"63.00"}}]
[78,"王丹","522426****85045","病理科技师","B01",{"$f":"VLOOKUP(B28,[1]sheet1!$E$1:$F$65536,2,FALSE)","v":15},{"$f":"VLOOKUP(F28,[2]带公式模板!$A:$K,11,FALSE)","v":{"v":62.6666666666667,"d":"62.67"}}]
[84,"王景","520202****54043","病理科技师","B01",{"$f":"VLOOKUP(B29,[1]sheet1!$E$1:$F$65536,2,FALSE)","v":100},{"$f":"VLOOKUP(F29,[2]带公式模板!$A:$K,11,FALSE)","v":{"v":61.6666666666667,"d":"61.67"}}]
[85,"韦票","522732****43029","病理科技师","B01",{"$f":"VLOOKUP(B30,[1]sheet1!$E$1:$F$65536,2,FALSE)","v":78},{"$f":"VLOOKUP(F30,[2]带公式模板!$A:$K,11,FALSE)","v":{"v":60.3333333333333,"d":"60.33"}}]
[53,"金晓燕","520112****81122","病理科技师","B01",{"$f":"VLOOKUP(B31,[1]sheet1!$E$1:$F$65536,2,FALSE)","v":66},{"$f":"VLOOKUP(F31,[2]带公式模板!$A:$K,11,FALSE)","v":{"v":60,"d":"60.00"}}]
[21,"何竹文","522401****30060","病理科技师","B01",{"$f":"VLOOKUP(B32,[1]sheet1!$E$1:$F$65536,2,FALSE)","v":131},{"$f":"VLOOKUP(F32,[2]带公式模板!$A:$K,11,FALSE)","v":{"v":58,"d":"58.00"}}]
[46,"毛小亮","522228****43611","病理科技师","B01",{"$f":"VLOOKUP(B33,[1]sheet1!$E$1:$F$65536,2,FALSE)","v":132},{"$f":"VLOOKUP(F33,[2]带公式模板!$A:$K,11,FALSE)","v":{"v":57.6666666666667,"d":"57.67"}}]
[127,"张海萍","522326****11643","病理科技师","B01",{"$f":"VLOOKUP(B34,[1]sheet1!$E$1:$F$65536,2,FALSE)","v":55},{"$f":"VLOOKUP(F34,[2]带公式模板!$A:$K,11,FALSE)","v":{"v":57.6666666666667,"d":"57.67"}}]
[22,"朱双龙","520202****88273","病理科技师","B01",{"$f":"VLOOKUP(B35,[1]sheet1!$E$1:$F$65536,2,FALSE)","v":22},{"$f":"VLOOKUP(F35,[2]带公式模板!$A:$K,11,FALSE)","v":{"v":57,"d":"57.00"}}]
[109,"刘丽莎","522230****20769","病理科技师","B01",{"$f":"VLOOKUP(B36,[1]sheet1!$E$1:$F$65536,2,FALSE)","v":135},{"$f":"VLOOKUP(F36,[2]带公式模板!$A:$K,11,FALSE)","v":{"v":56.6666666666667,"d":"56.67"}}]
[129,"余冬艳","522427****21449","病理科技师","B01",{"$f":"VLOOKUP(B37,[1]sheet1!$E$1:$F$65536,2,FALSE)","v":10},{"$f":"VLOOKUP(F37,[2]带公式模板!$A:$K,11,FALSE)","v":{"v":56.6666666666667,"d":"56.67"}}]
[65,"张旺","522401****63255","病理科技师","B01",{"$f":"VLOOKUP(B38,[1]sheet1!$E$1:$F$65536,2,FALSE)","v":11},{"$f":"VLOOKUP(F38,[2]带公式模板!$A:$K,11,FALSE)","v":{"v":56,"d":"56.00"}}]
[80,"郑世银","522422****52026","病理科技师","B01",{"$f":"VLOOKUP(B39,[1]sheet1!$E$1:$F$65536,2,FALSE)","v":93},{"$f":"VLOOKUP(F39,[2]带公式模板!$A:$K,11,FALSE)","v":{"v":56,"d":"56.00"}}]
[111,"马骥","522422****52618","病理科技师","B01",{"$f":"VLOOKUP(B40,[1]sheet1!$E$1:$F$65536,2,FALSE)","v":49},{"$f":"VLOOKUP(F40,[2]带公式模板!$A:$K,11,FALSE)","v":{"v":55,"d":"55.00"}}]
[104,"刘一犇","520103****34411","病理科技师","B01",{"$f":"VLOOKUP(B41,[1]sheet1!$E$1:$F$65536,2,FALSE)","v":5},{"$f":"VLOOKUP(F41,[2]带公式模板!$A:$K,11,FALSE)","v":{"v":54.6666666666667,"d":"54.67"}}]
[19,"龚颖","522401****32060","病理科技师","B01",{"$f":"VLOOKUP(B42,[1]sheet1!$E$1:$F$65536,2,FALSE)","v":75},{"$f":"VLOOKUP(F42,[2]带公式模板!$A:$K,11,FALSE)","v":{"v":53,"d":"53.00"}}]
[51,"刘燕","511623****6524X","病理科技师","B01",{"$f":"VLOOKUP(B43,[1]sheet1!$E$1:$F$65536,2,FALSE)","v":52},{"$f":"VLOOKUP(F43,[2]带公式模板!$A:$K,11,FALSE)","v":{"v":52.6666666666667,"d":"52.67"}}]
[117,"何钰洁","520181****30820","病理科技师","B01",{"$f":"VLOOKUP(B44,[1]sheet1!$E$1:$F$65536,2,FALSE)","v":113},{"$f":"VLOOKUP(F44,[2]带公式模板!$A:$K,11,FALSE)","v":{"v":52,"d":"52.00"}}]
[69,"潘锦鸿","522622****95518","病理科技师","B01",{"$f":"VLOOKUP(B45,[1]sheet1!$E$1:$F$65536,2,FALSE)","v":111},{"$f":"VLOOKUP(F45,[2]带公式模板!$A:$K,11,FALSE)","v":{"v":51.3333333333333,"d":"51.33"}}]
[87,"李文飞","522425****79024","病理科技师","B01",{"$f":"VLOOKUP(B46,[1]sheet1!$E$1:$F$65536,2,FALSE)","v":4},{"$f":"VLOOKUP(F46,[2]带公式模板!$A:$K,11,FALSE)","v":{"v":51,"d":"51.00"}}]
[26,"潘远黎","522732****91411","病理科技师","B01",{"$f":"VLOOKUP(B47,[1]sheet1!$E$1:$F$65536,2,FALSE)","v":67},{"$f":"VLOOKUP(F47,[2]带公式模板!$A:$K,11,FALSE)","v":{"v":50.6666666666667,"d":"50.67"}}]
[112,"周驰承","520102****60815","病理科技师","B01",{"$f":"VLOOKUP(B48,[1]sheet1!$E$1:$F$65536,2,FALSE)","v":88},{"$f":"VLOOKUP(F48,[2]带公式模板!$A:$K,11,FALSE)","v":{"v":49.3333333333333,"d":"49.33"}}]
[27,"陈天福","522425****64514","病理科技师","B01",{"$f":"VLOOKUP(B49,[1]sheet1!$E$1:$F$65536,2,FALSE)","v":50},{"$f":"VLOOKUP(F49,[2]带公式模板!$A:$K,11,FALSE)","v":{"v":47.6666666666667,"d":"47.67"}}]
[79,"杨妍","520121****33427","病理科技师","B01",{"$f":"VLOOKUP(B50,[1]sheet1!$E$1:$F$65536,2,FALSE)","v":70},{"$f":"VLOOKUP(F50,[2]带公式模板!$A:$K,11,FALSE)","v":{"v":46.3333333333333,"d":"46.33"}}]
[33,"夏飘","522729****2362X","病理科技师","B01",{"$f":"VLOOKUP(B51,[1]sheet1!$E$1:$F$65536,2,FALSE)","v":38},{"$f":"VLOOKUP(F51,[2]带公式模板!$A:$K,11,FALSE)","v":{"v":46,"d":"46.00"}}]
[121,"田琤","522226****60066","病理科技师","B01",{"$f":"VLOOKUP(B52,[1]sheet1!$E$1:$F$65536,2,FALSE)","v":74},{"$f":"VLOOKUP(F52,[2]带公式模板!$A:$K,11,FALSE)","v":{"v":41.3333333333333,"d":"41.33"}}]
[2,"侯娟","522422****8588X","病理科技师","B01",{"$f":"VLOOKUP(B53,[1]sheet1!$E$1:$F$65536,2,FALSE)","v":121},"缺考"]
[3,"马山","522124****84435","病理科技师","B01",{"$f":"VLOOKUP(B54,[1]sheet1!$E$1:$F$65536,2,FALSE)","v":9},"缺考"]
[4,"梁珊","522224****30821","病理科技师","B01",{"$f":"VLOOKUP(B55,[1]sheet1!$E$1:$F$65536,2,FALSE)","v":53},"缺考"]
[5,"张应芝","522630****2014X","病理科技师","B01",{"$f":"VLOOKUP(B56,[1]sheet1!$E$1:$F$65536,2,FALSE)","v":3},"缺考"]
[6,"戎琴芬","522427****57825","病理科技师","B01",{"$f":"VLOOKUP(B57,[1]sheet1!$E$1:$F$65536,2,FALSE)","v":73},"缺考"]
[8,"梅雨佳","522422****31447","病理科技师","B01",{"$f":"VLOOKUP(B58,[1]sheet1!$E$1:$F$65536,2,FALSE)","v":107},"缺考"]
[9,"金万昌","522622****1101X","病理科技师","B01",{"$f":"VLOOKUP(B59,[1]sheet1!$E$1:$F$65536,2,FALSE)","v":1},"缺考"]
[10,"秦霞","522224****90867","病理科技师","B01",{"$f":"VLOOKUP(B60,[1]sheet1!$E$1:$F$65536,2,FALSE)","v":12},"缺考"]
[11,"刘诗益","520202****3632X","病理科技师","B01",{"$f":"VLOOKUP(B61,[1]sheet1!$E$1:$F$65536,2,FALSE)","v":35},"缺考"]
[12,"梁靖婵","522124****4322X","病理科技师","B01",{"$f":"VLOOKUP(B62,[1]sheet1!$E$1:$F$65536,2,FALSE)","v":2},"缺考"]
[14,"章宪","522426****5121X","病理科技师","B01",{"$f":"VLOOKUP(B63,[1]sheet1!$E$1:$F$65536,2,FALSE)","v":95},"缺考"]
[16,"田行行","522101****94032","病理科技师","B01",{"$f":"VLOOKUP(B64,[1]sheet1!$E$1:$F$65536,2,FALSE)","v":85},"缺考"]
[17,"徐多仪","522127****66024","病理科技师","B01",{"$f":"VLOOKUP(B65,[1]sheet1!$E$1:$F$65536,2,FALSE)","v":127},"缺考"]
[18,"梁鹏","522326****9241X","病理科技师","B01",{"$f":"VLOOKUP(B66,[1]sheet1!$E$1:$F$65536,2,FALSE)","v":82},"缺考"]
[23,"龙熙","522426****5012X","病理科技师","B01",{"$f":"VLOOKUP(B67,[1]sheet1!$E$1:$F$65536,2,FALSE)","v":57},"缺考"]
[25,"毛冕","520222****40088","病理科技师","B01",{"$f":"VLOOKUP(B68,[1]sheet1!$E$1:$F$65536,2,FALSE)","v":51},"缺考"]
[28,"毛丹丹","522225****01141","病理科技师","B01",{"$f":"VLOOKUP(B69,[1]sheet1!$E$1:$F$65536,2,FALSE)","v":45},"缺考"]
[29,"蓝钰淞","522725****1685X","病理科技师","B01",{"$f":"VLOOKUP(B70,[1]sheet1!$E$1:$F$65536,2,FALSE)","v":81},"缺考"]
[32,"费红丽","522129****33042","病理科技师","B01",{"$f":"VLOOKUP(B71,[1]sheet1!$E$1:$F$65536,2,FALSE)","v":13},"缺考"]
[35,"安思洁","522427****7732X","病理科技师","B01",{"$f":"VLOOKUP(B72,[1]sheet1!$E$1:$F$65536,2,FALSE)","v":99},"缺考"]
[36,"罗茂红","522401****82512","病理科技师","B01",{"$f":"VLOOKUP(B73,[1]sheet1!$E$1:$F$65536,2,FALSE)","v":65},"缺考"]
[37,"魏安雷","522124****60910","病理科技师","B01",{"$f":"VLOOKUP(B74,[1]sheet1!$E$1:$F$65536,2,FALSE)","v":97},"缺考"]
[38,"林丽玲","520181****01749","病理科技师","B01",{"$f":"VLOOKUP(B75,[1]sheet1!$E$1:$F$65536,2,FALSE)","v":125},"缺考"]
[40,"刘佳英","522428****70422","病理科技师","B01",{"$f":"VLOOKUP(B76,[1]sheet1!$E$1:$F$65536,2,FALSE)","v":23},"缺考"]
[41,"王啟霞","522423****22329","病理科技师","B01",{"$f":"VLOOKUP(B77,[1]sheet1!$E$1:$F$65536,2,FALSE)","v":34},"缺考"]
[42,"汪家强","522225****07239","病理科技师","B01",{"$f":"VLOOKUP(B78,[1]sheet1!$E$1:$F$65536,2,FALSE)","v":30},"缺考"]
[43,"凤娇娇","522121****47689","病理科技师","B01",{"$f":"VLOOKUP(B79,[1]sheet1!$E$1:$F$65536,2,FALSE)","v":92},"缺考"]
[44,"何林波","522225****02856","病理科技师","B01",{"$f":"VLOOKUP(B80,[1]sheet1!$E$1:$F$65536,2,FALSE)","v":64},"缺考"]
[45,"何芽","520202****29320","病理科技师","B01",{"$f":"VLOOKUP(B81,[1]sheet1!$E$1:$F$65536,2,FALSE)","v":91},"缺考"]
[48,"龙佳宜","511324****30481","病理科技师","B01",{"$f":"VLOOKUP(B82,[1]sheet1!$E$1:$F$65536,2,FALSE)","v":25},"缺考"]
[49,"刘煦","522122****41629","病理科技师","B01",{"$f":"VLOOKUP(B83,[1]sheet1!$E$1:$F$65536,2,FALSE)","v":117},"缺考"]
[50,"韦琴","522731****03647","病理科技师","B01",{"$f":"VLOOKUP(B84,[1]sheet1!$E$1:$F$65536,2,FALSE)","v":105},"缺考"]
[52,"朱阳","522626****73630","病理科技师","B01",{"$f":"VLOOKUP(B85,[1]sheet1!$E$1:$F$65536,2,FALSE)","v":120},"缺考"]
[54,"徐东旭","522227****41659","病理科技师","B01",{"$f":"VLOOKUP(B86,[1]sheet1!$E$1:$F$65536,2,FALSE)","v":98},"缺考"]
[56,"桂杨进","522526****61010","病理科技师","B01",{"$f":"VLOOKUP(B87,[1]sheet1!$E$1:$F$65536,2,FALSE)","v":16},"缺考"]
[57,"王诗","522527****51326","病理科技师","B01",{"$f":"VLOOKUP(B88,[1]sheet1!$E$1:$F$65536,2,FALSE)","v":58},"缺考"]
[58,"张媛媛","522321****20027","病理科技师","B01",{"$f":"VLOOKUP(B89,[1]sheet1!$E$1:$F$65536,2,FALSE)","v":137},"缺考"]
[60,"胡启","522426****22417","病理科技师","B01",{"$f":"VLOOKUP(B90,[1]sheet1!$E$1:$F$65536,2,FALSE)","v":130},"缺考"]
[61,"高航琴","520121****03846","病理科技师","B01",{"$f":"VLOOKUP(B91,[1]sheet1!$E$1:$F$65536,2,FALSE)","v":124},"缺考"]
[63,"毕曼婕","520202****37725","病理科技师","B01",{"$f":"VLOOKUP(B92,[1]sheet1!$E$1:$F$65536,2,FALSE)","v":136},"缺考"]
[64,"刘玲婕","522128****22520","病理科技师","B01",{"$f":"VLOOKUP(B93,[1]sheet1!$E$1:$F$65536,2,FALSE)","v":101},"缺考"]
[66,"李娟","522422****67068","病理科技师","B01",{"$f":"VLOOKUP(B94,[1]sheet1!$E$1:$F$65536,2,FALSE)","v":19},"缺考"]
[67,"陈玉玲","522127****96523","病理科技师","B01",{"$f":"VLOOKUP(B95,[1]sheet1!$E$1:$F$65536,2,FALSE)","v":18},"缺考"]
[68,"彭依玲","522121****76424","病理科技师","B01",{"$f":"VLOOKUP(B96,[1]sheet1!$E$1:$F$65536,2,FALSE)","v":128},"缺考"]
[70,"易丽单","530381****53924","病理科技师","B01",{"$f":"VLOOKUP(B97,[1]sheet1!$E$1:$F$65536,2,FALSE)","v":84},"缺考"]
[71,"王封棉","522326****52220","病理科技师","B01",{"$f":"VLOOKUP(B98,[1]sheet1!$E$1:$F$65536,2,FALSE)","v":17},"缺考"]
[72,"聂杰","522401****89847","病理科技师","B01",{"$f":"VLOOKUP(B99,[1]sheet1!$E$1:$F$65536,2,FALSE)","v":79},"缺考"]
[73,"姜桃银","522426****35679","病理科技师","B01",{"$f":"VLOOKUP(B100,[1]sheet1!$E$1:$F$65536,2,FALSE)","v":80},"缺考"]
[74,"谌红玉","522225****12861","病理科技师","B01",{"$f":"VLOOKUP(B101,[1]sheet1!$E$1:$F$65536,2,FALSE)","v":7},"缺考"]
[75,"马叶叶","522322****11329","病理科技师","B01",{"$f":"VLOOKUP(B102,[1]sheet1!$E$1:$F$65536,2,FALSE)","v":24},"缺考"]
[76,"张慧玲","520203****80864","病理科技师","B01",{"$f":"VLOOKUP(B103,[1]sheet1!$E$1:$F$65536,2,FALSE)","v":138},"缺考"]
[77,"钱科静","520121****7102X","病理科技师","B01",{"$f":"VLOOKUP(B104,[1]sheet1!$E$1:$F$65536,2,FALSE)","v":122},"缺考"]
[82,"武升欢","522425****63348","病理科技师","B01",{"$f":"VLOOKUP(B105,[1]sheet1!$E$1:$F$65536,2,FALSE)","v":27},"缺考"]
[83,"杜俊强","513022****73736","病理科技师","B01",{"$f":"VLOOKUP(B106,[1]sheet1!$E$1:$F$65536,2,FALSE)","v":44},"缺考"]
[86,"刘孔燕","520112****80325","病理科技师","B01",{"$f":"VLOOKUP(B107,[1]sheet1!$E$1:$F$65536,2,FALSE)","v":83},"缺考"]
[89,"王谦","522428****54023","病理科技师","B01",{"$f":"VLOOKUP(B108,[1]sheet1!$E$1:$F$65536,2,FALSE)","v":134},"缺考"]
[90,"王军","522425****83971","病理科技师","B01",{"$f":"VLOOKUP(B109,[1]sheet1!$E$1:$F$65536,2,FALSE)","v":68},"缺考"]
[91,"赵夕月","522729****51221","病理科技师","B01",{"$f":"VLOOKUP(B110,[1]sheet1!$E$1:$F$65536,2,FALSE)","v":76},"缺考"]
[92,"王玥","522401****49022","病理科技师","B01",{"$f":"VLOOKUP(B111,[1]sheet1!$E$1:$F$65536,2,FALSE)","v":32},"缺考"]
[94,"郑历","522124****2364X","病理科技师","B01",{"$f":"VLOOKUP(B112,[1]sheet1!$E$1:$F$65536,2,FALSE)","v":46},"缺考"]
[96,"龚文贵","522227****00412","病理科技师","B01",{"$f":"VLOOKUP(B113,[1]sheet1!$E$1:$F$65536,2,FALSE)","v":47},"缺考"]
[97,"王腊梅","522423****11226","病理科技师","B01",{"$f":"VLOOKUP(B114,[1]sheet1!$E$1:$F$65536,2,FALSE)","v":104},"缺考"]
[98,"袁雄","522129****50010","病理科技师","B01",{"$f":"VLOOKUP(B115,[1]sheet1!$E$1:$F$65536,2,FALSE)","v":71},"缺考"]
[99,"庞学军","522125****2431X","病理科技师","B01",{"$f":"VLOOKUP(B116,[1]sheet1!$E$1:$F$65536,2,FALSE)","v":37},"缺考"]
[100,"黄琴","522423****69740","病理科技师","B01",{"$f":"VLOOKUP(B117,[1]sheet1!$E$1:$F$65536,2,FALSE)","v":26},"缺考"]
[101,"刘帅","522428****81210","病理科技师","B01",{"$f":"VLOOKUP(B118,[1]sheet1!$E$1:$F$65536,2,FALSE)","v":56},"缺考"]
[103,"王江平","522401****79054","病理科技师","B01",{"$f":"VLOOKUP(B119,[1]sheet1!$E$1:$F$65536,2,FALSE)","v":116},"缺考"]
[105,"罗贤良","522229****4181X","病理科技师","B01",{"$f":"VLOOKUP(B120,[1]sheet1!$E$1:$F$65536,2,FALSE)","v":29},"缺考"]
[106,"谢晓钰","522321****84026","病理科技师","B01",{"$f":"VLOOKUP(B121,[1]sheet1!$E$1:$F$65536,2,FALSE)","v":69},"缺考"]
[107,"陈涛","522422****9407X","病理科技师","B01",{"$f":"VLOOKUP(B122,[1]sheet1!$E$1:$F$65536,2,FALSE)","v":77},"缺考"]
[108,"褚元霞","520202****83025","病理科技师","B01",{"$f":"VLOOKUP(B123,[1]sheet1!$E$1:$F$65536,2,FALSE)","v":33},"缺考"]
[110,"闵雪","520221****90763","病理科技师","B01",{"$f":"VLOOKUP(B124,[1]sheet1!$E$1:$F$65536,2,FALSE)","v":139},"缺考"]
[114,"李静","522132****40920","病理科技师","B01",{"$f":"VLOOKUP(B125,[1]sheet1!$E$1:$F$65536,2,FALSE)","v":89},"缺考"]
[115,"杨代文","522624****11213","病理科技师","B01",{"$f":"VLOOKUP(B126,[1]sheet1!$E$1:$F$65536,2,FALSE)","v":103},"缺考"]
[116,"陈华","520181****80823","病理科技师","B01",{"$f":"VLOOKUP(B127,[1]sheet1!$E$1:$F$65536,2,FALSE)","v":48},"缺考"]
[118,"赵腾","522527****20840","病理科技师","B01",{"$f":"VLOOKUP(B128,[1]sheet1!$E$1:$F$65536,2,FALSE)","v":62},"缺考"]
[119,"李翠菊","522425****72461","病理科技师","B01",{"$f":"VLOOKUP(B129,[1]sheet1!$E$1:$F$65536,2,FALSE)","v":94},"缺考"]
[120,"陆义秋","522631****5664X","病理科技师","B01",{"$f":"VLOOKUP(B130,[1]sheet1!$E$1:$F$65536,2,FALSE)","v":54},"缺考"]
[123,"肖怡","520122****70025","病理科技师","B01",{"$f":"VLOOKUP(B131,[1]sheet1!$E$1:$F$65536,2,FALSE)","v":72},"缺考"]
[124,"曾贵","522428****53654","病理科技师","B01",{"$f":"VLOOKUP(B132,[1]sheet1!$E$1:$F$65536,2,FALSE)","v":8},"缺考"]
[125,"杨泽超","522725****2355X","病理科技师","B01",{"$f":"VLOOKUP(B133,[1]sheet1!$E$1:$F$65536,2,FALSE)","v":21},"缺考"]
[130,"叶腾筠","522124****76019","病理科技师","B01",{"$f":"VLOOKUP(B134,[1]sheet1!$E$1:$F$65536,2,FALSE)","v":87},"缺考"]
[131,"朱鑫","522425****43931","病理科技师","B01",{"$f":"VLOOKUP(B135,[1]sheet1!$E$1:$F$65536,2,FALSE)","v":42},"缺考"]
[132,"吴月","522426****15045","病理科技师","B01",{"$f":"VLOOKUP(B136,[1]sheet1!$E$1:$F$65536,2,FALSE)","v":43},"缺考"]
[134,"黎志强","522426****81238","病理科技师","B01",{"$f":"VLOOKUP(B137,[1]sheet1!$E$1:$F$65536,2,FALSE)","v":86},"缺考"]
[135,"尹露","522501****12426","病理科技师","B01",{"$f":"VLOOKUP(B138,[1]sheet1!$E$1:$F$65536,2,FALSE)","v":108},"缺考"]
[137,"黄晓娟","522728****43924","病理科技师","B01",{"$f":"VLOOKUP(B139,[1]sheet1!$E$1:$F$65536,2,FALSE)","v":126},"缺考"]
[139,"周明琏","522224****21211","病理科技师","B01",{"$f":"VLOOKUP(B140,[1]sheet1!$E$1:$F$65536,2,FALSE)","v":40},"缺考"]