{"text_format":"3","workbook":"xlsx","n_sheets":2,"sheets":["C05 影像科影像技术技师","C06影像科信息网络工程师"],"not_rendered":{"external_links":6,"defined_names":1},"read":"whole","date_system":"1900"}

{"sheet":"C05 影像科影像技术技师","index":0,"n_rows":290,"n_cols":12,"rows_kept":290}
["序号","报名序号","姓名","身份证号","岗位名称","岗位代码","考考场号","抽签号","原始面试成绩","修正系数","最终面试成绩","是否进入资格复审"]
[277,"52003050006","赵雪","5224241******14641","影像科影像技术技师","C05","第二考场",{"$f":"VLOOKUP(C:C,[2]sheet1!$E$1:$F$65536,2,FALSE)","v":17},{"$f":"VLOOKUP(H:H,[4]Sheet1!$A$5:$I$76,9,FALSE)","v":{"v":88.3333333333333,"d":"88.33"}},{"v":1.04253796519585,"d":"1.04"},{"$f":"J2*I2","v":{"v":92.0908535923,"d":"92.09"}},"是"]
[64,"52003050023","周懿杨","5002261******21210","影像科影像技术技师","C05","第一考场",{"$f":"VLOOKUP(C:C,[1]sheet1!$E$1:$F$65536,2,FALSE)","v":59},{"$f":"VLOOKUP(H:H,[3]Sheet1!$A$5:$K$79,11,FALSE)","v":{"v":95,"d":"95.00"}},{"v":0.960797245607965,"d":"0.96"},{"v":91.2757383327567,"d":"91.28"},"是"]
[149,"52003050021","何虹燕","5201231******81226","影像科影像技术技师","C05","第一考场",{"$f":"VLOOKUP(C:C,[1]sheet1!$E$1:$F$65536,2,FALSE)","v":150},{"$f":"VLOOKUP(H:H,[3]Sheet1!$A$5:$K$79,11,FALSE)","v":{"v":94,"d":"94.00"}},{"v":0.960797245607965,"d":"0.96"},{"v":90.3149410871487,"d":"90.31"},"是"]
[37,"52003050009","彭超","5224251******11555","影像科影像技术技师","C05","第一考场",{"$f":"VLOOKUP(C:C,[1]sheet1!$E$1:$F$65536,2,FALSE)","v":146},{"$f":"VLOOKUP(H:H,[3]Sheet1!$A$5:$K$79,11,FALSE)","v":{"v":91.6666666666667,"d":"91.67"}},{"v":0.960797245607965,"d":"0.96"},{"v":88.0730808473968,"d":"88.07"},"是"]
[18,"52003050019","熊禧宏","5201032******86716","影像科影像技术技师","C05","第一考场",{"$f":"VLOOKUP(C:C,[1]sheet1!$E$1:$F$65536,2,FALSE)","v":7},{"$f":"VLOOKUP(H:H,[3]Sheet1!$A$5:$K$79,11,FALSE)","v":{"v":91.6666666666667,"d":"91.67"}},{"v":0.960797245607965,"d":"0.96"},{"v":88.0730808473968,"d":"88.07"},"是"]
[261,"52003050088","周涛","5224281******5124X","影像科影像技术技师","C05","第二考场",{"$f":"VLOOKUP(C:C,[2]sheet1!$E$1:$F$65536,2,FALSE)","v":116},{"$f":"VLOOKUP(H:H,[4]Sheet1!$A$5:$I$76,9,FALSE)","v":{"v":84,"d":"84.00"}},{"v":1.04253796519585,"d":"1.04"},{"v":87.5731890764514,"d":"87.57"}]
[201,"52003050244","袁小点","5225011******67347","影像科影像技术技师","C05","第二考场",{"$f":"VLOOKUP(C:C,[2]sheet1!$E$1:$F$65536,2,FALSE)","v":85},{"$f":"VLOOKUP(H:H,[4]Sheet1!$A$5:$I$76,9,FALSE)","v":{"v":83.3333333333333,"d":"83.33"}},{"v":1.04253796519585,"d":"1.04"},{"v":86.8781637663208,"d":"86.88"}]
[179,"52003050131","谢沁玲","5221212******91424","影像科影像技术技师","C05","第二考场",{"$f":"VLOOKUP(C:C,[2]sheet1!$E$1:$F$65536,2,FALSE)","v":79},{"$f":"VLOOKUP(H:H,[4]Sheet1!$A$5:$I$76,9,FALSE)","v":{"v":82.3333333333333,"d":"82.33"}},{"v":1.04253796519585,"d":"1.04"},{"v":85.8356258011249,"d":"85.84"}]
[240,"52003050043","赵婷婷","5221221******77445","影像科影像技术技师","C05","第二考场",{"$f":"VLOOKUP(C:C,[2]sheet1!$E$1:$F$65536,2,FALSE)","v":86},{"$f":"VLOOKUP(H:H,[4]Sheet1!$A$5:$I$76,9,FALSE)","v":{"v":81.6666666666667,"d":"81.67"}},{"v":1.04253796519585,"d":"1.04"},{"v":85.1406004909944,"d":"85.14"}]
[206,"52003050223","胡雪","5224261******07147","影像科影像技术技师","C05","第二考场",{"$f":"VLOOKUP(C:C,[2]sheet1!$E$1:$F$65536,2,FALSE)","v":28},{"$f":"VLOOKUP(H:H,[4]Sheet1!$A$5:$I$76,9,FALSE)","v":{"v":81.3333333333333,"d":"81.33"}},{"v":1.04253796519585,"d":"1.04"},{"v":84.7930878359291,"d":"84.79"}]
[273,"52003050145","刘芳","5224251******66920","影像科影像技术技师","C05","第二考场",{"$f":"VLOOKUP(C:C,[2]sheet1!$E$1:$F$65536,2,FALSE)","v":126},{"$f":"VLOOKUP(H:H,[4]Sheet1!$A$5:$I$76,9,FALSE)","v":{"v":80.6666666666667,"d":"80.67"}},{"v":1.04253796519585,"d":"1.04"},{"v":84.0980625257986,"d":"84.10"}]
[205,"52003050158","郭涛涛","5204242******80089","影像科影像技术技师","C05","第二考场",{"$f":"VLOOKUP(C:C,[2]sheet1!$E$1:$F$65536,2,FALSE)","v":127},{"$f":"VLOOKUP(H:H,[4]Sheet1!$A$5:$I$76,9,FALSE)","v":{"v":80,"d":"80.00"}},{"v":1.04253796519585,"d":"1.04"},{"v":83.403037215668,"d":"83.40"}]
[197,"52003050097","骆林","5221281******86515","影像科影像技术技师","C05","第二考场",{"$f":"VLOOKUP(C:C,[2]sheet1!$E$1:$F$65536,2,FALSE)","v":106},{"$f":"VLOOKUP(H:H,[4]Sheet1!$A$5:$I$76,9,FALSE)","v":{"v":79.3333333333333,"d":"79.33"}},{"v":1.04253796519585,"d":"1.04"},{"v":82.7080119055374,"d":"82.71"}]
[223,"52003050062","谢红","5224221******50838","影像科影像技术技师","C05","第二考场",{"$f":"VLOOKUP(C:C,[2]sheet1!$E$1:$F$65536,2,FALSE)","v":71},{"$f":"VLOOKUP(H:H,[4]Sheet1!$A$5:$I$76,9,FALSE)","v":{"v":79.3333333333333,"d":"79.33"}},{"v":1.04253796519585,"d":"1.04"},{"v":82.7080119055374,"d":"82.71"}]
[159,"52003050111","李小明","5224261******62057","影像科影像技术技师","C05","第二考场",{"$f":"VLOOKUP(C:C,[2]sheet1!$E$1:$F$65536,2,FALSE)","v":18},{"$f":"VLOOKUP(H:H,[4]Sheet1!$A$5:$I$76,9,FALSE)","v":{"v":79,"d":"79.00"}},{"v":1.04253796519585,"d":"1.04"},{"v":82.3604992504721,"d":"82.36"}]
[160,"52003050176","马小妮","5221281******34024","影像科影像技术技师","C05","第二考场",{"$f":"VLOOKUP(C:C,[2]sheet1!$E$1:$F$65536,2,FALSE)","v":125},{"$f":"VLOOKUP(H:H,[4]Sheet1!$A$5:$I$76,9,FALSE)","v":{"v":79,"d":"79.00"}},{"v":1.04253796519585,"d":"1.04"},{"v":82.3604992504721,"d":"82.36"}]
[233,"52003050102","李国富","5221311******3481X","影像科影像技术技师","C05","第二考场",{"$f":"VLOOKUP(C:C,[2]sheet1!$E$1:$F$65536,2,FALSE)","v":136},{"$f":"VLOOKUP(H:H,[4]Sheet1!$A$5:$I$76,9,FALSE)","v":{"v":79,"d":"79.00"}},{"v":1.04253796519585,"d":"1.04"},{"v":82.3604992504721,"d":"82.36"}]
[266,"52003050197","吉祥","5224012******1381X","影像科影像技术技师","C05","第二考场",{"$f":"VLOOKUP(C:C,[2]sheet1!$E$1:$F$65536,2,FALSE)","v":96},{"$f":"VLOOKUP(H:H,[4]Sheet1!$A$5:$I$76,9,FALSE)","v":{"v":79,"d":"79.00"}},{"v":1.04253796519585,"d":"1.04"},{"v":82.3604992504721,"d":"82.36"}]
[13,"52003050068","朱琳","4307031******91664","影像科影像技术技师","C05","第一考场",{"$f":"VLOOKUP(C:C,[1]sheet1!$E$1:$F$65536,2,FALSE)","v":37},{"$f":"VLOOKUP(H:H,[3]Sheet1!$A$5:$K$79,11,FALSE)","v":{"v":85.6666666666667,"d":"85.67"}},{"v":0.960797245607965,"d":"0.96"},{"v":82.308297373749,"d":"82.31"}]
[88,"52003050165","田霞","5221271******22060","影像科影像技术技师","C05","第一考场",{"$f":"VLOOKUP(C:C,[1]sheet1!$E$1:$F$65536,2,FALSE)","v":68},{"$f":"VLOOKUP(H:H,[3]Sheet1!$A$5:$K$79,11,FALSE)","v":{"v":85.6666666666667,"d":"85.67"}},{"v":0.960797245607965,"d":"0.96"},{"v":82.308297373749,"d":"82.31"}]
[38,"52003050050","唐安凤","5222271******07228","影像科影像技术技师","C05","第一考场",{"$f":"VLOOKUP(C:C,[1]sheet1!$E$1:$F$65536,2,FALSE)","v":50},{"$f":"VLOOKUP(H:H,[3]Sheet1!$A$5:$K$79,11,FALSE)","v":{"v":85.6666666666667,"d":"85.67"}},{"v":0.960797245607965,"d":"0.96"},{"v":82.308297373749,"d":"82.31"}]
[74,"52003050061","彭军景","5221211******87451","影像科影像技术技师","C05","第一考场",{"$f":"VLOOKUP(C:C,[1]sheet1!$E$1:$F$65536,2,FALSE)","v":55},{"$f":"VLOOKUP(H:H,[3]Sheet1!$A$5:$K$79,11,FALSE)","v":{"v":84.6666666666667,"d":"84.67"}},{"v":0.960797245607965,"d":"0.96"},{"v":81.3475001281411,"d":"81.35"}]
[282,"52003050228","林丽华","5221221******01841","影像科影像技术技师","C05","第二考场",{"$f":"VLOOKUP(C:C,[2]sheet1!$E$1:$F$65536,2,FALSE)","v":52},{"$f":"VLOOKUP(H:H,[4]Sheet1!$A$5:$I$76,9,FALSE)","v":{"v":78,"d":"78.00"}},{"v":1.04253796519585,"d":"1.04"},{"v":81.3179612852763,"d":"81.32"}]
[67,"52003050080","陈青娜","5221221******20866","影像科影像技术技师","C05","第一考场",{"$f":"VLOOKUP(C:C,[1]sheet1!$E$1:$F$65536,2,FALSE)","v":82},{"$f":"VLOOKUP(H:H,[3]Sheet1!$A$5:$K$79,11,FALSE)","v":{"v":84.3333333333333,"d":"84.33"}},{"v":0.960797245607965,"d":"0.96"},{"v":81.027234379605,"d":"81.03"}]
[72,"52003050058","杨薇","5002231******5666X","影像科影像技术技师","C05","第一考场",{"$f":"VLOOKUP(C:C,[1]sheet1!$E$1:$F$65536,2,FALSE)","v":140},{"$f":"VLOOKUP(H:H,[3]Sheet1!$A$5:$K$79,11,FALSE)","v":{"v":84.3333333333333,"d":"84.33"}},{"v":0.960797245607965,"d":"0.96"},{"v":81.027234379605,"d":"81.03"}]
[209,"52003050037","宋优","5221252******81916","影像科影像技术技师","C05","第二考场",{"$f":"VLOOKUP(C:C,[2]sheet1!$E$1:$F$65536,2,FALSE)","v":139},{"$f":"VLOOKUP(H:H,[4]Sheet1!$A$5:$I$76,9,FALSE)","v":{"v":77.6666666666667,"d":"77.67"}},{"v":1.04253796519585,"d":"1.04"},{"v":80.9704486302111,"d":"80.97"}]
[31,"52003050166","范清颜","5221221******06040","影像科影像技术技师","C05","第一考场",{"$f":"VLOOKUP(C:C,[1]sheet1!$E$1:$F$65536,2,FALSE)","v":122},{"$f":"VLOOKUP(H:H,[3]Sheet1!$A$5:$K$79,11,FALSE)","v":{"v":84,"d":"84.00"}},{"v":0.960797245607965,"d":"0.96"},{"v":80.7069686310691,"d":"80.71"}]
[70,"52003050210","刘伟伟","5225291******62630","影像科影像技术技师","C05","第一考场",{"$f":"VLOOKUP(C:C,[1]sheet1!$E$1:$F$65536,2,FALSE)","v":117},{"$f":"VLOOKUP(H:H,[3]Sheet1!$A$5:$K$79,11,FALSE)","v":{"v":84,"d":"84.00"}},{"v":0.960797245607965,"d":"0.96"},{"v":80.7069686310691,"d":"80.71"}]
[271,"52003050017","王娜","5222241******85026","影像科影像技术技师","C05","第二考场",{"$f":"VLOOKUP(C:C,[2]sheet1!$E$1:$F$65536,2,FALSE)","v":120},{"$f":"VLOOKUP(H:H,[4]Sheet1!$A$5:$I$76,9,FALSE)","v":{"v":77.3333333333333,"d":"77.33"}},{"v":1.04253796519585,"d":"1.04"},{"v":80.6229359751457,"d":"80.62"}]
[75,"52003050109","胡舟鹏","5223281******60213","影像科影像技术技师","C05","第一考场",{"$f":"VLOOKUP(C:C,[1]sheet1!$E$1:$F$65536,2,FALSE)","v":25},{"$f":"VLOOKUP(H:H,[3]Sheet1!$A$5:$K$79,11,FALSE)","v":{"v":83.6666666666667,"d":"83.67"}},{"v":0.960797245607965,"d":"0.96"},{"v":80.3867028825331,"d":"80.39"}]
[103,"52003050100","徐瑞瑞","5221231******42518","影像科影像技术技师","C05","第一考场",{"$f":"VLOOKUP(C:C,[1]sheet1!$E$1:$F$65536,2,FALSE)","v":100},{"$f":"VLOOKUP(H:H,[3]Sheet1!$A$5:$K$79,11,FALSE)","v":{"v":83.3333333333333,"d":"83.33"}},{"v":0.960797245607965,"d":"0.96"},{"v":80.0664371339971,"d":"80.07"}]
[267,"52003050056","何小凤","5221211******87245","影像科影像技术技师","C05","第二考场",{"$f":"VLOOKUP(C:C,[2]sheet1!$E$1:$F$65536,2,FALSE)","v":100},{"$f":"VLOOKUP(H:H,[4]Sheet1!$A$5:$I$76,9,FALSE)","v":{"v":76.6666666666667,"d":"76.67"}},{"v":1.04253796519585,"d":"1.04"},{"v":79.9279106650152,"d":"79.93"}]
[272,"52003050142","冉飞艳","5221261******76527","影像科影像技术技师","C05","第二考场",{"$f":"VLOOKUP(C:C,[2]sheet1!$E$1:$F$65536,2,FALSE)","v":103},{"$f":"VLOOKUP(H:H,[4]Sheet1!$A$5:$I$76,9,FALSE)","v":{"v":76.6666666666667,"d":"76.67"}},{"v":1.04253796519585,"d":"1.04"},{"v":79.9279106650152,"d":"79.93"}]
[53,"52003050248","罗倩","5202211******81147","影像科影像技术技师","C05","第一考场",{"$f":"VLOOKUP(C:C,[1]sheet1!$E$1:$F$65536,2,FALSE)","v":144},{"$f":"VLOOKUP(H:H,[3]Sheet1!$A$5:$K$79,11,FALSE)","v":{"v":83,"d":"83.00"}},{"v":0.960797245607965,"d":"0.96"},{"v":79.7461713854611,"d":"79.75"}]
[61,"52003050295","王文芳","5224241******01823","影像科影像技术技师","C05","第一考场",{"$f":"VLOOKUP(C:C,[1]sheet1!$E$1:$F$65536,2,FALSE)","v":93},{"$f":"VLOOKUP(H:H,[3]Sheet1!$A$5:$K$79,11,FALSE)","v":{"v":82.6666666666667,"d":"82.67"}},{"v":0.960797245607965,"d":"0.96"},{"v":79.4259056369251,"d":"79.43"}]
[139,"52003050183","侯嫚","5224281******71444","影像科影像技术技师","C05","第一考场",{"$f":"VLOOKUP(C:C,[1]sheet1!$E$1:$F$65536,2,FALSE)","v":107},{"$f":"VLOOKUP(H:H,[3]Sheet1!$A$5:$K$79,11,FALSE)","v":{"v":82.6666666666667,"d":"82.67"}},{"v":0.960797245607965,"d":"0.96"},{"v":79.4259056369251,"d":"79.43"}]
[129,"52003050090","高宇航","5224251******58171","影像科影像技术技师","C05","第一考场",{"$f":"VLOOKUP(C:C,[1]sheet1!$E$1:$F$65536,2,FALSE)","v":11},{"$f":"VLOOKUP(H:H,[3]Sheet1!$A$5:$K$79,11,FALSE)","v":{"v":82,"d":"82.00"}},{"v":0.960797245607965,"d":"0.96"},{"v":78.7853741398531,"d":"78.79"}]
[7,"52003050038","周子栋","5221011******32018","影像科影像技术技师","C05","第一考场",{"$f":"VLOOKUP(C:C,[1]sheet1!$E$1:$F$65536,2,FALSE)","v":52},{"$f":"VLOOKUP(H:H,[3]Sheet1!$A$5:$K$79,11,FALSE)","v":{"v":82,"d":"82.00"}},{"v":0.960797245607965,"d":"0.96"},{"v":78.7853741398531,"d":"78.79"}]
[188,"52003050039","徐晓鹏","5201231******10051","影像科影像技术技师","C05","第二考场",{"$f":"VLOOKUP(C:C,[2]sheet1!$E$1:$F$65536,2,FALSE)","v":113},{"$f":"VLOOKUP(H:H,[4]Sheet1!$A$5:$I$76,9,FALSE)","v":{"v":74.6666666666667,"d":"74.67"}},{"v":1.04253796519585,"d":"1.04"},{"v":77.8428347346235,"d":"77.84"}]
[73,"52003050138","刘泽君","5201221******42211","影像科影像技术技师","C05","第一考场",{"$f":"VLOOKUP(C:C,[1]sheet1!$E$1:$F$65536,2,FALSE)","v":15},{"$f":"VLOOKUP(H:H,[3]Sheet1!$A$5:$K$79,11,FALSE)","v":{"v":80.3333333333333,"d":"80.33"}},{"v":0.960797245607965,"d":"0.96"},{"v":77.1840453971732,"d":"77.18"}]
[264,"52003050167","陈金刚","5227311******51293","影像科影像技术技师","C05","第二考场",{"$f":"VLOOKUP(C:C,[2]sheet1!$E$1:$F$65536,2,FALSE)","v":124},{"$f":"VLOOKUP(H:H,[4]Sheet1!$A$5:$I$76,9,FALSE)","v":{"v":74,"d":"74.00"}},{"v":1.04253796519585,"d":"1.04"},{"v":77.1478094244929,"d":"77.15"}]
[287,"52003050202","张树","5224222******2702X","影像科影像技术技师","C05","第二考场",{"$f":"VLOOKUP(C:C,[2]sheet1!$E$1:$F$65536,2,FALSE)","v":121},{"$f":"VLOOKUP(H:H,[4]Sheet1!$A$5:$I$76,9,FALSE)","v":{"v":74,"d":"74.00"}},{"v":1.04253796519585,"d":"1.04"},{"v":77.1478094244929,"d":"77.15"}]
[238,"52003050098","杨正霞","5227271******74523","影像科影像技术技师","C05","第二考场",{"$f":"VLOOKUP(C:C,[2]sheet1!$E$1:$F$65536,2,FALSE)","v":133},{"$f":"VLOOKUP(H:H,[4]Sheet1!$A$5:$I$76,9,FALSE)","v":{"v":73.6666666666667,"d":"73.67"}},{"v":1.04253796519585,"d":"1.04"},{"v":76.8002967694276,"d":"76.80"}]
[162,"52003050010","吴双林","5222272******24813","影像科影像技术技师","C05","第二考场",{"$f":"VLOOKUP(C:C,[2]sheet1!$E$1:$F$65536,2,FALSE)","v":129},{"$f":"VLOOKUP(H:H,[4]Sheet1!$A$5:$I$76,9,FALSE)","v":{"v":73.3333333333333,"d":"73.33"}},{"v":1.04253796519585,"d":"1.04"},{"v":76.4527841143623,"d":"76.45"}]
[173,"52003050024","安晓芳","5222281******52843","影像科影像技术技师","C05","第二考场",{"$f":"VLOOKUP(C:C,[2]sheet1!$E$1:$F$65536,2,FALSE)","v":55},{"$f":"VLOOKUP(H:H,[4]Sheet1!$A$5:$I$76,9,FALSE)","v":{"v":73.3333333333333,"d":"73.33"}},{"v":1.04253796519585,"d":"1.04"},{"v":76.4527841143623,"d":"76.45"}]
[182,"52003050169","邓方微","5224231******37328","影像科影像技术技师","C05","第二考场",{"$f":"VLOOKUP(C:C,[2]sheet1!$E$1:$F$65536,2,FALSE)","v":43},{"$f":"VLOOKUP(H:H,[4]Sheet1!$A$5:$I$76,9,FALSE)","v":{"v":73.3333333333333,"d":"73.33"}},{"v":1.04253796519585,"d":"1.04"},{"v":76.4527841143623,"d":"76.45"}]
[184,"52003050067","安启运","5224231******03625","影像科影像技术技师","C05","第二考场",{"$f":"VLOOKUP(C:C,[2]sheet1!$E$1:$F$65536,2,FALSE)","v":9},{"$f":"VLOOKUP(H:H,[4]Sheet1!$A$5:$I$76,9,FALSE)","v":{"v":73.3333333333333,"d":"73.33"}},{"v":1.04253796519585,"d":"1.04"},{"v":76.4527841143623,"d":"76.45"}]
[3,"52003050178","谢伟","5222251******60413","影像科影像技术技师","C05","第一考场",{"$f":"VLOOKUP(C:C,[1]sheet1!$E$1:$F$65536,2,FALSE)","v":123},{"$f":"VLOOKUP(H:H,[3]Sheet1!$A$5:$K$79,11,FALSE)","v":{"v":78.6666666666667,"d":"78.67"}},{"v":0.960797245607965,"d":"0.96"},{"v":75.5827166544933,"d":"75.58"}]
[69,"52003050189","张杰","5224011******47413","影像科影像技术技师","C05","第一考场",{"$f":"VLOOKUP(C:C,[1]sheet1!$E$1:$F$65536,2,FALSE)","v":125},{"$f":"VLOOKUP(H:H,[3]Sheet1!$A$5:$K$79,11,FALSE)","v":{"v":78.6666666666667,"d":"78.67"}},{"v":0.960797245607965,"d":"0.96"},{"v":75.5827166544933,"d":"75.58"}]
[99,"52003050084","王徐钊","5221262******11510","影像科影像技术技师","C05","第一考场",{"$f":"VLOOKUP(C:C,[1]sheet1!$E$1:$F$65536,2,FALSE)","v":128},{"$f":"VLOOKUP(H:H,[3]Sheet1!$A$5:$K$79,11,FALSE)","v":{"v":78.6666666666667,"d":"78.67"}},{"v":0.960797245607965,"d":"0.96"},{"v":75.5827166544933,"d":"75.58"}]
[144,"52003050188","李登剑","5221281******85032","影像科影像技术技师","C05","第一考场",{"$f":"VLOOKUP(C:C,[1]sheet1!$E$1:$F$65536,2,FALSE)","v":126},{"$f":"VLOOKUP(H:H,[3]Sheet1!$A$5:$K$79,11,FALSE)","v":{"v":78.3333333333333,"d":"78.33"}},{"v":0.960797245607965,"d":"0.96"},{"v":75.2624509059572,"d":"75.26"}]
[94,"52003050289","朱娴","5201812******40822","影像科影像技术技师","C05","第一考场",{"$f":"VLOOKUP(C:C,[1]sheet1!$E$1:$F$65536,2,FALSE)","v":112},{"$f":"VLOOKUP(H:H,[3]Sheet1!$A$5:$K$79,11,FALSE)","v":{"v":78.3333333333333,"d":"78.33"}},{"v":0.960797245607965,"d":"0.96"},{"v":75.2624509059572,"d":"75.26"}]
[171,"52003050211","王鹏杰","5222241******14810","影像科影像技术技师","C05","第二考场",{"$f":"VLOOKUP(C:C,[2]sheet1!$E$1:$F$65536,2,FALSE)","v":132},{"$f":"VLOOKUP(H:H,[4]Sheet1!$A$5:$I$76,9,FALSE)","v":{"v":72,"d":"72.00"}},{"v":1.04253796519585,"d":"1.04"},{"v":75.0627334941012,"d":"75.06"}]
[226,"52003050149","李婷婷","5221241******43626","影像科影像技术技师","C05","第二考场",{"$f":"VLOOKUP(C:C,[2]sheet1!$E$1:$F$65536,2,FALSE)","v":83},{"$f":"VLOOKUP(H:H,[4]Sheet1!$A$5:$I$76,9,FALSE)","v":{"v":72,"d":"72.00"}},{"v":1.04253796519585,"d":"1.04"},{"v":75.0627334941012,"d":"75.06"}]
[245,"52003050243","何梅梅","5222251******44844","影像科影像技术技师","C05","第二考场",{"$f":"VLOOKUP(C:C,[2]sheet1!$E$1:$F$65536,2,FALSE)","v":47},{"$f":"VLOOKUP(H:H,[4]Sheet1!$A$5:$I$76,9,FALSE)","v":{"v":72,"d":"72.00"}},{"v":1.04253796519585,"d":"1.04"},{"v":75.0627334941012,"d":"75.06"}]
[100,"52003050106","杨超","5221211******94214","影像科影像技术技师","C05","第一考场",{"$f":"VLOOKUP(C:C,[1]sheet1!$E$1:$F$65536,2,FALSE)","v":74},{"$f":"VLOOKUP(H:H,[3]Sheet1!$A$5:$K$79,11,FALSE)","v":{"v":78,"d":"78.00"}},{"v":0.960797245607965,"d":"0.96"},{"v":74.9421851574213,"d":"74.94"}]
[87,"52003050119","李碧","5221301******47245","影像科影像技术技师","C05","第一考场",{"$f":"VLOOKUP(C:C,[1]sheet1!$E$1:$F$65536,2,FALSE)","v":79},{"$f":"VLOOKUP(H:H,[3]Sheet1!$A$5:$K$79,11,FALSE)","v":{"v":78,"d":"78.00"}},{"v":0.960797245607965,"d":"0.96"},{"v":74.9421851574213,"d":"74.94"}]
[58,"52003050002","李敏","5221301******73244","影像科影像技术技师","C05","第一考场",{"$f":"VLOOKUP(C:C,[1]sheet1!$E$1:$F$65536,2,FALSE)","v":5},{"$f":"VLOOKUP(H:H,[3]Sheet1!$A$5:$K$79,11,FALSE)","v":{"v":78,"d":"78.00"}},{"v":0.960797245607965,"d":"0.96"},{"v":74.9421851574213,"d":"74.94"}]
[231,"52003050171","唐若男","5227222******22121","影像科影像技术技师","C05","第二考场",{"$f":"VLOOKUP(C:C,[2]sheet1!$E$1:$F$65536,2,FALSE)","v":130},{"$f":"VLOOKUP(H:H,[4]Sheet1!$A$5:$I$76,9,FALSE)","v":{"v":71.6666666666667,"d":"71.67"}},{"v":1.04253796519585,"d":"1.04"},{"v":74.715220839036,"d":"74.72"}]
[242,"52003050055","赵发辉","5201222******53819","影像科影像技术技师","C05","第二考场",{"$f":"VLOOKUP(C:C,[2]sheet1!$E$1:$F$65536,2,FALSE)","v":117},{"$f":"VLOOKUP(H:H,[4]Sheet1!$A$5:$I$76,9,FALSE)","v":{"v":71.6666666666667,"d":"71.67"}},{"v":1.04253796519585,"d":"1.04"},{"v":74.715220839036,"d":"74.72"}]
[256,"52003050033","谢坤","5223232******91319","影像科影像技术技师","C05","第二考场",{"$f":"VLOOKUP(C:C,[2]sheet1!$E$1:$F$65536,2,FALSE)","v":72},{"$f":"VLOOKUP(H:H,[4]Sheet1!$A$5:$I$76,9,FALSE)","v":{"v":71.6666666666667,"d":"71.67"}},{"v":1.04253796519585,"d":"1.04"},{"v":74.715220839036,"d":"74.72"}]
[23,"52003050263","刘星","5224262******85310","影像科影像技术技师","C05","第一考场",{"$f":"VLOOKUP(C:C,[1]sheet1!$E$1:$F$65536,2,FALSE)","v":91},{"$f":"VLOOKUP(H:H,[3]Sheet1!$A$5:$K$79,11,FALSE)","v":{"v":77.6666666666667,"d":"77.67"}},{"v":0.960797245607965,"d":"0.96"},{"v":74.6219194088853,"d":"74.62"}]
[109,"52003050110","杨锐","5221301******2001X","影像科影像技术技师","C05","第一考场",{"$f":"VLOOKUP(C:C,[1]sheet1!$E$1:$F$65536,2,FALSE)","v":35},{"$f":"VLOOKUP(H:H,[3]Sheet1!$A$5:$K$79,11,FALSE)","v":{"v":77.3333333333333,"d":"77.33"}},{"v":0.960797245607965,"d":"0.96"},{"v":74.3016536603493,"d":"74.30"}]
[164,"52003050207","龙艳","5225291******14448","影像科影像技术技师","C05","第二考场",{"$f":"VLOOKUP(C:C,[2]sheet1!$E$1:$F$65536,2,FALSE)","v":29},{"$f":"VLOOKUP(H:H,[4]Sheet1!$A$5:$I$76,9,FALSE)","v":{"v":71,"d":"71.00"}},{"v":1.04253796519585,"d":"1.04"},{"v":74.0201955289053,"d":"74.02"}]
[51,"52003050052","王松善","5303241******02359","影像科影像技术技师","C05","第一考场",{"$f":"VLOOKUP(C:C,[1]sheet1!$E$1:$F$65536,2,FALSE)","v":97},{"$f":"VLOOKUP(H:H,[3]Sheet1!$A$5:$K$79,11,FALSE)","v":{"v":77,"d":"77.00"}},{"v":0.960797245607965,"d":"0.96"},{"$f":"J66*I66","v":{"v":73.9813879118133,"d":"73.98"}}]
[98,"52003050092","程浩楠","5221301******47231","影像科影像技术技师","C05","第一考场",{"$f":"VLOOKUP(C:C,[1]sheet1!$E$1:$F$65536,2,FALSE)","v":115},{"$f":"VLOOKUP(H:H,[3]Sheet1!$A$5:$K$79,11,FALSE)","v":{"v":77,"d":"77.00"}},{"v":0.960797245607965,"d":"0.96"},{"v":73.9813879118133,"d":"73.98"}]
[167,"52003050146","陈亭竹","5201212******53822","影像科影像技术技师","C05","第二考场",{"$f":"VLOOKUP(C:C,[2]sheet1!$E$1:$F$65536,2,FALSE)","v":101},{"$f":"VLOOKUP(H:H,[4]Sheet1!$A$5:$I$76,9,FALSE)","v":{"v":70.6666666666667,"d":"70.67"}},{"v":1.04253796519585,"d":"1.04"},{"v":73.6726828738401,"d":"73.67"}]
[10,"52003050224","吴嫚","5224011******77642","影像科影像技术技师","C05","第一考场",{"$f":"VLOOKUP(C:C,[1]sheet1!$E$1:$F$65536,2,FALSE)","v":148},{"$f":"VLOOKUP(H:H,[3]Sheet1!$A$5:$K$79,11,FALSE)","v":{"v":76.6666666666667,"d":"76.67"}},{"v":0.960797245607965,"d":"0.96"},{"v":73.6611221632773,"d":"73.66"}]
[4,"52003050237","董超","5203271******56516","影像科影像技术技师","C05","第一考场",{"$f":"VLOOKUP(C:C,[1]sheet1!$E$1:$F$65536,2,FALSE)","v":104},{"$f":"VLOOKUP(H:H,[3]Sheet1!$A$5:$K$79,11,FALSE)","v":{"v":76.6666666666667,"d":"76.67"}},{"v":0.960797245607965,"d":"0.96"},{"v":73.6611221632773,"d":"73.66"}]
[29,"52003050070","何宇","5221261******15139","影像科影像技术技师","C05","第一考场",{"$f":"VLOOKUP(C:C,[1]sheet1!$E$1:$F$65536,2,FALSE)","v":139},{"$f":"VLOOKUP(H:H,[3]Sheet1!$A$5:$K$79,11,FALSE)","v":{"v":76.6666666666667,"d":"76.67"}},{"v":0.960797245607965,"d":"0.96"},{"v":73.6611221632773,"d":"73.66"}]
[126,"52003050129","周彬","5221311******3563X","影像科影像技术技师","C05","第一考场",{"$f":"VLOOKUP(C:C,[1]sheet1!$E$1:$F$65536,2,FALSE)","v":64},{"$f":"VLOOKUP(H:H,[3]Sheet1!$A$5:$K$79,11,FALSE)","v":{"v":76.6666666666667,"d":"76.67"}},{"v":0.960797245607965,"d":"0.96"},{"v":73.6611221632773,"d":"73.66"}]
[44,"52003050031","杜欣","5202211******59844","影像科影像技术技师","C05","第一考场",{"$f":"VLOOKUP(C:C,[1]sheet1!$E$1:$F$65536,2,FALSE)","v":71},{"$f":"VLOOKUP(H:H,[3]Sheet1!$A$5:$K$79,11,FALSE)","v":{"v":76.3333333333333,"d":"76.33"}},{"v":0.960797245607965,"d":"0.96"},{"v":73.3408564147413,"d":"73.34"}]
[258,"52003050194","陈小领","5225301******11747","影像科影像技术技师","C05","第二考场",{"$f":"VLOOKUP(C:C,[2]sheet1!$E$1:$F$65536,2,FALSE)","v":1},{"$f":"VLOOKUP(H:H,[4]Sheet1!$A$5:$I$76,9,FALSE)","v":{"v":70.3333333333333,"d":"70.33"}},{"v":1.04253796519585,"d":"1.04"},{"v":73.3251702187747,"d":"73.33"}]
[104,"52003050087","靳光瑞","5201031******91213","影像科影像技术技师","C05","第一考场",{"$f":"VLOOKUP(C:C,[1]sheet1!$E$1:$F$65536,2,FALSE)","v":137},{"$f":"VLOOKUP(H:H,[3]Sheet1!$A$5:$K$79,11,FALSE)","v":{"v":76,"d":"76.00"}},{"v":0.960797245607965,"d":"0.96"},{"v":73.0205906662053,"d":"73.02"}]
[48,"52003050085","简乐成","5222251******74871","影像科影像技术技师","C05","第一考场",{"$f":"VLOOKUP(C:C,[1]sheet1!$E$1:$F$65536,2,FALSE)","v":77},{"$f":"VLOOKUP(H:H,[3]Sheet1!$A$5:$K$79,11,FALSE)","v":{"v":76,"d":"76.00"}},{"v":0.960797245607965,"d":"0.96"},{"v":73.0205906662053,"d":"73.02"}]
[92,"52003050057","刘欣益","5221291******74549","影像科影像技术技师","C05","第一考场",{"$f":"VLOOKUP(C:C,[1]sheet1!$E$1:$F$65536,2,FALSE)","v":32},{"$f":"VLOOKUP(H:H,[3]Sheet1!$A$5:$K$79,11,FALSE)","v":{"v":76,"d":"76.00"}},{"v":0.960797245607965,"d":"0.96"},{"v":73.0205906662053,"d":"73.02"}]
[110,"52003050007","陈江涛","5221302******96013","影像科影像技术技师","C05","第一考场",{"$f":"VLOOKUP(C:C,[1]sheet1!$E$1:$F$65536,2,FALSE)","v":33},{"$f":"VLOOKUP(H:H,[3]Sheet1!$A$5:$K$79,11,FALSE)","v":{"v":76,"d":"76.00"}},{"v":0.960797245607965,"d":"0.96"},{"v":73.0205906662053,"d":"73.02"}]
[82,"52003050307","朱敏","5321281******01606","影像科影像技术技师","C05","第一考场",{"$f":"VLOOKUP(C:C,[1]sheet1!$E$1:$F$65536,2,FALSE)","v":14},{"$f":"VLOOKUP(H:H,[3]Sheet1!$A$5:$K$79,11,FALSE)","v":{"v":76,"d":"76.00"}},{"v":0.960797245607965,"d":"0.96"},{"v":73.0205906662053,"d":"73.02"}]
[278,"52003050250","罗通","5222241******04430","影像科影像技术技师","C05","第二考场",{"$f":"VLOOKUP(C:C,[2]sheet1!$E$1:$F$65536,2,FALSE)","v":11},{"$f":"VLOOKUP(H:H,[4]Sheet1!$A$5:$I$76,9,FALSE)","v":{"v":70,"d":"70.00"}},{"v":1.04253796519585,"d":"1.04"},{"v":72.9776575637095,"d":"72.98"}]
[35,"52003050044","李鹏菲","5226232******30068","影像科影像技术技师","C05","第一考场",{"$f":"VLOOKUP(C:C,[1]sheet1!$E$1:$F$65536,2,FALSE)","v":120},{"$f":"VLOOKUP(H:H,[3]Sheet1!$A$5:$K$79,11,FALSE)","v":{"v":75.6666666666667,"d":"75.67"}},{"v":0.960797245607965,"d":"0.96"},{"v":72.7003249176694,"d":"72.70"}]
[157,"52003050185","龙景涛","5226281******26413","影像科影像技术技师","C05","第二考场",{"$f":"VLOOKUP(C:C,[2]sheet1!$E$1:$F$65536,2,FALSE)","v":8},{"$f":"VLOOKUP(H:H,[4]Sheet1!$A$5:$I$76,9,FALSE)","v":{"v":69.6666666666667,"d":"69.67"}},{"v":1.04253796519585,"d":"1.04"},{"v":72.6301449086443,"d":"72.63"}]
[239,"52003050120","赵玉彬","5223242******40433","影像科影像技术技师","C05","第二考场",{"$f":"VLOOKUP(C:C,[2]sheet1!$E$1:$F$65536,2,FALSE)","v":33},{"$f":"VLOOKUP(H:H,[4]Sheet1!$A$5:$I$76,9,FALSE)","v":{"v":69.6666666666667,"d":"69.67"}},{"v":1.04253796519585,"d":"1.04"},{"v":72.6301449086443,"d":"72.63"}]
[68,"52003050015","郭洋","5224281******20033","影像科影像技术技师","C05","第一考场",{"$f":"VLOOKUP(C:C,[1]sheet1!$E$1:$F$65536,2,FALSE)","v":111},{"$f":"VLOOKUP(H:H,[3]Sheet1!$A$5:$K$79,11,FALSE)","v":{"v":75.3333333333333,"d":"75.33"}},{"v":0.960797245607965,"d":"0.96"},{"v":72.3800591691333,"d":"72.38"}]
[101,"52003050182","程静","5221302******10116","影像科影像技术技师","C05","第一考场",{"$f":"VLOOKUP(C:C,[1]sheet1!$E$1:$F$65536,2,FALSE)","v":44},{"$f":"VLOOKUP(H:H,[3]Sheet1!$A$5:$K$79,11,FALSE)","v":{"v":75.3333333333333,"d":"75.33"}},{"v":0.960797245607965,"d":"0.96"},{"v":72.3800591691333,"d":"72.38"}]
[204,"52003050209","肖华玉","5224261******50083","影像科影像技术技师","C05","第二考场",{"$f":"VLOOKUP(C:C,[2]sheet1!$E$1:$F$65536,2,FALSE)","v":92},{"$f":"VLOOKUP(H:H,[4]Sheet1!$A$5:$I$76,9,FALSE)","v":{"v":69.3333333333333,"d":"69.33"}},{"v":1.04253796519585,"d":"1.04"},{"v":72.2826322535789,"d":"72.28"}]
[288,"52003050306","张凤云","5222211******12423","影像科影像技术技师","C05","第二考场",{"$f":"VLOOKUP(C:C,[2]sheet1!$E$1:$F$65536,2,FALSE)","v":137},{"$f":"VLOOKUP(H:H,[4]Sheet1!$A$5:$I$76,9,FALSE)","v":{"v":69.3333333333333,"d":"69.33"}},{"v":1.04253796519585,"d":"1.04"},{"v":72.2826322535789,"d":"72.28"}]
[147,"52003050101","朱代飞","5221321******03833","影像科影像技术技师","C05","第一考场",{"$f":"VLOOKUP(C:C,[1]sheet1!$E$1:$F$65536,2,FALSE)","v":87},{"$f":"VLOOKUP(H:H,[3]Sheet1!$A$5:$K$79,11,FALSE)","v":{"v":75,"d":"75.00"}},{"v":0.960797245607965,"d":"0.96"},{"v":72.0597934205974,"d":"72.06"}]
[174,"52003050115","李玉娥","5224261******84029","影像科影像技术技师","C05","第二考场",{"$f":"VLOOKUP(C:C,[2]sheet1!$E$1:$F$65536,2,FALSE)","v":20},{"$f":"VLOOKUP(H:H,[4]Sheet1!$A$5:$I$76,9,FALSE)","v":{"v":69,"d":"69.00"}},{"v":1.04253796519585,"d":"1.04"},{"v":71.9351195985137,"d":"71.94"}]
[181,"52003050135","黄雄","5224251******14511","影像科影像技术技师","C05","第二考场",{"$f":"VLOOKUP(C:C,[2]sheet1!$E$1:$F$65536,2,FALSE)","v":99},{"$f":"VLOOKUP(H:H,[4]Sheet1!$A$5:$I$76,9,FALSE)","v":{"v":69,"d":"69.00"}},{"v":1.04253796519585,"d":"1.04"},{"v":71.9351195985137,"d":"71.94"}]
[26,"52003050114","左洪","5202031******30029","影像科影像技术技师","C05","第一考场",{"$f":"VLOOKUP(C:C,[1]sheet1!$E$1:$F$65536,2,FALSE)","v":129},{"$f":"VLOOKUP(H:H,[3]Sheet1!$A$5:$K$79,11,FALSE)","v":{"v":74.6666666666667,"d":"74.67"}},{"v":0.960797245607965,"d":"0.96"},{"v":71.7395276720614,"d":"71.74"}]
[79,"52003050199","郭莎","5224231******64343","影像科影像技术技师","C05","第一考场",{"$f":"VLOOKUP(C:C,[1]sheet1!$E$1:$F$65536,2,FALSE)","v":4},{"$f":"VLOOKUP(H:H,[3]Sheet1!$A$5:$K$79,11,FALSE)","v":{"v":74.6666666666667,"d":"74.67"}},{"v":0.960797245607965,"d":"0.96"},{"v":71.7395276720614,"d":"71.74"}]
[95,"52003050027","高华佳","5224241******40018","影像科影像技术技师","C05","第一考场",{"$f":"VLOOKUP(C:C,[1]sheet1!$E$1:$F$65536,2,FALSE)","v":145},{"$f":"VLOOKUP(H:H,[3]Sheet1!$A$5:$K$79,11,FALSE)","v":{"v":74.6666666666667,"d":"74.67"}},{"v":0.960797245607965,"d":"0.96"},{"v":71.7395276720614,"d":"71.74"}]
[113,"52003050030","罗松","5221211******85317","影像科影像技术技师","C05","第一考场",{"$f":"VLOOKUP(C:C,[1]sheet1!$E$1:$F$65536,2,FALSE)","v":69},{"$f":"VLOOKUP(H:H,[3]Sheet1!$A$5:$K$79,11,FALSE)","v":{"v":74.6666666666667,"d":"74.67"}},{"v":0.960797245607965,"d":"0.96"},{"v":71.7395276720614,"d":"71.74"}]
[77,"52003050059","魏鑫","5224221******8401X","影像科影像技术技师","C05","第一考场",{"$f":"VLOOKUP(C:C,[1]sheet1!$E$1:$F$65536,2,FALSE)","v":141},{"$f":"VLOOKUP(H:H,[3]Sheet1!$A$5:$K$79,11,FALSE)","v":{"v":74.6666666666667,"d":"74.67"}},{"v":0.960797245607965,"d":"0.96"},{"v":71.7395276720614,"d":"71.74"}]
[227,"52003050301","王真样","5223282******44927","影像科影像技术技师","C05","第二考场",{"$f":"VLOOKUP(C:C,[2]sheet1!$E$1:$F$65536,2,FALSE)","v":58},{"$f":"VLOOKUP(H:H,[4]Sheet1!$A$5:$I$76,9,FALSE)","v":{"v":68.6666666666667,"d":"68.67"}},{"v":1.04253796519585,"d":"1.04"},{"v":71.5876069434484,"d":"71.59"}]
[241,"52003050298","鲁朝海","5224241******00678","影像科影像技术技师","C05","第二考场",{"$f":"VLOOKUP(C:C,[2]sheet1!$E$1:$F$65536,2,FALSE)","v":74},{"$f":"VLOOKUP(H:H,[4]Sheet1!$A$5:$I$76,9,FALSE)","v":{"v":68.6666666666667,"d":"68.67"}},{"v":1.04253796519585,"d":"1.04"},{"v":71.5876069434484,"d":"71.59"}]
[248,"52003050035","朱丽","5224271******94580","影像科影像技术技师","C05","第二考场",{"$f":"VLOOKUP(C:C,[2]sheet1!$E$1:$F$65536,2,FALSE)","v":61},{"$f":"VLOOKUP(H:H,[4]Sheet1!$A$5:$I$76,9,FALSE)","v":{"v":68.6666666666667,"d":"68.67"}},{"v":1.04253796519585,"d":"1.04"},{"v":71.5876069434484,"d":"71.59"}]
[145,"52003050227","肖清园","5221231******00529","影像科影像技术技师","C05","第一考场",{"$f":"VLOOKUP(C:C,[1]sheet1!$E$1:$F$65536,2,FALSE)","v":135},{"$f":"VLOOKUP(H:H,[3]Sheet1!$A$5:$K$79,11,FALSE)","v":{"v":74,"d":"74.00"}},{"v":0.960797245607965,"d":"0.96"},{"v":71.0989961749894,"d":"71.10"}]
[105,"52003050236","孙雷","5224251******30071","影像科影像技术技师","C05","第一考场",{"$f":"VLOOKUP(C:C,[1]sheet1!$E$1:$F$65536,2,FALSE)","v":42},{"$f":"VLOOKUP(H:H,[3]Sheet1!$A$5:$K$79,11,FALSE)","v":{"v":74,"d":"74.00"}},{"v":0.960797245607965,"d":"0.96"},{"v":71.0989961749894,"d":"71.10"}]
[269,"52003050225","张聪","5224281******83009","影像科影像技术技师","C05","第二考场",{"$f":"VLOOKUP(C:C,[2]sheet1!$E$1:$F$65536,2,FALSE)","v":105},{"$f":"VLOOKUP(H:H,[4]Sheet1!$A$5:$I$76,9,FALSE)","v":{"v":68,"d":"68.00"}},{"v":1.04253796519585,"d":"1.04"},{"v":70.8925816333178,"d":"70.89"}]
[281,"52003050077","蔡海珊","5221221******34820","影像科影像技术技师","C05","第二考场",{"$f":"VLOOKUP(C:C,[2]sheet1!$E$1:$F$65536,2,FALSE)","v":39},{"$f":"VLOOKUP(H:H,[4]Sheet1!$A$5:$I$76,9,FALSE)","v":{"v":68,"d":"68.00"}},{"v":1.04253796519585,"d":"1.04"},{"v":70.8925816333178,"d":"70.89"}]
[78,"52003050313","陈兴理","5224251******80134","影像科影像技术技师","C05","第一考场",{"$f":"VLOOKUP(C:C,[1]sheet1!$E$1:$F$65536,2,FALSE)","v":108},{"$f":"VLOOKUP(H:H,[3]Sheet1!$A$5:$K$79,11,FALSE)","v":{"v":73.6666666666667,"d":"73.67"}},{"v":0.960797245607965,"d":"0.96"},{"v":70.7787304264534,"d":"70.78"}]
[42,"52003050265","秦琴","5221302******04064","影像科影像技术技师","C05","第一考场",{"$f":"VLOOKUP(C:C,[1]sheet1!$E$1:$F$65536,2,FALSE)","v":54},{"$f":"VLOOKUP(H:H,[3]Sheet1!$A$5:$K$79,11,FALSE)","v":{"v":73.6666666666667,"d":"73.67"}},{"v":0.960797245607965,"d":"0.96"},{"v":70.7787304264534,"d":"70.78"}]
[93,"52003050172","张婷婷","5222281******31948","影像科影像技术技师","C05","第一考场",{"$f":"VLOOKUP(C:C,[1]sheet1!$E$1:$F$65536,2,FALSE)","v":6},{"$f":"VLOOKUP(H:H,[3]Sheet1!$A$5:$K$79,11,FALSE)","v":{"v":73.6666666666667,"d":"73.67"}},{"v":0.960797245607965,"d":"0.96"},{"v":70.7787304264534,"d":"70.78"}]
[286,"52003050014","张仕海","5221211******50034","影像科影像技术技师","C05","第二考场",{"$f":"VLOOKUP(C:C,[2]sheet1!$E$1:$F$65536,2,FALSE)","v":77},{"$f":"VLOOKUP(H:H,[4]Sheet1!$A$5:$I$76,9,FALSE)","v":{"v":67.6666666666667,"d":"67.67"}},{"v":1.04253796519585,"d":"1.04"},{"v":70.5450689782525,"d":"70.55"}]
[63,"52003050071","罗欢欢","5221241******63662","影像科影像技术技师","C05","第一考场",{"$f":"VLOOKUP(C:C,[1]sheet1!$E$1:$F$65536,2,FALSE)","v":142},{"$f":"VLOOKUP(H:H,[3]Sheet1!$A$5:$K$79,11,FALSE)","v":{"v":73.3333333333333,"d":"73.33"}},{"v":0.960797245607965,"d":"0.96"},{"v":70.4584646779174,"d":"70.46"}]
[118,"52003050078","张良银","5221211******10832","影像科影像技术技师","C05","第一考场",{"$f":"VLOOKUP(C:C,[1]sheet1!$E$1:$F$65536,2,FALSE)","v":88},{"$f":"VLOOKUP(H:H,[3]Sheet1!$A$5:$K$79,11,FALSE)","v":{"v":73.3333333333333,"d":"73.33"}},{"v":0.960797245607965,"d":"0.96"},{"v":70.4584646779174,"d":"70.46"}]
[143,"52003050121","周辉","5227311******58653","影像科影像技术技师","C05","第一考场",{"$f":"VLOOKUP(C:C,[1]sheet1!$E$1:$F$65536,2,FALSE)","v":105},{"$f":"VLOOKUP(H:H,[3]Sheet1!$A$5:$K$79,11,FALSE)","v":{"v":73.3333333333333,"d":"73.33"}},{"v":0.960797245607965,"d":"0.96"},{"v":70.4584646779174,"d":"70.46"}]
[114,"52003050255","赵琎焘","5321281******20332","影像科影像技术技师","C05","第一考场",{"$f":"VLOOKUP(C:C,[1]sheet1!$E$1:$F$65536,2,FALSE)","v":73},{"$f":"VLOOKUP(H:H,[3]Sheet1!$A$5:$K$79,11,FALSE)","v":{"v":73.3333333333333,"d":"73.33"}},{"v":0.960797245607965,"d":"0.96"},{"v":70.4584646779174,"d":"70.46"}]
[56,"52003050215","韦国将","5223261******31616","影像科影像技术技师","C05","第一考场",{"$f":"VLOOKUP(C:C,[1]sheet1!$E$1:$F$65536,2,FALSE)","v":66},{"$f":"VLOOKUP(H:H,[3]Sheet1!$A$5:$K$79,11,FALSE)","v":{"v":73.3333333333333,"d":"73.33"}},{"v":0.960797245607965,"d":"0.96"},{"v":70.4584646779174,"d":"70.46"}]
[124,"52003050113","石红","5224251******2692X","影像科影像技术技师","C05","第一考场",{"$f":"VLOOKUP(C:C,[1]sheet1!$E$1:$F$65536,2,FALSE)","v":2},{"$f":"VLOOKUP(H:H,[3]Sheet1!$A$5:$K$79,11,FALSE)","v":{"v":73.3333333333333,"d":"73.33"}},{"v":0.960797245607965,"d":"0.96"},{"v":70.4584646779174,"d":"70.46"}]
[219,"52003050016","梁运","5222291******62036","影像科影像技术技师","C05","第二考场",{"$f":"VLOOKUP(C:C,[2]sheet1!$E$1:$F$65536,2,FALSE)","v":104},{"$f":"VLOOKUP(H:H,[4]Sheet1!$A$5:$I$76,9,FALSE)","v":{"v":67,"d":"67.00"}},{"v":1.04253796519585,"d":"1.04"},{"v":69.8500436681219,"d":"69.85"}]
[150,"52003050029","陈松","5221271******96518","影像科影像技术技师","C05","第一考场",{"$f":"VLOOKUP(C:C,[1]sheet1!$E$1:$F$65536,2,FALSE)","v":46},{"$f":"VLOOKUP(H:H,[3]Sheet1!$A$5:$K$79,11,FALSE)","v":{"v":72.6666666666667,"d":"72.67"}},{"v":0.960797245607965,"d":"0.96"},{"v":69.8179331808455,"d":"69.82"}]
[200,"52003050251","王皓旭","5221271******8701X","影像科影像技术技师","C05","第二考场",{"$f":"VLOOKUP(C:C,[2]sheet1!$E$1:$F$65536,2,FALSE)","v":123},{"$f":"VLOOKUP(H:H,[4]Sheet1!$A$5:$I$76,9,FALSE)","v":{"v":66.6666666666667,"d":"66.67"}},{"v":1.04253796519585,"d":"1.04"},{"v":69.5025310130567,"d":"69.50"}]
[107,"52003050201","张琳琳","5221212******37049","影像科影像技术技师","C05","第一考场",{"$f":"VLOOKUP(C:C,[1]sheet1!$E$1:$F$65536,2,FALSE)","v":19},{"$f":"VLOOKUP(H:H,[3]Sheet1!$A$5:$K$79,11,FALSE)","v":{"v":72.3333333333333,"d":"72.33"}},{"v":0.960797245607965,"d":"0.96"},{"v":69.4976674323094,"d":"69.50"}]
[2,"52003050213","常国印","5321281******00636","影像科影像技术技师","C05","第一考场",{"$f":"VLOOKUP(C:C,[1]sheet1!$E$1:$F$65536,2,FALSE)","v":138},{"$f":"VLOOKUP(H:H,[3]Sheet1!$A$5:$K$79,11,FALSE)","v":{"v":72,"d":"72.00"}},{"v":0.960797245607965,"d":"0.96"},{"v":69.1774016837735,"d":"69.18"}]
[169,"52003050256","黄松","5222222******7042X","影像科影像技术技师","C05","第二考场",{"$f":"VLOOKUP(C:C,[2]sheet1!$E$1:$F$65536,2,FALSE)","v":107},{"$f":"VLOOKUP(H:H,[4]Sheet1!$A$5:$I$76,9,FALSE)","v":{"v":66.3333333333333,"d":"66.33"}},{"v":1.04253796519585,"d":"1.04"},{"v":69.1550183579914,"d":"69.16"}]
[275,"52003050271","刘继明","5222251******12830","影像科影像技术技师","C05","第二考场",{"$f":"VLOOKUP(C:C,[2]sheet1!$E$1:$F$65536,2,FALSE)","v":13},{"$f":"VLOOKUP(H:H,[4]Sheet1!$A$5:$I$76,9,FALSE)","v":{"v":66.3333333333333,"d":"66.33"}},{"v":1.04253796519585,"d":"1.04"},{"v":69.1550183579914,"d":"69.16"}]
[193,"52003050214","谷俊","5224271******10017","影像科影像技术技师","C05","第二考场",{"$f":"VLOOKUP(C:C,[2]sheet1!$E$1:$F$65536,2,FALSE)","v":34},{"$f":"VLOOKUP(H:H,[4]Sheet1!$A$5:$I$76,9,FALSE)","v":{"v":66,"d":"66.00"}},{"v":1.04253796519585,"d":"1.04"},{"v":68.8075057029261,"d":"68.81"}]
[166,"52003050028","邓柳","5224231******98965","影像科影像技术技师","C05","第二考场",{"$f":"VLOOKUP(C:C,[2]sheet1!$E$1:$F$65536,2,FALSE)","v":111},{"$f":"VLOOKUP(H:H,[4]Sheet1!$A$5:$I$76,9,FALSE)","v":{"v":65.6666666666667,"d":"65.67"}},{"v":1.04253796519585,"d":"1.04"},{"v":68.4599930478608,"d":"68.46"}]
[235,"52003050147","张智慧","5222271******12428","影像科影像技术技师","C05","第二考场",{"$f":"VLOOKUP(C:C,[2]sheet1!$E$1:$F$65536,2,FALSE)","v":110},{"$f":"VLOOKUP(H:H,[4]Sheet1!$A$5:$I$76,9,FALSE)","v":{"v":65.6666666666667,"d":"65.67"}},{"v":1.04253796519585,"d":"1.04"},{"v":68.4599930478608,"d":"68.46"}]
[259,"52003050292","任家乐","6228251******90014","影像科影像技术技师","C05","第二考场",{"$f":"VLOOKUP(C:C,[2]sheet1!$E$1:$F$65536,2,FALSE)","v":102},{"$f":"VLOOKUP(H:H,[4]Sheet1!$A$5:$I$76,9,FALSE)","v":{"v":65.6666666666667,"d":"65.67"}},{"v":1.04253796519585,"d":"1.04"},{"v":68.4599930478608,"d":"68.46"}]
[176,"52003050148","冯新亚","5221232******32019","影像科影像技术技师","C05","第二考场",{"$f":"VLOOKUP(C:C,[2]sheet1!$E$1:$F$65536,2,FALSE)","v":68},{"$f":"VLOOKUP(H:H,[4]Sheet1!$A$5:$I$76,9,FALSE)","v":{"v":65.3333333333333,"d":"65.33"}},{"v":1.04253796519585,"d":"1.04"},{"v":68.1124803927955,"d":"68.11"}]
[128,"52003050238","刘粤东","5223241******05615","影像科影像技术技师","C05","第一考场",{"$f":"VLOOKUP(C:C,[1]sheet1!$E$1:$F$65536,2,FALSE)","v":47},{"$f":"VLOOKUP(H:H,[3]Sheet1!$A$5:$K$79,11,FALSE)","v":{"v":70.6666666666667,"d":"70.67"}},{"v":0.960797245607965,"d":"0.96"},{"v":67.8963386896296,"d":"67.90"}]
[220,"52003050293","李旭东","5221261******81016","影像科影像技术技师","C05","第二考场",{"$f":"VLOOKUP(C:C,[2]sheet1!$E$1:$F$65536,2,FALSE)","v":40},{"$f":"VLOOKUP(H:H,[4]Sheet1!$A$5:$I$76,9,FALSE)","v":{"v":64.6666666666667,"d":"64.67"}},{"v":1.04253796519585,"d":"1.04"},{"v":67.417455082665,"d":"67.42"}]
[156,"52003050229","尹尹","5201021******80828","影像科影像技术技师","C05","第二考场",{"$f":"VLOOKUP(C:C,[2]sheet1!$E$1:$F$65536,2,FALSE)","v":87},{"$f":"VLOOKUP(H:H,[4]Sheet1!$A$5:$I$76,9,FALSE)","v":{"v":63.6666666666667,"d":"63.67"}},{"v":1.04253796519585,"d":"1.04"},{"v":66.3749171174692,"d":"66.37"}]
[120,"52003050001","刘叶","5202011******04848","影像科影像技术技师","C05","第一考场",{"$f":"VLOOKUP(C:C,[1]sheet1!$E$1:$F$65536,2,FALSE)","v":28},{"$f":"VLOOKUP(H:H,[3]Sheet1!$A$5:$K$79,11,FALSE)","v":{"v":69,"d":"69.00"}},{"v":0.960797245607965,"d":"0.96"},{"v":66.2950099469496,"d":"66.30"}]
[154,"52003050277","王志明","5224262******82019","影像科影像技术技师","C05","第二考场",{"$f":"VLOOKUP(C:C,[2]sheet1!$E$1:$F$65536,2,FALSE)","v":81},{"$f":"VLOOKUP(H:H,[4]Sheet1!$A$5:$I$76,9,FALSE)","v":{"v":63.3333333333333,"d":"63.33"}},{"v":1.04253796519585,"d":"1.04"},{"v":66.0274044624038,"d":"66.03"}]
[96,"52003050093","吴泓霖","5227011******80712","影像科影像技术技师","C05","第一考场",{"$f":"VLOOKUP(C:C,[1]sheet1!$E$1:$F$65536,2,FALSE)","v":103},{"$f":"VLOOKUP(H:H,[3]Sheet1!$A$5:$K$79,11,FALSE)","v":{"v":68.6666666666667,"d":"68.67"}},{"v":0.960797245607965,"d":"0.96"},{"$f":"J130*I130","v":{"v":65.9747441984136,"d":"65.97"}}]
[21,"52003050258","张中香","5221211******02622","影像科影像技术技师","C05","第一考场",{"$f":"VLOOKUP(C:C,[1]sheet1!$E$1:$F$65536,2,FALSE)","v":49},{"$f":"VLOOKUP(H:H,[3]Sheet1!$A$5:$K$79,11,FALSE)","v":{"v":68.6666666666667,"d":"68.67"}},{"v":0.960797245607965,"d":"0.96"},{"v":65.9747441984136,"d":"65.97"}]
[225,"52003050279","黄念","5223241******94828","影像科影像技术技师","C05","第二考场",{"$f":"VLOOKUP(C:C,[2]sheet1!$E$1:$F$65536,2,FALSE)","v":108},{"$f":"VLOOKUP(H:H,[4]Sheet1!$A$5:$I$76,9,FALSE)","v":{"v":63,"d":"63.00"}},{"v":1.04253796519585,"d":"1.04"},{"v":65.6798918073385,"d":"65.68"}]
[111,"52003050048","文凯松","5222292******9001X","影像科影像技术技师","C05","第一考场",{"$f":"VLOOKUP(C:C,[1]sheet1!$E$1:$F$65536,2,FALSE)","v":1},{"$f":"VLOOKUP(H:H,[3]Sheet1!$A$5:$K$79,11,FALSE)","v":{"v":68.3333333333333,"d":"68.33"}},{"v":0.960797245607965,"d":"0.96"},{"v":65.6544784498776,"d":"65.65"}]
[121,"52003050272","王丽钦","5224242******11228","影像科影像技术技师","C05","第一考场",{"$f":"VLOOKUP(C:C,[1]sheet1!$E$1:$F$65536,2,FALSE)","v":48},{"$f":"VLOOKUP(H:H,[3]Sheet1!$A$5:$K$79,11,FALSE)","v":{"v":67.6666666666667,"d":"67.67"}},{"v":0.960797245607965,"d":"0.96"},{"v":65.0139469528057,"d":"65.01"}]
[185,"52003050219","王鑫","5130221******85178","影像科影像技术技师","C05","第二考场",{"$f":"VLOOKUP(C:C,[2]sheet1!$E$1:$F$65536,2,FALSE)","v":2},{"$f":"VLOOKUP(H:H,[4]Sheet1!$A$5:$I$76,9,FALSE)","v":{"v":62.3333333333333,"d":"62.33"}},{"v":1.04253796519585,"d":"1.04"},{"v":64.9848664972079,"d":"64.98"}]
[211,"52003050012","任小莉","5221271******96528","影像科影像技术技师","C05","第二考场",{"$f":"VLOOKUP(C:C,[2]sheet1!$E$1:$F$65536,2,FALSE)","v":32},{"$f":"VLOOKUP(H:H,[4]Sheet1!$A$5:$I$76,9,FALSE)","v":{"v":62.3333333333333,"d":"62.33"}},{"v":1.04253796519585,"d":"1.04"},{"v":64.9848664972079,"d":"64.98"}]
[177,"52003050164","娄阁琳","5221221******53627","影像科影像技术技师","C05","第二考场",{"$f":"VLOOKUP(C:C,[2]sheet1!$E$1:$F$65536,2,FALSE)","v":31},{"$f":"VLOOKUP(H:H,[4]Sheet1!$A$5:$I$76,9,FALSE)","v":{"v":62,"d":"62.00"}},{"v":1.04253796519585,"d":"1.04"},{"v":64.6373538421427,"d":"64.64"}]
[199,"52003050053","王锐","5303241******51718","影像科影像技术技师","C05","第二考场",{"$f":"VLOOKUP(C:C,[2]sheet1!$E$1:$F$65536,2,FALSE)","v":49},{"$f":"VLOOKUP(H:H,[4]Sheet1!$A$5:$I$76,9,FALSE)","v":{"v":62,"d":"62.00"}},{"v":1.04253796519585,"d":"1.04"},{"v":64.6373538421427,"d":"64.64"}]
[255,"52003050096","田鑫","5201212******33416","影像科影像技术技师","C05","第二考场",{"$f":"VLOOKUP(C:C,[2]sheet1!$E$1:$F$65536,2,FALSE)","v":70},{"$f":"VLOOKUP(H:H,[4]Sheet1!$A$5:$I$76,9,FALSE)","v":{"v":61.6666666666667,"d":"61.67"}},{"v":1.04253796519585,"d":"1.04"},{"v":64.2898411870774,"d":"64.29"}]
[280,"52003050051","莫文明","5226361******71419","影像科影像技术技师","C05","第二考场",{"$f":"VLOOKUP(C:C,[2]sheet1!$E$1:$F$65536,2,FALSE)","v":26},{"$f":"VLOOKUP(H:H,[4]Sheet1!$A$5:$I$76,9,FALSE)","v":{"v":61.6666666666667,"d":"61.67"}},{"v":1.04253796519585,"d":"1.04"},{"v":64.2898411870774,"d":"64.29"}]
[17,"52003050127","彭绍海","5226292******44618","影像科影像技术技师","C05","第一考场",{"$f":"VLOOKUP(C:C,[1]sheet1!$E$1:$F$65536,2,FALSE)","v":31},{"$f":"VLOOKUP(H:H,[3]Sheet1!$A$5:$K$79,11,FALSE)","v":{"v":66.6666666666667,"d":"66.67"}},{"v":0.960797245607965,"d":"0.96"},{"v":64.0531497071977,"d":"64.05"}]
[49,"52003050268","佘贵远","5227281******81818","影像科影像技术技师","C05","第一考场",{"$f":"VLOOKUP(C:C,[1]sheet1!$E$1:$F$65536,2,FALSE)","v":67},{"$f":"VLOOKUP(H:H,[3]Sheet1!$A$5:$K$79,11,FALSE)","v":{"v":66.3333333333333,"d":"66.33"}},{"v":0.960797245607965,"d":"0.96"},{"v":63.7328839586616,"d":"63.73"}]
[216,"52003050308","谢明珺","5201031******8161X","影像科影像技术技师","C05","第二考场",{"$f":"VLOOKUP(C:C,[2]sheet1!$E$1:$F$65536,2,FALSE)","v":36},{"$f":"VLOOKUP(H:H,[4]Sheet1!$A$5:$I$76,9,FALSE)","v":{"v":60.6666666666667,"d":"60.67"}},{"v":1.04253796519585,"d":"1.04"},{"v":63.2473032218816,"d":"63.25"}]
[221,"52003050025","吴洁","5002331******42628","影像科影像技术技师","C05","第二考场",{"$f":"VLOOKUP(C:C,[2]sheet1!$E$1:$F$65536,2,FALSE)","v":51},{"$f":"VLOOKUP(H:H,[4]Sheet1!$A$5:$I$76,9,FALSE)","v":{"v":60.6666666666667,"d":"60.67"}},{"v":1.04253796519585,"d":"1.04"},{"v":63.2473032218816,"d":"63.25"}]
[253,"52003050170","甘健","5224281******44634","影像科影像技术技师","C05","第二考场",{"$f":"VLOOKUP(C:C,[2]sheet1!$E$1:$F$65536,2,FALSE)","v":88},{"$f":"VLOOKUP(H:H,[4]Sheet1!$A$5:$I$76,9,FALSE)","v":{"v":60.6666666666667,"d":"60.67"}},{"v":1.04253796519585,"d":"1.04"},{"v":63.2473032218816,"d":"63.25"}]
[244,"52003050047","丁少兰","5226222******12520","影像科影像技术技师","C05","第二考场",{"$f":"VLOOKUP(C:C,[2]sheet1!$E$1:$F$65536,2,FALSE)","v":50},{"$f":"VLOOKUP(H:H,[4]Sheet1!$A$5:$I$76,9,FALSE)","v":{"v":60,"d":"60.00"}},{"v":1.04253796519585,"d":"1.04"},{"v":62.552277911751,"d":"62.55"}]
[141,"52003050282","吴昊","5202211******63478","影像科影像技术技师","C05","第一考场",{"$f":"VLOOKUP(C:C,[1]sheet1!$E$1:$F$65536,2,FALSE)","v":36},{"$f":"VLOOKUP(H:H,[3]Sheet1!$A$5:$K$79,11,FALSE)","v":{"v":64.3333333333333,"d":"64.33"}},{"v":0.960797245607965,"d":"0.96"},{"v":61.8112894674457,"d":"61.81"}]
[76,"52003050162","肖丹","5202021******43222","影像科影像技术技师","C05","第一考场",{"$f":"VLOOKUP(C:C,[1]sheet1!$E$1:$F$65536,2,FALSE)","v":86},{"$f":"VLOOKUP(H:H,[3]Sheet1!$A$5:$K$79,11,FALSE)","v":{"v":62.3333333333333,"d":"62.33"}},{"v":0.960797245607965,"d":"0.96"},{"v":59.8896949762298,"d":"59.89"}]
[1,"52003050140","邓聪颖","5221281******0351X","影像科影像技术技师","C05","第一考场",{"$f":"VLOOKUP(C:C,[1]sheet1!$E$1:$F$65536,2,FALSE)","v":21},"缺考","缺考","缺考"]
[5,"52003050154","韦国电","5223261******60415","影像科影像技术技师","C05","第一考场",{"$f":"VLOOKUP(C:C,[1]sheet1!$E$1:$F$65536,2,FALSE)","v":80},"缺考","缺考","缺考"]
[6,"52003050124","李俊洁","5329011******54927","影像科影像技术技师","C05","第一考场",{"$f":"VLOOKUP(C:C,[1]sheet1!$E$1:$F$65536,2,FALSE)","v":65},"缺考","缺考","缺考"]
[8,"52003050011","周兰","5224221******00125","影像科影像技术技师","C05","第一考场",{"$f":"VLOOKUP(C:C,[1]sheet1!$E$1:$F$65536,2,FALSE)","v":106},"缺考","缺考","缺考"]
[9,"52003050186","任龙肖","5221242******12420","影像科影像技术技师","C05","第一考场",{"$f":"VLOOKUP(C:C,[1]sheet1!$E$1:$F$65536,2,FALSE)","v":40},"缺考","缺考","缺考"]
[11,"52003050174","马东汉","5224271******11812","影像科影像技术技师","C05","第一考场",{"$f":"VLOOKUP(C:C,[1]sheet1!$E$1:$F$65536,2,FALSE)","v":26},"缺考","缺考","缺考"]
[12,"52003050195","朱卫","5224271******7764X","影像科影像技术技师","C05","第一考场",{"$f":"VLOOKUP(C:C,[1]sheet1!$E$1:$F$65536,2,FALSE)","v":124},"缺考","缺考","缺考"]
[14,"52003050066","李玲琳","5224251******85425","影像科影像技术技师","C05","第一考场",{"$f":"VLOOKUP(C:C,[1]sheet1!$E$1:$F$65536,2,FALSE)","v":98},"缺考","缺考","缺考"]
[15,"52003050217","龚玉霞","5222221******00866","影像科影像技术技师","C05","第一考场",{"$f":"VLOOKUP(C:C,[1]sheet1!$E$1:$F$65536,2,FALSE)","v":61},"缺考","缺考","缺考"]
[16,"52003050095","尚玉凤","5201212******73820","影像科影像技术技师","C05","第一考场",{"$f":"VLOOKUP(C:C,[1]sheet1!$E$1:$F$65536,2,FALSE)","v":132},"缺考","缺考","缺考"]
[19,"52003050042","周小洪","5201812******1481X","影像科影像技术技师","C05","第一考场",{"$f":"VLOOKUP(C:C,[1]sheet1!$E$1:$F$65536,2,FALSE)","v":53},"缺考","缺考","缺考"]
[20,"52003050144","庄甜甜","5225011******77364","影像科影像技术技师","C05","第一考场",{"$f":"VLOOKUP(C:C,[1]sheet1!$E$1:$F$65536,2,FALSE)","v":45},"缺考","缺考","缺考"]
[22,"52003050179","杨金燕","5221211******57827","影像科影像技术技师","C05","第一考场",{"$f":"VLOOKUP(C:C,[1]sheet1!$E$1:$F$65536,2,FALSE)","v":20},"缺考","缺考","缺考"]
[24,"52003050274","钱梦思","5224221******01829","影像科影像技术技师","C05","第一考场",{"$f":"VLOOKUP(C:C,[1]sheet1!$E$1:$F$65536,2,FALSE)","v":16},"缺考","缺考","缺考"]
[25,"52003050022","郑焜","5221211******73052","影像科影像技术技师","C05","第一考场",{"$f":"VLOOKUP(C:C,[1]sheet1!$E$1:$F$65536,2,FALSE)","v":101},"缺考","缺考","缺考"]
[27,"52003050105","李奇","5221271******17539","影像科影像技术技师","C05","第一考场",{"$f":"VLOOKUP(C:C,[1]sheet1!$E$1:$F$65536,2,FALSE)","v":83},"缺考","缺考","缺考"]
[28,"52003050216","岳卫东","5221241******72813","影像科影像技术技师","C05","第一考场",{"$f":"VLOOKUP(C:C,[1]sheet1!$E$1:$F$65536,2,FALSE)","v":85},"缺考","缺考","缺考"]
[30,"52003050309","罗娅娟","5303221******72829","影像科影像技术技师","C05","第一考场",{"$f":"VLOOKUP(C:C,[1]sheet1!$E$1:$F$65536,2,FALSE)","v":57},"缺考","缺考","缺考"]
[32,"52003050285","袁丽","5321302******22146","影像科影像技术技师","C05","第一考场",{"$f":"VLOOKUP(C:C,[1]sheet1!$E$1:$F$65536,2,FALSE)","v":119},"缺考","缺考","缺考"]
[33,"52003050312","聂昌林","5221301******52493","影像科影像技术技师","C05","第一考场",{"$f":"VLOOKUP(C:C,[1]sheet1!$E$1:$F$65536,2,FALSE)","v":109},"缺考","缺考","缺考"]
[34,"52003050082","刘艳","5224011******61520","影像科影像技术技师","C05","第一考场",{"$f":"VLOOKUP(C:C,[1]sheet1!$E$1:$F$65536,2,FALSE)","v":131},"缺考","缺考","缺考"]
[36,"52003050083","冷琴","5221271******12021","影像科影像技术技师","C05","第一考场",{"$f":"VLOOKUP(C:C,[1]sheet1!$E$1:$F$65536,2,FALSE)","v":13},"缺考","缺考","缺考"]
[39,"52003050156","卢永灿","5201212******70046","影像科影像技术技师","C05","第一考场",{"$f":"VLOOKUP(C:C,[1]sheet1!$E$1:$F$65536,2,FALSE)","v":147},"缺考","缺考","缺考"]
[40,"52003050249","何炎雪","5221211******0582X","影像科影像技术技师","C05","第一考场",{"$f":"VLOOKUP(C:C,[1]sheet1!$E$1:$F$65536,2,FALSE)","v":127},"缺考","缺考","缺考"]
[41,"52003050233","杨光英","5226221******31020","影像科影像技术技师","C05","第一考场",{"$f":"VLOOKUP(C:C,[1]sheet1!$E$1:$F$65536,2,FALSE)","v":10},"缺考","缺考","缺考"]
[43,"52003050004","张正林","5221321******3003X","影像科影像技术技师","C05","第一考场",{"$f":"VLOOKUP(C:C,[1]sheet1!$E$1:$F$65536,2,FALSE)","v":84},"缺考","缺考","缺考"]
[45,"52003050104","张萌","5304222******8034X","影像科影像技术技师","C05","第一考场",{"$f":"VLOOKUP(C:C,[1]sheet1!$E$1:$F$65536,2,FALSE)","v":8},"缺考","缺考","缺考"]
[46,"52003050160","王丽","5202021******08620","影像科影像技术技师","C05","第一考场",{"$f":"VLOOKUP(C:C,[1]sheet1!$E$1:$F$65536,2,FALSE)","v":114},"缺考","缺考","缺考"]
[47,"52003050232","蒋怀森","5226282******70418","影像科影像技术技师","C05","第一考场",{"$f":"VLOOKUP(C:C,[1]sheet1!$E$1:$F$65536,2,FALSE)","v":113},"缺考","缺考","缺考"]
[50,"52003050311","赵兵","5221271******42537","影像科影像技术技师","C05","第一考场",{"$f":"VLOOKUP(C:C,[1]sheet1!$E$1:$F$65536,2,FALSE)","v":70},"缺考","缺考","缺考"]
[52,"52003050133","李超","5321011******61658","影像科影像技术技师","C05","第一考场",{"$f":"VLOOKUP(C:C,[1]sheet1!$E$1:$F$65536,2,FALSE)","v":110},"缺考","缺考","缺考"]
[54,"52003050203","陶学美","5227251******95527","影像科影像技术技师","C05","第一考场",{"$f":"VLOOKUP(C:C,[1]sheet1!$E$1:$F$65536,2,FALSE)","v":3},"缺考","缺考","缺考"]
[55,"52003050287","王璐燕","5226332******90022","影像科影像技术技师","C05","第一考场",{"$f":"VLOOKUP(C:C,[1]sheet1!$E$1:$F$65536,2,FALSE)","v":102},"缺考","缺考","缺考"]
[57,"52003050013","王吉美","5223251******72449","影像科影像技术技师","C05","第一考场",{"$f":"VLOOKUP(C:C,[1]sheet1!$E$1:$F$65536,2,FALSE)","v":95},"缺考","缺考","缺考"]
[59,"52003050032","赵玲","5224232******81921","影像科影像技术技师","C05","第一考场",{"$f":"VLOOKUP(C:C,[1]sheet1!$E$1:$F$65536,2,FALSE)","v":78},"缺考","缺考","缺考"]
[60,"52003050278","张丽","5306232******10028","影像科影像技术技师","C05","第一考场",{"$f":"VLOOKUP(C:C,[1]sheet1!$E$1:$F$65536,2,FALSE)","v":121},"缺考","缺考","缺考"]
[62,"52003050132","吴秋池","5222212******74626","影像科影像技术技师","C05","第一考场",{"$f":"VLOOKUP(C:C,[1]sheet1!$E$1:$F$65536,2,FALSE)","v":149},"缺考","缺考","缺考"]
[65,"52003050094","杨坪","5224252******33911","影像科影像技术技师","C05","第一考场",{"$f":"VLOOKUP(C:C,[1]sheet1!$E$1:$F$65536,2,FALSE)","v":60},"缺考","缺考","缺考"]
[66,"52003050200","漆梅吉","5224232******39342","影像科影像技术技师","C05","第一考场",{"$f":"VLOOKUP(C:C,[1]sheet1!$E$1:$F$65536,2,FALSE)","v":136},"缺考","缺考","缺考"]
[71,"52003050073","杨树林","5221261******51519","影像科影像技术技师","C05","第一考场",{"$f":"VLOOKUP(C:C,[1]sheet1!$E$1:$F$65536,2,FALSE)","v":24},"缺考","缺考","缺考"]
[80,"52003050241","李娜","5201212******50020","影像科影像技术技师","C05","第一考场",{"$f":"VLOOKUP(C:C,[1]sheet1!$E$1:$F$65536,2,FALSE)","v":72},"缺考","缺考","缺考"]
[81,"52003050196","王定弦","5221211******22232","影像科影像技术技师","C05","第一考场",{"$f":"VLOOKUP(C:C,[1]sheet1!$E$1:$F$65536,2,FALSE)","v":134},"缺考","缺考","缺考"]
[83,"52003050239","代凯","5224251******42478","影像科影像技术技师","C05","第一考场",{"$f":"VLOOKUP(C:C,[1]sheet1!$E$1:$F$65536,2,FALSE)","v":27},"缺考","缺考","缺考"]
[84,"52003050191","田玲莉","5222291******64820","影像科影像技术技师","C05","第一考场",{"$f":"VLOOKUP(C:C,[1]sheet1!$E$1:$F$65536,2,FALSE)","v":92},"缺考","缺考","缺考"]
[85,"52003050123","张川兰","5306291******21964","影像科影像技术技师","C05","第一考场",{"$f":"VLOOKUP(C:C,[1]sheet1!$E$1:$F$65536,2,FALSE)","v":75},"缺考","缺考","缺考"]
[86,"52003050300","周小愈","5227251******35822","影像科影像技术技师","C05","第一考场",{"$f":"VLOOKUP(C:C,[1]sheet1!$E$1:$F$65536,2,FALSE)","v":116},"缺考","缺考","缺考"]
[89,"52003050116","陈三","5202021******92847","影像科影像技术技师","C05","第一考场",{"$f":"VLOOKUP(C:C,[1]sheet1!$E$1:$F$65536,2,FALSE)","v":81},"缺考","缺考","缺考"]
[90,"52003050205","魏娟","5224221******81429","影像科影像技术技师","C05","第一考场",{"$f":"VLOOKUP(C:C,[1]sheet1!$E$1:$F$65536,2,FALSE)","v":130},"缺考","缺考","缺考"]
[91,"52003050076","陈华建","5226221******83517","影像科影像技术技师","C05","第一考场",{"$f":"VLOOKUP(C:C,[1]sheet1!$E$1:$F$65536,2,FALSE)","v":89},"缺考","缺考","缺考"]
[97,"52003050180","苏娟","5110231******36028","影像科影像技术技师","C05","第一考场",{"$f":"VLOOKUP(C:C,[1]sheet1!$E$1:$F$65536,2,FALSE)","v":90},"缺考","缺考","缺考"]
[102,"52003050280","向焱华","5203241******32817","影像科影像技术技师","C05","第一考场",{"$f":"VLOOKUP(C:C,[1]sheet1!$E$1:$F$65536,2,FALSE)","v":62},"缺考","缺考","缺考"]
[106,"52003050206","孙雨倩","5224012******27623","影像科影像技术技师","C05","第一考场",{"$f":"VLOOKUP(C:C,[1]sheet1!$E$1:$F$65536,2,FALSE)","v":9},"缺考","缺考","缺考"]
[108,"52003050081","李中梅","5221211******90447","影像科影像技术技师","C05","第一考场",{"$f":"VLOOKUP(C:C,[1]sheet1!$E$1:$F$65536,2,FALSE)","v":143},"缺考","缺考","缺考"]
[112,"52003050231","田茂琴","5221262******2552X","影像科影像技术技师","C05","第一考场",{"$f":"VLOOKUP(C:C,[1]sheet1!$E$1:$F$65536,2,FALSE)","v":12},"缺考","缺考","缺考"]
[115,"52003050064","徐岑","5221221******17047","影像科影像技术技师","C05","第一考场",{"$f":"VLOOKUP(C:C,[1]sheet1!$E$1:$F$65536,2,FALSE)","v":30},"缺考","缺考","缺考"]
[116,"52003050259","潘满","5224251******93081","影像科影像技术技师","C05","第一考场",{"$f":"VLOOKUP(C:C,[1]sheet1!$E$1:$F$65536,2,FALSE)","v":63},"缺考","缺考","缺考"]
[117,"52003050065","罗登玲","5224281******80229","影像科影像技术技师","C05","第一考场",{"$f":"VLOOKUP(C:C,[1]sheet1!$E$1:$F$65536,2,FALSE)","v":51},"缺考","缺考","缺考"]
[119,"52003050091","吴杨","5222302******20016","影像科影像技术技师","C05","第一考场",{"$f":"VLOOKUP(C:C,[1]sheet1!$E$1:$F$65536,2,FALSE)","v":39},"缺考","缺考","缺考"]
[122,"52003050221","唐超","5221271******23036","影像科影像技术技师","C05","第一考场",{"$f":"VLOOKUP(C:C,[1]sheet1!$E$1:$F$65536,2,FALSE)","v":118},"缺考","缺考","缺考"]
[123,"52003050074","欧美君","5113221******17108","影像科影像技术技师","C05","第一考场",{"$f":"VLOOKUP(C:C,[1]sheet1!$E$1:$F$65536,2,FALSE)","v":133},"缺考","缺考","缺考"]
[125,"52003050099","刘吉娣","5222291******80423","影像科影像技术技师","C05","第一考场",{"$f":"VLOOKUP(C:C,[1]sheet1!$E$1:$F$65536,2,FALSE)","v":41},"缺考","缺考","缺考"]
[127,"52003050018","陈旺","5222281******33836","影像科影像技术技师","C05","第一考场",{"$f":"VLOOKUP(C:C,[1]sheet1!$E$1:$F$65536,2,FALSE)","v":18},"缺考","缺考","缺考"]
[130,"52003050288","蒙新照","5227222******10012","影像科影像技术技师","C05","第一考场",{"$f":"VLOOKUP(C:C,[1]sheet1!$E$1:$F$65536,2,FALSE)","v":96},"缺考","缺考","缺考"]
[131,"52003050303","陈玉环","5221271******83048","影像科影像技术技师","C05","第一考场",{"$f":"VLOOKUP(C:C,[1]sheet1!$E$1:$F$65536,2,FALSE)","v":38},"缺考","缺考","缺考"]
[132,"52003050143","安珊","5224221******73486","影像科影像技术技师","C05","第一考场",{"$f":"VLOOKUP(C:C,[1]sheet1!$E$1:$F$65536,2,FALSE)","v":17},"缺考","缺考","缺考"]
[133,"52003050187","何胤宏","5221241******0083X","影像科影像技术技师","C05","第一考场",{"$f":"VLOOKUP(C:C,[1]sheet1!$E$1:$F$65536,2,FALSE)","v":29},"缺考","缺考","缺考"]
[134,"52003050261","白辉艳","5202031******61429","影像科影像技术技师","C05","第一考场",{"$f":"VLOOKUP(C:C,[1]sheet1!$E$1:$F$65536,2,FALSE)","v":99},"缺考","缺考","缺考"]
[135,"52003050128","孙严美","5224271******14220","影像科影像技术技师","C05","第一考场",{"$f":"VLOOKUP(C:C,[1]sheet1!$E$1:$F$65536,2,FALSE)","v":94},"缺考","缺考","缺考"]
[136,"52003050266","何向飘","5221301******82018","影像科影像技术技师","C05","第一考场",{"$f":"VLOOKUP(C:C,[1]sheet1!$E$1:$F$65536,2,FALSE)","v":56},"缺考","缺考","缺考"]
[137,"52003050122","吴娜娜","5222251******88725","影像科影像技术技师","C05","第一考场",{"$f":"VLOOKUP(C:C,[1]sheet1!$E$1:$F$65536,2,FALSE)","v":22},"缺考","缺考","缺考"]
[138,"52003050316","陈秀文","5221231******21109","影像科影像技术技师","C05","第一考场",{"$f":"VLOOKUP(C:C,[1]sheet1!$E$1:$F$65536,2,FALSE)","v":76},"缺考","缺考","缺考"]
[140,"52003050046","唐丽","5224011******56629","影像科影像技术技师","C05","第一考场",{"$f":"VLOOKUP(C:C,[1]sheet1!$E$1:$F$65536,2,FALSE)","v":43},"缺考","缺考","缺考"]
[142,"52003050155","张旭","5224241******00062","影像科影像技术技师","C05","第一考场",{"$f":"VLOOKUP(C:C,[1]sheet1!$E$1:$F$65536,2,FALSE)","v":23},"缺考","缺考","缺考"]
[146,"52003050192","龚学仙","5301292******62561","影像科影像技术技师","C05","第一考场",{"$f":"VLOOKUP(C:C,[1]sheet1!$E$1:$F$65536,2,FALSE)","v":58},"缺考","缺考","缺考"]
[148,"52003050193","杨倩","5226291******54620","影像科影像技术技师","C05","第一考场",{"$f":"VLOOKUP(C:C,[1]sheet1!$E$1:$F$65536,2,FALSE)","v":34},"缺考","缺考","缺考"]
[151,"52003050226","朱港","5224281******90818","影像科影像技术技师","C05","第二考场",{"$f":"VLOOKUP(C:C,[2]sheet1!$E$1:$F$65536,2,FALSE)","v":82},"缺考","缺考","缺考"]
[152,"52003050310","余倩倩","6124271******00043","影像科影像技术技师","C05","第二考场",{"$f":"VLOOKUP(C:C,[2]sheet1!$E$1:$F$65536,2,FALSE)","v":41},"缺考","缺考","缺考"]
[153,"52003050240","龚雪","5202032******10225","影像科影像技术技师","C05","第二考场",{"$f":"VLOOKUP(C:C,[2]sheet1!$E$1:$F$65536,2,FALSE)","v":16},"缺考","缺考","缺考"]
[155,"52003050257","颜德丽","5227021******02507","影像科影像技术技师","C05","第二考场",{"$f":"VLOOKUP(C:C,[2]sheet1!$E$1:$F$65536,2,FALSE)","v":54},"缺考","缺考","缺考"]
[158,"52003050273","向明耀","5227261******63518","影像科影像技术技师","C05","第二考场",{"$f":"VLOOKUP(C:C,[2]sheet1!$E$1:$F$65536,2,FALSE)","v":27},"缺考","缺考","缺考"]
[161,"52003050108","申万维","5221301******42040","影像科影像技术技师","C05","第二考场",{"$f":"VLOOKUP(C:C,[2]sheet1!$E$1:$F$65536,2,FALSE)","v":115},"缺考","缺考","缺考"]
[163,"52003050103","邓其艳","5221271******85520","影像科影像技术技师","C05","第二考场",{"$f":"VLOOKUP(C:C,[2]sheet1!$E$1:$F$65536,2,FALSE)","v":4},"缺考","缺考","缺考"]
[165,"52003050036","吴连凤","5222271******3164X","影像科影像技术技师","C05","第二考场",{"$f":"VLOOKUP(C:C,[2]sheet1!$E$1:$F$65536,2,FALSE)","v":119},"缺考","缺考","缺考"]
[168,"52003050284","张晏滔","5224241******50029","影像科影像技术技师","C05","第二考场",{"$f":"VLOOKUP(C:C,[2]sheet1!$E$1:$F$65536,2,FALSE)","v":128},"缺考","缺考","缺考"]
[170,"52003050270","唐友杰","5201121******70011","影像科影像技术技师","C05","第二考场",{"$f":"VLOOKUP(C:C,[2]sheet1!$E$1:$F$65536,2,FALSE)","v":38},"缺考","缺考","缺考"]
[172,"52003050246","宰青梅","5224271******83286","影像科影像技术技师","C05","第二考场",{"$f":"VLOOKUP(C:C,[2]sheet1!$E$1:$F$65536,2,FALSE)","v":65},"缺考","缺考","缺考"]
[175,"52003050281","彭霄","5224011******80134","影像科影像技术技师","C05","第二考场",{"$f":"VLOOKUP(C:C,[2]sheet1!$E$1:$F$65536,2,FALSE)","v":97},"缺考","缺考","缺考"]
[178,"52003050034","马飞龙","5224271******81613","影像科影像技术技师","C05","第二考场",{"$f":"VLOOKUP(C:C,[2]sheet1!$E$1:$F$65536,2,FALSE)","v":21},"缺考","缺考","缺考"]
[180,"52003050063","陈妍","5221271******73024","影像科影像技术技师","C05","第二考场",{"$f":"VLOOKUP(C:C,[2]sheet1!$E$1:$F$65536,2,FALSE)","v":135},"缺考","缺考","缺考"]
[183,"52003050026","刘顺尧","5225272******10011","影像科影像技术技师","C05","第二考场",{"$f":"VLOOKUP(C:C,[2]sheet1!$E$1:$F$65536,2,FALSE)","v":138},"缺考","缺考","缺考"]
[186,"52003050117","郭加发","5224252******39331","影像科影像技术技师","C05","第二考场",{"$f":"VLOOKUP(C:C,[2]sheet1!$E$1:$F$65536,2,FALSE)","v":64},"缺考","缺考","缺考"]
[187,"52003050041","杨涛","5201232******44417","影像科影像技术技师","C05","第二考场",{"$f":"VLOOKUP(C:C,[2]sheet1!$E$1:$F$65536,2,FALSE)","v":131},"缺考","缺考","缺考"]
[189,"52003050230","孟宪安","5227261******10015","影像科影像技术技师","C05","第二考场",{"$f":"VLOOKUP(C:C,[2]sheet1!$E$1:$F$65536,2,FALSE)","v":37},"缺考","缺考","缺考"]
[190,"52003050269","翟镜","5224262******63231","影像科影像技术技师","C05","第二考场",{"$f":"VLOOKUP(C:C,[2]sheet1!$E$1:$F$65536,2,FALSE)","v":24},"缺考","缺考","缺考"]
[191,"52003050286","曹路情","5224271******02842","影像科影像技术技师","C05","第二考场",{"$f":"VLOOKUP(C:C,[2]sheet1!$E$1:$F$65536,2,FALSE)","v":66},"缺考","缺考","缺考"]
[192,"52003050126","万媛媛","5221011******25227","影像科影像技术技师","C05","第二考场",{"$f":"VLOOKUP(C:C,[2]sheet1!$E$1:$F$65536,2,FALSE)","v":89},"缺考","缺考","缺考"]
[194,"52003050086","徐国华","5323312******13422","影像科影像技术技师","C05","第二考场",{"$f":"VLOOKUP(C:C,[2]sheet1!$E$1:$F$65536,2,FALSE)","v":25},"缺考","缺考","缺考"]
[195,"52003050222","王诗语","5201211******97221","影像科影像技术技师","C05","第二考场",{"$f":"VLOOKUP(C:C,[2]sheet1!$E$1:$F$65536,2,FALSE)","v":134},"缺考","缺考","缺考"]
[196,"52003050290","李艳阳","5226341******50021","影像科影像技术技师","C05","第二考场",{"$f":"VLOOKUP(C:C,[2]sheet1!$E$1:$F$65536,2,FALSE)","v":118},"缺考","缺考","缺考"]
[198,"52003050049","梁丹聃","5221211******87668","影像科影像技术技师","C05","第二考场",{"$f":"VLOOKUP(C:C,[2]sheet1!$E$1:$F$65536,2,FALSE)","v":19},"缺考","缺考","缺考"]
[202,"52003050150","李秋丽","5203822******29821","影像科影像技术技师","C05","第二考场",{"$f":"VLOOKUP(C:C,[2]sheet1!$E$1:$F$65536,2,FALSE)","v":122},"缺考","缺考","缺考"]
[203,"52003050040","袁婷","5201811******33620","影像科影像技术技师","C05","第二考场",{"$f":"VLOOKUP(C:C,[2]sheet1!$E$1:$F$65536,2,FALSE)","v":94},"缺考","缺考","缺考"]
[207,"52003050262","李晨然","5221281******30020","影像科影像技术技师","C05","第二考场",{"$f":"VLOOKUP(C:C,[2]sheet1!$E$1:$F$65536,2,FALSE)","v":44},"缺考","缺考","缺考"]
[208,"52003050254","马学敏","5222251******05425","影像科影像技术技师","C05","第二考场",{"$f":"VLOOKUP(C:C,[2]sheet1!$E$1:$F$65536,2,FALSE)","v":30},"缺考","缺考","缺考"]
[210,"52003050134","高菲菲","5222251******90101","影像科影像技术技师","C05","第二考场",{"$f":"VLOOKUP(C:C,[2]sheet1!$E$1:$F$65536,2,FALSE)","v":114},"缺考","缺考","缺考"]
[212,"52003050252","邓丕鑫","5227241******11831","影像科影像技术技师","C05","第二考场",{"$f":"VLOOKUP(C:C,[2]sheet1!$E$1:$F$65536,2,FALSE)","v":23},"缺考","缺考","缺考"]
[213,"52003050253","刘传渤","5201811******81315","影像科影像技术技师","C05","第二考场",{"$f":"VLOOKUP(C:C,[2]sheet1!$E$1:$F$65536,2,FALSE)","v":93},"缺考","缺考","缺考"]
[214,"52003050198","李大由","5221012******96019","影像科影像技术技师","C05","第二考场",{"$f":"VLOOKUP(C:C,[2]sheet1!$E$1:$F$65536,2,FALSE)","v":35},"缺考","缺考","缺考"]
[215,"52003050072","涂梦婉","5226241******30029","影像科影像技术技师","C05","第二考场",{"$f":"VLOOKUP(C:C,[2]sheet1!$E$1:$F$65536,2,FALSE)","v":69},"缺考","缺考","缺考"]
[217,"52003050305","谢乙冰","5224521******23024","影像科影像技术技师","C05","第二考场",{"$f":"VLOOKUP(C:C,[2]sheet1!$E$1:$F$65536,2,FALSE)","v":10},"缺考","缺考","缺考"]
[218,"52003050137","吴举","5224011******51279","影像科影像技术技师","C05","第二考场",{"$f":"VLOOKUP(C:C,[2]sheet1!$E$1:$F$65536,2,FALSE)","v":95},"缺考","缺考","缺考"]
[222,"52003050299","杨凤霞","5226271******25621","影像科影像技术技师","C05","第二考场",{"$f":"VLOOKUP(C:C,[2]sheet1!$E$1:$F$65536,2,FALSE)","v":42},"缺考","缺考","缺考"]
[224,"52003050242","周漫洁","4312292******6284X","影像科影像技术技师","C05","第二考场",{"$f":"VLOOKUP(C:C,[2]sheet1!$E$1:$F$65536,2,FALSE)","v":45},"缺考","缺考","缺考"]
[228,"52003050161","徐转红","5222251******82104","影像科影像技术技师","C05","第二考场",{"$f":"VLOOKUP(C:C,[2]sheet1!$E$1:$F$65536,2,FALSE)","v":53},"缺考","缺考","缺考"]
[229,"52003050296","王琴","5224261******67885","影像科影像技术技师","C05","第二考场",{"$f":"VLOOKUP(C:C,[2]sheet1!$E$1:$F$65536,2,FALSE)","v":59},"缺考","缺考","缺考"]
[230,"52003050075","徐钟超","5226282******5581X","影像科影像技术技师","C05","第二考场",{"$f":"VLOOKUP(C:C,[2]sheet1!$E$1:$F$65536,2,FALSE)","v":73},"缺考","缺考","缺考"]
[232,"52003050314","肖越","5002271******35726","影像科影像技术技师","C05","第二考场",{"$f":"VLOOKUP(C:C,[2]sheet1!$E$1:$F$65536,2,FALSE)","v":76},"缺考","缺考","缺考"]
[234,"52003050079","田克梅","5221271******55024","影像科影像技术技师","C05","第二考场",{"$f":"VLOOKUP(C:C,[2]sheet1!$E$1:$F$65536,2,FALSE)","v":6},"缺考","缺考","缺考"]
[236,"52003050283","卢国军","5224281******64016","影像科影像技术技师","C05","第二考场",{"$f":"VLOOKUP(C:C,[2]sheet1!$E$1:$F$65536,2,FALSE)","v":62},"缺考","缺考","缺考"]
[237,"52003050136","卢清敏","5227251******07847","影像科影像技术技师","C05","第二考场",{"$f":"VLOOKUP(C:C,[2]sheet1!$E$1:$F$65536,2,FALSE)","v":67},"缺考","缺考","缺考"]
[243,"52003050220","杨水灵","5226301******40722","影像科影像技术技师","C05","第二考场",{"$f":"VLOOKUP(C:C,[2]sheet1!$E$1:$F$65536,2,FALSE)","v":48},"缺考","缺考","缺考"]
[246,"52003050304","罗华","5224231******75015","影像科影像技术技师","C05","第二考场",{"$f":"VLOOKUP(C:C,[2]sheet1!$E$1:$F$65536,2,FALSE)","v":91},"缺考","缺考","缺考"]
[247,"52003050175","文盛娟","5226281******40025","影像科影像技术技师","C05","第二考场",{"$f":"VLOOKUP(C:C,[2]sheet1!$E$1:$F$65536,2,FALSE)","v":109},"缺考","缺考","缺考"]
[249,"52003050260","蔡敏","5224261******77483","影像科影像技术技师","C05","第二考场",{"$f":"VLOOKUP(C:C,[2]sheet1!$E$1:$F$65536,2,FALSE)","v":98},"缺考","缺考","缺考"]
[250,"52003050234","伍艳","5225301******31349","影像科影像技术技师","C05","第二考场",{"$f":"VLOOKUP(C:C,[2]sheet1!$E$1:$F$65536,2,FALSE)","v":56},"缺考","缺考","缺考"]
[251,"52003050060","潘登若","5223282******02413","影像科影像技术技师","C05","第二考场",{"$f":"VLOOKUP(C:C,[2]sheet1!$E$1:$F$65536,2,FALSE)","v":46},"缺考","缺考","缺考"]
[252,"52003050177","杨双双","5226322******36820","影像科影像技术技师","C05","第二考场",{"$f":"VLOOKUP(C:C,[2]sheet1!$E$1:$F$65536,2,FALSE)","v":60},"缺考","缺考","缺考"]
[254,"52003050208","罗雪娟","5329232******02129","影像科影像技术技师","C05","第二考场",{"$f":"VLOOKUP(C:C,[2]sheet1!$E$1:$F$65536,2,FALSE)","v":63},"缺考","缺考","缺考"]
[257,"52003050173","胡淑瑾","5306271******73341","影像科影像技术技师","C05","第二考场",{"$f":"VLOOKUP(C:C,[2]sheet1!$E$1:$F$65536,2,FALSE)","v":75},"缺考","缺考","缺考"]
[260,"52003050141","张倩","5224231******30827","影像科影像技术技师","C05","第二考场",{"$f":"VLOOKUP(C:C,[2]sheet1!$E$1:$F$65536,2,FALSE)","v":3},"缺考","缺考","缺考"]
[262,"52003050235","刘倩","5202022******25564","影像科影像技术技师","C05","第二考场",{"$f":"VLOOKUP(C:C,[2]sheet1!$E$1:$F$65536,2,FALSE)","v":80},"缺考","缺考","缺考"]
[263,"52003050139","黄存蕾","4413022******85480","影像科影像技术技师","C05","第二考场",{"$f":"VLOOKUP(C:C,[2]sheet1!$E$1:$F$65536,2,FALSE)","v":84},"缺考","缺考","缺考"]
[265,"52003050159","魏佳敏","5225261******71446","影像科影像技术技师","C05","第二考场",{"$f":"VLOOKUP(C:C,[2]sheet1!$E$1:$F$65536,2,FALSE)","v":90},"缺考","缺考","缺考"]
[268,"52003050107","李照雪","5224011******78224","影像科影像技术技师","C05","第二考场",{"$f":"VLOOKUP(C:C,[2]sheet1!$E$1:$F$65536,2,FALSE)","v":57},"缺考","缺考","缺考"]
[270,"52003050069","付光友","5223241******03250","影像科影像技术技师","C05","第二考场",{"$f":"VLOOKUP(C:C,[2]sheet1!$E$1:$F$65536,2,FALSE)","v":112},"缺考","缺考","缺考"]
[274,"52003050297","陈丽","5202031******83220","影像科影像技术技师","C05","第二考场",{"$f":"VLOOKUP(C:C,[2]sheet1!$E$1:$F$65536,2,FALSE)","v":12},"缺考","缺考","缺考"]
[276,"52003050181","沈雄","5303281******22716","影像科影像技术技师","C05","第二考场",{"$f":"VLOOKUP(C:C,[2]sheet1!$E$1:$F$65536,2,FALSE)","v":7},"缺考","缺考","缺考"]
[279,"52003050275","张禹","5224011******83229","影像科影像技术技师","C05","第二考场",{"$f":"VLOOKUP(C:C,[2]sheet1!$E$1:$F$65536,2,FALSE)","v":14},"缺考","缺考","缺考"]
[283,"52003050276","姚滢","4312291******20081","影像科影像技术技师","C05","第二考场",{"$f":"VLOOKUP(C:C,[2]sheet1!$E$1:$F$65536,2,FALSE)","v":5},"缺考","缺考","缺考"]
[284,"52003050020","唐静","5221321******57347","影像科影像技术技师","C05","第二考场",{"$f":"VLOOKUP(C:C,[2]sheet1!$E$1:$F$65536,2,FALSE)","v":78},"缺考","缺考","缺考"]
[285,"52003050264","何贞燕","5113042******35029","影像科影像技术技师","C05","第二考场",{"$f":"VLOOKUP(C:C,[2]sheet1!$E$1:$F$65536,2,FALSE)","v":22},"缺考","缺考","缺考"]
[289,"52003050302","袁静","5221311******24827","影像科影像技术技师","C05","第二考场",{"$f":"VLOOKUP(C:C,[2]sheet1!$E$1:$F$65536,2,FALSE)","v":15},"缺考","缺考","缺考"]

{"sheet":"C06影像科信息网络工程师","index":1,"n_rows":9,"n_cols":9,"rows_kept":9}
["序号","报名序号","姓名","身份证号","岗位名称","岗位代码","抽签号","面试成绩","是否进入资格复审"]
[364,"52003060004","王裕龙","5221312******61511","影像科信息网络工程师","C06",{"$f":"VLOOKUP(C:C,[5]sheet1!$E$1:$F$65536,2,FALSE)","v":4},{"$f":"VLOOKUP(G:G,[6]Sheet1!$A:$I,9,FALSE)","v":{"v":80.3333333333333,"d":"80.33"}},"是"]
[367,"52003060024","李春","5224221******1322X","影像科信息网络工程师","C06",{"$f":"VLOOKUP(C:C,[5]sheet1!$E$1:$F$65536,2,FALSE)","v":6},{"$f":"VLOOKUP(G:G,[6]Sheet1!$A:$I,9,FALSE)","v":{"v":80,"d":"80.00"}}]
[361,"52003060002","李江虎","5225261******81010","影像科信息网络工程师","C06",{"$f":"VLOOKUP(C:C,[5]sheet1!$E$1:$F$65536,2,FALSE)","v":8},{"$f":"VLOOKUP(G:G,[6]Sheet1!$A:$I,9,FALSE)","v":{"v":78.6666666666667,"d":"78.67"}}]
[365,"52003060023","彭兵兵","5224252******00913","影像科信息网络工程师","C06",{"$f":"VLOOKUP(C:C,[5]sheet1!$E$1:$F$65536,2,FALSE)","v":2},{"$f":"VLOOKUP(G:G,[6]Sheet1!$A:$I,9,FALSE)","v":{"v":65,"d":"65.00"}}]
[360,"52003060012","王思博","5223211******30413","影像科信息网络工程师","C06",{"$f":"VLOOKUP(C:C,[5]sheet1!$E$1:$F$65536,2,FALSE)","v":5},{"$f":"VLOOKUP(G:G,[6]Sheet1!$A:$I,9,FALSE)","v":{"v":62,"d":"62.00"}}]
[362,"52003060022","马恒","5224271******6743X","影像科信息网络工程师","C06",{"$f":"VLOOKUP(C:C,[5]sheet1!$E$1:$F$65536,2,FALSE)","v":7},"缺考"]
[363,"52003060009","陈金良","5202021******52431","影像科信息网络工程师","C06",{"$f":"VLOOKUP(C:C,[5]sheet1!$E$1:$F$65536,2,FALSE)","v":1},"缺考"]
[366,"52003060006","路逊","5224281******13619","影像科信息网络工程师","C06",{"$f":"VLOOKUP(C:C,[5]sheet1!$E$1:$F$65536,2,FALSE)","v":3},"缺考"]