{"text_format":"3","workbook":"xlsx","n_sheets":6,"sheets":["急诊科院前急救医师A01","医学工程科管理岗C02","医务科医患关系管理岗C07","护理部导诊员岗C08","后勤科工程造价管理岗C10","后勤科综合管理岗C11"],"not_rendered":{"external_links":3,"defined_names":1},"read":"whole","date_system":"1900"}

{"sheet":"急诊科院前急救医师A01","index":0,"n_rows":16,"n_cols":9,"rows_kept":16}
["序号","报名序号","姓名","身份证号","岗位名称","岗位代码","抽签号","面试成绩","是否进入资格复审"]
[1,"52001010003","高前","522424****204891","急诊科院前急救医师","A01",10,{"v":85,"d":"85.00"},"是"]
[2,"52001010010","党新琳","520113****010822","急诊科院前急救医师","A01",11,{"v":84,"d":"84.00"},"是"]
[3,"52001010009","蔡英锐","520112****040013","急诊科院前急救医师","A01",8,81.33,"是"]
[4,"52001010013","罗吉发","522424****171016","急诊科院前急救医师","A01",4,{"v":81,"d":"81.00"},"是"]
[5,"52001010002","姚德伟","522122****185232","急诊科院前急救医师","A01",12,77.67]
[6,"52001010017","陈清梅","522324****020027","急诊科院前急救医师","A01",15,71.67]
[7,"52001010005","李艳平","522428****160660","急诊科院前急救医师","A01",null,"缺考"]
[8,"52001010008","舒杨","431228****211623","急诊科院前急救医师","A01",null,"缺考"]
[9,"52001010011","马乐乐","522225****115438","急诊科院前急救医师","A01",null,"缺考"]
[10,"52001010001","冯琳璐","522226****150126","急诊科院前急救医师","A01",null,"缺考"]
[11,"52001010019","李志翔","520121****06101X","急诊科院前急救医师","A01",null,"缺考"]
[12,"52001010004","吴贞章","522729****250019","急诊科院前急救医师","A01",null,"缺考"]
[13,"52001010006","田田","522123****271061","急诊科院前急救医师","A01",null,"缺考"]
[14,"52001010012","曾建松","522122****156013","急诊科院前急救医师","A01",null,"缺考"]
[15,"52001010007","宋明俭","522423****104383","急诊科院前急救医师","A01",null,"缺考"]

{"sheet":"医学工程科管理岗C02","index":1,"n_rows":47,"n_cols":9,"rows_kept":47}
["序号","报名序号","姓名","身份证号","岗位名称","岗位代码","抽签号","面试成绩","是否进入资格复审"]
[21,"52003020010","史登练","522423****171510","医学工程科管理岗","C02",{"$f":"VLOOKUP(C:C,[2]sheet1!$E$1:$F$65536,2,FALSE)","v":22},{"$f":"VLOOKUP(G:G,[3]Sheet1!$A:$K,11,FALSE)","v":93.67},"是"]
[33,"52003020022","王立海","522725****236811","医学工程科管理岗","C02",{"$f":"VLOOKUP(C:C,[2]sheet1!$E$1:$F$65536,2,FALSE)","v":33},{"$f":"VLOOKUP(G:G,[3]Sheet1!$A:$K,11,FALSE)","v":91.33},"是"]
[46,"52003020028","蒙玺光","522426****107773","医学工程科管理岗","C02",{"$f":"VLOOKUP(C:C,[2]sheet1!$E$1:$F$65536,2,FALSE)","v":11},{"$f":"VLOOKUP(G:G,[3]Sheet1!$A:$K,11,FALSE)","v":89.67},"是"]
[7,"52003020001","吴晓婷","522629****064822","医学工程科管理岗","C02",{"$f":"VLOOKUP(C:C,[2]sheet1!$E$1:$F$65536,2,FALSE)","v":6},{"$f":"VLOOKUP(G:G,[3]Sheet1!$A:$K,11,FALSE)","v":85.33}]
[40,"52003020049","张姗","511602****071549","医学工程科管理岗","C02",{"$f":"VLOOKUP(C:C,[2]sheet1!$E$1:$F$65536,2,FALSE)","v":26},{"$f":"VLOOKUP(G:G,[3]Sheet1!$A:$K,11,FALSE)","v":{"v":85,"d":"85.00"}}]
[13,"52003020002","龙雪娇","522226****260047","医学工程科管理岗","C02",{"$f":"VLOOKUP(C:C,[2]sheet1!$E$1:$F$65536,2,FALSE)","v":4},{"$f":"VLOOKUP(G:G,[3]Sheet1!$A:$K,11,FALSE)","v":75.33}]
[23,"52003020031","肖烨","522125****210027","医学工程科管理岗","C02",{"$f":"VLOOKUP(C:C,[2]sheet1!$E$1:$F$65536,2,FALSE)","v":27},{"$f":"VLOOKUP(G:G,[3]Sheet1!$A:$K,11,FALSE)","v":75.33}]
[37,"52003020005","张健明","522601****310021","医学工程科管理岗","C02",{"$f":"VLOOKUP(C:C,[2]sheet1!$E$1:$F$65536,2,FALSE)","v":19},{"$f":"VLOOKUP(G:G,[3]Sheet1!$A:$K,11,FALSE)","v":75.33}]
[36,"52003020046","黄雨","522122****256027","医学工程科管理岗","C02",{"$f":"VLOOKUP(C:C,[2]sheet1!$E$1:$F$65536,2,FALSE)","v":28},{"$f":"VLOOKUP(G:G,[3]Sheet1!$A:$K,11,FALSE)","v":74.67}]
[5,"52003020044","李永幸","522723****013325","医学工程科管理岗","C02",{"$f":"VLOOKUP(C:C,[2]sheet1!$E$1:$F$65536,2,FALSE)","v":43},{"$f":"VLOOKUP(G:G,[3]Sheet1!$A:$K,11,FALSE)","v":74.33}]
[3,"52003020016","黄嘉晗","522226****076486","医学工程科管理岗","C02",{"$f":"VLOOKUP(C:C,[2]sheet1!$E$1:$F$65536,2,FALSE)","v":15},{"$f":"VLOOKUP(G:G,[3]Sheet1!$A:$K,11,FALSE)","v":{"v":74,"d":"74.00"}}]
[4,"52003020014","刘宇琛","520181****020428","医学工程科管理岗","C02",{"$f":"VLOOKUP(C:C,[2]sheet1!$E$1:$F$65536,2,FALSE)","v":12},{"$f":"VLOOKUP(G:G,[3]Sheet1!$A:$K,11,FALSE)","v":{"v":74,"d":"74.00"}}]
[6,"52003020045","吴明姣","522631****10342X","医学工程科管理岗","C02",{"$f":"VLOOKUP(C:C,[2]sheet1!$E$1:$F$65536,2,FALSE)","v":10},{"$f":"VLOOKUP(G:G,[3]Sheet1!$A:$K,11,FALSE)","v":{"v":74,"d":"74.00"}}]
[24,"52003020030","樊小萍","522225****156623","医学工程科管理岗","C02",{"$f":"VLOOKUP(C:C,[2]sheet1!$E$1:$F$65536,2,FALSE)","v":24},{"$f":"VLOOKUP(G:G,[3]Sheet1!$A:$K,11,FALSE)","v":{"v":73,"d":"73.00"}}]
[19,"52003020007","金开飞","520203****255425","医学工程科管理岗","C02",{"$f":"VLOOKUP(C:C,[2]sheet1!$E$1:$F$65536,2,FALSE)","v":36},{"$f":"VLOOKUP(G:G,[3]Sheet1!$A:$K,11,FALSE)","v":72.67}]
[15,"52003020033","姚田","522625****23332X","医学工程科管理岗","C02",{"$f":"VLOOKUP(C:C,[2]sheet1!$E$1:$F$65536,2,FALSE)","v":37},{"$f":"VLOOKUP(G:G,[3]Sheet1!$A:$K,11,FALSE)","v":{"v":72,"d":"72.00"}}]
[39,"52003020034","祝丽","522124****160829","医学工程科管理岗","C02",{"$f":"VLOOKUP(C:C,[2]sheet1!$E$1:$F$65536,2,FALSE)","v":1},{"$f":"VLOOKUP(G:G,[3]Sheet1!$A:$K,11,FALSE)","v":71.33}]
[44,"52003020039","耿丽仙","530381****230528","医学工程科管理岗","C02",{"$f":"VLOOKUP(C:C,[2]sheet1!$E$1:$F$65536,2,FALSE)","v":7},{"$f":"VLOOKUP(G:G,[3]Sheet1!$A:$K,11,FALSE)","v":71.33}]
[31,"52003020054","彭洪兰","522130****240485","医学工程科管理岗","C02",{"$f":"VLOOKUP(C:C,[2]sheet1!$E$1:$F$65536,2,FALSE)","v":13},{"$f":"VLOOKUP(G:G,[3]Sheet1!$A:$K,11,FALSE)","v":{"v":71,"d":"71.00"}}]
[42,"52003020027","李双玲","522225****170068","医学工程科管理岗","C02",{"$f":"VLOOKUP(C:C,[2]sheet1!$E$1:$F$65536,2,FALSE)","v":17},{"$f":"VLOOKUP(G:G,[3]Sheet1!$A:$K,11,FALSE)","v":{"v":71,"d":"71.00"}}]
[17,"52003020029","杨丽虹","520102****124625","医学工程科管理岗","C02",{"$f":"VLOOKUP(C:C,[2]sheet1!$E$1:$F$65536,2,FALSE)","v":29},{"$f":"VLOOKUP(G:G,[3]Sheet1!$A:$K,11,FALSE)","v":70.67}]
[28,"52003020053","廖玙杰","513822****133208","医学工程科管理岗","C02",{"$f":"VLOOKUP(C:C,[2]sheet1!$E$1:$F$65536,2,FALSE)","v":25},{"$f":"VLOOKUP(G:G,[3]Sheet1!$A:$K,11,FALSE)","v":{"v":70,"d":"70.00"}}]
[45,"52003020042","陈梦瑜","500102****244301","医学工程科管理岗","C02",{"$f":"VLOOKUP(C:C,[2]sheet1!$E$1:$F$65536,2,FALSE)","v":31},{"$f":"VLOOKUP(G:G,[3]Sheet1!$A:$K,11,FALSE)","v":{"v":69,"d":"69.00"}}]
[1,"52003020008","刘红妹","522423****200047","医学工程科管理岗","C02",{"$f":"VLOOKUP(C:C,[2]sheet1!$E$1:$F$65536,2,FALSE)","v":30},{"$f":"VLOOKUP(G:G,[3]Sheet1!$A:$K,11,FALSE)","v":"缺考"}]
[2,"52003020003","陈艳","522426****130843","医学工程科管理岗","C02",{"$f":"VLOOKUP(C:C,[2]sheet1!$E$1:$F$65536,2,FALSE)","v":20},{"$f":"VLOOKUP(G:G,[3]Sheet1!$A:$K,11,FALSE)","v":"缺考"}]
[8,"52003020047","龙其刚","522123****102530","医学工程科管理岗","C02",{"$f":"VLOOKUP(C:C,[2]sheet1!$E$1:$F$65536,2,FALSE)","v":42},{"$f":"VLOOKUP(G:G,[3]Sheet1!$A:$K,11,FALSE)","v":"缺考"}]
[9,"52003020012","陈奎锦","522327****020019","医学工程科管理岗","C02",{"$f":"VLOOKUP(C:C,[2]sheet1!$E$1:$F$65536,2,FALSE)","v":46},{"$f":"VLOOKUP(G:G,[3]Sheet1!$A:$K,11,FALSE)","v":"缺考"}]
[10,"52003020025","阮文俊","522224****284457","医学工程科管理岗","C02",{"$f":"VLOOKUP(C:C,[2]sheet1!$E$1:$F$65536,2,FALSE)","v":5},{"$f":"VLOOKUP(G:G,[3]Sheet1!$A:$K,11,FALSE)","v":"缺考"}]
[11,"52003020050","杨敏","522424****120423","医学工程科管理岗","C02",{"$f":"VLOOKUP(C:C,[2]sheet1!$E$1:$F$65536,2,FALSE)","v":21},{"$f":"VLOOKUP(G:G,[3]Sheet1!$A:$K,11,FALSE)","v":"缺考"}]
[12,"52003020032","徐岸","522427****067211","医学工程科管理岗","C02",{"$f":"VLOOKUP(C:C,[2]sheet1!$E$1:$F$65536,2,FALSE)","v":41},{"$f":"VLOOKUP(G:G,[3]Sheet1!$A:$K,11,FALSE)","v":"缺考"}]
[14,"52003020015","罗浪","522401****272312","医学工程科管理岗","C02",{"$f":"VLOOKUP(C:C,[2]sheet1!$E$1:$F$65536,2,FALSE)","v":39},{"$f":"VLOOKUP(G:G,[3]Sheet1!$A:$K,11,FALSE)","v":"缺考"}]
[16,"52003020036","严丹蕾","520201****030823","医学工程科管理岗","C02",{"$f":"VLOOKUP(C:C,[2]sheet1!$E$1:$F$65536,2,FALSE)","v":23},{"$f":"VLOOKUP(G:G,[3]Sheet1!$A:$K,11,FALSE)","v":"缺考"}]
[18,"52003020051","罗正雍","522723****04171X","医学工程科管理岗","C02",{"$f":"VLOOKUP(C:C,[2]sheet1!$E$1:$F$65536,2,FALSE)","v":9},{"$f":"VLOOKUP(G:G,[3]Sheet1!$A:$K,11,FALSE)","v":"缺考"}]
[20,"52003020011","邓玉萍","532623****251923","医学工程科管理岗","C02",{"$f":"VLOOKUP(C:C,[2]sheet1!$E$1:$F$65536,2,FALSE)","v":14},{"$f":"VLOOKUP(G:G,[3]Sheet1!$A:$K,11,FALSE)","v":"缺考"}]
[22,"52003020013","陈晓璇","522426****200125","医学工程科管理岗","C02",{"$f":"VLOOKUP(C:C,[2]sheet1!$E$1:$F$65536,2,FALSE)","v":34},{"$f":"VLOOKUP(G:G,[3]Sheet1!$A:$K,11,FALSE)","v":"缺考"}]
[25,"52003020038","陈霜","520327****19004X","医学工程科管理岗","C02",{"$f":"VLOOKUP(C:C,[2]sheet1!$E$1:$F$65536,2,FALSE)","v":40},{"$f":"VLOOKUP(G:G,[3]Sheet1!$A:$K,11,FALSE)","v":"缺考"}]
[26,"52003020041","敖梦丽","530324****041722","医学工程科管理岗","C02",{"$f":"VLOOKUP(C:C,[2]sheet1!$E$1:$F$65536,2,FALSE)","v":3},{"$f":"VLOOKUP(G:G,[3]Sheet1!$A:$K,11,FALSE)","v":"缺考"}]
[27,"52003020019","吴洪群","522724****025746","医学工程科管理岗","C02",{"$f":"VLOOKUP(C:C,[2]sheet1!$E$1:$F$65536,2,FALSE)","v":8},{"$f":"VLOOKUP(G:G,[3]Sheet1!$A:$K,11,FALSE)","v":"缺考"}]
[29,"52003020048","王青","510525****053184","医学工程科管理岗","C02",{"$f":"VLOOKUP(C:C,[2]sheet1!$E$1:$F$65536,2,FALSE)","v":35},{"$f":"VLOOKUP(G:G,[3]Sheet1!$A:$K,11,FALSE)","v":"缺考"}]
[30,"52003020021","王彦辉","522701****181241","医学工程科管理岗","C02",{"$f":"VLOOKUP(C:C,[2]sheet1!$E$1:$F$65536,2,FALSE)","v":2},{"$f":"VLOOKUP(G:G,[3]Sheet1!$A:$K,11,FALSE)","v":"缺考"}]
[32,"52003020026","肖玉英","522428****161621","医学工程科管理岗","C02",{"$f":"VLOOKUP(C:C,[2]sheet1!$E$1:$F$65536,2,FALSE)","v":45},{"$f":"VLOOKUP(G:G,[3]Sheet1!$A:$K,11,FALSE)","v":"缺考"}]
[34,"52003020024","苏下勇","520203****066139","医学工程科管理岗","C02",{"$f":"VLOOKUP(C:C,[2]sheet1!$E$1:$F$65536,2,FALSE)","v":18},{"$f":"VLOOKUP(G:G,[3]Sheet1!$A:$K,11,FALSE)","v":"缺考"}]
[35,"52003020020","窦林玉","522423****269602","医学工程科管理岗","C02",{"$f":"VLOOKUP(C:C,[2]sheet1!$E$1:$F$65536,2,FALSE)","v":44},{"$f":"VLOOKUP(G:G,[3]Sheet1!$A:$K,11,FALSE)","v":"缺考"}]
[38,"52003020035","王润琴","522127****191521","医学工程科管理岗","C02",{"$f":"VLOOKUP(C:C,[2]sheet1!$E$1:$F$65536,2,FALSE)","v":16},{"$f":"VLOOKUP(G:G,[3]Sheet1!$A:$K,11,FALSE)","v":"缺考"}]
[41,"52003020023","周玉华","522422****113013","医学工程科管理岗","C02",{"$f":"VLOOKUP(C:C,[2]sheet1!$E$1:$F$65536,2,FALSE)","v":38},{"$f":"VLOOKUP(G:G,[3]Sheet1!$A:$K,11,FALSE)","v":"缺考"}]
[43,"52003020040","曾平君","522228****201288","医学工程科管理岗","C02",{"$f":"VLOOKUP(C:C,[2]sheet1!$E$1:$F$65536,2,FALSE)","v":32},{"$f":"VLOOKUP(G:G,[3]Sheet1!$A:$K,11,FALSE)","v":"缺考"}]

{"sheet":"医务科医患关系管理岗C07","index":2,"n_rows":8,"n_cols":9,"rows_kept":8}
["序号","报名序号","姓名","身份证号","岗位名称","岗位代码","抽签号","面试成绩","是否进入资格复审"]
[1,"52003070004","罗丞佑","522723****120212","医务科医患关系管理岗","C07",4,87.67,"是"]
[2,"52003070011","曾劲源","522526****023616","医务科医患关系管理岗","C07",6,{"v":86,"d":"86.00"},"是"]
[3,"52003110064","王宇","520181****011713","医务科医患关系管理岗","C07",1,78.33]
[4,"52003070001","马鹏成","520181****250813","医务科医患关系管理岗","C07",3,72.33]
[5,"52003070010","杜睿","522725****07612X","医务科医患关系管理岗","C07",7,67.33]
[6,"52003070006","马飞","520181****183318","医务科医患关系管理岗","C07",null,"缺考"]
[7,"52003070012","陈祎玲","522221****064924","医务科医患关系管理岗","C07",null,"缺考"]

{"sheet":"护理部导诊员岗C08","index":3,"n_rows":274,"n_cols":12,"rows_kept":274}
["序号","报名序号","姓名","身份证号","岗位名称","岗位代码","考场号","抽签号","面试原始成绩","修正系数","最终面试成绩","是否进入资格复审"]
[1,"52003080233","申霖露","522126****027023","护理部导诊员","C08",{"$f":"VLOOKUP(C:C,[1]汇总得分!$B:$D,3,FALSE)","v":"第一考场"},{"$f":"VLOOKUP(C:C,[1]汇总得分!$B:$C,2,FALSE)","v":19},{"$f":"VLOOKUP(C:C,[1]汇总得分!$E:$G,3,FALSE)","v":{"v":93,"d":"93.00"}},{"$f":"VLOOKUP(C:C,[1]汇总得分!$E:$H,4,FALSE)","v":{"v":1.0402,"d":"1.04"}},{"$f":"VLOOKUP(C:C,[1]汇总得分!$E:$I,5,FALSE)","v":{"v":96.7386,"d":"96.74"}},"是"]
[2,"52003080186","田盈盈","520321****043869","护理部导诊员","C08",{"$f":"VLOOKUP(C:C,[1]汇总得分!$B:$D,3,FALSE)","v":"第一考场"},{"$f":"VLOOKUP(C:C,[1]汇总得分!$B:$C,2,FALSE)","v":78},{"$f":"VLOOKUP(C:C,[1]汇总得分!$E:$G,3,FALSE)","v":{"v":92,"d":"92.00"}},{"$f":"VLOOKUP(C:C,[1]汇总得分!$E:$H,4,FALSE)","v":{"v":1.0402,"d":"1.04"}},{"$f":"VLOOKUP(C:C,[1]汇总得分!$E:$I,5,FALSE)","v":{"v":95.6984,"d":"95.70"}},"是"]
[3,"52003080304","袁蒙","522121****166227","护理部导诊员","C08",{"$f":"VLOOKUP(C:C,[1]汇总得分!$B:$D,3,FALSE)","v":"第二考场"},{"$f":"VLOOKUP(C:C,[1]汇总得分!$B:$C,2,FALSE)","v":8},{"$f":"VLOOKUP(C:C,[1]汇总得分!$E:$G,3,FALSE)","v":{"v":96,"d":"96.00"}},{"$f":"VLOOKUP(C:C,[1]汇总得分!$E:$H,4,FALSE)","v":{"v":0.97072239467203,"d":"0.97"}},{"$f":"VLOOKUP(C:C,[1]汇总得分!$E:$I,5,FALSE)","v":{"v":93.1893498885149,"d":"93.19"}},"是"]
[4,"52003080115","田畅业","522226****260043","护理部导诊员","C08",{"$f":"VLOOKUP(C:C,[1]汇总得分!$B:$D,3,FALSE)","v":"第一考场"},{"$f":"VLOOKUP(C:C,[1]汇总得分!$B:$C,2,FALSE)","v":4},{"$f":"VLOOKUP(C:C,[1]汇总得分!$E:$G,3,FALSE)","v":{"v":89,"d":"89.00"}},{"$f":"VLOOKUP(C:C,[1]汇总得分!$E:$H,4,FALSE)","v":{"v":1.0402,"d":"1.04"}},{"$f":"VLOOKUP(C:C,[1]汇总得分!$E:$I,5,FALSE)","v":{"v":92.5778,"d":"92.58"}},"是"]
[5,"52003080089","李琪瑶","520112****270021","护理部导诊员","C08",{"$f":"VLOOKUP(C:C,[1]汇总得分!$B:$D,3,FALSE)","v":"第二考场"},{"$f":"VLOOKUP(C:C,[1]汇总得分!$B:$C,2,FALSE)","v":131},{"$f":"VLOOKUP(C:C,[1]汇总得分!$E:$G,3,FALSE)","v":{"v":94.6666666666667,"d":"94.67"}},{"$f":"VLOOKUP(C:C,[1]汇总得分!$E:$H,4,FALSE)","v":{"v":0.97072239467203,"d":"0.97"}},{"$f":"VLOOKUP(C:C,[1]汇总得分!$E:$I,5,FALSE)","v":{"v":91.8950533622855,"d":"91.90"}},"是"]
[6,"52003080031","李明洁","522422****033221","护理部导诊员","C08",{"$f":"VLOOKUP(C:C,[1]汇总得分!$B:$D,3,FALSE)","v":"第二考场"},{"$f":"VLOOKUP(C:C,[1]汇总得分!$B:$C,2,FALSE)","v":33},{"$f":"VLOOKUP(C:C,[1]汇总得分!$E:$G,3,FALSE)","v":{"v":94,"d":"94.00"}},{"$f":"VLOOKUP(C:C,[1]汇总得分!$E:$H,4,FALSE)","v":{"v":0.97072239467203,"d":"0.97"}},{"$f":"VLOOKUP(C:C,[1]汇总得分!$E:$I,5,FALSE)","v":{"v":91.2479050991708,"d":"91.25"}},"是"]
[7,"52003080026","罗江丽","522225****023627","护理部导诊员","C08",{"$f":"VLOOKUP(C:C,[1]汇总得分!$B:$D,3,FALSE)","v":"第一考场"},{"$f":"VLOOKUP(C:C,[1]汇总得分!$B:$C,2,FALSE)","v":38},{"$f":"VLOOKUP(C:C,[1]汇总得分!$E:$G,3,FALSE)","v":{"v":87.3333333333333,"d":"87.33"}},{"$f":"VLOOKUP(C:C,[1]汇总得分!$E:$H,4,FALSE)","v":{"v":1.0402,"d":"1.04"}},{"$f":"VLOOKUP(C:C,[1]汇总得分!$E:$I,5,FALSE)","v":{"v":90.8441333333333,"d":"90.84"}},"是"]
[8,"52003080004","付丽","522127****092523","护理部导诊员","C08",{"$f":"VLOOKUP(C:C,[1]汇总得分!$B:$D,3,FALSE)","v":"第一考场"},{"$f":"VLOOKUP(C:C,[1]汇总得分!$B:$C,2,FALSE)","v":109},{"$f":"VLOOKUP(C:C,[1]汇总得分!$E:$G,3,FALSE)","v":{"v":87,"d":"87.00"}},{"$f":"VLOOKUP(C:C,[1]汇总得分!$E:$H,4,FALSE)","v":{"v":1.0402,"d":"1.04"}},{"$f":"VLOOKUP(C:C,[1]汇总得分!$E:$I,5,FALSE)","v":{"v":90.4974,"d":"90.50"}},"是"]
[9,"52003080013","陈佳兰","522130****216024","护理部导诊员","C08",{"$f":"VLOOKUP(C:C,[1]汇总得分!$B:$D,3,FALSE)","v":"第二考场"},{"$f":"VLOOKUP(C:C,[1]汇总得分!$B:$C,2,FALSE)","v":122},{"$f":"VLOOKUP(C:C,[1]汇总得分!$E:$G,3,FALSE)","v":{"v":93,"d":"93.00"}},{"$f":"VLOOKUP(C:C,[1]汇总得分!$E:$H,4,FALSE)","v":{"v":0.97072239467203,"d":"0.97"}},{"$f":"VLOOKUP(C:C,[1]汇总得分!$E:$I,5,FALSE)","v":{"v":90.2771827044988,"d":"90.28"}},"是"]
[10,"52003080054","何喜婷","522121****132641","护理部导诊员","C08",{"$f":"VLOOKUP(C:C,[1]汇总得分!$B:$D,3,FALSE)","v":"第二考场"},{"$f":"VLOOKUP(C:C,[1]汇总得分!$B:$C,2,FALSE)","v":65},{"$f":"VLOOKUP(C:C,[1]汇总得分!$E:$G,3,FALSE)","v":{"v":92,"d":"92.00"}},{"$f":"VLOOKUP(C:C,[1]汇总得分!$E:$H,4,FALSE)","v":{"v":0.97072239467203,"d":"0.97"}},{"$f":"VLOOKUP(C:C,[1]汇总得分!$E:$I,5,FALSE)","v":{"v":89.3064603098268,"d":"89.31"}},"是"]
[11,"52003080150","晏换","522428****214446","护理部导诊员","C08",{"$f":"VLOOKUP(C:C,[1]汇总得分!$B:$D,3,FALSE)","v":"第二考场"},{"$f":"VLOOKUP(C:C,[1]汇总得分!$B:$C,2,FALSE)","v":127},{"$f":"VLOOKUP(C:C,[1]汇总得分!$E:$G,3,FALSE)","v":{"v":91.3333333333333,"d":"91.33"}},{"$f":"VLOOKUP(C:C,[1]汇总得分!$E:$H,4,FALSE)","v":{"v":0.97072239467203,"d":"0.97"}},{"$f":"VLOOKUP(C:C,[1]汇总得分!$E:$I,5,FALSE)","v":{"v":88.659312046712,"d":"88.66"}},"是"]
[12,"52003080008","鲁莎","532128****050389","护理部导诊员","C08",{"$f":"VLOOKUP(C:C,[1]汇总得分!$B:$D,3,FALSE)","v":"第二考场"},{"$f":"VLOOKUP(C:C,[1]汇总得分!$B:$C,2,FALSE)","v":80},{"$f":"VLOOKUP(C:C,[1]汇总得分!$E:$G,3,FALSE)","v":{"v":91,"d":"91.00"}},{"$f":"VLOOKUP(C:C,[1]汇总得分!$E:$H,4,FALSE)","v":{"v":0.97072239467203,"d":"0.97"}},{"$f":"VLOOKUP(C:C,[1]汇总得分!$E:$I,5,FALSE)","v":{"v":88.3357379151547,"d":"88.34"}},"是"]
[13,"52003080148","文萍","522122****231827","护理部导诊员","C08",{"$f":"VLOOKUP(C:C,[1]汇总得分!$B:$D,3,FALSE)","v":"第二考场"},{"$f":"VLOOKUP(C:C,[1]汇总得分!$B:$C,2,FALSE)","v":85},{"$f":"VLOOKUP(C:C,[1]汇总得分!$E:$G,3,FALSE)","v":{"v":90.6666666666667,"d":"90.67"}},{"$f":"VLOOKUP(C:C,[1]汇总得分!$E:$H,4,FALSE)","v":{"v":0.97072239467203,"d":"0.97"}},{"$f":"VLOOKUP(C:C,[1]汇总得分!$E:$I,5,FALSE)","v":{"v":88.0121637835974,"d":"88.01"}},"是"]
[14,"52003080018","唐洁","520112****201124","护理部导诊员","C08",{"$f":"VLOOKUP(C:C,[1]汇总得分!$B:$D,3,FALSE)","v":"第二考场"},{"$f":"VLOOKUP(C:C,[1]汇总得分!$B:$C,2,FALSE)","v":135},{"$f":"VLOOKUP(C:C,[1]汇总得分!$E:$G,3,FALSE)","v":{"v":90.6666666666667,"d":"90.67"}},{"$f":"VLOOKUP(C:C,[1]汇总得分!$E:$H,4,FALSE)","v":{"v":0.97072239467203,"d":"0.97"}},{"$f":"VLOOKUP(C:C,[1]汇总得分!$E:$I,5,FALSE)","v":{"v":88.0121637835974,"d":"88.01"}},"是"]
[15,"52003080051","王硕","522130****107215","护理部导诊员","C08",{"$f":"VLOOKUP(C:C,[1]汇总得分!$B:$D,3,FALSE)","v":"第二考场"},{"$f":"VLOOKUP(C:C,[1]汇总得分!$B:$C,2,FALSE)","v":104},{"$f":"VLOOKUP(C:C,[1]汇总得分!$E:$G,3,FALSE)","v":{"v":90.3333333333333,"d":"90.33"}},{"$f":"VLOOKUP(C:C,[1]汇总得分!$E:$H,4,FALSE)","v":{"v":0.97072239467203,"d":"0.97"}},{"$f":"VLOOKUP(C:C,[1]汇总得分!$E:$I,5,FALSE)","v":{"v":87.68858965204,"d":"87.69"}},"是"]
[16,"52003080024","李韩玥","520121****073442","护理部导诊员","C08",{"$f":"VLOOKUP(C:C,[1]汇总得分!$B:$D,3,FALSE)","v":"第二考场"},{"$f":"VLOOKUP(C:C,[1]汇总得分!$B:$C,2,FALSE)","v":76},{"$f":"VLOOKUP(C:C,[1]汇总得分!$E:$G,3,FALSE)","v":{"v":88.6666666666667,"d":"88.67"}},{"$f":"VLOOKUP(C:C,[1]汇总得分!$E:$H,4,FALSE)","v":{"v":0.97072239467203,"d":"0.97"}},{"$f":"VLOOKUP(C:C,[1]汇总得分!$E:$I,5,FALSE)","v":{"v":86.0707189942534,"d":"86.07"}},"是"]
[17,"52003080288","金倩","522122****081828","护理部导诊员","C08",{"$f":"VLOOKUP(C:C,[1]汇总得分!$B:$D,3,FALSE)","v":"第二考场"},{"$f":"VLOOKUP(C:C,[1]汇总得分!$B:$C,2,FALSE)","v":112},{"$f":"VLOOKUP(C:C,[1]汇总得分!$E:$G,3,FALSE)","v":{"v":87.3333333333333,"d":"87.33"}},{"$f":"VLOOKUP(C:C,[1]汇总得分!$E:$H,4,FALSE)","v":{"v":0.97072239467203,"d":"0.97"}},{"$f":"VLOOKUP(C:C,[1]汇总得分!$E:$I,5,FALSE)","v":{"v":84.7764224680239,"d":"84.78"}},"是"]
[18,"52003080276","翟崧堉","522401****090240","护理部导诊员","C08",{"$f":"VLOOKUP(C:C,[1]汇总得分!$B:$D,3,FALSE)","v":"第二考场"},{"$f":"VLOOKUP(C:C,[1]汇总得分!$B:$C,2,FALSE)","v":42},{"$f":"VLOOKUP(C:C,[1]汇总得分!$E:$G,3,FALSE)","v":{"v":86.3333333333333,"d":"86.33"}},{"$f":"VLOOKUP(C:C,[1]汇总得分!$E:$H,4,FALSE)","v":{"v":0.97072239467203,"d":"0.97"}},{"$f":"VLOOKUP(C:C,[1]汇总得分!$E:$I,5,FALSE)","v":{"v":83.8057000733519,"d":"83.81"}},"是"]
[19,"52003080314","龙优情","522229****104024","护理部导诊员","C08",{"$f":"VLOOKUP(C:C,[1]汇总得分!$B:$D,3,FALSE)","v":"第一考场"},{"$f":"VLOOKUP(C:C,[1]汇总得分!$B:$C,2,FALSE)","v":6},{"$f":"VLOOKUP(C:C,[1]汇总得分!$E:$G,3,FALSE)","v":{"v":80,"d":"80.00"}},{"$f":"VLOOKUP(C:C,[1]汇总得分!$E:$H,4,FALSE)","v":{"v":1.0402,"d":"1.04"}},{"$f":"VLOOKUP(C:C,[1]汇总得分!$E:$I,5,FALSE)","v":{"v":83.216,"d":"83.22"}}]
[20,"52003080123","朱雨梅","522425****105422","护理部导诊员","C08",{"$f":"VLOOKUP(C:C,[1]汇总得分!$B:$D,3,FALSE)","v":"第二考场"},{"$f":"VLOOKUP(C:C,[1]汇总得分!$B:$C,2,FALSE)","v":120},{"$f":"VLOOKUP(C:C,[1]汇总得分!$E:$G,3,FALSE)","v":{"v":85,"d":"85.00"}},{"$f":"VLOOKUP(C:C,[1]汇总得分!$E:$H,4,FALSE)","v":{"v":0.97072239467203,"d":"0.97"}},{"$f":"VLOOKUP(C:C,[1]汇总得分!$E:$I,5,FALSE)","v":{"v":82.5114035471226,"d":"82.51"}}]
[21,"52003080098","龙姣","522426****108269","护理部导诊员","C08",{"$f":"VLOOKUP(C:C,[1]汇总得分!$B:$D,3,FALSE)","v":"第二考场"},{"$f":"VLOOKUP(C:C,[1]汇总得分!$B:$C,2,FALSE)","v":44},{"$f":"VLOOKUP(C:C,[1]汇总得分!$E:$G,3,FALSE)","v":{"v":78,"d":"78.00"}},{"$f":"VLOOKUP(C:C,[1]汇总得分!$E:$H,4,FALSE)","v":{"v":0.97072239467203,"d":"0.97"}},{"$f":"VLOOKUP(C:C,[1]汇总得分!$E:$I,5,FALSE)","v":{"v":75.7163467844183,"d":"75.72"}}]
[22,"52003080143","李静","522128****290044","护理部导诊员","C08",{"$f":"VLOOKUP(C:C,[1]汇总得分!$B:$D,3,FALSE)","v":"第二考场"},{"$f":"VLOOKUP(C:C,[1]汇总得分!$B:$C,2,FALSE)","v":74},{"$f":"VLOOKUP(C:C,[1]汇总得分!$E:$G,3,FALSE)","v":{"v":77,"d":"77.00"}},{"$f":"VLOOKUP(C:C,[1]汇总得分!$E:$H,4,FALSE)","v":{"v":0.97072239467203,"d":"0.97"}},{"$f":"VLOOKUP(C:C,[1]汇总得分!$E:$I,5,FALSE)","v":{"v":74.7456243897463,"d":"74.75"}}]
[23,"52003080009","杨杞","522223****110043","护理部导诊员","C08",{"$f":"VLOOKUP(C:C,[1]汇总得分!$B:$D,3,FALSE)","v":"第一考场"},{"$f":"VLOOKUP(C:C,[1]汇总得分!$B:$C,2,FALSE)","v":71},{"$f":"VLOOKUP(C:C,[1]汇总得分!$E:$G,3,FALSE)","v":{"v":71.6666666666667,"d":"71.67"}},{"$f":"VLOOKUP(C:C,[1]汇总得分!$E:$H,4,FALSE)","v":{"v":1.0402,"d":"1.04"}},{"$f":"VLOOKUP(C:C,[1]汇总得分!$E:$I,5,FALSE)","v":{"v":74.5476666666667,"d":"74.55"}}]
[24,"52003080212","刘艳琼","522624****280044","护理部导诊员","C08",{"$f":"VLOOKUP(C:C,[1]汇总得分!$B:$D,3,FALSE)","v":"第一考场"},{"$f":"VLOOKUP(C:C,[1]汇总得分!$B:$C,2,FALSE)","v":26},{"$f":"VLOOKUP(C:C,[1]汇总得分!$E:$G,3,FALSE)","v":{"v":70.6666666666667,"d":"70.67"}},{"$f":"VLOOKUP(C:C,[1]汇总得分!$E:$H,4,FALSE)","v":{"v":1.0402,"d":"1.04"}},{"$f":"VLOOKUP(C:C,[1]汇总得分!$E:$I,5,FALSE)","v":{"v":73.5074666666667,"d":"73.51"}}]
[25,"52003080270","龙腾森","522628****203014","护理部导诊员","C08",{"$f":"VLOOKUP(C:C,[1]汇总得分!$B:$D,3,FALSE)","v":"第一考场"},{"$f":"VLOOKUP(C:C,[1]汇总得分!$B:$C,2,FALSE)","v":46},{"$f":"VLOOKUP(C:C,[1]汇总得分!$E:$G,3,FALSE)","v":{"v":70.6666666666667,"d":"70.67"}},{"$f":"VLOOKUP(C:C,[1]汇总得分!$E:$H,4,FALSE)","v":{"v":1.0402,"d":"1.04"}},{"$f":"VLOOKUP(C:C,[1]汇总得分!$E:$I,5,FALSE)","v":{"v":73.5074666666667,"d":"73.51"}}]
[26,"52003080216","李玉兰","522423****170423","护理部导诊员","C08",{"$f":"VLOOKUP(C:C,[1]汇总得分!$B:$D,3,FALSE)","v":"第一考场"},{"$f":"VLOOKUP(C:C,[1]汇总得分!$B:$C,2,FALSE)","v":28},{"$f":"VLOOKUP(C:C,[1]汇总得分!$E:$G,3,FALSE)","v":{"v":70.6666666666667,"d":"70.67"}},{"$f":"VLOOKUP(C:C,[1]汇总得分!$E:$H,4,FALSE)","v":{"v":1.0402,"d":"1.04"}},{"$f":"VLOOKUP(C:C,[1]汇总得分!$E:$I,5,FALSE)","v":{"v":73.5074666666667,"d":"73.51"}}]
[27,"52003080221","张正敏","522121****230441","护理部导诊员","C08",{"$f":"VLOOKUP(C:C,[1]汇总得分!$B:$D,3,FALSE)","v":"第一考场"},{"$f":"VLOOKUP(C:C,[1]汇总得分!$B:$C,2,FALSE)","v":58},{"$f":"VLOOKUP(C:C,[1]汇总得分!$E:$G,3,FALSE)","v":{"v":70.3333333333333,"d":"70.33"}},{"$f":"VLOOKUP(C:C,[1]汇总得分!$E:$H,4,FALSE)","v":{"v":1.0402,"d":"1.04"}},{"$f":"VLOOKUP(C:C,[1]汇总得分!$E:$I,5,FALSE)","v":{"v":73.1607333333333,"d":"73.16"}}]
[28,"52003080317","龙沛伊","431302****024105","护理部导诊员","C08",{"$f":"VLOOKUP(C:C,[1]汇总得分!$B:$D,3,FALSE)","v":"第一考场"},{"$f":"VLOOKUP(C:C,[1]汇总得分!$B:$C,2,FALSE)","v":10},{"$f":"VLOOKUP(C:C,[1]汇总得分!$E:$G,3,FALSE)","v":{"v":70.3333333333333,"d":"70.33"}},{"$f":"VLOOKUP(C:C,[1]汇总得分!$E:$H,4,FALSE)","v":{"v":1.0402,"d":"1.04"}},{"$f":"VLOOKUP(C:C,[1]汇总得分!$E:$I,5,FALSE)","v":{"v":73.1607333333333,"d":"73.16"}}]
[29,"52003080284","宋卓琼","522228****24044X","护理部导诊员","C08",{"$f":"VLOOKUP(C:C,[1]汇总得分!$B:$D,3,FALSE)","v":"第一考场"},{"$f":"VLOOKUP(C:C,[1]汇总得分!$B:$C,2,FALSE)","v":27},{"$f":"VLOOKUP(C:C,[1]汇总得分!$E:$G,3,FALSE)","v":{"v":70.3333333333333,"d":"70.33"}},{"$f":"VLOOKUP(C:C,[1]汇总得分!$E:$H,4,FALSE)","v":{"v":1.0402,"d":"1.04"}},{"$f":"VLOOKUP(C:C,[1]汇总得分!$E:$I,5,FALSE)","v":{"v":73.1607333333333,"d":"73.16"}}]
[30,"52003080075","况龙涛","522128****040076","护理部导诊员","C08",{"$f":"VLOOKUP(C:C,[1]汇总得分!$B:$D,3,FALSE)","v":"第一考场"},{"$f":"VLOOKUP(C:C,[1]汇总得分!$B:$C,2,FALSE)","v":5},{"$f":"VLOOKUP(C:C,[1]汇总得分!$E:$G,3,FALSE)","v":{"v":70.3333333333333,"d":"70.33"}},{"$f":"VLOOKUP(C:C,[1]汇总得分!$E:$H,4,FALSE)","v":{"v":1.0402,"d":"1.04"}},{"$f":"VLOOKUP(C:C,[1]汇总得分!$E:$I,5,FALSE)","v":{"v":73.1607333333333,"d":"73.16"}}]
[31,"52003080234","黄仕美","522727****123648","护理部导诊员","C08",{"$f":"VLOOKUP(C:C,[1]汇总得分!$B:$D,3,FALSE)","v":"第一考场"},{"$f":"VLOOKUP(C:C,[1]汇总得分!$B:$C,2,FALSE)","v":105},{"$f":"VLOOKUP(C:C,[1]汇总得分!$E:$G,3,FALSE)","v":{"v":70,"d":"70.00"}},{"$f":"VLOOKUP(C:C,[1]汇总得分!$E:$H,4,FALSE)","v":{"v":1.0402,"d":"1.04"}},{"$f":"VLOOKUP(C:C,[1]汇总得分!$E:$I,5,FALSE)","v":{"v":72.814,"d":"72.81"}}]
[32,"52003080092","徐小素","522132****15322X","护理部导诊员","C08",{"$f":"VLOOKUP(C:C,[1]汇总得分!$B:$D,3,FALSE)","v":"第一考场"},{"$f":"VLOOKUP(C:C,[1]汇总得分!$B:$C,2,FALSE)","v":94},{"$f":"VLOOKUP(C:C,[1]汇总得分!$E:$G,3,FALSE)","v":{"v":70,"d":"70.00"}},{"$f":"VLOOKUP(C:C,[1]汇总得分!$E:$H,4,FALSE)","v":{"v":1.0402,"d":"1.04"}},{"$f":"VLOOKUP(C:C,[1]汇总得分!$E:$I,5,FALSE)","v":{"v":72.814,"d":"72.81"}}]
[33,"52003080014","杜芳","522224****08006X","护理部导诊员","C08",{"$f":"VLOOKUP(C:C,[1]汇总得分!$B:$D,3,FALSE)","v":"第一考场"},{"$f":"VLOOKUP(C:C,[1]汇总得分!$B:$C,2,FALSE)","v":37},{"$f":"VLOOKUP(C:C,[1]汇总得分!$E:$G,3,FALSE)","v":{"v":70,"d":"70.00"}},{"$f":"VLOOKUP(C:C,[1]汇总得分!$E:$H,4,FALSE)","v":{"v":1.0402,"d":"1.04"}},{"$f":"VLOOKUP(C:C,[1]汇总得分!$E:$I,5,FALSE)","v":{"v":72.814,"d":"72.81"}}]
[34,"52003080200","苏丽","522121****05262X","护理部导诊员","C08",{"$f":"VLOOKUP(C:C,[1]汇总得分!$B:$D,3,FALSE)","v":"第二考场"},{"$f":"VLOOKUP(C:C,[1]汇总得分!$B:$C,2,FALSE)","v":94},{"$f":"VLOOKUP(C:C,[1]汇总得分!$E:$G,3,FALSE)","v":{"v":74.6666666666667,"d":"74.67"}},{"$f":"VLOOKUP(C:C,[1]汇总得分!$E:$H,4,FALSE)","v":{"v":0.97072239467203,"d":"0.97"}},{"$f":"VLOOKUP(C:C,[1]汇总得分!$E:$I,5,FALSE)","v":{"v":72.4806054688449,"d":"72.48"}}]
[35,"52003080085","高梦颜","522401****21044X","护理部导诊员","C08",{"$f":"VLOOKUP(C:C,[1]汇总得分!$B:$D,3,FALSE)","v":"第一考场"},{"$f":"VLOOKUP(C:C,[1]汇总得分!$B:$C,2,FALSE)","v":21},{"$f":"VLOOKUP(C:C,[1]汇总得分!$E:$G,3,FALSE)","v":{"v":69.6666666666667,"d":"69.67"}},{"$f":"VLOOKUP(C:C,[1]汇总得分!$E:$H,4,FALSE)","v":{"v":1.0402,"d":"1.04"}},{"$f":"VLOOKUP(C:C,[1]汇总得分!$E:$I,5,FALSE)","v":{"v":72.4672666666667,"d":"72.47"}}]
[36,"52003080262","肖灿","522427****25008X","护理部导诊员","C08",{"$f":"VLOOKUP(C:C,[1]汇总得分!$B:$D,3,FALSE)","v":"第一考场"},{"$f":"VLOOKUP(C:C,[1]汇总得分!$B:$C,2,FALSE)","v":29},{"$f":"VLOOKUP(C:C,[1]汇总得分!$E:$G,3,FALSE)","v":{"v":69.6666666666667,"d":"69.67"}},{"$f":"VLOOKUP(C:C,[1]汇总得分!$E:$H,4,FALSE)","v":{"v":1.0402,"d":"1.04"}},{"$f":"VLOOKUP(C:C,[1]汇总得分!$E:$I,5,FALSE)","v":{"v":72.4672666666667,"d":"72.47"}}]
[37,"52003080293","杨苹","522629****150028","护理部导诊员","C08",{"$f":"VLOOKUP(C:C,[1]汇总得分!$B:$D,3,FALSE)","v":"第一考场"},{"$f":"VLOOKUP(C:C,[1]汇总得分!$B:$C,2,FALSE)","v":72},{"$f":"VLOOKUP(C:C,[1]汇总得分!$E:$G,3,FALSE)","v":{"v":69.6666666666667,"d":"69.67"}},{"$f":"VLOOKUP(C:C,[1]汇总得分!$E:$H,4,FALSE)","v":{"v":1.0402,"d":"1.04"}},{"$f":"VLOOKUP(C:C,[1]汇总得分!$E:$I,5,FALSE)","v":{"v":72.4672666666667,"d":"72.47"}}]
[38,"52003080179","袁露","522228****080044","护理部导诊员","C08",{"$f":"VLOOKUP(C:C,[1]汇总得分!$B:$D,3,FALSE)","v":"第一考场"},{"$f":"VLOOKUP(C:C,[1]汇总得分!$B:$C,2,FALSE)","v":43},{"$f":"VLOOKUP(C:C,[1]汇总得分!$E:$G,3,FALSE)","v":{"v":69.6666666666667,"d":"69.67"}},{"$f":"VLOOKUP(C:C,[1]汇总得分!$E:$H,4,FALSE)","v":{"v":1.0402,"d":"1.04"}},{"$f":"VLOOKUP(C:C,[1]汇总得分!$E:$I,5,FALSE)","v":{"v":72.4672666666667,"d":"72.47"}}]
[39,"52003080190","田瑶","522228****130420","护理部导诊员","C08",{"$f":"VLOOKUP(C:C,[1]汇总得分!$B:$D,3,FALSE)","v":"第一考场"},{"$f":"VLOOKUP(C:C,[1]汇总得分!$B:$C,2,FALSE)","v":103},{"$f":"VLOOKUP(C:C,[1]汇总得分!$E:$G,3,FALSE)","v":{"v":69.6666666666667,"d":"69.67"}},{"$f":"VLOOKUP(C:C,[1]汇总得分!$E:$H,4,FALSE)","v":{"v":1.0402,"d":"1.04"}},{"$f":"VLOOKUP(C:C,[1]汇总得分!$E:$I,5,FALSE)","v":{"v":72.4672666666667,"d":"72.47"}}]
[40,"52003080134","朱小月","522424****01024X","护理部导诊员","C08",{"$f":"VLOOKUP(C:C,[1]汇总得分!$B:$D,3,FALSE)","v":"第二考场"},{"$f":"VLOOKUP(C:C,[1]汇总得分!$B:$C,2,FALSE)","v":103},{"$f":"VLOOKUP(C:C,[1]汇总得分!$E:$G,3,FALSE)","v":{"v":74.3333333333333,"d":"74.33"}},{"$f":"VLOOKUP(C:C,[1]汇总得分!$E:$H,4,FALSE)","v":{"v":0.97072239467203,"d":"0.97"}},{"$f":"VLOOKUP(C:C,[1]汇总得分!$E:$I,5,FALSE)","v":{"v":72.1570313372875,"d":"72.16"}}]
[41,"52003080095","薛江萍","522127****17202X","护理部导诊员","C08",{"$f":"VLOOKUP(C:C,[1]汇总得分!$B:$D,3,FALSE)","v":"第一考场"},{"$f":"VLOOKUP(C:C,[1]汇总得分!$B:$C,2,FALSE)","v":57},{"$f":"VLOOKUP(C:C,[1]汇总得分!$E:$G,3,FALSE)","v":{"v":69.3333333333333,"d":"69.33"}},{"$f":"VLOOKUP(C:C,[1]汇总得分!$E:$H,4,FALSE)","v":{"v":1.0402,"d":"1.04"}},{"$f":"VLOOKUP(C:C,[1]汇总得分!$E:$I,5,FALSE)","v":{"v":72.1205333333333,"d":"72.12"}}]
[42,"52003080235","张炜鑫","522628****220012","护理部导诊员","C08",{"$f":"VLOOKUP(C:C,[1]汇总得分!$B:$D,3,FALSE)","v":"第一考场"},{"$f":"VLOOKUP(C:C,[1]汇总得分!$B:$C,2,FALSE)","v":16},{"$f":"VLOOKUP(C:C,[1]汇总得分!$E:$G,3,FALSE)","v":{"v":69.3333333333333,"d":"69.33"}},{"$f":"VLOOKUP(C:C,[1]汇总得分!$E:$H,4,FALSE)","v":{"v":1.0402,"d":"1.04"}},{"$f":"VLOOKUP(C:C,[1]汇总得分!$E:$I,5,FALSE)","v":{"v":72.1205333333333,"d":"72.12"}}]
[43,"52003080125","涂雪徽","522125****212540","护理部导诊员","C08",{"$f":"VLOOKUP(C:C,[1]汇总得分!$B:$D,3,FALSE)","v":"第一考场"},{"$f":"VLOOKUP(C:C,[1]汇总得分!$B:$C,2,FALSE)","v":64},{"$f":"VLOOKUP(C:C,[1]汇总得分!$E:$G,3,FALSE)","v":{"v":69.3333333333333,"d":"69.33"}},{"$f":"VLOOKUP(C:C,[1]汇总得分!$E:$H,4,FALSE)","v":{"v":1.0402,"d":"1.04"}},{"$f":"VLOOKUP(C:C,[1]汇总得分!$E:$I,5,FALSE)","v":{"v":72.1205333333333,"d":"72.12"}}]
[44,"52003080103","田睿","522128****175627","护理部导诊员","C08",{"$f":"VLOOKUP(C:C,[1]汇总得分!$B:$D,3,FALSE)","v":"第二考场"},{"$f":"VLOOKUP(C:C,[1]汇总得分!$B:$C,2,FALSE)","v":109},{"$f":"VLOOKUP(C:C,[1]汇总得分!$E:$G,3,FALSE)","v":{"v":74,"d":"74.00"}},{"$f":"VLOOKUP(C:C,[1]汇总得分!$E:$H,4,FALSE)","v":{"v":0.97072239467203,"d":"0.97"}},{"$f":"VLOOKUP(C:C,[1]汇总得分!$E:$I,5,FALSE)","v":{"v":71.8334572057302,"d":"71.83"}}]
[45,"52003080194","袁蝶","522425****258440","护理部导诊员","C08",{"$f":"VLOOKUP(C:C,[1]汇总得分!$B:$D,3,FALSE)","v":"第二考场"},{"$f":"VLOOKUP(C:C,[1]汇总得分!$B:$C,2,FALSE)","v":93},{"$f":"VLOOKUP(C:C,[1]汇总得分!$E:$G,3,FALSE)","v":{"v":74,"d":"74.00"}},{"$f":"VLOOKUP(C:C,[1]汇总得分!$E:$H,4,FALSE)","v":{"v":0.97072239467203,"d":"0.97"}},{"$f":"VLOOKUP(C:C,[1]汇总得分!$E:$I,5,FALSE)","v":{"v":71.8334572057302,"d":"71.83"}}]
[46,"52003080203","喻怀扬","522702****280066","护理部导诊员","C08",{"$f":"VLOOKUP(C:C,[1]汇总得分!$B:$D,3,FALSE)","v":"第一考场"},{"$f":"VLOOKUP(C:C,[1]汇总得分!$B:$C,2,FALSE)","v":91},{"$f":"VLOOKUP(C:C,[1]汇总得分!$E:$G,3,FALSE)","v":{"v":69,"d":"69.00"}},{"$f":"VLOOKUP(C:C,[1]汇总得分!$E:$H,4,FALSE)","v":{"v":1.0402,"d":"1.04"}},{"$f":"VLOOKUP(C:C,[1]汇总得分!$E:$I,5,FALSE)","v":{"v":71.7738,"d":"71.77"}}]
[47,"52003080025","余丹丹","522128****061029","护理部导诊员","C08",{"$f":"VLOOKUP(C:C,[1]汇总得分!$B:$D,3,FALSE)","v":"第一考场"},{"$f":"VLOOKUP(C:C,[1]汇总得分!$B:$C,2,FALSE)","v":32},{"$f":"VLOOKUP(C:C,[1]汇总得分!$E:$G,3,FALSE)","v":{"v":69,"d":"69.00"}},{"$f":"VLOOKUP(C:C,[1]汇总得分!$E:$H,4,FALSE)","v":{"v":1.0402,"d":"1.04"}},{"$f":"VLOOKUP(C:C,[1]汇总得分!$E:$I,5,FALSE)","v":{"v":71.7738,"d":"71.77"}}]
[48,"52003080059","申敏敏","522227****087682","护理部导诊员","C08",{"$f":"VLOOKUP(C:C,[1]汇总得分!$B:$D,3,FALSE)","v":"第一考场"},{"$f":"VLOOKUP(C:C,[1]汇总得分!$B:$C,2,FALSE)","v":49},{"$f":"VLOOKUP(C:C,[1]汇总得分!$E:$G,3,FALSE)","v":{"v":69,"d":"69.00"}},{"$f":"VLOOKUP(C:C,[1]汇总得分!$E:$H,4,FALSE)","v":{"v":1.0402,"d":"1.04"}},{"$f":"VLOOKUP(C:C,[1]汇总得分!$E:$I,5,FALSE)","v":{"v":71.7738,"d":"71.77"}}]
[49,"52003080061","董华秀","520202****201629","护理部导诊员","C08",{"$f":"VLOOKUP(C:C,[1]汇总得分!$B:$D,3,FALSE)","v":"第一考场"},{"$f":"VLOOKUP(C:C,[1]汇总得分!$B:$C,2,FALSE)","v":129},{"$f":"VLOOKUP(C:C,[1]汇总得分!$E:$G,3,FALSE)","v":{"v":69,"d":"69.00"}},{"$f":"VLOOKUP(C:C,[1]汇总得分!$E:$H,4,FALSE)","v":{"v":1.0402,"d":"1.04"}},{"$f":"VLOOKUP(C:C,[1]汇总得分!$E:$I,5,FALSE)","v":{"v":71.7738,"d":"71.77"}}]
[50,"52003080073","何义","522227****224444","护理部导诊员","C08",{"$f":"VLOOKUP(C:C,[1]汇总得分!$B:$D,3,FALSE)","v":"第二考场"},{"$f":"VLOOKUP(C:C,[1]汇总得分!$B:$C,2,FALSE)","v":92},{"$f":"VLOOKUP(C:C,[1]汇总得分!$E:$G,3,FALSE)","v":{"v":73.6666666666667,"d":"73.67"}},{"$f":"VLOOKUP(C:C,[1]汇总得分!$E:$H,4,FALSE)","v":{"v":0.97072239467203,"d":"0.97"}},{"$f":"VLOOKUP(C:C,[1]汇总得分!$E:$I,5,FALSE)","v":{"v":71.5098830741729,"d":"71.51"}}]
[51,"52003080012","王荣美","522425****013626","护理部导诊员","C08",{"$f":"VLOOKUP(C:C,[1]汇总得分!$B:$D,3,FALSE)","v":"第一考场"},{"$f":"VLOOKUP(C:C,[1]汇总得分!$B:$C,2,FALSE)","v":40},{"$f":"VLOOKUP(C:C,[1]汇总得分!$E:$G,3,FALSE)","v":{"v":68.6666666666667,"d":"68.67"}},{"$f":"VLOOKUP(C:C,[1]汇总得分!$E:$H,4,FALSE)","v":{"v":1.0402,"d":"1.04"}},{"$f":"VLOOKUP(C:C,[1]汇总得分!$E:$I,5,FALSE)","v":{"v":71.4270666666667,"d":"71.43"}}]
[52,"52003080204","陈文施","520221****173327","护理部导诊员","C08",{"$f":"VLOOKUP(C:C,[1]汇总得分!$B:$D,3,FALSE)","v":"第一考场"},{"$f":"VLOOKUP(C:C,[1]汇总得分!$B:$C,2,FALSE)","v":134},{"$f":"VLOOKUP(C:C,[1]汇总得分!$E:$G,3,FALSE)","v":{"v":68.6666666666667,"d":"68.67"}},{"$f":"VLOOKUP(C:C,[1]汇总得分!$E:$H,4,FALSE)","v":{"v":1.0402,"d":"1.04"}},{"$f":"VLOOKUP(C:C,[1]汇总得分!$E:$I,5,FALSE)","v":{"v":71.4270666666667,"d":"71.43"}}]
[53,"52003080268","孙瑷","522401****261520","护理部导诊员","C08",{"$f":"VLOOKUP(C:C,[1]汇总得分!$B:$D,3,FALSE)","v":"第一考场"},{"$f":"VLOOKUP(C:C,[1]汇总得分!$B:$C,2,FALSE)","v":113},{"$f":"VLOOKUP(C:C,[1]汇总得分!$E:$G,3,FALSE)","v":{"v":68.6666666666667,"d":"68.67"}},{"$f":"VLOOKUP(C:C,[1]汇总得分!$E:$H,4,FALSE)","v":{"v":1.0402,"d":"1.04"}},{"$f":"VLOOKUP(C:C,[1]汇总得分!$E:$I,5,FALSE)","v":{"v":71.4270666666667,"d":"71.43"}}]
[54,"52003080136","张云雪","522426****104424","护理部导诊员","C08",{"$f":"VLOOKUP(C:C,[1]汇总得分!$B:$D,3,FALSE)","v":"第一考场"},{"$f":"VLOOKUP(C:C,[1]汇总得分!$B:$C,2,FALSE)","v":130},{"$f":"VLOOKUP(C:C,[1]汇总得分!$E:$G,3,FALSE)","v":{"v":68.6666666666667,"d":"68.67"}},{"$f":"VLOOKUP(C:C,[1]汇总得分!$E:$H,4,FALSE)","v":{"v":1.0402,"d":"1.04"}},{"$f":"VLOOKUP(C:C,[1]汇总得分!$E:$I,5,FALSE)","v":{"v":71.4270666666667,"d":"71.43"}}]
[55,"52003080145","袁花蕾","522132****253823","护理部导诊员","C08",{"$f":"VLOOKUP(C:C,[1]汇总得分!$B:$D,3,FALSE)","v":"第二考场"},{"$f":"VLOOKUP(C:C,[1]汇总得分!$B:$C,2,FALSE)","v":84},{"$f":"VLOOKUP(C:C,[1]汇总得分!$E:$G,3,FALSE)","v":{"v":73.3333333333333,"d":"73.33"}},{"$f":"VLOOKUP(C:C,[1]汇总得分!$E:$H,4,FALSE)","v":{"v":0.97072239467203,"d":"0.97"}},{"$f":"VLOOKUP(C:C,[1]汇总得分!$E:$I,5,FALSE)","v":{"v":71.1863089426155,"d":"71.19"}}]
[56,"52003080077","李安婷","522727****213629","护理部导诊员","C08",{"$f":"VLOOKUP(C:C,[1]汇总得分!$B:$D,3,FALSE)","v":"第二考场"},{"$f":"VLOOKUP(C:C,[1]汇总得分!$B:$C,2,FALSE)","v":28},{"$f":"VLOOKUP(C:C,[1]汇总得分!$E:$G,3,FALSE)","v":{"v":73,"d":"73.00"}},{"$f":"VLOOKUP(C:C,[1]汇总得分!$E:$H,4,FALSE)","v":{"v":0.97072239467203,"d":"0.97"}},{"$f":"VLOOKUP(C:C,[1]汇总得分!$E:$I,5,FALSE)","v":{"v":70.8627348110582,"d":"70.86"}}]
[57,"52003080111","陈文","522425****151007","护理部导诊员","C08",{"$f":"VLOOKUP(C:C,[1]汇总得分!$B:$D,3,FALSE)","v":"第一考场"},{"$f":"VLOOKUP(C:C,[1]汇总得分!$B:$C,2,FALSE)","v":83},{"$f":"VLOOKUP(C:C,[1]汇总得分!$E:$G,3,FALSE)","v":{"v":68,"d":"68.00"}},{"$f":"VLOOKUP(C:C,[1]汇总得分!$E:$H,4,FALSE)","v":{"v":1.0402,"d":"1.04"}},{"$f":"VLOOKUP(C:C,[1]汇总得分!$E:$I,5,FALSE)","v":{"v":70.7336,"d":"70.73"}}]
[58,"52003080169","母玉群","522427****043429","护理部导诊员","C08",{"$f":"VLOOKUP(C:C,[1]汇总得分!$B:$D,3,FALSE)","v":"第二考场"},{"$f":"VLOOKUP(C:C,[1]汇总得分!$B:$C,2,FALSE)","v":81},{"$f":"VLOOKUP(C:C,[1]汇总得分!$E:$G,3,FALSE)","v":{"v":72.6666666666667,"d":"72.67"}},{"$f":"VLOOKUP(C:C,[1]汇总得分!$E:$H,4,FALSE)","v":{"v":0.97072239467203,"d":"0.97"}},{"$f":"VLOOKUP(C:C,[1]汇总得分!$E:$I,5,FALSE)","v":{"v":70.5391606795009,"d":"70.54"}}]
[59,"52003080099","徐岗","522126****040119","护理部导诊员","C08",{"$f":"VLOOKUP(C:C,[1]汇总得分!$B:$D,3,FALSE)","v":"第二考场"},{"$f":"VLOOKUP(C:C,[1]汇总得分!$B:$C,2,FALSE)","v":100},{"$f":"VLOOKUP(C:C,[1]汇总得分!$E:$G,3,FALSE)","v":{"v":72.6666666666667,"d":"72.67"}},{"$f":"VLOOKUP(C:C,[1]汇总得分!$E:$H,4,FALSE)","v":{"v":0.97072239467203,"d":"0.97"}},{"$f":"VLOOKUP(C:C,[1]汇总得分!$E:$I,5,FALSE)","v":{"v":70.5391606795009,"d":"70.54"}}]
[60,"52003080069","刘娜","530381****060928","护理部导诊员","C08",{"$f":"VLOOKUP(C:C,[1]汇总得分!$B:$D,3,FALSE)","v":"第二考场"},{"$f":"VLOOKUP(C:C,[1]汇总得分!$B:$C,2,FALSE)","v":29},{"$f":"VLOOKUP(C:C,[1]汇总得分!$E:$G,3,FALSE)","v":{"v":72.6666666666667,"d":"72.67"}},{"$f":"VLOOKUP(C:C,[1]汇总得分!$E:$H,4,FALSE)","v":{"v":0.97072239467203,"d":"0.97"}},{"$f":"VLOOKUP(C:C,[1]汇总得分!$E:$I,5,FALSE)","v":{"v":70.5391606795009,"d":"70.54"}}]
[61,"52003080005","杨成成","522424****100211","护理部导诊员","C08",{"$f":"VLOOKUP(C:C,[1]汇总得分!$B:$D,3,FALSE)","v":"第二考场"},{"$f":"VLOOKUP(C:C,[1]汇总得分!$B:$C,2,FALSE)","v":19},{"$f":"VLOOKUP(C:C,[1]汇总得分!$E:$G,3,FALSE)","v":{"v":72.6666666666667,"d":"72.67"}},{"$f":"VLOOKUP(C:C,[1]汇总得分!$E:$H,4,FALSE)","v":{"v":0.97072239467203,"d":"0.97"}},{"$f":"VLOOKUP(C:C,[1]汇总得分!$E:$I,5,FALSE)","v":{"v":70.5391606795009,"d":"70.54"}}]
[62,"52003080029","徐茂程","520121****170015","护理部导诊员","C08",{"$f":"VLOOKUP(C:C,[1]汇总得分!$B:$D,3,FALSE)","v":"第二考场"},{"$f":"VLOOKUP(C:C,[1]汇总得分!$B:$C,2,FALSE)","v":102},{"$f":"VLOOKUP(C:C,[1]汇总得分!$E:$G,3,FALSE)","v":{"v":72.6666666666667,"d":"72.67"}},{"$f":"VLOOKUP(C:C,[1]汇总得分!$E:$H,4,FALSE)","v":{"v":0.97072239467203,"d":"0.97"}},{"$f":"VLOOKUP(C:C,[1]汇总得分!$E:$I,5,FALSE)","v":{"v":70.5391606795009,"d":"70.54"}}]
[63,"52003080030","杨国琴","522121****145827","护理部导诊员","C08",{"$f":"VLOOKUP(C:C,[1]汇总得分!$B:$D,3,FALSE)","v":"第二考场"},{"$f":"VLOOKUP(C:C,[1]汇总得分!$B:$C,2,FALSE)","v":11},{"$f":"VLOOKUP(C:C,[1]汇总得分!$E:$G,3,FALSE)","v":{"v":72.6666666666667,"d":"72.67"}},{"$f":"VLOOKUP(C:C,[1]汇总得分!$E:$H,4,FALSE)","v":{"v":0.97072239467203,"d":"0.97"}},{"$f":"VLOOKUP(C:C,[1]汇总得分!$E:$I,5,FALSE)","v":{"v":70.5391606795009,"d":"70.54"}}]
[64,"52003080222","杨茂田","522427****046244","护理部导诊员","C08",{"$f":"VLOOKUP(C:C,[1]汇总得分!$B:$D,3,FALSE)","v":"第一考场"},{"$f":"VLOOKUP(C:C,[1]汇总得分!$B:$C,2,FALSE)","v":84},{"$f":"VLOOKUP(C:C,[1]汇总得分!$E:$G,3,FALSE)","v":{"v":67.6666666666667,"d":"67.67"}},{"$f":"VLOOKUP(C:C,[1]汇总得分!$E:$H,4,FALSE)","v":{"v":1.0402,"d":"1.04"}},{"$f":"VLOOKUP(C:C,[1]汇总得分!$E:$I,5,FALSE)","v":{"v":70.3868666666667,"d":"70.39"}}]
[65,"52003080313","李润","522724****137227","护理部导诊员","C08",{"$f":"VLOOKUP(C:C,[1]汇总得分!$B:$D,3,FALSE)","v":"第一考场"},{"$f":"VLOOKUP(C:C,[1]汇总得分!$B:$C,2,FALSE)","v":81},{"$f":"VLOOKUP(C:C,[1]汇总得分!$E:$G,3,FALSE)","v":{"v":67.6666666666667,"d":"67.67"}},{"$f":"VLOOKUP(C:C,[1]汇总得分!$E:$H,4,FALSE)","v":{"v":1.0402,"d":"1.04"}},{"$f":"VLOOKUP(C:C,[1]汇总得分!$E:$I,5,FALSE)","v":{"v":70.3868666666667,"d":"70.39"}}]
[66,"52003080064","向碧伟","522121****055022","护理部导诊员","C08",{"$f":"VLOOKUP(C:C,[1]汇总得分!$B:$D,3,FALSE)","v":"第二考场"},{"$f":"VLOOKUP(C:C,[1]汇总得分!$B:$C,2,FALSE)","v":15},{"$f":"VLOOKUP(C:C,[1]汇总得分!$E:$G,3,FALSE)","v":{"v":72.3333333333333,"d":"72.33"}},{"$f":"VLOOKUP(C:C,[1]汇总得分!$E:$H,4,FALSE)","v":{"v":0.97072239467203,"d":"0.97"}},{"$f":"VLOOKUP(C:C,[1]汇总得分!$E:$I,5,FALSE)","v":{"v":70.2155865479435,"d":"70.22"}}]
[67,"52003080065","李淼","522723****090217","护理部导诊员","C08",{"$f":"VLOOKUP(C:C,[1]汇总得分!$B:$D,3,FALSE)","v":"第二考场"},{"$f":"VLOOKUP(C:C,[1]汇总得分!$B:$C,2,FALSE)","v":129},{"$f":"VLOOKUP(C:C,[1]汇总得分!$E:$G,3,FALSE)","v":{"v":72.3333333333333,"d":"72.33"}},{"$f":"VLOOKUP(C:C,[1]汇总得分!$E:$H,4,FALSE)","v":{"v":0.97072239467203,"d":"0.97"}},{"$f":"VLOOKUP(C:C,[1]汇总得分!$E:$I,5,FALSE)","v":{"v":70.2155865479435,"d":"70.22"}}]
[68,"52003080079","潘倩","522123****288622","护理部导诊员","C08",{"$f":"VLOOKUP(C:C,[1]汇总得分!$B:$D,3,FALSE)","v":"第一考场"},{"$f":"VLOOKUP(C:C,[1]汇总得分!$B:$C,2,FALSE)","v":115},{"$f":"VLOOKUP(C:C,[1]汇总得分!$E:$G,3,FALSE)","v":{"v":67.3333333333333,"d":"67.33"}},{"$f":"VLOOKUP(C:C,[1]汇总得分!$E:$H,4,FALSE)","v":{"v":1.0402,"d":"1.04"}},{"$f":"VLOOKUP(C:C,[1]汇总得分!$E:$I,5,FALSE)","v":{"v":70.0401333333333,"d":"70.04"}}]
[69,"52003080101","龙清泓","522731****236862","护理部导诊员","C08",{"$f":"VLOOKUP(C:C,[1]汇总得分!$B:$D,3,FALSE)","v":"第一考场"},{"$f":"VLOOKUP(C:C,[1]汇总得分!$B:$C,2,FALSE)","v":60},{"$f":"VLOOKUP(C:C,[1]汇总得分!$E:$G,3,FALSE)","v":{"v":67.3333333333333,"d":"67.33"}},{"$f":"VLOOKUP(C:C,[1]汇总得分!$E:$H,4,FALSE)","v":{"v":1.0402,"d":"1.04"}},{"$f":"VLOOKUP(C:C,[1]汇总得分!$E:$I,5,FALSE)","v":{"v":70.0401333333333,"d":"70.04"}}]
[70,"52003080141","蒋雪傲","520181****202622","护理部导诊员","C08",{"$f":"VLOOKUP(C:C,[1]汇总得分!$B:$D,3,FALSE)","v":"第二考场"},{"$f":"VLOOKUP(C:C,[1]汇总得分!$B:$C,2,FALSE)","v":96},{"$f":"VLOOKUP(C:C,[1]汇总得分!$E:$G,3,FALSE)","v":{"v":72,"d":"72.00"}},{"$f":"VLOOKUP(C:C,[1]汇总得分!$E:$H,4,FALSE)","v":{"v":0.97072239467203,"d":"0.97"}},{"$f":"VLOOKUP(C:C,[1]汇总得分!$E:$I,5,FALSE)","v":{"v":69.8920124163862,"d":"69.89"}}]
[71,"52003080229","杨柳","520421****220047","护理部导诊员","C08",{"$f":"VLOOKUP(C:C,[1]汇总得分!$B:$D,3,FALSE)","v":"第二考场"},{"$f":"VLOOKUP(C:C,[1]汇总得分!$B:$C,2,FALSE)","v":101},{"$f":"VLOOKUP(C:C,[1]汇总得分!$E:$G,3,FALSE)","v":{"v":72,"d":"72.00"}},{"$f":"VLOOKUP(C:C,[1]汇总得分!$E:$H,4,FALSE)","v":{"v":0.97072239467203,"d":"0.97"}},{"$f":"VLOOKUP(C:C,[1]汇总得分!$E:$I,5,FALSE)","v":{"v":69.8920124163862,"d":"69.89"}}]
[72,"52003080153","陈星月","522426****257367","护理部导诊员","C08",{"$f":"VLOOKUP(C:C,[1]汇总得分!$B:$D,3,FALSE)","v":"第二考场"},{"$f":"VLOOKUP(C:C,[1]汇总得分!$B:$C,2,FALSE)","v":113},{"$f":"VLOOKUP(C:C,[1]汇总得分!$E:$G,3,FALSE)","v":{"v":72,"d":"72.00"}},{"$f":"VLOOKUP(C:C,[1]汇总得分!$E:$H,4,FALSE)","v":{"v":0.97072239467203,"d":"0.97"}},{"$f":"VLOOKUP(C:C,[1]汇总得分!$E:$I,5,FALSE)","v":{"v":69.8920124163862,"d":"69.89"}}]
[73,"52003080160","吴正兰","522724****092189","护理部导诊员","C08",{"$f":"VLOOKUP(C:C,[1]汇总得分!$B:$D,3,FALSE)","v":"第二考场"},{"$f":"VLOOKUP(C:C,[1]汇总得分!$B:$C,2,FALSE)","v":31},{"$f":"VLOOKUP(C:C,[1]汇总得分!$E:$G,3,FALSE)","v":{"v":72,"d":"72.00"}},{"$f":"VLOOKUP(C:C,[1]汇总得分!$E:$H,4,FALSE)","v":{"v":0.97072239467203,"d":"0.97"}},{"$f":"VLOOKUP(C:C,[1]汇总得分!$E:$I,5,FALSE)","v":{"v":69.8920124163862,"d":"69.89"}}]
[74,"52003080151","杨敏","522422****224029","护理部导诊员","C08",{"$f":"VLOOKUP(C:C,[1]汇总得分!$B:$D,3,FALSE)","v":"第二考场"},{"$f":"VLOOKUP(C:C,[1]汇总得分!$B:$C,2,FALSE)","v":63},{"$f":"VLOOKUP(C:C,[1]汇总得分!$E:$G,3,FALSE)","v":{"v":72,"d":"72.00"}},{"$f":"VLOOKUP(C:C,[1]汇总得分!$E:$H,4,FALSE)","v":{"v":0.97072239467203,"d":"0.97"}},{"$f":"VLOOKUP(C:C,[1]汇总得分!$E:$I,5,FALSE)","v":{"v":69.8920124163862,"d":"69.89"}}]
[75,"52003080007","林钰奉","522130****050827","护理部导诊员","C08",{"$f":"VLOOKUP(C:C,[1]汇总得分!$B:$D,3,FALSE)","v":"第二考场"},{"$f":"VLOOKUP(C:C,[1]汇总得分!$B:$C,2,FALSE)","v":124},{"$f":"VLOOKUP(C:C,[1]汇总得分!$E:$G,3,FALSE)","v":{"v":71.6666666666667,"d":"71.67"}},{"$f":"VLOOKUP(C:C,[1]汇总得分!$E:$H,4,FALSE)","v":{"v":0.97072239467203,"d":"0.97"}},{"$f":"VLOOKUP(C:C,[1]汇总得分!$E:$I,5,FALSE)","v":{"v":69.5684382848289,"d":"69.57"}}]
[76,"52003080220","田婷","522228****150189","护理部导诊员","C08",{"$f":"VLOOKUP(C:C,[1]汇总得分!$B:$D,3,FALSE)","v":"第二考场"},{"$f":"VLOOKUP(C:C,[1]汇总得分!$B:$C,2,FALSE)","v":27},{"$f":"VLOOKUP(C:C,[1]汇总得分!$E:$G,3,FALSE)","v":{"v":71.6666666666667,"d":"71.67"}},{"$f":"VLOOKUP(C:C,[1]汇总得分!$E:$H,4,FALSE)","v":{"v":0.97072239467203,"d":"0.97"}},{"$f":"VLOOKUP(C:C,[1]汇总得分!$E:$I,5,FALSE)","v":{"v":69.5684382848289,"d":"69.57"}}]
[77,"52003080332","彭依婷","522229****033625","护理部导诊员","C08",{"$f":"VLOOKUP(C:C,[1]汇总得分!$B:$D,3,FALSE)","v":"第二考场"},{"$f":"VLOOKUP(C:C,[1]汇总得分!$B:$C,2,FALSE)","v":115},{"$f":"VLOOKUP(C:C,[1]汇总得分!$E:$G,3,FALSE)","v":{"v":71.6666666666667,"d":"71.67"}},{"$f":"VLOOKUP(C:C,[1]汇总得分!$E:$H,4,FALSE)","v":{"v":0.97072239467203,"d":"0.97"}},{"$f":"VLOOKUP(C:C,[1]汇总得分!$E:$I,5,FALSE)","v":{"v":69.5684382848289,"d":"69.57"}}]
[78,"52003080208","余泷","500222****036643","护理部导诊员","C08",{"$f":"VLOOKUP(C:C,[1]汇总得分!$B:$D,3,FALSE)","v":"第二考场"},{"$f":"VLOOKUP(C:C,[1]汇总得分!$B:$C,2,FALSE)","v":110},{"$f":"VLOOKUP(C:C,[1]汇总得分!$E:$G,3,FALSE)","v":{"v":71.3333333333333,"d":"71.33"}},{"$f":"VLOOKUP(C:C,[1]汇总得分!$E:$H,4,FALSE)","v":{"v":0.97072239467203,"d":"0.97"}},{"$f":"VLOOKUP(C:C,[1]汇总得分!$E:$I,5,FALSE)","v":{"v":69.2448641532715,"d":"69.24"}}]
[79,"52003080319","张涛","522725****097836","护理部导诊员","C08",{"$f":"VLOOKUP(C:C,[1]汇总得分!$B:$D,3,FALSE)","v":"第二考场"},{"$f":"VLOOKUP(C:C,[1]汇总得分!$B:$C,2,FALSE)","v":125},{"$f":"VLOOKUP(C:C,[1]汇总得分!$E:$G,3,FALSE)","v":{"v":71.3333333333333,"d":"71.33"}},{"$f":"VLOOKUP(C:C,[1]汇总得分!$E:$H,4,FALSE)","v":{"v":0.97072239467203,"d":"0.97"}},{"$f":"VLOOKUP(C:C,[1]汇总得分!$E:$I,5,FALSE)","v":{"v":69.2448641532715,"d":"69.24"}}]
[80,"52003080269","罗小丽","522323****028520","护理部导诊员","C08",{"$f":"VLOOKUP(C:C,[1]汇总得分!$B:$D,3,FALSE)","v":"第二考场"},{"$f":"VLOOKUP(C:C,[1]汇总得分!$B:$C,2,FALSE)","v":95},{"$f":"VLOOKUP(C:C,[1]汇总得分!$E:$G,3,FALSE)","v":{"v":71.3333333333333,"d":"71.33"}},{"$f":"VLOOKUP(C:C,[1]汇总得分!$E:$H,4,FALSE)","v":{"v":0.97072239467203,"d":"0.97"}},{"$f":"VLOOKUP(C:C,[1]汇总得分!$E:$I,5,FALSE)","v":{"v":69.2448641532715,"d":"69.24"}}]
[81,"52003080127","王典","520102****143828","护理部导诊员","C08",{"$f":"VLOOKUP(C:C,[1]汇总得分!$B:$D,3,FALSE)","v":"第二考场"},{"$f":"VLOOKUP(C:C,[1]汇总得分!$B:$C,2,FALSE)","v":48},{"$f":"VLOOKUP(C:C,[1]汇总得分!$E:$G,3,FALSE)","v":{"v":71,"d":"71.00"}},{"$f":"VLOOKUP(C:C,[1]汇总得分!$E:$H,4,FALSE)","v":{"v":0.97072239467203,"d":"0.97"}},{"$f":"VLOOKUP(C:C,[1]汇总得分!$E:$I,5,FALSE)","v":{"v":68.9212900217141,"d":"68.92"}}]
[82,"52003080006","王成潞","520112****012821","护理部导诊员","C08",{"$f":"VLOOKUP(C:C,[1]汇总得分!$B:$D,3,FALSE)","v":"第二考场"},{"$f":"VLOOKUP(C:C,[1]汇总得分!$B:$C,2,FALSE)","v":49},{"$f":"VLOOKUP(C:C,[1]汇总得分!$E:$G,3,FALSE)","v":{"v":71,"d":"71.00"}},{"$f":"VLOOKUP(C:C,[1]汇总得分!$E:$H,4,FALSE)","v":{"v":0.97072239467203,"d":"0.97"}},{"$f":"VLOOKUP(C:C,[1]汇总得分!$E:$I,5,FALSE)","v":{"v":68.9212900217141,"d":"68.92"}}]
[83,"52003080175","程倩丽","522130****225224","护理部导诊员","C08",{"$f":"VLOOKUP(C:C,[1]汇总得分!$B:$D,3,FALSE)","v":"第二考场"},{"$f":"VLOOKUP(C:C,[1]汇总得分!$B:$C,2,FALSE)","v":32},{"$f":"VLOOKUP(C:C,[1]汇总得分!$E:$G,3,FALSE)","v":{"v":70.6666666666667,"d":"70.67"}},{"$f":"VLOOKUP(C:C,[1]汇总得分!$E:$H,4,FALSE)","v":{"v":0.97072239467203,"d":"0.97"}},{"$f":"VLOOKUP(C:C,[1]汇总得分!$E:$I,5,FALSE)","v":{"v":68.5977158901568,"d":"68.60"}}]
[84,"52003080011","严雪","522221****044381","护理部导诊员","C08",{"$f":"VLOOKUP(C:C,[1]汇总得分!$B:$D,3,FALSE)","v":"第二考场"},{"$f":"VLOOKUP(C:C,[1]汇总得分!$B:$C,2,FALSE)","v":34},{"$f":"VLOOKUP(C:C,[1]汇总得分!$E:$G,3,FALSE)","v":{"v":70.3333333333333,"d":"70.33"}},{"$f":"VLOOKUP(C:C,[1]汇总得分!$E:$H,4,FALSE)","v":{"v":0.97072239467203,"d":"0.97"}},{"$f":"VLOOKUP(C:C,[1]汇总得分!$E:$I,5,FALSE)","v":{"v":68.2741417585994,"d":"68.27"}}]
[85,"52003080282","陈俊豪","522228****181111","护理部导诊员","C08",{"$f":"VLOOKUP(C:C,[1]汇总得分!$B:$D,3,FALSE)","v":"第二考场"},{"$f":"VLOOKUP(C:C,[1]汇总得分!$B:$C,2,FALSE)","v":2},{"$f":"VLOOKUP(C:C,[1]汇总得分!$E:$G,3,FALSE)","v":{"v":69.3333333333333,"d":"69.33"}},{"$f":"VLOOKUP(C:C,[1]汇总得分!$E:$H,4,FALSE)","v":{"v":0.97072239467203,"d":"0.97"}},{"$f":"VLOOKUP(C:C,[1]汇总得分!$E:$I,5,FALSE)","v":{"v":67.3034193639274,"d":"67.30"}}]
[86,"52003080071","施念","522121****203266","护理部导诊员","C08",{"$f":"VLOOKUP(C:C,[1]汇总得分!$B:$D,3,FALSE)","v":"第二考场"},{"$f":"VLOOKUP(C:C,[1]汇总得分!$B:$C,2,FALSE)","v":1},{"$f":"VLOOKUP(C:C,[1]汇总得分!$E:$G,3,FALSE)","v":{"v":68.6666666666667,"d":"68.67"}},{"$f":"VLOOKUP(C:C,[1]汇总得分!$E:$H,4,FALSE)","v":{"v":0.97072239467203,"d":"0.97"}},{"$f":"VLOOKUP(C:C,[1]汇总得分!$E:$I,5,FALSE)","v":{"v":66.6562711008128,"d":"66.66"}}]
[87,"52003080209","陈芳","522527****181125","护理部导诊员","C08",{"$f":"VLOOKUP(C:C,[1]汇总得分!$B:$D,3,FALSE)","v":"第二考场"},{"$f":"VLOOKUP(C:C,[1]汇总得分!$B:$C,2,FALSE)","v":54},{"$f":"VLOOKUP(C:C,[1]汇总得分!$E:$G,3,FALSE)","v":{"v":68,"d":"68.00"}},{"$f":"VLOOKUP(C:C,[1]汇总得分!$E:$H,4,FALSE)","v":{"v":0.97072239467203,"d":"0.97"}},{"$f":"VLOOKUP(C:C,[1]汇总得分!$E:$I,5,FALSE)","v":{"v":66.009122837698,"d":"66.01"}}]
[88,"52003080214","陈芳","522425****025127","护理部导诊员","C08",{"$f":"VLOOKUP(C:C,[1]汇总得分!$B:$D,3,FALSE)","v":"第二考场"},{"$f":"VLOOKUP(C:C,[1]汇总得分!$B:$C,2,FALSE)","v":54},{"$f":"VLOOKUP(C:C,[1]汇总得分!$E:$G,3,FALSE)","v":{"v":68,"d":"68.00"}},{"$f":"VLOOKUP(C:C,[1]汇总得分!$E:$H,4,FALSE)","v":{"v":0.97072239467203,"d":"0.97"}},{"$f":"VLOOKUP(C:C,[1]汇总得分!$E:$I,5,FALSE)","v":{"v":66.009122837698,"d":"66.01"}}]
[89,"52003080056","毛玲艳","520221****012721","护理部导诊员","C08",{"$f":"VLOOKUP(C:C,[1]汇总得分!$B:$D,3,FALSE)","v":"第二考场"},{"$f":"VLOOKUP(C:C,[1]汇总得分!$B:$C,2,FALSE)","v":61},{"$f":"VLOOKUP(C:C,[1]汇总得分!$E:$G,3,FALSE)","v":{"v":67,"d":"67.00"}},{"$f":"VLOOKUP(C:C,[1]汇总得分!$E:$H,4,FALSE)","v":{"v":0.97072239467203,"d":"0.97"}},{"$f":"VLOOKUP(C:C,[1]汇总得分!$E:$I,5,FALSE)","v":{"v":65.038400443026,"d":"65.04"}}]
[90,"52003080104","姚莉","522224****283620","护理部导诊员","C08",{"$nulls":4},"缺考"]
[91,"52003080333","周玲艳","520103****021625","护理部导诊员","C08",{"$nulls":4},"缺考"]
[92,"52003080325","代密","522428****254844","护理部导诊员","C08",{"$nulls":4},"缺考"]
[93,"52003080149","敖紫微","520113****052823","护理部导诊员","C08",{"$nulls":4},"缺考"]
[94,"52003080251","罗思格","532625****121340","护理部导诊员","C08",{"$nulls":4},"缺考"]
[95,"52003080285","张悦","522122****181621","护理部导诊员","C08",{"$nulls":4},"缺考"]
[96,"52003080193","涂琳","522128****243589","护理部导诊员","C08",{"$nulls":4},"缺考"]
[97,"52003080102","龙丹","522424****223865","护理部导诊员","C08",{"$nulls":4},"缺考"]
[98,"52003080250","陈宗叶","522701****103928","护理部导诊员","C08",{"$nulls":4},"缺考"]
[99,"52003080249","李露","522426****15712x","护理部导诊员","C08",{"$nulls":4},"缺考"]
[100,"52003080210","赵乾菊","520122****090623","护理部导诊员","C08",{"$nulls":4},"缺考"]
[101,"52003080202","石莉琳","522225****282047","护理部导诊员","C08",{"$nulls":4},"缺考"]
[102,"52003080238","伍诗语","520112****010920","护理部导诊员","C08",{"$nulls":4},"缺考"]
[103,"52003080016","袁燕","522131****104625","护理部导诊员","C08",{"$nulls":4},"缺考"]
[104,"52003080017","覃攀","522126****124016","护理部导诊员","C08",{"$nulls":4},"缺考"]
[105,"52003080042","肖维莉","522101****225628","护理部导诊员","C08",{"$nulls":4},"缺考"]
[106,"52003080063","宣钰珂","520102****274049","护理部导诊员","C08",{"$nulls":4},"缺考"]
[107,"52003080260","胡思宇","520181****08171x","护理部导诊员","C08",{"$nulls":4},"缺考"]
[108,"52003080230","穆元英","532128****121929","护理部导诊员","C08",{"$nulls":4},"缺考"]
[109,"52003080035","孔曼","522426****286520","护理部导诊员","C08",{"$nulls":4},"缺考"]
[110,"52003080045","周钰娟","522121****297641","护理部导诊员","C08",{"$nulls":4},"缺考"]
[111,"52003080093","陈潞瑶","522731****16002X","护理部导诊员","C08",{"$nulls":4},"缺考"]
[112,"52003080091","吴道群","522423****209384","护理部导诊员","C08",{"$nulls":4},"缺考"]
[113,"52003080066","刘消消","522124****180982","护理部导诊员","C08",{"$nulls":4},"缺考"]
[114,"52003080146","方若娴","522730****171728","护理部导诊员","C08",{"$nulls":4},"缺考"]
[115,"52003080303","陈紫涵","522425****046964","护理部导诊员","C08",{"$nulls":4},"缺考"]
[116,"52003080236","廖继鹏","522325****060819","护理部导诊员","C08",{"$nulls":4},"缺考"]
[117,"52003080041","章秀花","522624****130063","护理部导诊员","C08",{"$nulls":4},"缺考"]
[118,"52003080138","胡娜娜","522526****111824","护理部导诊员","C08",{"$nulls":4},"缺考"]
[119,"52003080174","陈香","522424****199722","护理部导诊员","C08",{"$nulls":4},"缺考"]
[120,"52003080244","李希雯","522127****190025","护理部导诊员","C08",{"$nulls":4},"缺考"]
[121,"52003080273","唐丹","522323****232363","护理部导诊员","C08",{"$nulls":4},"缺考"]
[122,"52003080010","黄月跃","522724****273144","护理部导诊员","C08",{"$nulls":4},"缺考"]
[123,"52003080263","张月莹","372330****19304X","护理部导诊员","C08",{"$nulls":4},"缺考"]
[124,"52003080094","李芳","522424****160041","护理部导诊员","C08",{"$nulls":4},"缺考"]
[125,"52003080271","王迁迁","522727****014829","护理部导诊员","C08",{"$nulls":4},"缺考"]
[126,"52003080291","彭媛","522725****255525","护理部导诊员","C08",{"$nulls":4},"缺考"]
[127,"52003080157","张溢","520181****201724","护理部导诊员","C08",{"$nulls":4},"缺考"]
[128,"52003080322","陈正梅","522328****084129","护理部导诊员","C08",{"$nulls":4},"缺考"]
[129,"52003080256","陈娅","522422****03322X","护理部导诊员","C08",{"$nulls":4},"缺考"]
[130,"52003080022","陆淋淋","522132****097125","护理部导诊员","C08",{"$nulls":4},"缺考"]
[131,"52003080144","杨雯","520181****265226","护理部导诊员","C08",{"$nulls":4},"缺考"]
[132,"52003080311","陆妹朵","522728****083623","护理部导诊员","C08",{"$nulls":4},"缺考"]
[133,"52003080019","何恩慧","522528****151223","护理部导诊员","C08",{"$nulls":4},"缺考"]
[134,"52003080241","周萍萍","520102****197828","护理部导诊员","C08",{"$nulls":4},"缺考"]
[135,"52003080172","雷文蓉","520402****190023","护理部导诊员","C08",{"$nulls":4},"缺考"]
[136,"52003080181","罗连翠","522723****115148","护理部导诊员","C08",{"$nulls":4},"缺考"]
[137,"52003080329","李佳","522425****123929","护理部导诊员","C08",{"$nulls":4},"缺考"]
[138,"52003080283","焦艳丽","520321****190826","护理部导诊员","C08",{"$nulls":4},"缺考"]
[139,"52003080154","张珊珊","522226****08006X","护理部导诊员","C08",{"$nulls":4},"缺考"]
[140,"52003080227","王洪迪","522401****084844","护理部导诊员","C08",{"$nulls":4},"缺考"]
[141,"52003080078","田进婵","522227****17768X","护理部导诊员","C08",{"$nulls":4},"缺考"]
[142,"52003080083","李艳","522426****118323","护理部导诊员","C08",{"$nulls":4},"缺考"]
[143,"52003080158","罗丽萍","522401****052526","护理部导诊员","C08",{"$nulls":4},"缺考"]
[144,"52003080152","唐小艳","522634****043021","护理部导诊员","C08",{"$nulls":4},"缺考"]
[145,"52003080189","余家丽","522324****183621","护理部导诊员","C08",{"$nulls":4},"缺考"]
[146,"52003080296","颜倩","522321****151125","护理部导诊员","C08",{"$nulls":4},"缺考"]
[147,"52003080165","尚分","522725****047821","护理部导诊员","C08",{"$nulls":4},"缺考"]
[148,"52003080215","曹莉丽","522130****116020","护理部导诊员","C08",{"$nulls":4},"缺考"]
[149,"52003080242","彭芝芝","522425****200069","护理部导诊员","C08",{"$nulls":4},"缺考"]
[150,"52003080121","罗阳","522723****191562","护理部导诊员","C08",{"$nulls":4},"缺考"]
[151,"52003080301","秦雪雪","522424****184623","护理部导诊员","C08",{"$nulls":4},"缺考"]
[152,"52003080047","袁鸿洁","522132****290943","护理部导诊员","C08",{"$nulls":4},"缺考"]
[153,"52003080265","王燕","522401****04662X","护理部导诊员","C08",{"$nulls":4},"缺考"]
[154,"52003080086","王婷婷","520424****030047","护理部导诊员","C08",{"$nulls":4},"缺考"]
[155,"52003080182","沈烨","530381****304528","护理部导诊员","C08",{"$nulls":4},"缺考"]
[156,"52003080113","黄强容","522225****118427","护理部导诊员","C08",{"$nulls":4},"缺考"]
[157,"52003080038","詹桠旭","522223****082024","护理部导诊员","C08",{"$nulls":4},"缺考"]
[158,"52003080084","马春","522427****19450X","护理部导诊员","C08",{"$nulls":4},"缺考"]
[159,"52003080266","张梦玲","522428****064420","护理部导诊员","C08",{"$nulls":4},"缺考"]
[160,"52003080206","陈艳玲","522427****244205","护理部导诊员","C08",{"$nulls":4},"缺考"]
[161,"52003080192","金贤","520111****23332X","护理部导诊员","C08",{"$nulls":4},"缺考"]
[162,"52003080259","孙晓丽","532932****14092X","护理部导诊员","C08",{"$nulls":4},"缺考"]
[163,"52003080191","史江林","522425****121225","护理部导诊员","C08",{"$nulls":4},"缺考"]
[164,"52003080330","朱旭东","522126****071012","护理部导诊员","C08",{"$nulls":4},"缺考"]
[165,"52003080120","马郃云","520181****24171X","护理部导诊员","C08",{"$nulls":4},"缺考"]
[166,"52003080119","王婷","522425****219347","护理部导诊员","C08",{"$nulls":4},"缺考"]
[167,"52003080058","彭云","522425****178729","护理部导诊员","C08",{"$nulls":4},"缺考"]
[168,"52003080252","李丹丹","522128****21002x","护理部导诊员","C08",{"$nulls":4},"缺考"]
[169,"52003080213","杨顺雯","520102****192428","护理部导诊员","C08",{"$nulls":4},"缺考"]
[170,"52003080243","林秀丽","522528****092847","护理部导诊员","C08",{"$nulls":4},"缺考"]
[171,"52003080295","杨文文","520113****263626","护理部导诊员","C08",{"$nulls":4},"缺考"]
[172,"52003080299","胡忠云","522422****204028","护理部导诊员","C08",{"$nulls":4},"缺考"]
[173,"52003080110","朱凡靠","522427****283822","护理部导诊员","C08",{"$nulls":4},"缺考"]
[174,"52003080184","何云丹","522128****281569","护理部导诊员","C08",{"$nulls":4},"缺考"]
[175,"52003080176","杨春艳","522428****282028","护理部导诊员","C08",{"$nulls":4},"缺考"]
[176,"52003080001","周清雅","522121****166846","护理部导诊员","C08",{"$nulls":4},"缺考"]
[177,"52003080327","赵佳佳","522123****222023","护理部导诊员","C08",{"$nulls":4},"缺考"]
[178,"52003080257","陈瑜","522425****190046","护理部导诊员","C08",{"$nulls":4},"缺考"]
[179,"52003080267","李世会","522121****295028","护理部导诊员","C08",{"$nulls":4},"缺考"]
[180,"52003080167","田玉雪","522626****050826","护理部导诊员","C08",{"$nulls":4},"缺考"]
[181,"52003080161","陈守林","522225****160810","护理部导诊员","C08",{"$nulls":4},"缺考"]
[182,"52003080180","杨正敏","522226****120084","护理部导诊员","C08",{"$nulls":4},"缺考"]
[183,"52003080272","金媛媛","530381****112924","护理部导诊员","C08",{"$nulls":4},"缺考"]
[184,"52003080122","赵琼","522428****240622","护理部导诊员","C08",{"$nulls":4},"缺考"]
[185,"52003080108","穆小会","522132****202627","护理部导诊员","C08",{"$nulls":4},"缺考"]
[186,"52003080055","雷余慧","520103****035220","护理部导诊员","C08",{"$nulls":4},"缺考"]
[187,"52003080292","黄文玉 ","522101****134625","护理部导诊员","C08",{"$nulls":4},"缺考"]
[188,"52003080245","李志琴","522426****042448","护理部导诊员","C08",{"$nulls":4},"缺考"]
[189,"52003080280","范成钰","522501****155802","护理部导诊员","C08",{"$nulls":4},"缺考"]
[190,"52003080096","龙文","522427****165228","护理部导诊员","C08",{"$nulls":4},"缺考"]
[191,"52003080155","王雪","520102****295822","护理部导诊员","C08",{"$nulls":4},"缺考"]
[192,"52003080201","张恋","522228****132427","护理部导诊员","C08",{"$nulls":4},"缺考"]
[193,"52003080020","朱青青","522129****082520","护理部导诊员","C08",{"$nulls":4},"缺考"]
[194,"52003080211","任婷","522422****191623","护理部导诊员","C08",{"$nulls":4},"缺考"]
[195,"52003080137","张秀","522324****111242","护理部导诊员","C08",{"$nulls":4},"缺考"]
[196,"52003080159","李安宁","520112****020648","护理部导诊员","C08",{"$nulls":4},"缺考"]
[197,"52003080232","邓婕","522121****051228","护理部导诊员","C08",{"$nulls":4},"缺考"]
[198,"52003080100","曾东艳","522426****155621","护理部导诊员","C08",{"$nulls":4},"缺考"]
[199,"52003080188","赵江梅","522128****137527","护理部导诊员","C08",{"$nulls":4},"缺考"]
[200,"52003080223","周徐","522121****097649","护理部导诊员","C08",{"$nulls":4},"缺考"]
[201,"52003080306","李丽","522224****094420","护理部导诊员","C08",{"$nulls":4},"缺考"]
[202,"52003080147","文青青","522128****182527","护理部导诊员","C08",{"$nulls":4},"缺考"]
[203,"52003080015","卢小春","522127****23752X","护理部导诊员","C08",{"$nulls":4},"缺考"]
[204,"52003080036","罗江林","522121****01002X","护理部导诊员","C08",{"$nulls":4},"缺考"]
[205,"52003080109","杨红梅","522427****233221","护理部导诊员","C08",{"$nulls":4},"缺考"]
[206,"52003080297","杨胜桃","522634****034428","护理部导诊员","C08",{"$nulls":4},"缺考"]
[207,"52003080002","黎蓝易","522123****11052X","护理部导诊员","C08",{"$nulls":4},"缺考"]
[208,"52003080118","李咏思","522426****140128","护理部导诊员","C08",{"$nulls":4},"缺考"]
[209,"52003080178","张先丽","520113****113621","护理部导诊员","C08",{"$nulls":4},"缺考"]
[210,"52003080254","何潇雪","522125****272548","护理部导诊员","C08",{"$nulls":4},"缺考"]
[211,"52003080279","王琰","520121****186627","护理部导诊员","C08",{"$nulls":4},"缺考"]
[212,"52003080133","朱龙燕","522401****169845","护理部导诊员","C08",{"$nulls":4},"缺考"]
[213,"52003080131","贺俊玮","522125****152516","护理部导诊员","C08",{"$nulls":4},"缺考"]
[214,"52003080226","文美君","520102****302725","护理部导诊员","C08",{"$nulls":4},"缺考"]
[215,"52003080090","谭洪娟","522130****180146","护理部导诊员","C08",{"$nulls":4},"缺考"]
[216,"52003080142","朱清清","522128****150025","护理部导诊员","C08",{"$nulls":4},"缺考"]
[217,"52003080183","周霞","522401****13516X","护理部导诊员","C08",{"$nulls":4},"缺考"]
[218,"52003080060","罗晓蕾","522325****050026","护理部导诊员","C08",{"$nulls":4},"缺考"]
[219,"52003080298","李立兰","522625****180043","护理部导诊员","C08",{"$nulls":4},"缺考"]
[220,"52003080162","潘成玉","522324****030108","护理部导诊员","C08",{"$nulls":4},"缺考"]
[221,"52003080166","张兰","520202****138742","护理部导诊员","C08",{"$nulls":4},"缺考"]
[222,"52003080335","邱世欢","522325****302823","护理部导诊员","C08",{"$nulls":4},"缺考"]
[223,"52003080239","邹丹","520202****207729","护理部导诊员","C08",{"$nulls":4},"缺考"]
[224,"52003080037","黄靓","522121****124243","护理部导诊员","C08",{"$nulls":4},"缺考"]
[225,"52003080281","蒲廷敏","522121****166825","护理部导诊员","C08",{"$nulls":4},"缺考"]
[226,"52003080070","王海桃","522129****165047","护理部导诊员","C08",{"$nulls":4},"缺考"]
[227,"52003080218","鲁彩霞","522529****202629","护理部导诊员","C08",{"$nulls":4},"缺考"]
[228,"52003080326","朱海霞","520221****019847","护理部导诊员","C08",{"$nulls":4},"缺考"]
[229,"52003080324","吴凌子","522630****010545","护理部导诊员","C08",{"$nulls":4},"缺考"]
[230,"52003080305","吴水红","522630****110541","护理部导诊员","C08",{"$nulls":4},"缺考"]
[231,"52003080274","王利苹","522425****108746","护理部导诊员","C08",{"$nulls":4},"缺考"]
[232,"52003080277","潘琴","522625****272725","护理部导诊员","C08",{"$nulls":4},"缺考"]
[233,"52003080224","张蝶","522125****083728","护理部导诊员","C08",{"$nulls":4},"缺考"]
[234,"52003080032","张江伦","520203****166528","护理部导诊员","C08",{"$nulls":4},"缺考"]
[235,"52003080068","周雪薇","522526****272643","护理部导诊员","C08",{"$nulls":4},"缺考"]
[236,"52003080278","李淑玲","522422****110845","护理部导诊员","C08",{"$nulls":4},"缺考"]
[237,"52003080170","周明杨","522121****233627","护理部导诊员","C08",{"$nulls":4},"缺考"]
[238,"52003080046","何光旭","522325****100819","护理部导诊员","C08",{"$nulls":4},"缺考"]
[239,"52003080237","吴千慧","522629****143423","护理部导诊员","C08",{"$nulls":4},"缺考"]
[240,"52003080067","田双","522228****270066","护理部导诊员","C08",{"$nulls":4},"缺考"]
[241,"52003080023","朱珍珠","522628****295622","护理部导诊员","C08",{"$nulls":4},"缺考"]
[242,"52003080207","王艳红","522626****301621","护理部导诊员","C08",{"$nulls":4},"缺考"]
[243,"52003080128","李雨新","522401****220066","护理部导诊员","C08",{"$nulls":4},"缺考"]
[244,"52003080107","王立志","522125****021933","护理部导诊员","C08",{"$nulls":4},"缺考"]
[245,"52003080057","王佳佳","522121****30522X","护理部导诊员","C08",{"$nulls":4},"缺考"]
[246,"52003080217","邓清","522121****183829","护理部导诊员","C08",{"$nulls":4},"缺考"]
[247,"52003080049","陈韦","522425****106329","护理部导诊员","C08",{"$nulls":4},"缺考"]
[248,"52003080028","李昌松","522225****098721","护理部导诊员","C08",{"$nulls":4},"缺考"]
[249,"52003080334","安启霞","522127****242549","护理部导诊员","C08",{"$nulls":4},"缺考"]
[250,"52003080080","董禹甜","522424****23522X","护理部导诊员","C08",{"$nulls":4},"缺考"]
[251,"52003080205","张彤琪","520103****275648","护理部导诊员","C08",{"$nulls":4},"缺考"]
[252,"52003080156","黄江梅","520123****11242X","护理部导诊员","C08",{"$nulls":4},"缺考"]
[253,"52003080302","蔡婷婷","522123****15004X","护理部导诊员","C08",{"$nulls":4},"缺考"]
[254,"52003080164","崔亿","522228****140029","护理部导诊员","C08",{"$nulls":4},"缺考"]
[255,"52003080199","周小宇","522426****038422","护理部导诊员","C08",{"$nulls":4},"缺考"]
[256,"52003080168","郑龙","522321****060057","护理部导诊员","C08",{"$nulls":4},"缺考"]
[257,"52003080310","杨姗","522127****102520","护理部导诊员","C08",{"$nulls":4},"缺考"]
[258,"52003080171","李平","510322****023514","护理部导诊员","C08",{"$nulls":4},"缺考"]
[259,"52003080290","李丽萍","522426****010401","护理部导诊员","C08",{"$nulls":4},"缺考"]
[260,"52003080323","左明江","522425****150969","护理部导诊员","C08",{"$nulls":4},"缺考"]
[261,"52003080034","江青","522526****211825","护理部导诊员","C08",{"$nulls":4},"缺考"]
[262,"52003080173","陈治郅","522130****226827","护理部导诊员","C08",{"$nulls":4},"缺考"]
[263,"52003080255","文佳杰","522121****157026","护理部导诊员","C08",{"$nulls":4},"缺考"]
[264,"52003080048","周雨欣","522526****051049","护理部导诊员","C08",{"$nulls":4},"缺考"]
[265,"52003080309","陈庆庆","522121****191022","护理部导诊员","C08",{"$nulls":4},"缺考"]
[266,"52003080289","况仕兰","522121****037642","护理部导诊员","C08",{"$nulls":4},"缺考"]
[267,"52003080231","沈所艳","520202****047228","护理部导诊员","C08",{"$nulls":4},"缺考"]
[268,"52003080228","李化婷","522121****232428","护理部导诊员","C08",{"$nulls":4},"缺考"]
[269,"52003080082","岑阿松","522731****046134","护理部导诊员","C08",{"$nulls":4},"缺考"]
[270,"52003080308","陈忠鸟","522427****200262","护理部导诊员","C08",{"$nulls":4},"缺考"]
[271,"52003080253","陈倩倩","522626****150847","护理部导诊员","C08",{"$nulls":4},"缺考"]
[272,"52003080088","张靖宗","520201****05602X","护理部导诊员","C08",{"$nulls":4},"缺考"]
[273,"52003080187","罗建航","522128****211076","护理部导诊员","C08",{"$nulls":4},"缺考"]

{"sheet":"后勤科工程造价管理岗C10","index":4,"n_rows":8,"n_cols":9,"rows_kept":8}
["序号","报名序号","姓名","身份证号","岗位名称","岗位代码","抽签号","面试成绩","是否进入资格复审"]
[1,"52003100009","杨天雯静","5201021****62427","后勤科工程造价管理岗","C10",4,88.33,"是"]
[2,"52003100005","赵洪成","5116021****6509X","后勤科工程造价管理岗","C10",6,{"v":87,"d":"87.00"}]
[3,"52003100001","李航","5221211****52672","后勤科工程造价管理岗","C10",5,76.33]
[4,"52003100033","樊国陆","5224011****43215","后勤科工程造价管理岗","C10",1,71.67]
[5,"52003100019","安晓丽","5224231****34022","后勤科工程造价管理岗","C10",7,71.33]
[6,"52003100028","刘桂坊","5201121****02842","后勤科工程造价管理岗","C10",null,"缺考"]
[7,"52003100034","龙焕梅","5226311****69220","后勤科工程造价管理岗","C10",null,"缺考"]

{"sheet":"后勤科综合管理岗C11","index":5,"n_rows":23,"n_cols":9,"rows_kept":23}
["序号","报名序号","姓名","身份证号","岗位名称","岗位代码","抽签号","面试成绩","是否进入资格复审"]
[1,"52003110016","申圆圆","522126****187016","后勤科综合管理岗","C11",13,88.66,"是"]
[2,"52003110017","张万超","522501****085268","后勤科综合管理岗","C11",24,{"v":88,"d":"88.00"},"是"]
[3,"52003110012","贺延芳","520121****253841","后勤科综合管理岗","C11",16,{"v":80,"d":"80.00"}]
[4,"52003110024","吴晗","522128****122538","后勤科综合管理岗","C11",9,77.66]
[5,"52003110058","李海境","522422****270826","后勤科综合管理岗","C11",22,77.66]
[6,"52003110049","郭俊","522729****190012","后勤科综合管理岗","C11",8,76.33]
[7,"52003110028","朱亮","522501****124630","后勤科综合管理岗","C11",27,{"v":76,"d":"76.00"}]
[8,"52003110041","梁蓉蓉","520421****162221","后勤科综合管理岗","C11",29,{"v":75,"d":"75.00"}]
[9,"52003110001","赵志鑫","520123****051217","后勤科综合管理岗","C11",21,74.33]
[10,"52003110053","王力","520121****262817","后勤科综合管理岗","C11",10,{"v":74,"d":"74.00"}]
[11,"52003110015","李娇","522427****033765","后勤科综合管理岗","C11",25,{"v":74,"d":"74.00"}]
[12,"52003110044","陈晓萍","522501****242023","后勤科综合管理岗","C11",17,73.66]
[13,"52003110004","叶蒸富","522129****235019","后勤科综合管理岗","C11",14,73.33]
[14,"52003110022","安倩颖","522221****191248","后勤科综合管理岗","C11",23,{"v":70,"d":"70.00"}]
[15,"52003110077","田姣姣","522630****170484","后勤科综合管理岗","C11",null,"缺考"]
[16,"52003110073","丁成辰","522401****176428","后勤科综合管理岗","C11",null,"缺考"]
[17,"52003110069","陈玮","522101****156413","后勤科综合管理岗","C11",null,"缺考"]
[18,"52003110031","何卓怡","522427****111110","后勤科综合管理岗","C11",null,"缺考"]
[19,"52003110056","何秋霖","520221****151820","后勤科综合管理岗","C11",null,"缺考"]
[20,"52003110020","高小芬","520425****219921","后勤科综合管理岗","C11",null,"缺考"]
[21,"52003110021","李静","522129****220025","后勤科综合管理岗","C11",null,"缺考"]
[22,"52003110068","甘舰","522224****182012","后勤科综合管理岗","C11",null,"缺考"]