{"text_format":"3","workbook":"xlsx","n_sheets":1,"sheets":["体检名单"],"not_rendered":{"external_links":1,"defined_names":1},"read":"whole","date_system":"1900"}

{"sheet":"体检名单","index":0,"n_rows":87,"n_cols":10,"rows_kept":87,"merged":[[0,0,0,9],[1,0,1,9]]}
["附件：1"]
["六盘水市中医医院2023年面向社会公开招聘编外医务人员进入体检范围人员名单"]
["序号","姓名","单位代码","职位\n代码","笔试准考证号","面试准考证号","笔试成绩","面试成绩","总成绩=（笔试成绩/1.5*60%+面试成绩*40%）","备注"]
[1,"李思李",20230901,"01",{"$f":"\"202309011030\"","v":"202309011030"},202311110101,{"$f":"VLOOKUP(E4,[1]笔试排名!$E$3:$F$315,2,0)","v":102.33},{"v":76.4,"d":"76.40"},{"v":71.492,"d":"71.49"}]
[2,"徐天钟",20230901,"01",{"$f":"\"202309011115\"","v":"202309011115"},202311110102,{"$f":"VLOOKUP(E5,[1]笔试排名!$E$3:$F$315,2,0)","v":98.67},{"v":76.3,"d":"76.30"},{"v":69.988,"d":"69.99"}]
[3,"张晓",20230901,"01",{"$f":"\"202309011021\"","v":"202309011021"},202311110104,{"$f":"VLOOKUP(E6,[1]笔试排名!$E$3:$F$315,2,0)","v":90.91},{"v":79.2,"d":"79.20"},{"v":68.044,"d":"68.04"}]
[4,"代青苹",20230901,"01",{"$f":"\"202309011104\"","v":"202309011104"},202311110103,{"$f":"VLOOKUP(E7,[1]笔试排名!$E$3:$F$315,2,0)","v":92.07},{"v":75.8,"d":"75.80"},{"v":67.148,"d":"67.15"}]
[5,"颜欢",20230901,"01",{"$f":"\"202309011105\"","v":"202309011105"},202311110107,{"$f":"VLOOKUP(E8,[1]笔试排名!$E$3:$F$315,2,0)","v":87.49},{"v":79.1,"d":"79.10"},{"v":66.636,"d":"66.64"}]
[6,"陈鹏",20230901,"01",{"$f":"\"202309011113\"","v":"202309011113"},202311110105,{"$f":"VLOOKUP(E9,[1]笔试排名!$E$3:$F$315,2,0)","v":87.72},{"v":78.8,"d":"78.80"},{"v":66.608,"d":"66.61"}]
[7,"罗秀林",20230901,"01",{"$f":"\"202309011112\"","v":"202309011112"},202311110106,{"$f":"VLOOKUP(E10,[1]笔试排名!$E$3:$F$315,2,0)","v":87.56},{"v":77.4,"d":"77.40"},{"v":65.984,"d":"65.98"}]
[8,"李婷",20230901,"01",{"$f":"\"202309011106\"","v":"202309011106"},202311110108,{"$f":"VLOOKUP(E11,[1]笔试排名!$E$3:$F$315,2,0)","v":85.19},{"v":73.4,"d":"73.40"},{"v":63.436,"d":"63.44"}]
[9,"严宪",20230901,"01",{"$f":"\"202309011023\"","v":"202309011023"},202311110112,{"$f":"VLOOKUP(E12,[1]笔试排名!$E$3:$F$315,2,0)","v":{"v":82.3,"d":"82.30"}},{"v":76.1,"d":"76.10"},63.36]
[10,"孔维蚕",20230901,"01",{"$f":"\"202309011102\"","v":"202309011102"},202311110109,{"$f":"VLOOKUP(E13,[1]笔试排名!$E$3:$F$315,2,0)","v":85.04},{"v":72.8,"d":"72.80"},{"v":63.136,"d":"63.14"}]
[11,"杨娟",20230901,"02","202309011202",202311110301,103.88,77.06,{"v":72.376,"d":"72.38"}]
[12,"段忠梅",20230901,"02","202309011118",202311110303,{"v":95.6,"d":"95.60"},75.44,{"v":68.416,"d":"68.42"}]
[13,"张文杰",20230901,"02","202309011126",202311110304,94.34,76.34,{"v":68.272,"d":"68.27"}]
[14,"林丽",20230901,"02","202309011122",202311110306,92.02,71.72,{"v":65.496,"d":"65.50"}]
[15,"卢思涛",20230903,"01",{"$f":"\"202309010119\"","v":"202309010119"},202311110113,{"$f":"VLOOKUP(E18,[1]笔试排名!$E$3:$F$315,2,0)","v":126.89},{"v":78.9,"d":"78.90"},{"v":82.316,"d":"82.32"}]
[16,"林露露",20230903,"01",{"$f":"\"202309010116\"","v":"202309010116"},202311110115,{"$f":"VLOOKUP(E19,[1]笔试排名!$E$3:$F$315,2,0)","v":118.85},{"v":81,"d":"81.00"},79.94]
[17,"向永春",20230903,"01",{"$f":"\"202309010106\"","v":"202309010106"},202311110114,{"$f":"VLOOKUP(E20,[1]笔试排名!$E$3:$F$315,2,0)","v":119.36},{"v":76,"d":"76.00"},{"v":78.144,"d":"78.14"}]
[18,"姜华蓉",20230903,"01",{"$f":"\"202309010110\"","v":"202309010110"},202311110118,{"$f":"VLOOKUP(E21,[1]笔试排名!$E$3:$F$315,2,0)","v":115.42},{"v":79.2,"d":"79.20"},{"v":77.848,"d":"77.85"}]
[19,"田仁祥",20230903,"01",{"$f":"\"202309010118\"","v":"202309010118"},202311110116,{"$f":"VLOOKUP(E22,[1]笔试排名!$E$3:$F$315,2,0)","v":117.87},{"v":71.8,"d":"71.80"},{"v":75.868,"d":"75.87"}]
[20,"王璐玮",20230903,"01",{"$f":"\"202309010104\"","v":"202309010104"},202311110119,{"$f":"VLOOKUP(E23,[1]笔试排名!$E$3:$F$315,2,0)","v":{"v":113,"d":"113.00"}},{"v":74.7,"d":"74.70"},75.08]
[21,"赵倩",20230904,"01",{"$f":"\"202309010206\"","v":"202309010206"},202311110201,{"$f":"VLOOKUP(E24,[1]笔试排名!$E$3:$F$315,2,0)","v":114.16},{"v":72.5,"d":"72.50"},{"v":74.664,"d":"74.66"}]
[22,"潘志勇",20230904,"01",{"$f":"\"202309010302\"","v":"202309010302"},202311110208,{"$f":"VLOOKUP(E25,[1]笔试排名!$E$3:$F$315,2,0)","v":109.13},{"v":76.2,"d":"76.20"},{"v":74.132,"d":"74.13"}]
[23,"杨敏",20230904,"01",{"$f":"\"202309010216\"","v":"202309010216"},202311110207,{"$f":"VLOOKUP(E26,[1]笔试排名!$E$3:$F$315,2,0)","v":109.23},{"v":76,"d":"76.00"},{"v":74.092,"d":"74.09"}]
[24,"沙鑫",20230904,"01",{"$f":"\"202309010219\"","v":"202309010219"},202311110212,{"$f":"VLOOKUP(E27,[1]笔试排名!$E$3:$F$315,2,0)","v":107.35},{"v":77.5,"d":"77.50"},73.94]
[25,"刘白燕",20230904,"01",{"$f":"\"202309010221\"","v":"202309010221"},202311110205,{"$f":"VLOOKUP(E28,[1]笔试排名!$E$3:$F$315,2,0)","v":110.52},{"v":74.2,"d":"74.20"},{"v":73.888,"d":"73.89"}]
[26,"章晶宇",20230904,"01",{"$f":"\"202309010218\"","v":"202309010218"},202311110204,{"$f":"VLOOKUP(E29,[1]笔试排名!$E$3:$F$315,2,0)","v":111.17},{"v":72.7,"d":"72.70"},{"v":73.548,"d":"73.55"}]
[27,"周涛",20230904,"01",{"$f":"\"202309010203\"","v":"202309010203"},202311110209,{"$f":"VLOOKUP(E30,[1]笔试排名!$E$3:$F$315,2,0)","v":108.59},74.96,73.42]
[28,"胡盼",20230904,"01",{"$f":"\"202309010215\"","v":"202309010215"},202311110211,{"$f":"VLOOKUP(E31,[1]笔试排名!$E$3:$F$315,2,0)","v":108.36},{"v":74.9,"d":"74.90"},{"v":73.304,"d":"73.30"}]
[29,"王梅",20230904,"01",{"$f":"\"202309010208\"","v":"202309010208"},202311110202,{"$f":"VLOOKUP(E32,[1]笔试排名!$E$3:$F$315,2,0)","v":111.68},{"v":71.2,"d":"71.20"},{"v":73.152,"d":"73.15"}]
[30,"晋丽",20230905,"01",{"$f":"\"202309010811\"","v":"202309010811"},202311110226,{"$f":"VLOOKUP(E33,[1]笔试排名!$E$3:$F$315,2,0)","v":105.81},{"v":76.2,"d":"76.20"},{"v":72.804,"d":"72.80"}]
[31,"尹贤武",20230905,"01",{"$f":"\"202309010320\"","v":"202309010320"},202311110229,{"$f":"VLOOKUP(E34,[1]笔试排名!$E$3:$F$315,2,0)","v":99.54},{"v":78,"d":"78.00"},{"v":71.016,"d":"71.02"}]
[32,"彭红贵",20230905,"01",{"$f":"\"202309011012\"","v":"202309011012"},202311110228,{"$f":"VLOOKUP(E35,[1]笔试排名!$E$3:$F$315,2,0)","v":100.19},{"v":74.4,"d":"74.40"},{"v":69.836,"d":"69.84"}]
[33,"郭康",20230905,"01",{"$f":"\"202309010508\"","v":"202309010508"},202311110232,{"$f":"VLOOKUP(E36,[1]笔试排名!$E$3:$F$315,2,0)","v":97.12},{"v":76,"d":"76.00"},{"v":69.248,"d":"69.25"}]
[34,"李敏",20230907,"01","202309011304",202311110311,94.05,{"v":76.6,"d":"76.60"},68.26]
[35,"姚燕",20230907,"01","202309011227",202311110314,90.27,78.18,67.38]
[36,"彭孝先",20230907,"01","202309011217",202311110312,93.13,{"v":72.8,"d":"72.80"},{"v":66.372,"d":"66.37"}]
[37,"卢璐",20230907,"01","202309011306",202311110315,85.47,{"v":72.3,"d":"72.30"},{"v":63.108,"d":"63.11"}]
[38,"饶曼",20230908,"01",{"$f":"\"202309011317\"","v":"202309011317"},202311110319,{"$f":"VLOOKUP(E41,[1]笔试排名!$E$3:$F$315,2,0)","v":115.42},{"v":72.8,"d":"72.80"},{"v":75.288,"d":"75.29"}]
[39,"朱卫",20230909,"01",{"$f":"\"202309011325\"","v":"202309011325"},202311110323,{"$f":"VLOOKUP(E42,[1]笔试排名!$E$3:$F$315,2,0)","v":119.93},{"v":80.7,"d":"80.70"},{"v":80.252,"d":"80.25"}]
[40,"安晓芳",20230909,"01",{"$f":"\"202309011507\"","v":"202309011507"},202311110324,{"$f":"VLOOKUP(E43,[1]笔试排名!$E$3:$F$315,2,0)","v":114.39},78.16,77.02]
[41,"吴浪琴",20230910,"01",{"$f":"\"202309012022\"","v":"202309012022"},202311110329,{"$f":"VLOOKUP(E44,[1]笔试排名!$E$3:$F$315,2,0)","v":111.53},76.72,{"v":75.3,"d":"75.30"}]
[42,"高领秀",20230910,"01",{"$f":"\"202309011919\"","v":"202309011919"},202311110330,{"$f":"VLOOKUP(E45,[1]笔试排名!$E$3:$F$315,2,0)","v":109.44},78.08,{"v":75.008,"d":"75.01"}]
[43,"马娇",20230911,"01",{"$f":"\"202309012218\"","v":"202309012218"},202311110403,{"$f":"VLOOKUP(E46,[1]笔试排名!$E$3:$F$315,2,0)","v":102.74},{"v":79.6,"d":"79.60"},{"v":72.936,"d":"72.94"}]
[44,"余啸",20230911,"01",{"$f":"\"202309012306\"","v":"202309012306"},202311110401,{"$f":"VLOOKUP(E47,[1]笔试排名!$E$3:$F$315,2,0)","v":104.47},{"v":77,"d":"77.00"},{"v":72.588,"d":"72.59"}]
[45,"陈琴",20230912,"01",{"$f":"\"202309014407\"","v":"202309014407"},202311110409,{"$f":"VLOOKUP(E48,[1]笔试排名!$E$3:$F$315,2,0)","v":118.02},{"v":79,"d":"79.00"},{"v":78.808,"d":"78.81"}]
[46,"王志遥",20230912,"01",{"$f":"\"202309013914\"","v":"202309013914"},202311110407,{"$f":"VLOOKUP(E49,[1]笔试排名!$E$3:$F$315,2,0)","v":122.79},{"v":70.2,"d":"70.20"},{"v":77.196,"d":"77.20"}]
[47,"孙思琴",20230912,"01",{"$f":"\"202309012820\"","v":"202309012820"},202311110408,{"$f":"VLOOKUP(E50,[1]笔试排名!$E$3:$F$315,2,0)","v":118.38},{"v":73.6,"d":"73.60"},{"v":76.792,"d":"76.79"}]
[48,"赵君珲",20230912,"01",{"$f":"\"202309013909\"","v":"202309013909"},202311110413,{"$f":"VLOOKUP(E51,[1]笔试排名!$E$3:$F$315,2,0)","v":{"v":114.1,"d":"114.10"}},{"v":76,"d":"76.00"},76.04]
[49,"孙艳梅",20230912,"01",{"$f":"\"202309013408\"","v":"202309013408"},202311110410,{"$f":"VLOOKUP(E52,[1]笔试排名!$E$3:$F$315,2,0)","v":115.96},{"v":73.6,"d":"73.60"},{"v":75.824,"d":"75.82"}]
[50,"严智",20230912,"01",{"$f":"\"202309013702\"","v":"202309013702"},202311110411,{"$f":"VLOOKUP(E53,[1]笔试排名!$E$3:$F$315,2,0)","v":114.49},{"v":74.8,"d":"74.80"},{"v":75.716,"d":"75.72"}]
[51,"褚雄",20230912,"01",{"$f":"\"202309013212\"","v":"202309013212"},202311110412,{"$f":"VLOOKUP(E54,[1]笔试排名!$E$3:$F$315,2,0)","v":114.13},{"v":73.2,"d":"73.20"},{"v":74.932,"d":"74.93"}]
[52,"徐章佑",20230912,"01",{"$f":"\"202309012512\"","v":"202309012512"},202311110418,{"$f":"VLOOKUP(E55,[1]笔试排名!$E$3:$F$315,2,0)","v":111.25},{"v":75.7,"d":"75.70"},74.78]
[53,"郭秘",20230912,"01",{"$f":"\"202309013905\"","v":"202309013905"},202311110432,{"$f":"VLOOKUP(E56,[1]笔试排名!$E$3:$F$315,2,0)","v":108.12},{"v":76.8,"d":"76.80"},{"v":73.968,"d":"73.97"}]
[54,"卯昌厚",20230912,"01",{"$f":"\"202309013327\"","v":"202309013327"},202311110426,{"$f":"VLOOKUP(E57,[1]笔试排名!$E$3:$F$315,2,0)","v":109.36},{"v":75.4,"d":"75.40"},{"v":73.904,"d":"73.90"}]
[55,"曹红",20230912,"02",{"$f":"\"202309020720\"","v":"202309020720"},202311110501,{"$f":"VLOOKUP(E58,[1]笔试排名!$E$3:$F$315,2,0)","v":126.76},{"v":73.8,"d":"73.80"},{"v":80.224,"d":"80.22"}]
[56,"周倩",20230912,"02",{"$f":"\"202309016604\"","v":"202309016604"},202311110503,{"$f":"VLOOKUP(E59,[1]笔试排名!$E$3:$F$315,2,0)","v":120.85},{"v":79.1,"d":"79.10"},79.98]
[57,"安红宪",20230912,"02",{"$f":"\"202309021128\"","v":"202309021128"},202311110504,{"$f":"VLOOKUP(E60,[1]笔试排名!$E$3:$F$315,2,0)","v":118.49},{"v":80.2,"d":"80.20"},{"v":79.476,"d":"79.48"}]
[58,"彭润",20230912,"02",{"$f":"\"202309020907\"","v":"202309020907"},202311110510,{"$f":"VLOOKUP(E61,[1]笔试排名!$E$3:$F$315,2,0)","v":115.65},{"v":81.2,"d":"81.20"},78.74]
[59,"黄丽",20230912,"02",{"$f":"\"202309015523\"","v":"202309015523"},202311110513,{"$f":"VLOOKUP(E62,[1]笔试排名!$E$3:$F$315,2,0)","v":115.18},{"v":80.2,"d":"80.20"},{"v":78.152,"d":"78.15"}]
[60,"尹维俊",20230912,"02",{"$f":"\"202309016329\"","v":"202309016329"},202311110515,{"$f":"VLOOKUP(E63,[1]笔试排名!$E$3:$F$315,2,0)","v":114.77},{"v":80.4,"d":"80.40"},{"v":78.068,"d":"78.07"}]
[61,"陈琴",20230912,"02",{"$f":"\"202309021215\"","v":"202309021215"},202311110509,{"$f":"VLOOKUP(E64,[1]笔试排名!$E$3:$F$315,2,0)","v":{"v":115.7,"d":"115.70"}},{"v":79.4,"d":"79.40"},78.04]
[62,"柯贤薇",20230912,"02",{"$f":"\"202309015303\"","v":"202309015303"},202311110506,{"$f":"VLOOKUP(E65,[1]笔试排名!$E$3:$F$315,2,0)","v":116.11},{"v":78.4,"d":"78.40"},{"v":77.804,"d":"77.80"}]
[63,"唐星",20230912,"02",{"$f":"\"202309021822\"","v":"202309021822"},202311110512,{"$f":"VLOOKUP(E66,[1]笔试排名!$E$3:$F$315,2,0)","v":115.24},{"v":78.6,"d":"78.60"},{"v":77.536,"d":"77.54"}]
[64,"林银",20230912,"02",{"$f":"\"202309016213\"","v":"202309016213"},202311110521,{"$f":"VLOOKUP(E67,[1]笔试排名!$E$3:$F$315,2,0)","v":113.28},{"v":80.5,"d":"80.50"},{"v":77.512,"d":"77.51"}]
[65,"冯桂金",20230912,"02",{"$f":"\"202309021421\"","v":"202309021421"},202311110507,{"$f":"VLOOKUP(E68,[1]笔试排名!$E$3:$F$315,2,0)","v":116.06},{"v":77.4,"d":"77.40"},{"v":77.384,"d":"77.38"}]
[66,"宋勤",20230912,"02",{"$f":"\"202309021310\"","v":"202309021310"},202311110523,{"$f":"VLOOKUP(E69,[1]笔试排名!$E$3:$F$315,2,0)","v":{"v":113.1,"d":"113.10"}},{"v":80.3,"d":"80.30"},77.36]
[67,"黄均敏",20230912,"02",{"$f":"\"202309021414\"","v":"202309021414"},202311110511,{"$f":"VLOOKUP(E70,[1]笔试排名!$E$3:$F$315,2,0)","v":115.65},77.16,{"v":77.124,"d":"77.12"}]
[68,"伍兴慧",20230912,"02",{"$f":"\"202309014527\"","v":"202309014527"},202311110522,{"$f":"VLOOKUP(E71,[1]笔试排名!$E$3:$F$315,2,0)","v":113.23},{"v":78.5,"d":"78.50"},{"v":76.692,"d":"76.69"}]
[69,"聂婷",20230912,"02",{"$f":"\"202309021413\"","v":"202309021413"},202311110518,{"$f":"VLOOKUP(E72,[1]笔试排名!$E$3:$F$315,2,0)","v":113.97},{"v":77.3,"d":"77.30"},{"v":76.508,"d":"76.51"}]
[70,"张宇",20230912,"03",{"$f":"\"202309023427\"","v":"202309023427"},202311110607,{"$f":"VLOOKUP(E73,[1]笔试排名!$E$3:$F$315,2,0)","v":123.07},{"v":82.4,"d":"82.40"},{"v":82.188,"d":"82.19"}]
[71,"成彩",20230912,"03",{"$f":"\"202309024021\"","v":"202309024021"},202311110601,{"$f":"VLOOKUP(E74,[1]笔试排名!$E$3:$F$315,2,0)","v":{"v":126.3,"d":"126.30"}},{"v":78.5,"d":"78.50"},81.92]
[72,"石原芳",20230912,"03",{"$f":"\"202309024228\"","v":"202309024228"},202311110602,{"$f":"VLOOKUP(E75,[1]笔试排名!$E$3:$F$315,2,0)","v":125.03},{"v":78.8,"d":"78.80"},{"v":81.532,"d":"81.53"}]
[73,"邓莉",20230912,"03",{"$f":"\"202309024112\"","v":"202309024112"},202311110609,{"$f":"VLOOKUP(E76,[1]笔试排名!$E$3:$F$315,2,0)","v":{"v":122.2,"d":"122.20"}},{"v":81.2,"d":"81.20"},81.36]
[74,"吴鸿",20230912,"03",{"$f":"\"202309024013\"","v":"202309024013"},202311110615,{"$f":"VLOOKUP(E77,[1]笔试排名!$E$3:$F$315,2,0)","v":121.03},{"v":82,"d":"82.00"},{"v":81.212,"d":"81.21"}]
[75,"谭玉华",20230912,"03",{"$f":"\"202309023418\"","v":"202309023418"},202311110612,{"$f":"VLOOKUP(E78,[1]笔试排名!$E$3:$F$315,2,0)","v":121.37},{"v":80.6,"d":"80.60"},{"v":80.788,"d":"80.79"}]
[76,"黄承会",20230912,"03",{"$f":"\"202309024716\"","v":"202309024716"},202311110617,{"$f":"VLOOKUP(E79,[1]笔试排名!$E$3:$F$315,2,0)","v":119.95},{"v":81.6,"d":"81.60"},80.62]
[77,"张婷",20230912,"03",{"$f":"\"202309022324\"","v":"202309022324"},202311110608,{"$f":"VLOOKUP(E80,[1]笔试排名!$E$3:$F$315,2,0)","v":122.37},{"v":79,"d":"79.00"},{"v":80.548,"d":"80.55"}]
[78,"朱娇",20230912,"03",{"$f":"\"202309024604\"","v":"202309024604"},202311110614,{"$f":"VLOOKUP(E81,[1]笔试排名!$E$3:$F$315,2,0)","v":121.14},{"v":80.2,"d":"80.20"},{"v":80.536,"d":"80.54"}]
[79,"喻常倍",20230912,"03",{"$f":"\"202309024517\"","v":"202309024517"},202311110636,{"$f":"VLOOKUP(E82,[1]笔试排名!$E$3:$F$315,2,0)","v":116.35},{"v":83.3,"d":"83.30"},79.86]
[80,"周美林",20230912,"03",{"$f":"\"202309022606\"","v":"202309022606"},202311110620,{"$f":"VLOOKUP(E83,[1]笔试排名!$E$3:$F$315,2,0)","v":119.41},{"v":80,"d":"80.00"},{"v":79.764,"d":"79.76"}]
[81,"吴雪雪",20230912,"03",{"$f":"\"202309022828\"","v":"202309022828"},202311110640,{"$f":"VLOOKUP(E84,[1]笔试排名!$E$3:$F$315,2,0)","v":116.06},{"v":82.8,"d":"82.80"},{"v":79.544,"d":"79.54"}]
[82,"刘松",20230912,"03",{"$f":"\"202309024501\"","v":"202309024501"},202311110613,{"$f":"VLOOKUP(E85,[1]笔试排名!$E$3:$F$315,2,0)","v":121.22},{"v":77.2,"d":"77.20"},{"v":79.368,"d":"79.37"}]
[83,"王臣敏",20230912,"03",{"$f":"\"202309022218\"","v":"202309022218"},202311110641,{"$f":"VLOOKUP(E86,[1]笔试排名!$E$3:$F$315,2,0)","v":115.93},{"v":81.9,"d":"81.90"},{"v":79.132,"d":"79.13"}]
[84,"鄢忠灿",20230912,"03",{"$f":"\"202309022924\"","v":"202309022924"},202311110623,{"$f":"VLOOKUP(E87,[1]笔试排名!$E$3:$F$315,2,0)","v":119.18},{"v":78.6,"d":"78.60"},{"v":79.112,"d":"79.11"}]