{"text_format":"3","workbook":"xlsx","n_sheets":1,"sheets":["Sheet1"],"not_rendered":{"external_links":1},"read":"whole","date_system":"1900"}

{"sheet":"Sheet1","index":0,"n_rows":14,"n_cols":8,"rows_kept":14,"merged":[[0,0,0,7]]}
["2023年锦屏县人民医院公开招聘合同制\n人员笔试分数人员名单"]
["序号","姓名","性别","岗位类型","准考证号","考场","分数","是否进入面试"]
[1,{"$f":"[1]财务工作!C8","v":"朱萍"},{"$f":"[1]财务工作!F8","v":"女"},{"$f":"[1]财务工作!D8","v":"01"},{"$f":"[1]财务工作!E8","v":"2023101901004"},{"$f":"[1]财务工作!L8","v":"第一考场"},78,"是"]
[2,{"$f":"[1]财务工作!C12","v":"胡语涵"},{"$f":"[1]财务工作!F12","v":"女"},{"$f":"[1]财务工作!D12","v":"01"},{"$f":"[1]财务工作!E12","v":"2023101901008"},{"$f":"[1]财务工作!L12","v":"第一考场"},67,"是"]
[2,{"$f":"[1]财务工作!C14","v":"龙桂铃"},{"$f":"[1]财务工作!F14","v":"女"},{"$f":"[1]财务工作!D14","v":"01"},{"$f":"[1]财务工作!E14","v":"2023101901010"},{"$f":"[1]财务工作!L14","v":"第一考场"},67,"是"]
[4,{"$f":"[1]财务工作!C15","v":"陆承钰"},{"$f":"[1]财务工作!F15","v":"女"},{"$f":"[1]财务工作!D15","v":"01"},{"$f":"[1]财务工作!E15","v":"2023101901011"},{"$f":"[1]财务工作!L15","v":"第一考场"},58,"是"]
[5,{"$f":"[1]财务工作!C9","v":"欧群群"},{"$f":"[1]财务工作!F9","v":"女"},{"$f":"[1]财务工作!D9","v":"01"},{"$f":"[1]财务工作!E9","v":"2023101901005"},{"$f":"[1]财务工作!L9","v":"第一考场"},55,"是"]
[6,{"$f":"[1]财务工作!C6","v":"滚芝香"},{"$f":"[1]财务工作!F6","v":"女"},{"$f":"[1]财务工作!D6","v":"01"},{"$f":"[1]财务工作!E6","v":"2023101901002"},{"$f":"[1]财务工作!L6","v":"第一考场"},48,"是"]
[7,{"$f":"[1]财务工作!C13","v":"熊婷"},{"$f":"[1]财务工作!F13","v":"女"},{"$f":"[1]财务工作!D13","v":"01"},{"$f":"[1]财务工作!E13","v":"2023101901009"},{"$f":"[1]财务工作!L13","v":"第一考场"},45]
[8,{"$f":"[1]财务工作!C11","v":"曾红艳"},{"$f":"[1]财务工作!F11","v":"女"},{"$f":"[1]财务工作!D11","v":"01"},{"$f":"[1]财务工作!E11","v":"2023101901007"},{"$f":"[1]财务工作!L11","v":"第一考场"},44]
[9,{"$f":"[1]财务工作!C5","v":"姜子凤"},{"$f":"[1]财务工作!F5","v":"女"},{"$f":"[1]财务工作!D5","v":"01"},{"$f":"[1]财务工作!E5","v":"2023101901001"},{"$f":"[1]财务工作!L5","v":"第一考场"},42]
[10,{"$f":"[1]财务工作!C16","v":"吴兰燕"},{"$f":"[1]财务工作!F16","v":"女"},{"$f":"[1]财务工作!D16","v":"01"},{"$f":"[1]财务工作!E16","v":"2023101901012"},{"$f":"[1]财务工作!L16","v":"第一考场"},39]
[11,{"$f":"[1]财务工作!C7","v":"龙本佳"},{"$f":"[1]财务工作!F7","v":"男"},{"$f":"[1]财务工作!D7","v":"01"},{"$f":"[1]财务工作!E7","v":"2023101901003"},{"$f":"[1]财务工作!L7","v":"第一考场"},38]
[12,{"$f":"[1]财务工作!C10","v":"彭太玉"},{"$f":"[1]财务工作!F10","v":"男"},{"$f":"[1]财务工作!D10","v":"01"},{"$f":"[1]财务工作!E10","v":"2023101901006"},{"$f":"[1]财务工作!L10","v":"第一考场"},33]