{"text_format":"3","workbook":"xlsx","n_sheets":1,"sheets":["信息  (2)"],"not_rendered":{"external_links":1,"defined_names":1},"read":"whole","date_system":"1900"}

{"sheet":"信息  (2)","index":0,"n_rows":60,"n_cols":6,"rows_kept":60,"merged":[[0,0,0,5]]}
["毕节市第一人民医院2023年面向社会公开招聘编外工作人员拟聘用人员名单(第一批)"]
["序号","姓名","性别","准考证号","岗位代码及名称","备注"]
[1,{"$f":"[1]第一考点!D43","v":"马关园"},"女",{"$f":"[1]第一考点!O43","v":"20230101020212"},"2检验技师"]
[2,{"$f":"[1]第一考点!D75","v":"王佳森"},"男",{"$f":"[1]第一考点!O75","v":"20230101030214"},"2检验技师"]
[3,{"$f":"[1]第一考点!D162","v":"黄越"},"男",{"$f":"[1]第一考点!O162","v":"20230101060211"},"2检验技师"]
[4,{"$f":"[1]第一考点!D168","v":"赵青"},"女",{"$f":"[1]第一考点!O168","v":"20230101060217"},"2检验技师"]
[5,{"$f":"[1]第一考点!D56","v":"苏贞操"},"男",{"$f":"[1]第一考点!O56","v":"20230101020225"},"2检验技师"]
[6,{"$f":"[1]第一考点!D25","v":"熊恩文"},"男",{"$f":"[1]第一考点!O25","v":"20230101010224"},"2检验技师"]
[7,{"$f":"[1]第一考点!D207","v":"林建雄"},"男",{"$f":"[1]第一考点!O207","v":"20230101070226"},"2检验技师"]
[8,{"$f":"[1]第一考点!D219","v":"杨青"},"女",{"$f":"[1]第一考点!O219","v":"20230101080508"},"5放射技师"]
[9,{"$f":"[1]第一考点!D254","v":"夏航"},"男",{"$f":"[1]第一考点!O254","v":"20230101090513"},"5放射技师"]
[10,{"$f":"[1]第一考点!D225","v":"漆云"},"女",{"$f":"[1]第一考点!O225","v":"20230101080514"},"5放射技师"]
[11,{"$f":"[1]第一考点!D234","v":"陈兴"},"男",{"$f":"[1]第一考点!O234","v":"20230101080523"},"5放射技师"]
[12,{"$f":"[1]第一考点!D259","v":"彭霄"},"男",{"$f":"[1]第一考点!O259","v":"20230101090518"},"5放射技师"]
[13,{"$f":"[1]第一考点!D281","v":"艾世周"},"男",{"$f":"[1]第一考点!O281","v":"20230101100610"},"6放射技士"]
[14,{"$f":"[1]第一考点!D271","v":"杜双"},"男",{"$f":"[1]第一考点!O271","v":"20230101090630"},"6放射技士"]
[15,{"$f":"[1]第一考点!D270","v":"宋文文"},"男",{"$f":"[1]第一考点!O270","v":"20230101090629"},"6放射技士"]
[16,{"$f":"[1]第二考点!D16","v":"杨雪"},"女",{"$f":"[1]第二考点!O16","v":"20230102011015"},"10药房药师"]
[17,{"$f":"[1]第二考点!D57","v":"赵绳"},"男",{"$f":"[1]第二考点!O57","v":"20230102021026"},"10药房药师"]
[18,{"$f":"[1]第二考点!D81","v":"胡雪梅"},"女",{"$f":"[1]第二考点!O81","v":"20230102031020"},"10药房药师"]
[19,{"$f":"[1]第二考点!D49","v":"冯关敏"},"女",{"$f":"[1]第二考点!O49","v":"20230102021018"},"10药房药师"]
[20,{"$f":"[1]第二考点!D12","v":"李洪会"},"女",{"$f":"[1]第二考点!O12","v":"20230102011011"},"10药房药师"]
[21,{"$f":"[1]第一考点!D301","v":"龙熙"},"男",{"$f":"[1]第一考点!O301","v":"20230101101130"},"11中药房药师"]
[22,{"$f":"[1]第二考点!D437","v":"黎江艳"},"女",{"$f":"[1]第二考点!O437","v":"20230102151216"},"12护士"]
[23,{"$f":"[1]第二考点!D350","v":"李京"},"女",{"$f":"[1]第二考点!O350","v":"20230102121219"},"12护士"]
[24,{"$f":"[1]第二考点!D611","v":"熊兰"},"女",{"$f":"[1]第二考点!O611","v":"20230102211210"},"12护士"]
[25,{"$f":"[1]第二考点!D585","v":"陶昊"},"男",{"$f":"[1]第二考点!O585","v":"20230102201214"},"12护士"]
[26,{"$f":"[1]第二考点!D218","v":"先思梅"},"女",{"$f":"[1]第二考点!O218","v":"20230102081207"},"12护士"]
[27,{"$f":"[1]第二考点!D451","v":"石娇"},"女",{"$f":"[1]第二考点!O451","v":"20230102151230"},"12护士"]
[28,{"$f":"[1]第二考点!D594","v":"毛元义"},"男",{"$f":"[1]第二考点!O594","v":"20230102201223"},"12护士"]
[29,{"$f":"[1]第二考点!D425","v":"刘敏"},"女",{"$f":"[1]第二考点!O425","v":"20230102151204"},"12护士"]
[30,{"$f":"[1]第二考点!D167","v":"尹念"},"女",{"$f":"[1]第二考点!O167","v":"20230102061216"},"12护士"]
[31,{"$f":"[1]第二考点!D341","v":"李英"},"女",{"$f":"[1]第二考点!O341","v":"20230102121210"},"12护士"]
[32,{"$f":"[1]第二考点!D174","v":"张仙仙"},"女",{"$f":"[1]第二考点!O174","v":"20230102061223"},"12护士"]
[33,{"$f":"[1]第二考点!D691","v":"晏艳"},"女",{"$f":"[1]第二考点!O691","v":"20230102231230"},"12护士"]
[34,{"$f":"[1]第二考点!D645","v":"张云龙"},"男",{"$f":"[1]第二考点!O645","v":"20230102221214"},"12护士"]
[35,{"$f":"[1]第二考点!D729","v":"聂梅"},"女",{"$f":"[1]第二考点!O729","v":"20230102251208"},"12护士"]
[36,{"$f":"[1]第二考点!D595","v":"肖文娟"},"女",{"$f":"[1]第二考点!O595","v":"20230102201224"},"12护士"]
[37,{"$f":"[1]第二考点!D644","v":"周杰"},"男",{"$f":"[1]第二考点!O644","v":"20230102221213"},"12护士"]
[38,{"$f":"[1]第二考点!D185","v":"陈亦婷"},"女",{"$f":"[1]第二考点!O185","v":"20230102071204"},"12护士"]
[39,{"$f":"[1]第二考点!D323","v":"陈婕"},"女",{"$f":"[1]第二考点!O323","v":"20230102111222"},"12护士"]
[40,{"$f":"[1]第二考点!D704","v":"常国域"},"女",{"$f":"[1]第二考点!O704","v":"20230102241213"},"12护士"]
[41,{"$f":"[1]第二考点!D207","v":"刘兴爽"},"女",{"$f":"[1]第二考点!O207","v":"20230102071226"},"12护士"]
[42,{"$f":"[1]第二考点!D731","v":"赵娟"},"女",{"$f":"[1]第二考点!O731","v":"20230102251210"},"12护士"]
[43,{"$f":"[1]第二考点!D411","v":"高丽华"},"女",{"$f":"[1]第二考点!O411","v":"20230102141220"},"12护士"]
[44,{"$f":"[1]第二考点!D636","v":"段军"},"男",{"$f":"[1]第二考点!O636","v":"20230102221205"},"12护士"]
[45,{"$f":"[1]第二考点!D752","v":"俞丹妮"},"女",{"$f":"[1]第二考点!O752","v":"20230102261201"},"12护士"]
[46,"李雪","女","20230102251230","12护士"]
[47,"张念念","女","20230102221204","12护士"]
[48,"周艳","女","20230102201201","12护士"]
[49,"马梦蝶","女","20230102121212","12护士"]
[50,"潘奕娇","女","20230102161225","12护士"]
[51,{"$f":"[1]第一考点!D334","v":"刘相"},"男",{"$f":"[1]第一考点!O334","v":"20230101121303"},"13医务工作人员"]
[52,{"$f":"[1]第一考点!D374","v":"梅家豪"},"男",{"$f":"[1]第一考点!O374","v":"20230101131413"},"14数据统计岗"]
[53,{"$f":"[1]第一考点!D366","v":"吴昀"},"女",{"$f":"[1]第一考点!O366","v":"20230101131405"},"14数据统计岗"]
[54,{"$f":"[1]第一考点!D380","v":"韩婷"},"女",{"$f":"[1]第一考点!O380","v":"20230101131519"},"15宣传岗"]
[55,"邓铎","男","20230101141514\n","15宣传岗"]
[56,{"$f":"[1]第二考点!D932","v":"张淇俊"},"男",{"$f":"[1]第二考点!O932","v":"20230102321601"},"16会计"]
[57,{"$f":"[1]第二考点!D862","v":"石星月"},"女",{"$f":"[1]第二考点!O862","v":"20230102291621"},"16会计"]
[58,{"$f":"[1]第二考点!D851","v":"成琴"},"女",{"$f":"[1]第二考点!O851","v":"20230102291610"},"16会计"]