{"text_format":"3","workbook":"xlsx","n_sheets":1,"sheets":["拟聘人员"],"not_rendered":{"external_links":1,"defined_names":2},"read":"whole","date_system":"1900"}

{"sheet":"拟聘人员","index":0,"n_rows":31,"n_cols":6,"rows_kept":31,"merged":[[0,0,0,5],[1,0,1,5]]}
["附件2"]
["六盘水市水城区卫生健康系统2022年面向社会公开招聘事业单位工作人员拟聘用人员名单"]
["序号","姓名","性别","学历","拟聘单位","备注"]
[1,"杨云艳",{"$f":"VLOOKUP(B4,'[1]28人'!$B$1:$C$65536,2,0)","v":"女"},{"$f":"VLOOKUP(B4,'[1]28人'!$B$1:$H$65536,7,0)","v":"本科"},"六盘水市水城区人民医院"]
[2,"曾祥丽",{"$f":"VLOOKUP(B5,'[1]28人'!$B$1:$C$65536,2,0)","v":"女"},{"$f":"VLOOKUP(B5,'[1]28人'!$B$1:$H$65536,7,0)","v":"大专"},"六盘水市水城区人民医院"]
[3,"王小平",{"$f":"VLOOKUP(B6,'[1]28人'!$B$1:$C$65536,2,0)","v":"女"},{"$f":"VLOOKUP(B6,'[1]28人'!$B$1:$H$65536,7,0)","v":"本科"},"六盘水市水城区人民医院"]
[4,"付彤",{"$f":"VLOOKUP(B7,'[1]28人'!$B$1:$C$65536,2,0)","v":"女"},{"$f":"VLOOKUP(B7,'[1]28人'!$B$1:$H$65536,7,0)","v":"本科"},"六盘水市中医医院"]
[5,"何然",{"$f":"VLOOKUP(B8,'[1]28人'!$B$1:$C$65536,2,0)","v":"男"},{"$f":"VLOOKUP(B8,'[1]28人'!$B$1:$H$65536,7,0)","v":"本科"},"六盘水市中医医院"]
[6,"李伶俐",{"$f":"VLOOKUP(B9,'[1]28人'!$B$1:$C$65536,2,0)","v":"女"},{"$f":"VLOOKUP(B9,'[1]28人'!$B$1:$H$65536,7,0)","v":"本科"},"六盘水市中医医院"]
[7,"范正猛",{"$f":"VLOOKUP(B10,'[1]28人'!$B$1:$C$65536,2,0)","v":"男"},{"$f":"VLOOKUP(B10,'[1]28人'!$B$1:$H$65536,7,0)","v":"本科"},"六盘水市水城区第二人民医院"]
[8,"王群燕",{"$f":"VLOOKUP(B11,'[1]28人'!$B$1:$C$65536,2,0)","v":"女"},{"$f":"VLOOKUP(B11,'[1]28人'!$B$1:$H$65536,7,0)","v":"大专"},"六盘水市水城区第二人民医院"]
[9,"秦世玲",{"$f":"VLOOKUP(B12,'[1]28人'!$B$1:$C$65536,2,0)","v":"女"},{"$f":"VLOOKUP(B12,'[1]28人'!$B$1:$H$65536,7,0)","v":"大专"},"六盘水市水城区第二人民医院"]
[10,"王丽雪",{"$f":"VLOOKUP(B13,'[1]28人'!$B$1:$C$65536,2,0)","v":"女"},{"$f":"VLOOKUP(B13,'[1]28人'!$B$1:$H$65536,7,0)","v":"大专"},"六盘水市水城区米箩镇卫生院"]
[11,"朱嘉庆",{"$f":"VLOOKUP(B14,'[1]28人'!$B$1:$C$65536,2,0)","v":"女"},{"$f":"VLOOKUP(B14,'[1]28人'!$B$1:$H$65536,7,0)","v":"大专"},"六盘水市水城区米箩镇卫生院"]
[12,"吴红霞",{"$f":"VLOOKUP(B15,'[1]28人'!$B$1:$C$65536,2,0)","v":"女"},{"$f":"VLOOKUP(B15,'[1]28人'!$B$1:$H$65536,7,0)","v":"大专"},"六盘水市水城区米箩镇卫生院"]
[13,"陆倩",{"$f":"VLOOKUP(B16,'[1]28人'!$B$1:$C$65536,2,0)","v":"女"},{"$f":"VLOOKUP(B16,'[1]28人'!$B$1:$H$65536,7,0)","v":"本科"},"六盘水市水城区米箩镇卫生院"]
[14,"孟建",{"$f":"VLOOKUP(B17,'[1]28人'!$B$1:$C$65536,2,0)","v":"女"},{"$f":"VLOOKUP(B17,'[1]28人'!$B$1:$H$65536,7,0)","v":"大专"},"六盘水市水城区坪寨乡卫生院"]
[15,"刘贻雪",{"$f":"VLOOKUP(B18,'[1]28人'!$B$1:$C$65536,2,0)","v":"女"},{"$f":"VLOOKUP(B18,'[1]28人'!$B$1:$H$65536,7,0)","v":"大专"},"六盘水市尖山街道办事处卫生服务中心"]
[16,"王安秋",{"$f":"VLOOKUP(B19,'[1]28人'!$B$1:$C$65536,2,0)","v":"女"},{"$f":"VLOOKUP(B19,'[1]28人'!$B$1:$H$65536,7,0)","v":"本科"},"六盘水市水城区野钟乡卫生院"]
[17,"胡顺丽",{"$f":"VLOOKUP(B20,'[1]28人'!$B$1:$C$65536,2,0)","v":"女"},{"$f":"VLOOKUP(B20,'[1]28人'!$B$1:$H$65536,7,0)","v":"大专"},"六盘水市水城区新桥街道办事处卫生服务中心"]
[18,"马海赐",{"$f":"VLOOKUP(B21,'[1]28人'!$B$1:$C$65536,2,0)","v":"女"},{"$f":"VLOOKUP(B21,'[1]28人'!$B$1:$H$65536,7,0)","v":"本科"},"六盘水市水城区海坪街道办事处卫生院"]
[19,"范丽飞",{"$f":"VLOOKUP(B22,'[1]28人'!$B$1:$C$65536,2,0)","v":"女"},{"$f":"VLOOKUP(B22,'[1]28人'!$B$1:$H$65536,7,0)","v":"本科"},"六盘水市水城区龙场乡卫生院"]
[20,"李春林",{"$f":"VLOOKUP(B23,'[1]28人'!$B$1:$C$65536,2,0)","v":"女"},{"$f":"VLOOKUP(B23,'[1]28人'!$B$1:$H$65536,7,0)","v":"本科"},"六盘水市水城区龙场乡卫生院"]
[21,"何佳艳",{"$f":"VLOOKUP(B24,'[1]28人'!$B$1:$C$65536,2,0)","v":"女"},{"$f":"VLOOKUP(B24,'[1]28人'!$B$1:$H$65536,7,0)","v":"大专"},"六盘水市水城区龙场乡卫生院"]
[22,"徐天望",{"$f":"VLOOKUP(B25,'[1]28人'!$B$1:$C$65536,2,0)","v":"男"},{"$f":"VLOOKUP(B25,'[1]28人'!$B$1:$H$65536,7,0)","v":"本科"},"六盘水市水城区龙场乡卫生院"]
[23,"李亚丽",{"$f":"VLOOKUP(B26,'[1]28人'!$B$1:$C$65536,2,0)","v":"女"},{"$f":"VLOOKUP(B26,'[1]28人'!$B$1:$H$65536,7,0)","v":"本科"},"六盘水市水城区猴场乡卫生院"]
[24,"周琼",{"$f":"VLOOKUP(B27,'[1]28人'!$B$1:$C$65536,2,0)","v":"女"},{"$f":"VLOOKUP(B27,'[1]28人'!$B$1:$H$65536,7,0)","v":"大专"},"六盘水市水城区以朵街道卫生服务中心"]
[25,"任甲雄",{"$f":"VLOOKUP(B28,'[1]28人'!$B$1:$C$65536,2,0)","v":"男"},{"$f":"VLOOKUP(B28,'[1]28人'!$B$1:$H$65536,7,0)","v":"本科"},"六盘水市水城区石龙街道办事处卫生服务中心"]
[26,"谢健芬",{"$f":"VLOOKUP(B29,'[1]28人'!$B$1:$C$65536,2,0)","v":"女"},{"$f":"VLOOKUP(B29,'[1]28人'!$B$1:$H$65536,7,0)","v":"大专"},"六盘水市水城区果布戛乡卫生院"]
[27,"张黔玉",{"$f":"VLOOKUP(B30,'[1]28人'!$B$1:$C$65536,2,0)","v":"女"},{"$f":"VLOOKUP(B30,'[1]28人'!$B$1:$H$65536,7,0)","v":"大专"},"六盘水市水城区鸡场镇卫生院"]
[28,"虎恩刻",{"$f":"VLOOKUP(B31,'[1]28人'!$B$1:$C$65536,2,0)","v":"女"},{"$f":"VLOOKUP(B31,'[1]28人'!$B$1:$H$65536,7,0)","v":"本科"},"六盘水市水城区红桥街道办事处卫生服务中心"]