{"text_format":"3","workbook":"xlsx","n_sheets":1,"sheets":["总名单178"],"not_rendered":{"external_links":1,"defined_names":2},"read":"whole","date_system":"1900"}

{"sheet":"总名单178","index":0,"n_rows":181,"n_cols":6,"rows_kept":181,"merged":[[0,0,0,5],[1,0,1,5]]}
["附件1"]
["六盘水市水城区卫生健康系统2022年面向社会公开招聘合同制医务人员进入体检范围人员体检结果"]
["序号","姓名","性别","职位代码","体检结果","备注"]
[1,"曾朋朋","男",2022110101,{"$f":"VLOOKUP(D4,[1]Sheet1!$D:$E,2,0)","v":"合格"}]
[2,"李关福","男",2022110101,{"$f":"VLOOKUP(D5,[1]Sheet1!$D:$E,2,0)","v":"合格"}]
[3,"瞿乐乐","女",2022110101,{"$f":"VLOOKUP(D6,[1]Sheet1!$D:$E,2,0)","v":"合格"}]
[4,"江文雄","男",2022110101,{"$f":"VLOOKUP(D7,[1]Sheet1!$D:$E,2,0)","v":"合格"}]
[5,"杨贵德","男",2022110101,"不合格"]
[6,"浦超","男",2022110101,{"$f":"VLOOKUP(D9,[1]Sheet1!$D:$E,2,0)","v":"合格"}]
[7,"尹德龙","男",2022110101,{"$f":"VLOOKUP(D10,[1]Sheet1!$D:$E,2,0)","v":"合格"}]
[8,"杨露","女",2022110101,{"$f":"VLOOKUP(D11,[1]Sheet1!$D:$E,2,0)","v":"合格"}]
[9,"张迅","男",2022110101,{"$f":"VLOOKUP(D12,[1]Sheet1!$D:$E,2,0)","v":"合格"}]
[10,"吴长春","男",2022110101,{"$f":"VLOOKUP(D13,[1]Sheet1!$D:$E,2,0)","v":"合格"}]
[11,"王应棚","男",2022110101,{"$f":"VLOOKUP(D14,[1]Sheet1!$D:$E,2,0)","v":"合格"}]
[12,"何书红","女",2022110101,{"$f":"VLOOKUP(D15,[1]Sheet1!$D:$E,2,0)","v":"合格"}]
[13,"虎瑞富","女",2022110101,{"$f":"VLOOKUP(D16,[1]Sheet1!$D:$E,2,0)","v":"合格"}]
[14,"罗跃","男",2022110102,{"$f":"VLOOKUP(D17,[1]Sheet1!$D:$E,2,0)","v":"合格"}]
[15,"刘书艳","女",2022110102,{"$f":"VLOOKUP(D18,[1]Sheet1!$D:$E,2,0)","v":"合格"}]
[16,"解友向","男",2022110102,{"$f":"VLOOKUP(D19,[1]Sheet1!$D:$E,2,0)","v":"合格"}]
[17,"何榉","男",2022110102,{"$f":"VLOOKUP(D20,[1]Sheet1!$D:$E,2,0)","v":"合格"}]
[18,"王贵梅","女",2022110102,{"$f":"VLOOKUP(D21,[1]Sheet1!$D:$E,2,0)","v":"合格"}]
[19,"王再梅","女",2022110102,{"$f":"VLOOKUP(D22,[1]Sheet1!$D:$E,2,0)","v":"合格"}]
[20,"刘红","女",2022110102,{"$f":"VLOOKUP(D23,[1]Sheet1!$D:$E,2,0)","v":"合格"}]
[21,"简孝宇","男",2022110102,{"$f":"VLOOKUP(D24,[1]Sheet1!$D:$E,2,0)","v":"合格"}]
[22,"余露芳","女",2022110102,{"$f":"VLOOKUP(D25,[1]Sheet1!$D:$E,2,0)","v":"合格"}]
[23,"姚林志","男",2022110102,{"$f":"VLOOKUP(D26,[1]Sheet1!$D:$E,2,0)","v":"合格"}]
[24,"王涛","男",2022110102,{"$f":"VLOOKUP(D27,[1]Sheet1!$D:$E,2,0)","v":"合格"}]
[25,"郝玉双","女",2022110102,"缺检"]
[26,"叶宝旺","男",2022110102,{"$f":"VLOOKUP(D29,[1]Sheet1!$D:$E,2,0)","v":"合格"}]
[27,"徐航","男",2022110103,"缺检"]
[28,"朱爱","男",2022110103,{"$f":"VLOOKUP(D31,[1]Sheet1!$D:$E,2,0)","v":"合格"}]
[29,"赵蝶","女",2022110103,{"$f":"VLOOKUP(D32,[1]Sheet1!$D:$E,2,0)","v":"合格"}]
[30,"李敏","女",2022110103,{"$f":"VLOOKUP(D33,[1]Sheet1!$D:$E,2,0)","v":"合格"}]
[31,"王国泽","男",2022110103,{"$f":"VLOOKUP(D34,[1]Sheet1!$D:$E,2,0)","v":"合格"}]
[32,"邓恩惠","女",2022110103,{"$f":"VLOOKUP(D35,[1]Sheet1!$D:$E,2,0)","v":"合格"}]
[33,"李雪芳","女",2022110103,{"$f":"VLOOKUP(D36,[1]Sheet1!$D:$E,2,0)","v":"合格"}]
[34,"谢道梅","女",2022110103,{"$f":"VLOOKUP(D37,[1]Sheet1!$D:$E,2,0)","v":"合格"}]
[35,"宋丽","女",2022110103,{"$f":"VLOOKUP(D38,[1]Sheet1!$D:$E,2,0)","v":"合格"}]
[36,"张璐","女",2022110103,{"$f":"VLOOKUP(D39,[1]Sheet1!$D:$E,2,0)","v":"合格"}]
[37,"喻常华","男",2022110103,{"$f":"VLOOKUP(D40,[1]Sheet1!$D:$E,2,0)","v":"合格"}]
[38,"顾敏","女",2022110103,{"$f":"VLOOKUP(D41,[1]Sheet1!$D:$E,2,0)","v":"合格"}]
[39,"王庭矿","男",2022110103,{"$f":"VLOOKUP(D42,[1]Sheet1!$D:$E,2,0)","v":"合格"}]
[40,"刘凤","女",2022110103,{"$f":"VLOOKUP(D43,[1]Sheet1!$D:$E,2,0)","v":"合格"}]
[41,"林梦","女",2022110104,{"$f":"VLOOKUP(D44,[1]Sheet1!$D:$E,2,0)","v":"合格"}]
[42,"王小姣","女",2022110104,{"$f":"VLOOKUP(D45,[1]Sheet1!$D:$E,2,0)","v":"合格"}]
[43,"涂正云","女",2022110104,"怀孕未拍胸片，暂不作体检结论，建议产后补拍胸片"]
[44,"赵语韵","女",2022110104,{"$f":"VLOOKUP(D47,[1]Sheet1!$D:$E,2,0)","v":"合格"}]
[45,"代龙仙","女",2022110104,{"$f":"VLOOKUP(D48,[1]Sheet1!$D:$E,2,0)","v":"合格"}]
[46,"吕天义","女",2022110104,{"$f":"VLOOKUP(D49,[1]Sheet1!$D:$E,2,0)","v":"合格"}]
[47,"宋丹丹","女",2022110104,{"$f":"VLOOKUP(D50,[1]Sheet1!$D:$E,2,0)","v":"合格"}]
[48,"邹妮","女",2022110104,{"$f":"VLOOKUP(D51,[1]Sheet1!$D:$E,2,0)","v":"合格"}]
[49,"郭丽","女",2022110104,{"$f":"VLOOKUP(D52,[1]Sheet1!$D:$E,2,0)","v":"合格"}]
[50,"罗欢欢","女",2022110104,{"$f":"VLOOKUP(D53,[1]Sheet1!$D:$E,2,0)","v":"合格"}]
[51,"岳宝虹","女",2022110104,{"$f":"VLOOKUP(D54,[1]Sheet1!$D:$E,2,0)","v":"合格"}]
[52,"张颖","女",2022110104,{"$f":"VLOOKUP(D55,[1]Sheet1!$D:$E,2,0)","v":"合格"}]
[53,"谭旭秀","女",2022110105,{"$f":"VLOOKUP(D56,[1]Sheet1!$D:$E,2,0)","v":"合格"}]
[54,"杨志敏","女",2022110105,{"$f":"VLOOKUP(D57,[1]Sheet1!$D:$E,2,0)","v":"合格"}]
[55,"周礼桂","女",2022110105,{"$f":"VLOOKUP(D58,[1]Sheet1!$D:$E,2,0)","v":"合格"}]
[56,"杨竣婷","女",2022110105,{"$f":"VLOOKUP(D59,[1]Sheet1!$D:$E,2,0)","v":"合格"}]
[57,"杨超","女",2022110105,"不合格"]
[58,"康梦飞","女",2022110105,{"$f":"VLOOKUP(D61,[1]Sheet1!$D:$E,2,0)","v":"合格"}]
[59,"李艳丽","女",2022110105,{"$f":"VLOOKUP(D62,[1]Sheet1!$D:$E,2,0)","v":"合格"}]
[60,"周菊","女",2022110105,{"$f":"VLOOKUP(D63,[1]Sheet1!$D:$E,2,0)","v":"合格"}]
[61,"李梦婷","女",2022110105,{"$f":"VLOOKUP(D64,[1]Sheet1!$D:$E,2,0)","v":"合格"}]
[62,"高字芳","女",2022110105,{"$f":"VLOOKUP(D65,[1]Sheet1!$D:$E,2,0)","v":"合格"}]
[63,"胡丹丹","女",2022110105,{"$f":"VLOOKUP(D66,[1]Sheet1!$D:$E,2,0)","v":"合格"}]
[64,"黄飞","女",2022110105,{"$f":"VLOOKUP(D67,[1]Sheet1!$D:$E,2,0)","v":"合格"}]
[65,"李灿","女",2022110105,"缺检"]
[66,"刘娟","女",2022110106,"缺检"]
[67,"胡莲莲","女",2022110106,{"$f":"VLOOKUP(D70,[1]Sheet1!$D:$E,2,0)","v":"合格"}]
[68,"石雄","男",2022110106,{"$f":"VLOOKUP(D71,[1]Sheet1!$D:$E,2,0)","v":"合格"}]
[69,"唐瑭","女",2022110106,{"$f":"VLOOKUP(D72,[1]Sheet1!$D:$E,2,0)","v":"合格"}]
[70,"邹颖","女",2022110107,{"$f":"VLOOKUP(D73,[1]Sheet1!$D:$E,2,0)","v":"合格"}]
[71,"龙双婵","女",2022110107,{"$f":"VLOOKUP(D74,[1]Sheet1!$D:$E,2,0)","v":"合格"}]
[72,"陈佳宇","男",2022110107,{"$f":"VLOOKUP(D75,[1]Sheet1!$D:$E,2,0)","v":"合格"}]
[73,"邓志瑶","女",2022110107,{"$f":"VLOOKUP(D76,[1]Sheet1!$D:$E,2,0)","v":"合格"}]
[74,"向珍丽","女",2022110107,{"$f":"VLOOKUP(D77,[1]Sheet1!$D:$E,2,0)","v":"合格"}]
[75,"徐飞艳","女",2022110107,{"$f":"VLOOKUP(D78,[1]Sheet1!$D:$E,2,0)","v":"合格"}]
[76,"郑礼","男",2022110107,{"$f":"VLOOKUP(D79,[1]Sheet1!$D:$E,2,0)","v":"合格"}]
[77,"聂尧","男",2022110108,{"$f":"VLOOKUP(D80,[1]Sheet1!$D:$E,2,0)","v":"合格"}]
[78,"杨昕","男",2022110108,"复检缺检"]
[79,"周力","女",2022110108,{"$f":"VLOOKUP(D82,[1]Sheet1!$D:$E,2,0)","v":"合格"}]
[80,"李多","女",2022110108,{"$f":"VLOOKUP(D83,[1]Sheet1!$D:$E,2,0)","v":"合格"}]
[81,"陈自琴","女",2022110108,{"$f":"VLOOKUP(D84,[1]Sheet1!$D:$E,2,0)","v":"合格"}]
[82,"罗成","男",2022110108,{"$f":"VLOOKUP(D85,[1]Sheet1!$D:$E,2,0)","v":"合格"}]
[83,"王如春","男",2022110108,{"$f":"VLOOKUP(D86,[1]Sheet1!$D:$E,2,0)","v":"合格"}]
[84,"王强","男",2022110108,{"$f":"VLOOKUP(D87,[1]Sheet1!$D:$E,2,0)","v":"合格"}]
[85,"严高泽","男",2022110108,{"$f":"VLOOKUP(D88,[1]Sheet1!$D:$E,2,0)","v":"合格"}]
[86,"李锦怡","女",2022110108,{"$f":"VLOOKUP(D89,[1]Sheet1!$D:$E,2,0)","v":"合格"}]
[87,"张梅","女",2022110108,"不合格"]
[88,"余向","男",2022110109,{"$f":"VLOOKUP(D91,[1]Sheet1!$D:$E,2,0)","v":"合格"}]
[89,"秦妮","女",2022110109,{"$f":"VLOOKUP(D92,[1]Sheet1!$D:$E,2,0)","v":"合格"}]
[90,"陈克艳","女",2022110109,{"$f":"VLOOKUP(D93,[1]Sheet1!$D:$E,2,0)","v":"合格"}]
[91,"李发敏","女",2022110109,{"$f":"VLOOKUP(D94,[1]Sheet1!$D:$E,2,0)","v":"合格"}]
[92,"陈正元","男",2022110109,{"$f":"VLOOKUP(D95,[1]Sheet1!$D:$E,2,0)","v":"合格"}]
[93,"潘玉","女",2022110109,"怀孕未拍胸片，暂不作体检结论，建议产后补拍胸片"]
[94,"祖明举","男",2022110110,{"$f":"VLOOKUP(D97,[1]Sheet1!$D:$E,2,0)","v":"合格"}]
[95,"周绪梅","女",2022110110,{"$f":"VLOOKUP(D98,[1]Sheet1!$D:$E,2,0)","v":"合格"}]
[96,"李围","女",2022110110,{"$f":"VLOOKUP(D99,[1]Sheet1!$D:$E,2,0)","v":"合格"}]
[97,"何巧","女",2022110110,{"$f":"VLOOKUP(D100,[1]Sheet1!$D:$E,2,0)","v":"合格"}]
[98,"张贤","男",2022110111,{"$f":"VLOOKUP(D101,[1]Sheet1!$D:$E,2,0)","v":"合格"}]
[99,"杨志烈","男",2022110111,{"$f":"VLOOKUP(D102,[1]Sheet1!$D:$E,2,0)","v":"合格"}]
[100,"胡梦花","女",2022110111,{"$f":"VLOOKUP(D103,[1]Sheet1!$D:$E,2,0)","v":"合格"}]
[101,"张作畅","男",2022110111,{"$f":"VLOOKUP(D104,[1]Sheet1!$D:$E,2,0)","v":"合格"}]
[102,"颜忠梅","女",2022110111,{"$f":"VLOOKUP(D105,[1]Sheet1!$D:$E,2,0)","v":"合格"}]
[103,"周倩","女",2022110111,"不合格"]
[104,"李洪靖","男",2022110111,{"$f":"VLOOKUP(D107,[1]Sheet1!$D:$E,2,0)","v":"合格"}]
[105,"张伟","女",2022110111,{"$f":"VLOOKUP(D108,[1]Sheet1!$D:$E,2,0)","v":"合格"}]
[106,"李彩美","女",2022110111,{"$f":"VLOOKUP(D109,[1]Sheet1!$D:$E,2,0)","v":"合格"}]
[107,"许晓强","男",2022110111,{"$f":"VLOOKUP(D110,[1]Sheet1!$D:$E,2,0)","v":"合格"}]
[108,"李艳梅","女",2022110112,{"$f":"VLOOKUP(D111,[1]Sheet1!$D:$E,2,0)","v":"合格"}]
[109,"彭春露","女",2022110112,{"$f":"VLOOKUP(D112,[1]Sheet1!$D:$E,2,0)","v":"合格"}]
[110,"胡天美","女",2022110112,{"$f":"VLOOKUP(D113,[1]Sheet1!$D:$E,2,0)","v":"合格"}]
[111,"向帅","男",2022110112,{"$f":"VLOOKUP(D114,[1]Sheet1!$D:$E,2,0)","v":"合格"}]
[112,"冯微","女",2022110112,{"$f":"VLOOKUP(D115,[1]Sheet1!$D:$E,2,0)","v":"合格"}]
[113,"胡栋梅","女",2022110112,{"$f":"VLOOKUP(D116,[1]Sheet1!$D:$E,2,0)","v":"合格"}]
[114,"赵松香","女",2022110113,{"$f":"VLOOKUP(D117,[1]Sheet1!$D:$E,2,0)","v":"合格"}]
[115,"邓文凤","女",2022110113,{"$f":"VLOOKUP(D118,[1]Sheet1!$D:$E,2,0)","v":"合格"}]
[116,"朱婷婷","女",2022110113,{"$f":"VLOOKUP(D119,[1]Sheet1!$D:$E,2,0)","v":"合格"}]
[117,"柴珊","女",2022110113,{"$f":"VLOOKUP(D120,[1]Sheet1!$D:$E,2,0)","v":"合格"}]
[118,"许成丽","女",2022110113,{"$f":"VLOOKUP(D121,[1]Sheet1!$D:$E,2,0)","v":"合格"}]
[119,"陈小群","女",2022110113,{"$f":"VLOOKUP(D122,[1]Sheet1!$D:$E,2,0)","v":"合格"}]
[120,"管美维","女",2022110113,{"$f":"VLOOKUP(D123,[1]Sheet1!$D:$E,2,0)","v":"合格"}]
[121,"许佳怡","女",2022110113,{"$f":"VLOOKUP(D124,[1]Sheet1!$D:$E,2,0)","v":"合格"}]
[122,"赵海龙","男",2022110113,{"$f":"VLOOKUP(D125,[1]Sheet1!$D:$E,2,0)","v":"合格"}]
[123,"张大妹","女",2022110114,{"$f":"VLOOKUP(D126,[1]Sheet1!$D:$E,2,0)","v":"合格"}]
[124,"施绍磊","女",2022110114,{"$f":"VLOOKUP(D127,[1]Sheet1!$D:$E,2,0)","v":"合格"}]
[125,"孙海倩","女",2022110114,{"$f":"VLOOKUP(D128,[1]Sheet1!$D:$E,2,0)","v":"合格"}]
[126,"周秋艳","女",2022110114,{"$f":"VLOOKUP(D129,[1]Sheet1!$D:$E,2,0)","v":"合格"}]
[127,"李怀恒","男",2022110114,{"$f":"VLOOKUP(D130,[1]Sheet1!$D:$E,2,0)","v":"合格"}]
[128,"方沾沾","女",2022110114,{"$f":"VLOOKUP(D131,[1]Sheet1!$D:$E,2,0)","v":"合格"}]
[129,"王曦","女",2022110114,"怀孕未拍胸片，暂不作体检结论，建议产后补拍胸片"]
[130,"成领","女",2022110114,{"$f":"VLOOKUP(D133,[1]Sheet1!$D:$E,2,0)","v":"合格"}]
[131,"陈艳","女",2022110114,{"$f":"VLOOKUP(D134,[1]Sheet1!$D:$E,2,0)","v":"合格"}]
[132,"陆青青","女",2022110114,{"$f":"VLOOKUP(D135,[1]Sheet1!$D:$E,2,0)","v":"合格"}]
[133,"麻仕艳","女",2022110115,{"$f":"VLOOKUP(D136,[1]Sheet1!$D:$E,2,0)","v":"合格"}]
[134,"刘波","男",2022110115,"缺检"]
[135,"刘永润","男",2022110115,{"$f":"VLOOKUP(D138,[1]Sheet1!$D:$E,2,0)","v":"合格"}]
[136,"胡菲","女",2022110115,{"$f":"VLOOKUP(D139,[1]Sheet1!$D:$E,2,0)","v":"合格"}]
[137,"刘丹","女",2022110115,{"$f":"VLOOKUP(D140,[1]Sheet1!$D:$E,2,0)","v":"合格"}]
[138,"蔡希","女",2022110115,{"$f":"VLOOKUP(D141,[1]Sheet1!$D:$E,2,0)","v":"合格"}]
[139,"罗书山","女",2022110115,{"$f":"VLOOKUP(D142,[1]Sheet1!$D:$E,2,0)","v":"合格"}]
[140,"王云","女",2022110115,{"$f":"VLOOKUP(D143,[1]Sheet1!$D:$E,2,0)","v":"合格"}]
[141,"邓娇","女",2022110115,{"$f":"VLOOKUP(D144,[1]Sheet1!$D:$E,2,0)","v":"合格"}]
[142,"王露尧","女",2022110115,{"$f":"VLOOKUP(D145,[1]Sheet1!$D:$E,2,0)","v":"合格"}]
[143,"田粉碧","女",2022110201,{"$f":"VLOOKUP(D146,[1]Sheet1!$D:$E,2,0)","v":"合格"}]
[144,"王柳","女",2022110201,{"$f":"VLOOKUP(D147,[1]Sheet1!$D:$E,2,0)","v":"合格"}]
[145,"刘忠翔","男",2022110201,{"$f":"VLOOKUP(D148,[1]Sheet1!$D:$E,2,0)","v":"合格"}]
[146,"徐兴菊","女",2022110202,"怀孕未拍胸片，暂不作体检结论，建议产后补拍胸片"]
[147,"查磊富","男",2022110202,{"$f":"VLOOKUP(D150,[1]Sheet1!$D:$E,2,0)","v":"合格"}]
[148,"李凯","男",2022110202,{"$f":"VLOOKUP(D151,[1]Sheet1!$D:$E,2,0)","v":"合格"}]
[149,"李涛","男",2022110202,{"$f":"VLOOKUP(D152,[1]Sheet1!$D:$E,2,0)","v":"合格"}]
[150,"黄富彪","男",2022110202,{"$f":"VLOOKUP(D153,[1]Sheet1!$D:$E,2,0)","v":"合格"}]
[151,"陈樊盛","男",2022110202,{"$f":"VLOOKUP(D154,[1]Sheet1!$D:$E,2,0)","v":"合格"}]
[152,"陈娜","女",2022110203,{"$f":"VLOOKUP(D155,[1]Sheet1!$D:$E,2,0)","v":"合格"}]
[153,"钱霜玉","女",2022110203,{"$f":"VLOOKUP(D156,[1]Sheet1!$D:$E,2,0)","v":"合格"}]
[154,"黄敏敏","女",2022110203,{"$f":"VLOOKUP(D157,[1]Sheet1!$D:$E,2,0)","v":"合格"}]
[155,"崔媛","女",2022110203,{"$f":"VLOOKUP(D158,[1]Sheet1!$D:$E,2,0)","v":"合格"}]
[156,"蒋成爽","男",2022110203,"不合格"]
[157,"杨雪","女",2022110204,{"$f":"VLOOKUP(D160,[1]Sheet1!$D:$E,2,0)","v":"合格"}]
[158,"徐恒","女",2022110204,{"$f":"VLOOKUP(D161,[1]Sheet1!$D:$E,2,0)","v":"合格"}]
[159,"朱梦益","女",2022110204,{"$f":"VLOOKUP(D162,[1]Sheet1!$D:$E,2,0)","v":"合格"}]
[160,"黄先丽","女",2022110204,{"$f":"VLOOKUP(D163,[1]Sheet1!$D:$E,2,0)","v":"合格"}]
[161,"陈发娇","女",2022110204,{"$f":"VLOOKUP(D164,[1]Sheet1!$D:$E,2,0)","v":"合格"}]
[162,"陈茂蕤","女",2022110204,{"$f":"VLOOKUP(D165,[1]Sheet1!$D:$E,2,0)","v":"合格"}]
[163,"谢智慧","女",2022110205,{"$f":"VLOOKUP(D166,[1]Sheet1!$D:$E,2,0)","v":"合格"}]
[164,"陈欢","女",2022110205,{"$f":"VLOOKUP(D167,[1]Sheet1!$D:$E,2,0)","v":"合格"}]
[165,"邓秋韵","女",2022110206,{"$f":"VLOOKUP(D168,[1]Sheet1!$D:$E,2,0)","v":"合格"}]
[166,"李雷红","女",2022110206,{"$f":"VLOOKUP(D169,[1]Sheet1!$D:$E,2,0)","v":"合格"}]
[167,"黄付粉","女",2022110207,{"$f":"VLOOKUP(D170,[1]Sheet1!$D:$E,2,0)","v":"合格"}]
[168,"王婷","女",2022110207,{"$f":"VLOOKUP(D171,[1]Sheet1!$D:$E,2,0)","v":"合格"}]
[169,"何春梅","女",2022110207,{"$f":"VLOOKUP(D172,[1]Sheet1!$D:$E,2,0)","v":"合格"}]
[170,"杨萍萍","女",2022110207,{"$f":"VLOOKUP(D173,[1]Sheet1!$D:$E,2,0)","v":"合格"}]
[171,"管蕊","女",2022110207,{"$f":"VLOOKUP(D174,[1]Sheet1!$D:$E,2,0)","v":"合格"}]
[172,"王兴美","女",2022110207,"怀孕未拍胸片，暂不作体检结论，建议产后补拍胸片"]
[173,"皮大林","女",2022110208,{"$f":"VLOOKUP(D176,[1]Sheet1!$D:$E,2,0)","v":"合格"}]
[174,"杜燕巧","女",2022110208,{"$f":"VLOOKUP(D177,[1]Sheet1!$D:$E,2,0)","v":"合格"}]
[175,"王梦鹤","女",2022110208,{"$f":"VLOOKUP(D178,[1]Sheet1!$D:$E,2,0)","v":"合格"}]
[176,"吕春宏","男",2022110208,{"$f":"VLOOKUP(D179,[1]Sheet1!$D:$E,2,0)","v":"合格"}]
[177,"陆丹","女",2022110208,{"$f":"VLOOKUP(D180,[1]Sheet1!$D:$E,2,0)","v":"合格"}]
[178,"刘敏","女",2022110208,{"$f":"VLOOKUP(D181,[1]Sheet1!$D:$E,2,0)","v":"合格"}]