{"text_format":"3","workbook":"xlsx","n_sheets":2,"sheets":["Sheet1","Sheet2"],"not_rendered":{"defined_names":1},"read":"whole","date_system":"1900"}

{"sheet":"Sheet1","index":0,"n_rows":72,"n_cols":10,"rows_kept":72,"merged":[[0,0,0,9]]}
["镇远县2024年“特岗计划” 教师招聘面试及综合成绩表"]
["序号","姓名","报考县","报考学段","报考学科","笔试准考证号","笔试成绩","面试准考证号","面试成绩","综合成绩"]
[1,"王年倩","镇远县","小学","道德与法治","20240725010104",{"v":64,"d":"64.00"},"2024252010101",78.83,{"v":71.415,"d":"71.42"}]
[2,"谭贵花","镇远县","小学","道德与法治","20240725010105",{"v":62.5,"d":"62.50"},"2024252010102",80.97,{"v":71.735,"d":"71.74"}]
[3,"袁婷婷","镇远县","小学","道德与法治","20240725010103",{"v":60.5,"d":"60.50"},"2024252010103",83.67,{"v":72.085,"d":"72.09"}]
[4,"王琪","镇远县","初中","道德与法治","20240725010115",{"v":69.5,"d":"69.50"},"2024253010104",88.17,{"v":78.835,"d":"78.84"}]
[5,"夏千慧","镇远县","初中","道德与法治","20240725010106",{"v":68,"d":"68.00"},"2024253010105",84.27,{"v":76.135,"d":"76.14"}]
[6,"邓国琴","镇远县","初中","道德与法治","20240725010111",{"v":62,"d":"62.00"},"2024253010106",82.17,{"v":72.085,"d":"72.09"}]
[7,"冉一明","镇远县","小学","语文","20240725010223",{"v":77,"d":"77.00"},"2024252020101",83.53,{"v":80.265,"d":"80.27"}]
[8,"黄红燕","镇远县","小学","语文","20240725010214",{"v":71,"d":"71.00"},"2024252020102",84.73,{"v":77.865,"d":"77.87"}]
[9,"唐颖","镇远县","小学","语文","20240725010206",{"v":70.5,"d":"70.50"},"2024252020103",89.63,{"v":80.065,"d":"80.07"}]
[10,"徐敏","镇远县","小学","语文","20240725010215",{"v":70.5,"d":"70.50"},"2024252020104",{"v":78,"d":"78.00"},74.25]
[11,"高燕萍","镇远县","小学","语文","20240725010210",{"v":68.5,"d":"68.50"},"2024252020105",82.63,{"v":75.565,"d":"75.57"}]
[12,"吴晓芳","镇远县","小学","语文","20240725010218",{"v":68,"d":"68.00"},"2024252020106",74.33,{"v":71.165,"d":"71.17"}]
[13,"唐青青","镇远县","小学","语文","20240725010219",{"v":68,"d":"68.00"},"2024252020107",83.13,{"v":75.565,"d":"75.57"}]
[14,"袁娜娜","镇远县","小学","语文","20240725010203",{"v":67.5,"d":"67.50"},"2024252020108",84.37,{"v":75.935,"d":"75.94"}]
[15,"胡燕","镇远县","小学","语文","20240725010209",{"v":66.5,"d":"66.50"},"2024252020109",88.33,{"v":77.415,"d":"77.42"}]
[16,"杨通芬","镇远县","初中","语文","20240725010312",{"v":81.5,"d":"81.50"},"2024253020101",82.67,{"v":82.085,"d":"82.09"}]
[17,"李阳","镇远县","初中","语文","20240725010306",{"v":79,"d":"79.00"},"2024253020102",{"v":83,"d":"83.00"},{"v":81,"d":"81.00"}]
[18,"刘睿","镇远县","初中","语文","20240725010307",{"v":77.5,"d":"77.50"},"2024253020103",88.83,{"v":83.165,"d":"83.17"}]
[19,"李小玉","镇远县","初中","语文","20240725010318",{"v":77,"d":"77.00"},"2024253020104",86.67,{"v":81.835,"d":"81.84"}]
[20,"左联香","镇远县","初中","语文","20240725010315",{"v":75.5,"d":"75.50"},"2024253020105",{"v":84.5,"d":"84.50"},{"v":80,"d":"80.00"}]
[21,"蒋思","镇远县","初中","语文","20240725010305",{"v":74.5,"d":"74.50"},"2024253020106",{"v":77,"d":"77.00"},75.75]
[22,"杨莎","镇远县","初中","语文","20240725010316",{"v":73.5,"d":"73.50"},"2024253020107",86.33,{"v":79.915,"d":"79.92"}]
[23,"李依婷","镇远县","初中","语文","20240725010319",{"v":67,"d":"67.00"},"2024253020108",76.17,{"v":71.585,"d":"71.59"}]
[24,"杨茗惠","镇远县","初中","语文","20240725010321",{"v":67,"d":"67.00"},"2024253020109","缺考",{"v":33.5,"d":"33.50"}]
[25,"毛龙","镇远县","小学","数学","20240725010118",{"v":57.5,"d":"57.50"},"2024252030101",92.13,{"v":74.815,"d":"74.82"}]
[26,"吴丽","镇远县","小学","数学","20240725010117",{"v":47,"d":"47.00"},"2024252030102",88.23,{"v":67.615,"d":"67.62"}]
[27,"刘荣","镇远县","初中","数学","20240725010124",{"v":57,"d":"57.00"},"2024253030103",91.47,{"v":74.235,"d":"74.24"}]
[28,"杨宏洁","镇远县","初中","数学","20240725010121",{"v":54.5,"d":"54.50"},"2024253030104",{"v":88,"d":"88.00"},71.25]
[29,"石小睿","镇远县","小学","英语","20240725010520",{"v":78.5,"d":"78.50"},"2024252040101",{"v":85.8,"d":"85.80"},82.15]
[30,"吴莎","镇远县","小学","英语","20240725010516",{"v":71,"d":"71.00"},"2024252040102",88.23,{"v":79.615,"d":"79.62"}]
[31,"卢阳","镇远县","小学","英语","20240725010513",{"v":69.5,"d":"69.50"},"2024252040103",{"v":87.6,"d":"87.60"},78.55]
[32,"何姣","镇远县","初中","英语","20240725010405",{"v":83.5,"d":"83.50"},"2024253040104",{"v":84.1,"d":"84.10"},{"v":83.8,"d":"83.80"}]
[33,"徐凤","镇远县","初中","英语","20240725010406",{"v":82,"d":"82.00"},"2024253040105",{"v":85.3,"d":"85.30"},83.65]
[34,"简先壹","镇远县","初中","英语","20240725010430",{"v":79.5,"d":"79.50"},"2024253040106",{"v":83.9,"d":"83.90"},{"v":81.7,"d":"81.70"}]
[35,"任倩","镇远县","初中","英语","20240725010502",{"v":79.5,"d":"79.50"},"2024253040107",85.57,{"v":82.535,"d":"82.54"}]
[36,"冉成","镇远县","初中","英语","20240725010428",{"v":78.5,"d":"78.50"},"2024253040108",83.87,{"v":81.185,"d":"81.19"}]
[37,"吴光顺","镇远县","初中","英语","20240725010501",{"v":78,"d":"78.00"},"2024253040109",86.77,{"v":82.385,"d":"82.39"}]
[38,"蒋欢欢","镇远县","初中","英语","20240725010409",{"v":77,"d":"77.00"},"2024253040110",{"v":83.3,"d":"83.30"},80.15]
[39,"彭雲娟","镇远县","初中","英语","20240725010402",{"v":76.5,"d":"76.50"},"2024253040111",{"v":84.6,"d":"84.60"},80.55]
[40,"杨丹","镇远县","初中","英语","20240725010417",{"v":76.5,"d":"76.50"},"2024253040112",{"v":82.4,"d":"82.40"},79.45]
[41,"杨丹","镇远县","初中","英语","20240725010424",{"v":76.5,"d":"76.50"},"2024253040113",{"v":83.6,"d":"83.60"},80.05]
[42,"施丽","镇远县","初中","英语","20240725010416",{"v":75.5,"d":"75.50"},"2024253040114",{"v":83.5,"d":"83.50"},{"v":79.5,"d":"79.50"}]
[43,"石重阳","镇远县","初中","英语","20240725010420",{"v":75,"d":"75.00"},"2024253040115",{"v":86,"d":"86.00"},{"v":80.5,"d":"80.50"}]
[44,"李小花","镇远县","初中","地理","20240725010330",{"v":74.5,"d":"74.50"},"2024253060105",{"v":93.1,"d":"93.10"},{"v":83.8,"d":"83.80"}]
[45,"林静","镇远县","初中","地理","20240725010326",{"v":72,"d":"72.00"},"2024253060106",{"v":89.7,"d":"89.70"},80.85]
[46,"魏洪","镇远县","初中","地理","20240725010329",{"v":69.5,"d":"69.50"},"2024253060107","缺考",34.75]
[47,"杨旭","镇远县","初中","物理","20240725010903",{"v":71,"d":"71.00"},"2024253080108",89.03,{"v":80.015,"d":"80.02"}]
[48,"吴爱军","镇远县","初中","物理","20240725010904",{"v":49,"d":"49.00"},"2024253080109",87.23,{"v":68.115,"d":"68.12"}]
[49,"刘春花","镇远县","初中","化学","20240725010624",{"v":82.5,"d":"82.50"},"2024253090101",87.53,{"v":85.015,"d":"85.02"}]
[50,"李作豪","镇远县","初中","化学","20240725010621",{"v":81,"d":"81.00"},"2024253090102",84.13,{"v":82.565,"d":"82.57"}]
[51,"许丽","镇远县","初中","化学","20240725010623",{"v":77,"d":"77.00"},"2024253090103",{"v":88.3,"d":"88.30"},82.65]
[52,"向柳","镇远县","初中","化学","20240725010613",{"v":76,"d":"76.00"},"2024253090104",92.27,{"v":84.135,"d":"84.14"}]
[53,"李佳玲","镇远县","初中","化学","20240725010605",{"v":75.5,"d":"75.50"},"2024253090105",88.63,{"v":82.065,"d":"82.07"}]
[54,"任小花","镇远县","初中","化学","20240725010615",{"v":73,"d":"73.00"},"2024253090106","缺考",{"v":36.5,"d":"36.50"}]
[55,"吴万艳","镇远县","初中","化学","20240725010616",{"v":72.5,"d":"72.50"},"2024253090107",90.07,{"v":81.285,"d":"81.29"}]
[56,"段春兰","镇远县","初中","化学","20240725010628",{"v":71.5,"d":"71.50"},"2024253090108","缺考",35.75]
[57,"刘书琴","镇远县","初中","化学","20240725010601",{"v":66,"d":"66.00"},"2024253090109",86.47,{"v":76.235,"d":"76.24"}]
[58,"魏宏","镇远县","初中","化学","20240725010619",{"v":66,"d":"66.00"},"2024253090110","缺考",{"v":33,"d":"33.00"}]
[59,"何佳","镇远县","初中","生物学","20240725010912",{"v":78,"d":"78.00"},"2024253100110",90.43,{"v":84.215,"d":"84.22"}]
[60,"邹庆","镇远县","初中","生物学","20240725010919",{"v":76,"d":"76.00"},"2024253100111",87.37,{"v":81.685,"d":"81.69"}]
[61,"谭芸彩","镇远县","初中","生物学","20240725010911",{"v":68.5,"d":"68.50"},"2024253100112",87.53,{"v":78.015,"d":"78.02"}]
[62,"魏义伟","镇远县","小学","艺术（音乐）","20240725010711",{"v":71,"d":"71.00"},"2024252140101",{"v":82,"d":"82.00"},{"v":76.5,"d":"76.50"}]
[63,"杨智勇","镇远县","小学","艺术（音乐）","20240725010718",{"v":65.5,"d":"65.50"},"2024252140102",78.03,{"v":71.765,"d":"71.77"}]
[64,"李慧","镇远县","小学","艺术（音乐）","20240725010719",{"v":56.5,"d":"56.50"},"2024252140103",84.97,{"v":70.735,"d":"70.74"}]
[65,"龙开萍","镇远县","小学","艺术（美术）","20240725010806",{"v":72.5,"d":"72.50"},"2024252150104",{"v":83.8,"d":"83.80"},78.15]
[66,"吴凯莉","镇远县","小学","艺术（美术）","20240725010814",{"v":69,"d":"69.00"},"2024252150105",77.37,{"v":73.185,"d":"73.19"}]
[67,"谭盼","镇远县","小学","艺术（美术）","20240725010813",{"v":68,"d":"68.00"},"2024252150106",80.13,{"v":74.065,"d":"74.07"}]
[68,"张娜","镇远县","初中","心理健康","20240725010525",{"v":80,"d":"80.00"},"2024253190107",71.17,{"v":75.585,"d":"75.59"}]
[69,"王光莲","镇远县","初中","心理健康","20240725010523",{"v":78,"d":"78.00"},"2024253190108","缺考",{"v":39,"d":"39.00"}]
[70,"吴瑾沫","镇远县","初中","心理健康","20240725010522",{"v":73,"d":"73.00"},"2024253190109",83.83,{"v":78.415,"d":"78.42"}]

{"sheet":"Sheet2","index":1,"n_rows":108,"n_cols":11,"rows_kept":108}
[{"$f":"\"2024\"&G1&H1&#REF!","v":{"$error":"#REF!"}},{"$nulls":5},"2024252010101"]
[{"$f":"\"2024\"&G2&H2&#REF!","v":{"$error":"#REF!"}},{"$nulls":5},"2024252010102"]
[{"$f":"\"2024\"&G3&H3&#REF!","v":{"$error":"#REF!"}},{"$nulls":5},"2024252010103"]
[{"$f":"\"2024\"&G4&H4&#REF!","v":{"$error":"#REF!"}},{"$nulls":5},"2024253010104"]
[{"$f":"\"2024\"&G5&H5&#REF!","v":{"$error":"#REF!"}},{"$nulls":5},"2024253010105"]
[{"$f":"\"2024\"&G6&H6&#REF!","v":{"$error":"#REF!"}},{"$nulls":5},"2024253010106"]
[{"$f":"\"2024\"&G7&H7&#REF!","v":{"$error":"#REF!"}},{"$nulls":5},"2024252020101"]
[{"$f":"\"2024\"&G8&H8&#REF!","v":{"$error":"#REF!"}},{"$nulls":5},"2024252020102"]
[{"$f":"\"2024\"&G9&H9&#REF!","v":{"$error":"#REF!"}},{"$nulls":5},"2024252020103"]
[{"$f":"\"2024\"&G10&H10&#REF!","v":{"$error":"#REF!"}},{"$nulls":5},"2024252020104"]
[{"$f":"\"2024\"&G11&H11&#REF!","v":{"$error":"#REF!"}},{"$nulls":5},"2024252020105",null,"20240725010104"]
[{"$f":"\"2024\"&G12&H12&#REF!","v":{"$error":"#REF!"}},{"$nulls":5},"2024252020106",null,"20240725010105"]
[{"$f":"\"2024\"&G13&H13&#REF!","v":{"$error":"#REF!"}},{"$nulls":5},"2024252020107",null,"20240725010103"]
[{"$f":"\"2024\"&G14&H14&#REF!","v":{"$error":"#REF!"}},{"$nulls":5},"2024252020108",null,"20240725010115"]
[{"$f":"\"2024\"&G15&H15&#REF!","v":{"$error":"#REF!"}},{"$nulls":5},"2024252020109",null,"20240725010106"]
[{"$f":"\"2024\"&G16&H16&#REF!","v":{"$error":"#REF!"}},{"$nulls":5},"2024253020101",null,"20240725010111"]
[{"$f":"\"2024\"&G17&H17&#REF!","v":{"$error":"#REF!"}},{"$nulls":5},"2024253020102",null,"20240725010223"]
[{"$f":"\"2024\"&G18&H18&#REF!","v":{"$error":"#REF!"}},{"$nulls":5},"2024253020103",null,"20240725010214"]
[{"$f":"\"2024\"&G19&H19&#REF!","v":{"$error":"#REF!"}},{"$nulls":5},"2024253020104",null,"20240725010206"]
[{"$f":"\"2024\"&G20&H20&#REF!","v":{"$error":"#REF!"}},{"$nulls":5},"2024253020105",null,"20240725010215"]
[{"$f":"\"2024\"&G21&H21&#REF!","v":{"$error":"#REF!"}},{"$nulls":5},"2024253020106",null,"20240725010210"]
[{"$f":"\"2024\"&G22&H22&#REF!","v":{"$error":"#REF!"}},{"$nulls":5},"2024253020107",null,"20240725010218"]
[{"$f":"\"2024\"&G23&H23&#REF!","v":{"$error":"#REF!"}},{"$nulls":5},"2024253020108",null,"20240725010219"]
[{"$f":"\"2024\"&G24&H24&#REF!","v":{"$error":"#REF!"}},{"$nulls":5},"2024253020109",null,"20240725010203"]
[{"$f":"\"2024\"&G25&H25&#REF!","v":{"$error":"#REF!"}},{"$nulls":5},"2024252030101",null,"20240725010209"]
[{"$f":"\"2024\"&G26&H26&#REF!","v":{"$error":"#REF!"}},{"$nulls":5},"2024252030102",null,"20240725010312"]
[{"$f":"\"2024\"&G27&H27&#REF!","v":{"$error":"#REF!"}},{"$nulls":5},"2024253030103",null,"20240725010306"]
[{"$f":"\"2024\"&G28&H28&#REF!","v":{"$error":"#REF!"}},{"$nulls":5},"2024253030104",null,"20240725010307"]
[{"$f":"\"2024\"&G29&H29&#REF!","v":{"$error":"#REF!"}},{"$nulls":5},"2024252040101",null,"20240725010318"]
[{"$f":"\"2024\"&G30&H30&#REF!","v":{"$error":"#REF!"}},{"$nulls":5},"2024252040102",null,"20240725010315"]
[{"$f":"\"2024\"&G31&H31&#REF!","v":{"$error":"#REF!"}},{"$nulls":5},"2024252040103",null,"20240725010305"]
[{"$f":"\"2024\"&G32&H32&#REF!","v":{"$error":"#REF!"}},{"$nulls":5},"2024253040104",null,"20240725010316"]
[{"$f":"\"2024\"&G33&H33&#REF!","v":{"$error":"#REF!"}},{"$nulls":5},"2024253040105",null,"20240725010319"]
[{"$f":"\"2024\"&G34&H34&#REF!","v":{"$error":"#REF!"}},{"$nulls":5},"2024253040106",null,"20240725010321"]
[{"$f":"\"2024\"&G35&H35&#REF!","v":{"$error":"#REF!"}},{"$nulls":5},"2024253040107",null,"20240725010118"]
[{"$f":"\"2024\"&G36&H36&#REF!","v":{"$error":"#REF!"}},{"$nulls":5},"2024253040108",null,"20240725010117"]
[{"$f":"\"2024\"&G37&H37&#REF!","v":{"$error":"#REF!"}},{"$nulls":5},"2024253040109",null,"20240725010124"]
[{"$f":"\"2024\"&G38&H38&#REF!","v":{"$error":"#REF!"}},{"$nulls":5},"2024253040110",null,"20240725010121"]
[{"$f":"\"2024\"&G39&H39&#REF!","v":{"$error":"#REF!"}},{"$nulls":5},"2024253040111",null,"20240725010520",null,"20240725010104"]
[{"$f":"\"2024\"&G40&H40&#REF!","v":{"$error":"#REF!"}},{"$nulls":5},"2024253040112",null,"20240725010516",null,"20240725010105"]
[{"$f":"\"2024\"&G41&H41&#REF!","v":{"$error":"#REF!"}},{"$nulls":5},"2024253040113",null,"20240725010513",null,"20240725010103"]
[{"$f":"\"2024\"&G42&H42&#REF!","v":{"$error":"#REF!"}},{"$nulls":5},"2024253040114",null,"20240725010405",null,"20240725010115"]
[{"$f":"\"2024\"&G43&H43&#REF!","v":{"$error":"#REF!"}},{"$nulls":5},"2024253040115",null,"20240725010406",null,"20240725010106"]
[{"$f":"\"2024\"&G44&H44&#REF!","v":{"$error":"#REF!"}},{"$nulls":5},"2024253060105",null,"20240725010430",null,"20240725010111"]
[{"$f":"\"2024\"&G45&H45&#REF!","v":{"$error":"#REF!"}},{"$nulls":5},"2024253060106",null,"20240725010502",null,"20240725010223"]
[{"$f":"\"2024\"&G46&H46&#REF!","v":{"$error":"#REF!"}},{"$nulls":5},"2024253060107",null,"20240725010428",null,"20240725010214"]
[{"$f":"\"2024\"&G47&H47&#REF!","v":{"$error":"#REF!"}},{"$nulls":5},"2024253080108",null,"20240725010501",null,"20240725010206"]
[{"$f":"\"2024\"&G48&H48&#REF!","v":{"$error":"#REF!"}},{"$nulls":5},"2024253080109",null,"20240725010409",null,"20240725010215"]
[{"$f":"\"2024\"&G49&H49&#REF!","v":{"$error":"#REF!"}},{"$nulls":5},"2024253090101",null,"20240725010402",null,"20240725010210"]
[{"$f":"\"2024\"&G50&H50&#REF!","v":{"$error":"#REF!"}},{"$nulls":5},"2024253090102",null,"20240725010417",null,"20240725010218"]
[{"$f":"\"2024\"&G51&H51&#REF!","v":{"$error":"#REF!"}},{"$nulls":5},"2024253090103",null,"20240725010424",null,"20240725010219"]
[{"$f":"\"2024\"&G52&H52&#REF!","v":{"$error":"#REF!"}},{"$nulls":5},"2024253090104",null,"20240725010416",null,"20240725010203"]
[{"$f":"\"2024\"&G53&H53&#REF!","v":{"$error":"#REF!"}},{"$nulls":5},"2024253090105",null,"20240725010420",null,"20240725010209"]
[{"$f":"\"2024\"&G54&H54&#REF!","v":{"$error":"#REF!"}},{"$nulls":5},"2024253090106",null,"20240725010330",null,"20240725010312"]
[{"$f":"\"2024\"&G55&H55&#REF!","v":{"$error":"#REF!"}},{"$nulls":5},"2024253090107",null,"20240725010326",null,"20240725010306"]
[{"$f":"\"2024\"&G56&H56&#REF!","v":{"$error":"#REF!"}},{"$nulls":5},"2024253090108",null,"20240725010329",null,"20240725010307"]
[{"$f":"\"2024\"&G57&H57&#REF!","v":{"$error":"#REF!"}},{"$nulls":5},"2024253090109",null,"20240725010903",null,"20240725010318"]
[{"$f":"\"2024\"&G58&H58&#REF!","v":{"$error":"#REF!"}},{"$nulls":5},"2024253090110",null,"20240725010904",null,"20240725010315"]
[{"$f":"\"2024\"&G59&H59&#REF!","v":{"$error":"#REF!"}},{"$nulls":5},"2024253100110",null,"20240725010624",null,"20240725010305"]
[{"$f":"\"2024\"&G60&H60&#REF!","v":{"$error":"#REF!"}},{"$nulls":5},"2024253100111",null,"20240725010621",null,"20240725010316"]
[{"$f":"\"2024\"&G61&H61&#REF!","v":{"$error":"#REF!"}},{"$nulls":5},"2024253100112",null,"20240725010623",null,"20240725010319"]
[{"$f":"\"2024\"&G62&H62&#REF!","v":{"$error":"#REF!"}},{"$nulls":5},"2024252140101",null,"20240725010613",null,"20240725010321"]
[{"$f":"\"2024\"&G63&H63&#REF!","v":{"$error":"#REF!"}},{"$nulls":5},"2024252140102",null,"20240725010605",null,"20240725010118"]
[{"$f":"\"2024\"&G64&H64&#REF!","v":{"$error":"#REF!"}},{"$nulls":5},"2024252140103",null,"20240725010615",null,"20240725010117"]
[{"$f":"\"2024\"&G65&H65&#REF!","v":{"$error":"#REF!"}},{"$nulls":5},"2024252150104",null,"20240725010616",null,"20240725010124"]
[{"$f":"\"2024\"&G66&H66&#REF!","v":{"$error":"#REF!"}},{"$nulls":5},"2024252150105",null,"20240725010628",null,"20240725010121"]
[{"$f":"\"2024\"&G67&H67&#REF!","v":{"$error":"#REF!"}},{"$nulls":5},"2024252150106",null,"20240725010601",null,"20240725010520"]
[{"$f":"\"2024\"&G68&H68&#REF!","v":{"$error":"#REF!"}},{"$nulls":5},"2024253190107",null,"20240725010619",null,"20240725010516"]
[{"$f":"\"2024\"&G69&H69&#REF!","v":{"$error":"#REF!"}},{"$nulls":5},"2024253190108",null,"20240725010912",null,"20240725010513"]
[{"$f":"\"2024\"&G70&H70&#REF!","v":{"$error":"#REF!"}},{"$nulls":5},"2024253190109",null,"20240725010919",null,"20240725010405"]
[{"$nulls":8},"20240725010911",null,"20240725010406"]
[{"$nulls":8},"20240725010711",null,"20240725010430"]
[{"$nulls":8},"20240725010718",null,"20240725010502"]
[{"$nulls":8},"20240725010719",null,"20240725010428"]
[{"$nulls":8},"20240725010806",null,"20240725010501"]
[{"$nulls":8},"20240725010814",null,"20240725010409"]
[{"$nulls":8},"20240725010813",null,"20240725010402"]
[{"$nulls":8},"20240725010525",null,"20240725010417"]
[{"$nulls":8},"20240725010523",null,"20240725010424"]
[{"$nulls":8},"20240725010522",null,"20240725010416"]
[{"$nulls":10},"20240725010420"]
[{"$nulls":10},"20240725010330"]
[{"$nulls":10},"20240725010326"]
[{"$nulls":10},"20240725010329"]
[{"$nulls":10},"20240725010903"]
[{"$nulls":10},"20240725010904"]
[{"$nulls":10},"20240725010624"]
[{"$nulls":10},"20240725010621"]
[{"$nulls":10},"20240725010623"]
[{"$nulls":10},"20240725010613"]
[{"$nulls":10},"20240725010605"]
[{"$nulls":10},"20240725010615"]
[{"$nulls":10},"20240725010616"]
[{"$nulls":10},"20240725010628"]
[{"$nulls":10},"20240725010601"]
[{"$nulls":10},"20240725010619"]
[{"$nulls":10},"20240725010912"]
[{"$nulls":10},"20240725010919"]
[{"$nulls":10},"20240725010911"]
[{"$nulls":10},"20240725010711"]
[{"$nulls":10},"20240725010718"]
[{"$nulls":10},"20240725010719"]
[{"$nulls":10},"20240725010806"]
[{"$nulls":10},"20240725010814"]
[{"$nulls":10},"20240725010813"]
[{"$nulls":10},"20240725010525"]
[{"$nulls":10},"20240725010523"]
[{"$nulls":10},"20240725010522"]