{"text_format":"3","workbook":"xlsx","n_sheets":1,"sheets":["考生笔试成绩登记表"],"not_rendered":{"external_links":1,"defined_names":2},"read":"whole","date_system":"1900"}

{"sheet":"考生笔试成绩登记表","index":0,"n_rows":511,"n_cols":9,"rows_kept":511,"merged":[[1,0,1,8]]}
["附件"]
["六枝特区2024年“特岗计划”教师招聘笔试成绩"]
["序号","姓名","准考证号","考试科目","考场号","座位号","考点","考试成绩","备注"]
[1,"周贵香","20240301010101","语文","01","01","六枝特区职业技术学校",{"$f":"VLOOKUP(C4,[1]招聘笔试成绩统计表!$B:$I,8,0)","v":48}]
[2,"刘志东","20240301010102","语文","01","02","六枝特区职业技术学校",{"$f":"VLOOKUP(C5,[1]招聘笔试成绩统计表!$B:$I,8,0)","v":47}]
[3,"张梦媛","20240301010103","语文","01","03","六枝特区职业技术学校",{"$f":"VLOOKUP(C6,[1]招聘笔试成绩统计表!$B:$I,8,0)","v":64}]
[4,"陆彦蓉","20240301010104","语文","01","04","六枝特区职业技术学校",{"$f":"VLOOKUP(C7,[1]招聘笔试成绩统计表!$B:$I,8,0)","v":68}]
[5,"刘志惠","20240301010105","语文","01","05","六枝特区职业技术学校",{"$f":"VLOOKUP(C8,[1]招聘笔试成绩统计表!$B:$I,8,0)","v":56}]
[6,"叶艳美","20240301010106","语文","01","06","六枝特区职业技术学校",{"$f":"VLOOKUP(C9,[1]招聘笔试成绩统计表!$B:$I,8,0)","v":72.5}]
[7,"陈富嫦","20240301010107","语文","01","07","六枝特区职业技术学校",{"$f":"VLOOKUP(C10,[1]招聘笔试成绩统计表!$B:$I,8,0)","v":80}]
[8,"张春兰","20240301010108","语文","01","08","六枝特区职业技术学校",{"$f":"VLOOKUP(C11,[1]招聘笔试成绩统计表!$B:$I,8,0)","v":69}]
[9,"苏仕秀","20240301010109","语文","01","09","六枝特区职业技术学校",{"$f":"VLOOKUP(C12,[1]招聘笔试成绩统计表!$B:$I,8,0)","v":62.5}]
[10,"江源","20240301010110","语文","01",10,"六枝特区职业技术学校",{"$f":"VLOOKUP(C13,[1]招聘笔试成绩统计表!$B:$I,8,0)","v":66}]
[11,"罗荃","20240301010111","语文","01",11,"六枝特区职业技术学校",{"$f":"VLOOKUP(C14,[1]招聘笔试成绩统计表!$B:$I,8,0)","v":66.5}]
[12,"潘爽","20240301010112","语文","01",12,"六枝特区职业技术学校",{"$f":"VLOOKUP(C15,[1]招聘笔试成绩统计表!$B:$I,8,0)","v":64}]
[13,"刘闯","20240301010113","语文","01",13,"六枝特区职业技术学校",{"$f":"VLOOKUP(C16,[1]招聘笔试成绩统计表!$B:$I,8,0)","v":60.5}]
[14,"彭宇","20240301010114","语文","01",14,"六枝特区职业技术学校",{"$f":"VLOOKUP(C17,[1]招聘笔试成绩统计表!$B:$I,8,0)","v":72}]
[15,"白露","20240301010115","语文","01",15,"六枝特区职业技术学校",{"$f":"VLOOKUP(C18,[1]招聘笔试成绩统计表!$B:$I,8,0)","v":72}]
[16,"胡敏","20240301010116","语文","01",16,"六枝特区职业技术学校",{"$f":"VLOOKUP(C19,[1]招聘笔试成绩统计表!$B:$I,8,0)","v":61}]
[17,"宋丽丽","20240301010117","语文","01",17,"六枝特区职业技术学校",{"$f":"VLOOKUP(C20,[1]招聘笔试成绩统计表!$B:$I,8,0)","v":67}]
[18,"刘梦然","20240301010118","语文","01",18,"六枝特区职业技术学校",{"$f":"VLOOKUP(C21,[1]招聘笔试成绩统计表!$B:$I,8,0)","v":56.5}]
[19,"郭应利","20240301010119","语文","01",19,"六枝特区职业技术学校",{"$f":"VLOOKUP(C22,[1]招聘笔试成绩统计表!$B:$I,8,0)","v":54.5}]
[20,"申君","20240301010120","语文","01",20,"六枝特区职业技术学校",{"$f":"VLOOKUP(C23,[1]招聘笔试成绩统计表!$B:$I,8,0)","v":55.5}]
[21,"赵泽多","20240301010121","语文","01",21,"六枝特区职业技术学校",{"$f":"VLOOKUP(C24,[1]招聘笔试成绩统计表!$B:$I,8,0)","v":64}]
[22,"杨辉雪","20240301010122","语文","01",22,"六枝特区职业技术学校",{"$f":"VLOOKUP(C25,[1]招聘笔试成绩统计表!$B:$I,8,0)","v":50.5}]
[23,"龙小雨","20240301010123","语文","01",23,"六枝特区职业技术学校",{"$f":"VLOOKUP(C26,[1]招聘笔试成绩统计表!$B:$I,8,0)","v":65}]
[24,"周罗俊","20240301010124","语文","01",24,"六枝特区职业技术学校",{"$f":"VLOOKUP(C27,[1]招聘笔试成绩统计表!$B:$I,8,0)","v":59.5}]
[25,"卢维","20240301010125","语文","01",25,"六枝特区职业技术学校",{"$f":"VLOOKUP(C28,[1]招聘笔试成绩统计表!$B:$I,8,0)","v":49.5}]
[26,"陈贵香","20240301010126","语文","01",26,"六枝特区职业技术学校",{"$f":"VLOOKUP(C29,[1]招聘笔试成绩统计表!$B:$I,8,0)","v":58}]
[27,"王学美","20240301010127","语文","01",27,"六枝特区职业技术学校",{"$f":"VLOOKUP(C30,[1]招聘笔试成绩统计表!$B:$I,8,0)","v":73}]
[28,"江丹","20240301010128","语文","01",28,"六枝特区职业技术学校",{"$f":"VLOOKUP(C31,[1]招聘笔试成绩统计表!$B:$I,8,0)","v":64.5}]
[29,"钟文惠","20240301010129","语文","01",29,"六枝特区职业技术学校",{"$f":"VLOOKUP(C32,[1]招聘笔试成绩统计表!$B:$I,8,0)","v":59.5}]
[30,"陈饶饶","20240301010130","语文","01",30,"六枝特区职业技术学校",{"$f":"VLOOKUP(C33,[1]招聘笔试成绩统计表!$B:$I,8,0)","v":65}]
[31,"罗露","20240301010201","语文","02","01","六枝特区职业技术学校",{"$f":"VLOOKUP(C34,[1]招聘笔试成绩统计表!$B:$I,8,0)","v":67}]
[32,"何兴新","20240301010202","语文","02","02","六枝特区职业技术学校",{"$f":"VLOOKUP(C35,[1]招聘笔试成绩统计表!$B:$I,8,0)","v":66}]
[33,"高礼静","20240301010203","语文","02","03","六枝特区职业技术学校",{"$f":"VLOOKUP(C36,[1]招聘笔试成绩统计表!$B:$I,8,0)","v":56.5}]
[34,"付尚艳","20240301010204","语文","02","04","六枝特区职业技术学校",{"$f":"VLOOKUP(C37,[1]招聘笔试成绩统计表!$B:$I,8,0)","v":67.5}]
[35,"陈红梅","20240301010205","语文","02","05","六枝特区职业技术学校",{"$f":"VLOOKUP(C38,[1]招聘笔试成绩统计表!$B:$I,8,0)","v":72}]
[36,"龚老大","20240301010206","语文","02","06","六枝特区职业技术学校",{"$f":"VLOOKUP(C39,[1]招聘笔试成绩统计表!$B:$I,8,0)","v":"缺考"}]
[37,"江冬","20240301010207","语文","02","07","六枝特区职业技术学校",{"$f":"VLOOKUP(C40,[1]招聘笔试成绩统计表!$B:$I,8,0)","v":62.5}]
[38,"赵家乐","20240301010208","语文","02","08","六枝特区职业技术学校",{"$f":"VLOOKUP(C41,[1]招聘笔试成绩统计表!$B:$I,8,0)","v":54}]
[39,"徐关丽","20240301010209","语文","02","09","六枝特区职业技术学校",{"$f":"VLOOKUP(C42,[1]招聘笔试成绩统计表!$B:$I,8,0)","v":69}]
[40,"彭艳","20240301010210","语文","02",10,"六枝特区职业技术学校",{"$f":"VLOOKUP(C43,[1]招聘笔试成绩统计表!$B:$I,8,0)","v":61}]
[41,"熊婷","20240301010211","语文","02",11,"六枝特区职业技术学校",{"$f":"VLOOKUP(C44,[1]招聘笔试成绩统计表!$B:$I,8,0)","v":62.5}]
[42,"张飘","20240301010212","语文","02",12,"六枝特区职业技术学校",{"$f":"VLOOKUP(C45,[1]招聘笔试成绩统计表!$B:$I,8,0)","v":71.5}]
[43,"张碧","20240301010213","语文","02",13,"六枝特区职业技术学校",{"$f":"VLOOKUP(C46,[1]招聘笔试成绩统计表!$B:$I,8,0)","v":66.5}]
[44,"王艳玲","20240301010214","语文","02",14,"六枝特区职业技术学校",{"$f":"VLOOKUP(C47,[1]招聘笔试成绩统计表!$B:$I,8,0)","v":68.5}]
[45,"曾贞","20240301010215","语文","02",15,"六枝特区职业技术学校",{"$f":"VLOOKUP(C48,[1]招聘笔试成绩统计表!$B:$I,8,0)","v":70.5}]
[46,"宋来顺","20240301010216","语文","02",16,"六枝特区职业技术学校",{"$f":"VLOOKUP(C49,[1]招聘笔试成绩统计表!$B:$I,8,0)","v":49.5}]
[47,"宋来润","20240301010217","语文","02",17,"六枝特区职业技术学校",{"$f":"VLOOKUP(C50,[1]招聘笔试成绩统计表!$B:$I,8,0)","v":69}]
[48,"彭家琼","20240301010218","语文","02",18,"六枝特区职业技术学校",{"$f":"VLOOKUP(C51,[1]招聘笔试成绩统计表!$B:$I,8,0)","v":62.5}]
[49,"沙桂香","20240301010219","语文","02",19,"六枝特区职业技术学校",{"$f":"VLOOKUP(C52,[1]招聘笔试成绩统计表!$B:$I,8,0)","v":56.5}]
[50,"周艳","20240301010220","语文","02",20,"六枝特区职业技术学校",{"$f":"VLOOKUP(C53,[1]招聘笔试成绩统计表!$B:$I,8,0)","v":57.5}]
[51,"赵才梦","20240301010221","语文","02",21,"六枝特区职业技术学校",{"$f":"VLOOKUP(C54,[1]招聘笔试成绩统计表!$B:$I,8,0)","v":65}]
[52,"王敏","20240301010222","语文","02",22,"六枝特区职业技术学校",{"$f":"VLOOKUP(C55,[1]招聘笔试成绩统计表!$B:$I,8,0)","v":82}]
[53,"李虹","20240301010223","语文","02",23,"六枝特区职业技术学校",{"$f":"VLOOKUP(C56,[1]招聘笔试成绩统计表!$B:$I,8,0)","v":73}]
[54,"马双妹","20240301010224","语文","02",24,"六枝特区职业技术学校",{"$f":"VLOOKUP(C57,[1]招聘笔试成绩统计表!$B:$I,8,0)","v":72}]
[55,"严芸","20240301010225","语文","02",25,"六枝特区职业技术学校",{"$f":"VLOOKUP(C58,[1]招聘笔试成绩统计表!$B:$I,8,0)","v":74}]
[56,"王婕嫔","20240301010226","语文","02",26,"六枝特区职业技术学校",{"$f":"VLOOKUP(C59,[1]招聘笔试成绩统计表!$B:$I,8,0)","v":64}]
[57,"田焕焕","20240301010227","语文","02",27,"六枝特区职业技术学校",{"$f":"VLOOKUP(C60,[1]招聘笔试成绩统计表!$B:$I,8,0)","v":80.5}]
[58,"李莉莉","20240301010228","语文","02",28,"六枝特区职业技术学校",{"$f":"VLOOKUP(C61,[1]招聘笔试成绩统计表!$B:$I,8,0)","v":40}]
[59,"肖诚","20240301010229","语文","02",29,"六枝特区职业技术学校",{"$f":"VLOOKUP(C62,[1]招聘笔试成绩统计表!$B:$I,8,0)","v":59.5}]
[60,"盛姝萌","20240301010230","语文","02",30,"六枝特区职业技术学校",{"$f":"VLOOKUP(C63,[1]招聘笔试成绩统计表!$B:$I,8,0)","v":59}]
[61,"姚应婷","20240301010301","语文","03","01","六枝特区职业技术学校",{"$f":"VLOOKUP(C64,[1]招聘笔试成绩统计表!$B:$I,8,0)","v":70}]
[62,"周孝敏","20240301010302","语文","03","02","六枝特区职业技术学校",{"$f":"VLOOKUP(C65,[1]招聘笔试成绩统计表!$B:$I,8,0)","v":75}]
[63,"周琼琼","20240301010303","语文","03","03","六枝特区职业技术学校",{"$f":"VLOOKUP(C66,[1]招聘笔试成绩统计表!$B:$I,8,0)","v":67.5}]
[64,"肖蓉婷","20240301010304","语文","03","04","六枝特区职业技术学校",{"$f":"VLOOKUP(C67,[1]招聘笔试成绩统计表!$B:$I,8,0)","v":66}]
[65,"李云欢","20240301010305","语文","03","05","六枝特区职业技术学校",{"$f":"VLOOKUP(C68,[1]招聘笔试成绩统计表!$B:$I,8,0)","v":64.5}]
[66,"卢丽","20240301010306","语文","03","06","六枝特区职业技术学校",{"$f":"VLOOKUP(C69,[1]招聘笔试成绩统计表!$B:$I,8,0)","v":70.5}]
[67,"毕海霞","20240301010307","语文","03","07","六枝特区职业技术学校",{"$f":"VLOOKUP(C70,[1]招聘笔试成绩统计表!$B:$I,8,0)","v":67.5}]
[68,"祖长娣","20240301010308","语文","03","08","六枝特区职业技术学校",{"$f":"VLOOKUP(C71,[1]招聘笔试成绩统计表!$B:$I,8,0)","v":75}]
[69,"喻静","20240301010309","语文","03","09","六枝特区职业技术学校",{"$f":"VLOOKUP(C72,[1]招聘笔试成绩统计表!$B:$I,8,0)","v":53.5}]
[70,"肖单丹","20240301010310","语文","03",10,"六枝特区职业技术学校",{"$f":"VLOOKUP(C73,[1]招聘笔试成绩统计表!$B:$I,8,0)","v":55.5}]
[71,"代丽娟","20240301010311","语文","03",11,"六枝特区职业技术学校",{"$f":"VLOOKUP(C74,[1]招聘笔试成绩统计表!$B:$I,8,0)","v":64.5}]
[72,"杜娟","20240301010312","语文","03",12,"六枝特区职业技术学校",{"$f":"VLOOKUP(C75,[1]招聘笔试成绩统计表!$B:$I,8,0)","v":47}]
[73,"卢温馨","20240301010313","语文","03",13,"六枝特区职业技术学校",{"$f":"VLOOKUP(C76,[1]招聘笔试成绩统计表!$B:$I,8,0)","v":82}]
[74,"所婷","20240301010314","语文","03",14,"六枝特区职业技术学校",{"$f":"VLOOKUP(C77,[1]招聘笔试成绩统计表!$B:$I,8,0)","v":61.5}]
[75,"朱仙凤","20240301010315","语文","03",15,"六枝特区职业技术学校",{"$f":"VLOOKUP(C78,[1]招聘笔试成绩统计表!$B:$I,8,0)","v":61}]
[76,"沈婕妤","20240301010316","语文","03",16,"六枝特区职业技术学校",{"$f":"VLOOKUP(C79,[1]招聘笔试成绩统计表!$B:$I,8,0)","v":68}]
[77,"蒋琪琪","20240301010317","语文","03",17,"六枝特区职业技术学校",{"$f":"VLOOKUP(C80,[1]招聘笔试成绩统计表!$B:$I,8,0)","v":69}]
[78,"王忠琼","20240301010318","语文","03",18,"六枝特区职业技术学校",{"$f":"VLOOKUP(C81,[1]招聘笔试成绩统计表!$B:$I,8,0)","v":55.5}]
[79,"罗萍","20240301010319","语文","03",19,"六枝特区职业技术学校",{"$f":"VLOOKUP(C82,[1]招聘笔试成绩统计表!$B:$I,8,0)","v":52.5}]
[80,"高超林","20240301010320","语文","03",20,"六枝特区职业技术学校",{"$f":"VLOOKUP(C83,[1]招聘笔试成绩统计表!$B:$I,8,0)","v":59}]
[81,"谢诗婷","20240301010321","语文","03",21,"六枝特区职业技术学校",{"$f":"VLOOKUP(C84,[1]招聘笔试成绩统计表!$B:$I,8,0)","v":64}]
[82,"龙小美","20240301010322","语文","03",22,"六枝特区职业技术学校",{"$f":"VLOOKUP(C85,[1]招聘笔试成绩统计表!$B:$I,8,0)","v":73.5}]
[83,"向学艳","20240301010323","语文","03",23,"六枝特区职业技术学校",{"$f":"VLOOKUP(C86,[1]招聘笔试成绩统计表!$B:$I,8,0)","v":67.5}]
[84,"龙泉伊","20240301010324","语文","03",24,"六枝特区职业技术学校",{"$f":"VLOOKUP(C87,[1]招聘笔试成绩统计表!$B:$I,8,0)","v":58.5}]
[85,"周光根","20240301010325","语文","03",25,"六枝特区职业技术学校",{"$f":"VLOOKUP(C88,[1]招聘笔试成绩统计表!$B:$I,8,0)","v":74}]
[86,"龙娅","20240301010326","语文","03",26,"六枝特区职业技术学校",{"$f":"VLOOKUP(C89,[1]招聘笔试成绩统计表!$B:$I,8,0)","v":58}]
[87,"谌洪霞","20240301010327","语文","03",27,"六枝特区职业技术学校",{"$f":"VLOOKUP(C90,[1]招聘笔试成绩统计表!$B:$I,8,0)","v":68}]
[88,"车正芬","20240301010328","语文","03",28,"六枝特区职业技术学校",{"$f":"VLOOKUP(C91,[1]招聘笔试成绩统计表!$B:$I,8,0)","v":67}]
[89,"袁廷杨","20240301010329","语文","03",29,"六枝特区职业技术学校",{"$f":"VLOOKUP(C92,[1]招聘笔试成绩统计表!$B:$I,8,0)","v":65.5}]
[90,"严梦梦","20240301010330","语文","03",30,"六枝特区职业技术学校",{"$f":"VLOOKUP(C93,[1]招聘笔试成绩统计表!$B:$I,8,0)","v":68.5}]
[91,"金林广","20240301010401","语文","04","01","六枝特区职业技术学校",{"$f":"VLOOKUP(C94,[1]招聘笔试成绩统计表!$B:$I,8,0)","v":57}]
[92,"徐婷","20240301010402","语文","04","02","六枝特区职业技术学校",{"$f":"VLOOKUP(C95,[1]招聘笔试成绩统计表!$B:$I,8,0)","v":62.5}]
[93,"龙刚","20240301010403","语文","04","03","六枝特区职业技术学校",{"$f":"VLOOKUP(C96,[1]招聘笔试成绩统计表!$B:$I,8,0)","v":65}]
[94,"刘世飞","20240301010404","语文","04","04","六枝特区职业技术学校",{"$f":"VLOOKUP(C97,[1]招聘笔试成绩统计表!$B:$I,8,0)","v":78}]
[95,"韦如玉","20240301010405","语文","04","05","六枝特区职业技术学校",{"$f":"VLOOKUP(C98,[1]招聘笔试成绩统计表!$B:$I,8,0)","v":52}]
[96,"徐祯念","20240301010406","语文","04","06","六枝特区职业技术学校",{"$f":"VLOOKUP(C99,[1]招聘笔试成绩统计表!$B:$I,8,0)","v":69.5}]
[97,"王芳芳","20240301010407","语文","04","07","六枝特区职业技术学校",{"$f":"VLOOKUP(C100,[1]招聘笔试成绩统计表!$B:$I,8,0)","v":75.5}]
[98,"张洪敏","20240301010408","语文","04","08","六枝特区职业技术学校",{"$f":"VLOOKUP(C101,[1]招聘笔试成绩统计表!$B:$I,8,0)","v":77.5}]
[99,"王华琴","20240301010409","语文","04","09","六枝特区职业技术学校",{"$f":"VLOOKUP(C102,[1]招聘笔试成绩统计表!$B:$I,8,0)","v":50.5}]
[100,"杨枝秀","20240301010410","语文","04",10,"六枝特区职业技术学校",{"$f":"VLOOKUP(C103,[1]招聘笔试成绩统计表!$B:$I,8,0)","v":61.5}]
[101,"郭昀","20240301010411","语文","04",11,"六枝特区职业技术学校",{"$f":"VLOOKUP(C104,[1]招聘笔试成绩统计表!$B:$I,8,0)","v":49.5}]
[102,"王芳","20240301010412","语文","04",12,"六枝特区职业技术学校",{"$f":"VLOOKUP(C105,[1]招聘笔试成绩统计表!$B:$I,8,0)","v":66}]
[103,"王庭芳","20240301010413","语文","04",13,"六枝特区职业技术学校",{"$f":"VLOOKUP(C106,[1]招聘笔试成绩统计表!$B:$I,8,0)","v":61}]
[104,"程丽娜","20240301010415","语文","04",14,"六枝特区职业技术学校",{"$f":"VLOOKUP(C107,[1]招聘笔试成绩统计表!$B:$I,8,0)","v":71}]
[105,"李丽梅","20240301010416","语文","04",15,"六枝特区职业技术学校",{"$f":"VLOOKUP(C108,[1]招聘笔试成绩统计表!$B:$I,8,0)","v":67}]
[106,"管萍","20240301010417","语文","04",16,"六枝特区职业技术学校",{"$f":"VLOOKUP(C109,[1]招聘笔试成绩统计表!$B:$I,8,0)","v":54}]
[107,"侯英","20240301010418","语文","04",17,"六枝特区职业技术学校",{"$f":"VLOOKUP(C110,[1]招聘笔试成绩统计表!$B:$I,8,0)","v":56.5}]
[108,"李青青","20240301010419","语文","04",18,"六枝特区职业技术学校",{"$f":"VLOOKUP(C111,[1]招聘笔试成绩统计表!$B:$I,8,0)","v":62}]
[109,"肖清清","20240301010420","语文","04",19,"六枝特区职业技术学校",{"$f":"VLOOKUP(C112,[1]招聘笔试成绩统计表!$B:$I,8,0)","v":47}]
[110,"陈艳","20240301010421","语文","04",20,"六枝特区职业技术学校",{"$f":"VLOOKUP(C113,[1]招聘笔试成绩统计表!$B:$I,8,0)","v":74}]
[111,"翟厅","20240301010422","语文","04",21,"六枝特区职业技术学校",{"$f":"VLOOKUP(C114,[1]招聘笔试成绩统计表!$B:$I,8,0)","v":61.5}]
[112,"王婷","20240301010423","语文","04",22,"六枝特区职业技术学校",{"$f":"VLOOKUP(C115,[1]招聘笔试成绩统计表!$B:$I,8,0)","v":72}]
[113,"郭红艳","20240301010424","语文","04",23,"六枝特区职业技术学校",{"$f":"VLOOKUP(C116,[1]招聘笔试成绩统计表!$B:$I,8,0)","v":64.5}]
[114,"苏家金","20240301010425","语文","04",24,"六枝特区职业技术学校",{"$f":"VLOOKUP(C117,[1]招聘笔试成绩统计表!$B:$I,8,0)","v":45}]
[115,"严文艳","20240301010426","语文","04",25,"六枝特区职业技术学校",{"$f":"VLOOKUP(C118,[1]招聘笔试成绩统计表!$B:$I,8,0)","v":63}]
[116,"安东艳","20240301010427","语文","04",26,"六枝特区职业技术学校",{"$f":"VLOOKUP(C119,[1]招聘笔试成绩统计表!$B:$I,8,0)","v":75}]
[117,"胡莹","20240301010428","语文","04",27,"六枝特区职业技术学校",{"$f":"VLOOKUP(C120,[1]招聘笔试成绩统计表!$B:$I,8,0)","v":73}]
[118,"韦丹","20240301010429","语文","04",28,"六枝特区职业技术学校",{"$f":"VLOOKUP(C121,[1]招聘笔试成绩统计表!$B:$I,8,0)","v":77}]
[119,"万青","20240301010430","语文","04",29,"六枝特区职业技术学校",{"$f":"VLOOKUP(C122,[1]招聘笔试成绩统计表!$B:$I,8,0)","v":58}]
[120,"张驰宇","20240301010501","语文","05","01","六枝特区职业技术学校",{"$f":"VLOOKUP(C123,[1]招聘笔试成绩统计表!$B:$I,8,0)","v":54}]
[121,"赵倩","20240301010502","语文","05","02","六枝特区职业技术学校",{"$f":"VLOOKUP(C124,[1]招聘笔试成绩统计表!$B:$I,8,0)","v":50.5}]
[122,"肖丹","20240301010503","语文","05","03","六枝特区职业技术学校",{"$f":"VLOOKUP(C125,[1]招聘笔试成绩统计表!$B:$I,8,0)","v":59.5}]
[123,"熊芳芳","20240301010504","语文","05","04","六枝特区职业技术学校",{"$f":"VLOOKUP(C126,[1]招聘笔试成绩统计表!$B:$I,8,0)","v":70}]
[124,"杨孟璟","20240301010505","语文","05","05","六枝特区职业技术学校",{"$f":"VLOOKUP(C127,[1]招聘笔试成绩统计表!$B:$I,8,0)","v":77}]
[125,"蒋灵云","20240301010506","语文","05","06","六枝特区职业技术学校",{"$f":"VLOOKUP(C128,[1]招聘笔试成绩统计表!$B:$I,8,0)","v":71}]
[126,"李萍","20240301010507","语文","05","07","六枝特区职业技术学校",{"$f":"VLOOKUP(C129,[1]招聘笔试成绩统计表!$B:$I,8,0)","v":84}]
[127,"周冉升","20240301010508","语文","05","08","六枝特区职业技术学校",{"$f":"VLOOKUP(C130,[1]招聘笔试成绩统计表!$B:$I,8,0)","v":70}]
[128,"陆启美","20240301010509","语文","05","09","六枝特区职业技术学校",{"$f":"VLOOKUP(C131,[1]招聘笔试成绩统计表!$B:$I,8,0)","v":64.5}]
[129,"申正蓉","20240301010510","语文","05",10,"六枝特区职业技术学校",{"$f":"VLOOKUP(C132,[1]招聘笔试成绩统计表!$B:$I,8,0)","v":57.5}]
[130,"崔慢文","20240301010511","语文","05",11,"六枝特区职业技术学校",{"$f":"VLOOKUP(C133,[1]招聘笔试成绩统计表!$B:$I,8,0)","v":68}]
[131,"张小玉","20240301010512","语文","05",12,"六枝特区职业技术学校",{"$f":"VLOOKUP(C134,[1]招聘笔试成绩统计表!$B:$I,8,0)","v":66.5}]
[132,"王沙沙","20240301010513","语文","05",13,"六枝特区职业技术学校",{"$f":"VLOOKUP(C135,[1]招聘笔试成绩统计表!$B:$I,8,0)","v":69}]
[133,"杨丽珊","20240301010514","语文","05",14,"六枝特区职业技术学校",{"$f":"VLOOKUP(C136,[1]招聘笔试成绩统计表!$B:$I,8,0)","v":64}]
[134,"陈晓琼","20240301010515","语文","05",15,"六枝特区职业技术学校",{"$f":"VLOOKUP(C137,[1]招聘笔试成绩统计表!$B:$I,8,0)","v":70}]
[135,"侯冬琴","20240301010516","语文","05",16,"六枝特区职业技术学校",{"$f":"VLOOKUP(C138,[1]招聘笔试成绩统计表!$B:$I,8,0)","v":76.5}]
[136,"张甜","20240301010517","语文","05",17,"六枝特区职业技术学校",{"$f":"VLOOKUP(C139,[1]招聘笔试成绩统计表!$B:$I,8,0)","v":60.5}]
[137,"付婷","20240301010518","语文","05",18,"六枝特区职业技术学校",{"$f":"VLOOKUP(C140,[1]招聘笔试成绩统计表!$B:$I,8,0)","v":62.5}]
[138,"柳玉美","20240301010519","语文","05",19,"六枝特区职业技术学校",{"$f":"VLOOKUP(C141,[1]招聘笔试成绩统计表!$B:$I,8,0)","v":73}]
[139,"卢凤维","20240301010520","语文","05",20,"六枝特区职业技术学校",{"$f":"VLOOKUP(C142,[1]招聘笔试成绩统计表!$B:$I,8,0)","v":54.5}]
[140,"金珈羽","20240301010521","语文","05",21,"六枝特区职业技术学校",{"$f":"VLOOKUP(C143,[1]招聘笔试成绩统计表!$B:$I,8,0)","v":70}]
[141,"杨洋","20240301010522","语文","05",22,"六枝特区职业技术学校",{"$f":"VLOOKUP(C144,[1]招聘笔试成绩统计表!$B:$I,8,0)","v":53}]
[142,"杜臣尧","20240301010523","语文","05",23,"六枝特区职业技术学校",{"$f":"VLOOKUP(C145,[1]招聘笔试成绩统计表!$B:$I,8,0)","v":67.5}]
[143,"张春莲","20240301010524","语文","05",24,"六枝特区职业技术学校",{"$f":"VLOOKUP(C146,[1]招聘笔试成绩统计表!$B:$I,8,0)","v":75.5}]
[144,"郭蓉","20240301010525","语文","05",25,"六枝特区职业技术学校",{"$f":"VLOOKUP(C147,[1]招聘笔试成绩统计表!$B:$I,8,0)","v":68}]
[145,"何叵","20240301010526","语文","05",26,"六枝特区职业技术学校",{"$f":"VLOOKUP(C148,[1]招聘笔试成绩统计表!$B:$I,8,0)","v":58}]
[146,"彭良春","20240301010527","语文","05",27,"六枝特区职业技术学校",{"$f":"VLOOKUP(C149,[1]招聘笔试成绩统计表!$B:$I,8,0)","v":67}]
[147,"吴祥雨","20240301010528","语文","05",28,"六枝特区职业技术学校",{"$f":"VLOOKUP(C150,[1]招聘笔试成绩统计表!$B:$I,8,0)","v":60}]
[148,"王登伟","20240301010529","语文","05",29,"六枝特区职业技术学校",{"$f":"VLOOKUP(C151,[1]招聘笔试成绩统计表!$B:$I,8,0)","v":61}]
[149,"郑协","20240301010530","语文","05",30,"六枝特区职业技术学校",{"$f":"VLOOKUP(C152,[1]招聘笔试成绩统计表!$B:$I,8,0)","v":63}]
[150,"吴娟","20240301010601","语文","06","01","六枝特区职业技术学校",{"$f":"VLOOKUP(C153,[1]招聘笔试成绩统计表!$B:$I,8,0)","v":72}]
[151,"刘振","20240301010602","语文","06","02","六枝特区职业技术学校",{"$f":"VLOOKUP(C154,[1]招聘笔试成绩统计表!$B:$I,8,0)","v":55}]
[152,"刘翔","20240301010603","语文","06","03","六枝特区职业技术学校",{"$f":"VLOOKUP(C155,[1]招聘笔试成绩统计表!$B:$I,8,0)","v":65.5}]
[153,"陈尧尧","20240301010604","语文","06","04","六枝特区职业技术学校",{"$f":"VLOOKUP(C156,[1]招聘笔试成绩统计表!$B:$I,8,0)","v":57}]
[154,"包璐","20240301010605","语文","06","05","六枝特区职业技术学校",{"$f":"VLOOKUP(C157,[1]招聘笔试成绩统计表!$B:$I,8,0)","v":67.5}]
[155,"肖颖","20240301010606","语文","06","06","六枝特区职业技术学校",{"$f":"VLOOKUP(C158,[1]招聘笔试成绩统计表!$B:$I,8,0)","v":61.5}]
[156,"韦玉芳","20240301010607","语文","06","07","六枝特区职业技术学校",{"$f":"VLOOKUP(C159,[1]招聘笔试成绩统计表!$B:$I,8,0)","v":63}]
[157,"康柳","20240301010608","语文","06","08","六枝特区职业技术学校",{"$f":"VLOOKUP(C160,[1]招聘笔试成绩统计表!$B:$I,8,0)","v":68}]
[158,"逯露","20240301010609","语文","06","09","六枝特区职业技术学校",{"$f":"VLOOKUP(C161,[1]招聘笔试成绩统计表!$B:$I,8,0)","v":55}]
[159,"杨海萍","20240301010610","语文","06",10,"六枝特区职业技术学校",{"$f":"VLOOKUP(C162,[1]招聘笔试成绩统计表!$B:$I,8,0)","v":63}]
[160,"方雪松","20240301010611","语文","06",11,"六枝特区职业技术学校",{"$f":"VLOOKUP(C163,[1]招聘笔试成绩统计表!$B:$I,8,0)","v":65.5}]
[161,"谢文雪","20240301010612","语文","06",12,"六枝特区职业技术学校",{"$f":"VLOOKUP(C164,[1]招聘笔试成绩统计表!$B:$I,8,0)","v":59.5}]
[162,"浦视维","20240301010613","语文","06",13,"六枝特区职业技术学校",{"$f":"VLOOKUP(C165,[1]招聘笔试成绩统计表!$B:$I,8,0)","v":54.5}]
[163,"王春梅","20240301010614","语文","06",14,"六枝特区职业技术学校",{"$f":"VLOOKUP(C166,[1]招聘笔试成绩统计表!$B:$I,8,0)","v":70.5}]
[164,"孔维敏","20240301010615","语文","06",15,"六枝特区职业技术学校",{"$f":"VLOOKUP(C167,[1]招聘笔试成绩统计表!$B:$I,8,0)","v":74.5}]
[165,"王温","20240301010616","语文","06",16,"六枝特区职业技术学校",{"$f":"VLOOKUP(C168,[1]招聘笔试成绩统计表!$B:$I,8,0)","v":72}]
[166,"吴春","20240301010617","语文","06",17,"六枝特区职业技术学校",{"$f":"VLOOKUP(C169,[1]招聘笔试成绩统计表!$B:$I,8,0)","v":64}]
[167,"杨亚秋","20240301010618","语文","06",18,"六枝特区职业技术学校",{"$f":"VLOOKUP(C170,[1]招聘笔试成绩统计表!$B:$I,8,0)","v":52}]
[168,"邓琴芳","20240301010619","语文","06",19,"六枝特区职业技术学校",{"$f":"VLOOKUP(C171,[1]招聘笔试成绩统计表!$B:$I,8,0)","v":71.5}]
[169,"刘小月","20240301010620","语文","06",20,"六枝特区职业技术学校",{"$f":"VLOOKUP(C172,[1]招聘笔试成绩统计表!$B:$I,8,0)","v":64.5}]
[170,"陈曼玉","20240301010621","语文","06",21,"六枝特区职业技术学校",{"$f":"VLOOKUP(C173,[1]招聘笔试成绩统计表!$B:$I,8,0)","v":57}]
[171,"李倩","20240301010622","语文","06",22,"六枝特区职业技术学校",{"$f":"VLOOKUP(C174,[1]招聘笔试成绩统计表!$B:$I,8,0)","v":69}]
[172,"吴光兰","20240301010623","语文","06",23,"六枝特区职业技术学校",{"$f":"VLOOKUP(C175,[1]招聘笔试成绩统计表!$B:$I,8,0)","v":70}]
[173,"刘正菊","20240301010624","语文","06",24,"六枝特区职业技术学校",{"$f":"VLOOKUP(C176,[1]招聘笔试成绩统计表!$B:$I,8,0)","v":53.5}]
[174,"廖飘","20240301010625","数学","06",25,"六枝特区职业技术学校",{"$f":"VLOOKUP(C177,[1]招聘笔试成绩统计表!$B:$I,8,0)","v":68}]
[175,"蒋文海","20240301010626","数学","06",26,"六枝特区职业技术学校",{"$f":"VLOOKUP(C178,[1]招聘笔试成绩统计表!$B:$I,8,0)","v":52}]
[176,"苏利奎","20240301010627","数学","06",27,"六枝特区职业技术学校",{"$f":"VLOOKUP(C179,[1]招聘笔试成绩统计表!$B:$I,8,0)","v":43}]
[177,"李伦","20240301010628","数学","06",28,"六枝特区职业技术学校",{"$f":"VLOOKUP(C180,[1]招聘笔试成绩统计表!$B:$I,8,0)","v":26}]
[178,"曹福祥","20240301010629","数学","06",29,"六枝特区职业技术学校",{"$f":"VLOOKUP(C181,[1]招聘笔试成绩统计表!$B:$I,8,0)","v":52}]
[179,"夏广","20240301010630","数学","06",30,"六枝特区职业技术学校",{"$f":"VLOOKUP(C182,[1]招聘笔试成绩统计表!$B:$I,8,0)","v":41}]
[180,"何羡勤","20240301010701","数学","07","01","六枝特区职业技术学校",{"$f":"VLOOKUP(C183,[1]招聘笔试成绩统计表!$B:$I,8,0)","v":27}]
[181,"班方倩","20240301010702","数学","07","02","六枝特区职业技术学校",{"$f":"VLOOKUP(C184,[1]招聘笔试成绩统计表!$B:$I,8,0)","v":59}]
[182,"胡俊","20240301010703","数学","07","03","六枝特区职业技术学校",{"$f":"VLOOKUP(C185,[1]招聘笔试成绩统计表!$B:$I,8,0)","v":58}]
[183,"方丽茶","20240301010704","数学","07","04","六枝特区职业技术学校",{"$f":"VLOOKUP(C186,[1]招聘笔试成绩统计表!$B:$I,8,0)","v":43}]
[184,"马娥","20240301010705","数学","07","05","六枝特区职业技术学校",{"$f":"VLOOKUP(C187,[1]招聘笔试成绩统计表!$B:$I,8,0)","v":51}]
[185,"谢敏","20240301010706","数学","07","06","六枝特区职业技术学校",{"$f":"VLOOKUP(C188,[1]招聘笔试成绩统计表!$B:$I,8,0)","v":41}]
[186,"黄雯燕","20240301010707","数学","07","07","六枝特区职业技术学校",{"$f":"VLOOKUP(C189,[1]招聘笔试成绩统计表!$B:$I,8,0)","v":19}]
[187,"刘欢","20240301010708","数学","07","08","六枝特区职业技术学校",{"$f":"VLOOKUP(C190,[1]招聘笔试成绩统计表!$B:$I,8,0)","v":"缺考"}]
[188,"罗开翠","20240301010709","数学","07","09","六枝特区职业技术学校",{"$f":"VLOOKUP(C191,[1]招聘笔试成绩统计表!$B:$I,8,0)","v":41}]
[189,"徐丽","20240301010710","数学","07",10,"六枝特区职业技术学校",{"$f":"VLOOKUP(C192,[1]招聘笔试成绩统计表!$B:$I,8,0)","v":32}]
[190,"柴方甜","20240301010711","数学","07",11,"六枝特区职业技术学校",{"$f":"VLOOKUP(C193,[1]招聘笔试成绩统计表!$B:$I,8,0)","v":60}]
[191,"彭世文","20240301010712","数学","07",12,"六枝特区职业技术学校",{"$f":"VLOOKUP(C194,[1]招聘笔试成绩统计表!$B:$I,8,0)","v":29}]
[192,"文德飞","20240301010713","数学","07",13,"六枝特区职业技术学校",{"$f":"VLOOKUP(C195,[1]招聘笔试成绩统计表!$B:$I,8,0)","v":44}]
[193,"施露露","20240301010714","数学","07",14,"六枝特区职业技术学校",{"$f":"VLOOKUP(C196,[1]招聘笔试成绩统计表!$B:$I,8,0)","v":"缺考"}]
[194,"梅丽娟","20240301010715","数学","07",15,"六枝特区职业技术学校",{"$f":"VLOOKUP(C197,[1]招聘笔试成绩统计表!$B:$I,8,0)","v":65}]
[195,"廖承鑫","20240301010716","数学","07",16,"六枝特区职业技术学校",{"$f":"VLOOKUP(C198,[1]招聘笔试成绩统计表!$B:$I,8,0)","v":33}]
[196,"王忠华","20240301010717","数学","07",17,"六枝特区职业技术学校",{"$f":"VLOOKUP(C199,[1]招聘笔试成绩统计表!$B:$I,8,0)","v":77}]
[197,"王光权","20240301010718","数学","07",18,"六枝特区职业技术学校",{"$f":"VLOOKUP(C200,[1]招聘笔试成绩统计表!$B:$I,8,0)","v":39}]
[198,"钟佳佳","20240301010719","数学","07",19,"六枝特区职业技术学校",{"$f":"VLOOKUP(C201,[1]招聘笔试成绩统计表!$B:$I,8,0)","v":20}]
[199,"杨徽","20240301010720","数学","07",20,"六枝特区职业技术学校",{"$f":"VLOOKUP(C202,[1]招聘笔试成绩统计表!$B:$I,8,0)","v":81}]
[200,"徐爱明","20240301010721","数学","07",21,"六枝特区职业技术学校",{"$f":"VLOOKUP(C203,[1]招聘笔试成绩统计表!$B:$I,8,0)","v":41}]
[201,"付娟","20240301010722","数学","07",22,"六枝特区职业技术学校",{"$f":"VLOOKUP(C204,[1]招聘笔试成绩统计表!$B:$I,8,0)","v":60}]
[202,"吴开友","20240301010723","数学","07",23,"六枝特区职业技术学校",{"$f":"VLOOKUP(C205,[1]招聘笔试成绩统计表!$B:$I,8,0)","v":25}]
[203,"陈灵","20240301010724","数学","07",24,"六枝特区职业技术学校",{"$f":"VLOOKUP(C206,[1]招聘笔试成绩统计表!$B:$I,8,0)","v":68}]
[204,"秦加敏","20240301010725","数学","07",25,"六枝特区职业技术学校",{"$f":"VLOOKUP(C207,[1]招聘笔试成绩统计表!$B:$I,8,0)","v":55}]
[205,"江明艳","20240301010726","数学","07",26,"六枝特区职业技术学校",{"$f":"VLOOKUP(C208,[1]招聘笔试成绩统计表!$B:$I,8,0)","v":57}]
[206,"李慧","20240301010727","数学","07",27,"六枝特区职业技术学校",{"$f":"VLOOKUP(C209,[1]招聘笔试成绩统计表!$B:$I,8,0)","v":30}]
[207,"林敏","20240301010728","数学","07",28,"六枝特区职业技术学校",{"$f":"VLOOKUP(C210,[1]招聘笔试成绩统计表!$B:$I,8,0)","v":67}]
[208,"曾芬","20240301010729","数学","07",29,"六枝特区职业技术学校",{"$f":"VLOOKUP(C211,[1]招聘笔试成绩统计表!$B:$I,8,0)","v":"缺考"}]
[209,"韦远方","20240301010730","数学","07",30,"六枝特区职业技术学校",{"$f":"VLOOKUP(C212,[1]招聘笔试成绩统计表!$B:$I,8,0)","v":48}]
[210,"马敏","20240301010801","数学","08","01","六枝特区职业技术学校",{"$f":"VLOOKUP(C213,[1]招聘笔试成绩统计表!$B:$I,8,0)","v":50}]
[211,"张连玲","20240301010802","数学","08","02","六枝特区职业技术学校",{"$f":"VLOOKUP(C214,[1]招聘笔试成绩统计表!$B:$I,8,0)","v":40}]
[212,"管艳芬","20240301010803","数学","08","03","六枝特区职业技术学校",{"$f":"VLOOKUP(C215,[1]招聘笔试成绩统计表!$B:$I,8,0)","v":44}]
[213,"李思琪","20240301010804","数学","08","04","六枝特区职业技术学校",{"$f":"VLOOKUP(C216,[1]招聘笔试成绩统计表!$B:$I,8,0)","v":40}]
[214,"林梅","20240301010805","数学","08","05","六枝特区职业技术学校",{"$f":"VLOOKUP(C217,[1]招聘笔试成绩统计表!$B:$I,8,0)","v":66}]
[215,"王单丽","20240301010806","数学","08","06","六枝特区职业技术学校",{"$f":"VLOOKUP(C218,[1]招聘笔试成绩统计表!$B:$I,8,0)","v":33}]
[216,"杨劝劝","20240301010807","数学","08","07","六枝特区职业技术学校",{"$f":"VLOOKUP(C219,[1]招聘笔试成绩统计表!$B:$I,8,0)","v":51}]
[217,"梁琴","20240301010808","数学","08","08","六枝特区职业技术学校",{"$f":"VLOOKUP(C220,[1]招聘笔试成绩统计表!$B:$I,8,0)","v":41}]
[218,"陈谦敏","20240301010809","数学","08","09","六枝特区职业技术学校",{"$f":"VLOOKUP(C221,[1]招聘笔试成绩统计表!$B:$I,8,0)","v":70}]
[219,"刘艺","20240301010810","数学","08",10,"六枝特区职业技术学校",{"$f":"VLOOKUP(C222,[1]招聘笔试成绩统计表!$B:$I,8,0)","v":24}]
[220,"田贤贤","20240301010811","数学","08",11,"六枝特区职业技术学校",{"$f":"VLOOKUP(C223,[1]招聘笔试成绩统计表!$B:$I,8,0)","v":25}]
[221,"王明男","20240301010812","数学","08",12,"六枝特区职业技术学校",{"$f":"VLOOKUP(C224,[1]招聘笔试成绩统计表!$B:$I,8,0)","v":25}]
[222,"王建","20240301010813","数学","08",13,"六枝特区职业技术学校",{"$f":"VLOOKUP(C225,[1]招聘笔试成绩统计表!$B:$I,8,0)","v":32}]
[223,"陈远钦","20240301010814","数学","08",14,"六枝特区职业技术学校",{"$f":"VLOOKUP(C226,[1]招聘笔试成绩统计表!$B:$I,8,0)","v":62}]
[224,"陈洪霞","20240301010815","数学","08",15,"六枝特区职业技术学校",{"$f":"VLOOKUP(C227,[1]招聘笔试成绩统计表!$B:$I,8,0)","v":21}]
[225,"刘丹","20240301010816","数学","08",16,"六枝特区职业技术学校",{"$f":"VLOOKUP(C228,[1]招聘笔试成绩统计表!$B:$I,8,0)","v":38}]
[226,"苏久艳","20240301010817","数学","08",17,"六枝特区职业技术学校",{"$f":"VLOOKUP(C229,[1]招聘笔试成绩统计表!$B:$I,8,0)","v":58}]
[227,"林之洪","20240301010818","数学","08",18,"六枝特区职业技术学校",{"$f":"VLOOKUP(C230,[1]招聘笔试成绩统计表!$B:$I,8,0)","v":76}]
[228,"蔡发应","20240301010819","数学","08",19,"六枝特区职业技术学校",{"$f":"VLOOKUP(C231,[1]招聘笔试成绩统计表!$B:$I,8,0)","v":32}]
[229,"付兰兰","20240301010820","数学","08",20,"六枝特区职业技术学校",{"$f":"VLOOKUP(C232,[1]招聘笔试成绩统计表!$B:$I,8,0)","v":22}]
[230,"张雨","20240301010821","数学","08",21,"六枝特区职业技术学校",{"$f":"VLOOKUP(C233,[1]招聘笔试成绩统计表!$B:$I,8,0)","v":36}]
[231,"王龙凤","20240301010822","数学","08",22,"六枝特区职业技术学校",{"$f":"VLOOKUP(C234,[1]招聘笔试成绩统计表!$B:$I,8,0)","v":"缺考"}]
[232,"高悦","20240301010823","数学","08",23,"六枝特区职业技术学校",{"$f":"VLOOKUP(C235,[1]招聘笔试成绩统计表!$B:$I,8,0)","v":33}]
[233,"李晓梅","20240301010824","数学","08",24,"六枝特区职业技术学校",{"$f":"VLOOKUP(C236,[1]招聘笔试成绩统计表!$B:$I,8,0)","v":80}]
[234,"柏香","20240301010825","数学","08",25,"六枝特区职业技术学校",{"$f":"VLOOKUP(C237,[1]招聘笔试成绩统计表!$B:$I,8,0)","v":"缺考"}]
[235,"郭夙夙","20240301010826","数学","08",26,"六枝特区职业技术学校",{"$f":"VLOOKUP(C238,[1]招聘笔试成绩统计表!$B:$I,8,0)","v":30}]
[236,"魏帆","20240301010827","数学","08",27,"六枝特区职业技术学校",{"$f":"VLOOKUP(C239,[1]招聘笔试成绩统计表!$B:$I,8,0)","v":28}]
[237,"王儒欣","20240301010828","数学","08",28,"六枝特区职业技术学校",{"$f":"VLOOKUP(C240,[1]招聘笔试成绩统计表!$B:$I,8,0)","v":68}]
[238,"张梦婷","20240301010829","数学","08",29,"六枝特区职业技术学校",{"$f":"VLOOKUP(C241,[1]招聘笔试成绩统计表!$B:$I,8,0)","v":28}]
[239,"杨梅","20240301010830","数学","08",30,"六枝特区职业技术学校",{"$f":"VLOOKUP(C242,[1]招聘笔试成绩统计表!$B:$I,8,0)","v":"缺考"}]
[240,"赵幸娟","20240301010901","英语","09","01","六枝特区职业技术学校",{"$f":"VLOOKUP(C243,[1]招聘笔试成绩统计表!$B:$I,8,0)","v":75}]
[241,"周宏宇","20240301010902","英语","09","02","六枝特区职业技术学校",{"$f":"VLOOKUP(C244,[1]招聘笔试成绩统计表!$B:$I,8,0)","v":45}]
[242,"余济仙","20240301010903","英语","09","03","六枝特区职业技术学校",{"$f":"VLOOKUP(C245,[1]招聘笔试成绩统计表!$B:$I,8,0)","v":71}]
[243,"王清枝","20240301010904","英语","09","04","六枝特区职业技术学校",{"$f":"VLOOKUP(C246,[1]招聘笔试成绩统计表!$B:$I,8,0)","v":68}]
[244,"杨凯利","20240301010905","英语","09","05","六枝特区职业技术学校",{"$f":"VLOOKUP(C247,[1]招聘笔试成绩统计表!$B:$I,8,0)","v":57}]
[245,"周堉竹","20240301010906","英语","09","06","六枝特区职业技术学校",{"$f":"VLOOKUP(C248,[1]招聘笔试成绩统计表!$B:$I,8,0)","v":60}]
[246,"徐琴","20240301010907","英语","09","07","六枝特区职业技术学校",{"$f":"VLOOKUP(C249,[1]招聘笔试成绩统计表!$B:$I,8,0)","v":44}]
[247,"佘鸿微","20240301010908","英语","09","08","六枝特区职业技术学校",{"$f":"VLOOKUP(C250,[1]招聘笔试成绩统计表!$B:$I,8,0)","v":51}]
[248,"李靖","20240301010909","英语","09","09","六枝特区职业技术学校",{"$f":"VLOOKUP(C251,[1]招聘笔试成绩统计表!$B:$I,8,0)","v":59}]
[249,"周兵云","20240301010910","英语","09",10,"六枝特区职业技术学校",{"$f":"VLOOKUP(C252,[1]招聘笔试成绩统计表!$B:$I,8,0)","v":75}]
[250,"李丽沙","20240301010911","英语","09",11,"六枝特区职业技术学校",{"$f":"VLOOKUP(C253,[1]招聘笔试成绩统计表!$B:$I,8,0)","v":80}]
[251,"杨青云","20240301010912","英语","09",12,"六枝特区职业技术学校",{"$f":"VLOOKUP(C254,[1]招聘笔试成绩统计表!$B:$I,8,0)","v":78}]
[252,"罗嫚","20240301010913","英语","09",13,"六枝特区职业技术学校",{"$f":"VLOOKUP(C255,[1]招聘笔试成绩统计表!$B:$I,8,0)","v":66}]
[253,"沈娜","20240301010914","英语","09",14,"六枝特区职业技术学校",{"$f":"VLOOKUP(C256,[1]招聘笔试成绩统计表!$B:$I,8,0)","v":57}]
[254,"严素素","20240301010915","英语","09",15,"六枝特区职业技术学校",{"$f":"VLOOKUP(C257,[1]招聘笔试成绩统计表!$B:$I,8,0)","v":70}]
[255,"龙玉帆","20240301010916","英语","09",16,"六枝特区职业技术学校",{"$f":"VLOOKUP(C258,[1]招聘笔试成绩统计表!$B:$I,8,0)","v":46}]
[256,"何俊璐","20240301010917","英语","09",17,"六枝特区职业技术学校",{"$f":"VLOOKUP(C259,[1]招聘笔试成绩统计表!$B:$I,8,0)","v":72}]
[257,"艾彩云","20240301010918","英语","09",18,"六枝特区职业技术学校",{"$f":"VLOOKUP(C260,[1]招聘笔试成绩统计表!$B:$I,8,0)","v":51}]
[258,"安婷","20240301010919","英语","09",19,"六枝特区职业技术学校",{"$f":"VLOOKUP(C261,[1]招聘笔试成绩统计表!$B:$I,8,0)","v":57}]
[259,"熊耀树","20240301010920","英语","09",20,"六枝特区职业技术学校",{"$f":"VLOOKUP(C262,[1]招聘笔试成绩统计表!$B:$I,8,0)","v":80}]
[260,"张婷","20240301010921","英语","09",21,"六枝特区职业技术学校",{"$f":"VLOOKUP(C263,[1]招聘笔试成绩统计表!$B:$I,8,0)","v":68}]
[261,"赵红丽","20240301010922","英语","09",22,"六枝特区职业技术学校",{"$f":"VLOOKUP(C264,[1]招聘笔试成绩统计表!$B:$I,8,0)","v":77}]
[262,"袁廷翠","20240301010923","英语","09",23,"六枝特区职业技术学校",{"$f":"VLOOKUP(C265,[1]招聘笔试成绩统计表!$B:$I,8,0)","v":67}]
[263,"李荣银","20240301010924","英语","09",24,"六枝特区职业技术学校",{"$f":"VLOOKUP(C266,[1]招聘笔试成绩统计表!$B:$I,8,0)","v":"缺考"}]
[264,"付祯红","20240301010925","英语","09",25,"六枝特区职业技术学校",{"$f":"VLOOKUP(C267,[1]招聘笔试成绩统计表!$B:$I,8,0)","v":59}]
[265,"王芳","20240301010926","英语","09",26,"六枝特区职业技术学校",{"$f":"VLOOKUP(C268,[1]招聘笔试成绩统计表!$B:$I,8,0)","v":35}]
[266,"左丹","20240301010927","英语","09",27,"六枝特区职业技术学校",{"$f":"VLOOKUP(C269,[1]招聘笔试成绩统计表!$B:$I,8,0)","v":66}]
[267,"张雨玥","20240301010928","英语","09",28,"六枝特区职业技术学校",{"$f":"VLOOKUP(C270,[1]招聘笔试成绩统计表!$B:$I,8,0)","v":69}]
[268,"王艳","20240301010929","英语","09",29,"六枝特区职业技术学校",{"$f":"VLOOKUP(C271,[1]招聘笔试成绩统计表!$B:$I,8,0)","v":29}]
[269,"黄海燕","20240301010930","英语","09",30,"六枝特区职业技术学校",{"$f":"VLOOKUP(C272,[1]招聘笔试成绩统计表!$B:$I,8,0)","v":79}]
[270,"陈莉","20240301011001","英语",10,"01","六枝特区职业技术学校",{"$f":"VLOOKUP(C273,[1]招聘笔试成绩统计表!$B:$I,8,0)","v":57}]
[271,"安幸","20240301011002","英语",10,"02","六枝特区职业技术学校",{"$f":"VLOOKUP(C274,[1]招聘笔试成绩统计表!$B:$I,8,0)","v":59}]
[272,"白蓉","20240301011003","英语",10,"03","六枝特区职业技术学校",{"$f":"VLOOKUP(C275,[1]招聘笔试成绩统计表!$B:$I,8,0)","v":62}]
[273,"陈羽秋","20240301011004","英语",10,"04","六枝特区职业技术学校",{"$f":"VLOOKUP(C276,[1]招聘笔试成绩统计表!$B:$I,8,0)","v":89}]
[274,"黄蓉","20240301011005","英语",10,"05","六枝特区职业技术学校",{"$f":"VLOOKUP(C277,[1]招聘笔试成绩统计表!$B:$I,8,0)","v":77}]
[275,"罗鸿飞","20240301011006","英语",10,"06","六枝特区职业技术学校",{"$f":"VLOOKUP(C278,[1]招聘笔试成绩统计表!$B:$I,8,0)","v":53}]
[276,"杨甜甜","20240301011007","英语",10,"07","六枝特区职业技术学校",{"$f":"VLOOKUP(C279,[1]招聘笔试成绩统计表!$B:$I,8,0)","v":82}]
[277,"陈思梦","20240301011008","英语",10,"08","六枝特区职业技术学校",{"$f":"VLOOKUP(C280,[1]招聘笔试成绩统计表!$B:$I,8,0)","v":53}]
[278,"陈燕","20240301011009","英语",10,"09","六枝特区职业技术学校",{"$f":"VLOOKUP(C281,[1]招聘笔试成绩统计表!$B:$I,8,0)","v":81}]
[279,"王光娇","20240301011010","英语",10,10,"六枝特区职业技术学校",{"$f":"VLOOKUP(C282,[1]招聘笔试成绩统计表!$B:$I,8,0)","v":65}]
[280,"黄佳玲","20240301011011","英语",10,11,"六枝特区职业技术学校",{"$f":"VLOOKUP(C283,[1]招聘笔试成绩统计表!$B:$I,8,0)","v":71}]
[281,"吴艳","20240301011012","英语",10,12,"六枝特区职业技术学校",{"$f":"VLOOKUP(C284,[1]招聘笔试成绩统计表!$B:$I,8,0)","v":51}]
[282,"杨倩","20240301011013","英语",10,13,"六枝特区职业技术学校",{"$f":"VLOOKUP(C285,[1]招聘笔试成绩统计表!$B:$I,8,0)","v":70}]
[283,"邹倩","20240301011014","英语",10,14,"六枝特区职业技术学校",{"$f":"VLOOKUP(C286,[1]招聘笔试成绩统计表!$B:$I,8,0)","v":"缺考"}]
[284,"刘成秀","20240301011015","英语",10,15,"六枝特区职业技术学校",{"$f":"VLOOKUP(C287,[1]招聘笔试成绩统计表!$B:$I,8,0)","v":50}]
[285,"李迎春","20240301011016","英语",10,16,"六枝特区职业技术学校",{"$f":"VLOOKUP(C288,[1]招聘笔试成绩统计表!$B:$I,8,0)","v":79}]
[286,"康召芹","20240301011017","英语",10,17,"六枝特区职业技术学校",{"$f":"VLOOKUP(C289,[1]招聘笔试成绩统计表!$B:$I,8,0)","v":81}]
[287,"杨丽","20240301011018","英语",10,18,"六枝特区职业技术学校",{"$f":"VLOOKUP(C290,[1]招聘笔试成绩统计表!$B:$I,8,0)","v":45}]
[288,"陈思佳","20240301011019","英语",10,19,"六枝特区职业技术学校",{"$f":"VLOOKUP(C291,[1]招聘笔试成绩统计表!$B:$I,8,0)","v":46}]
[289,"王莹鹏","20240301011020","英语",10,20,"六枝特区职业技术学校",{"$f":"VLOOKUP(C292,[1]招聘笔试成绩统计表!$B:$I,8,0)","v":92}]
[290,"马雪丹","20240301011021","英语",10,21,"六枝特区职业技术学校",{"$f":"VLOOKUP(C293,[1]招聘笔试成绩统计表!$B:$I,8,0)","v":77}]
[291,"胡伦慧","20240301011022","生物",10,22,"六枝特区职业技术学校",{"$f":"VLOOKUP(C294,[1]招聘笔试成绩统计表!$B:$I,8,0)","v":75}]
[292,"王真美","20240301011023","生物",10,23,"六枝特区职业技术学校",{"$f":"VLOOKUP(C295,[1]招聘笔试成绩统计表!$B:$I,8,0)","v":68}]
[293,"汤珞涓","20240301011024","生物",10,24,"六枝特区职业技术学校",{"$f":"VLOOKUP(C296,[1]招聘笔试成绩统计表!$B:$I,8,0)","v":"缺考"}]
[294,"蒋荣","20240301011025","生物",10,25,"六枝特区职业技术学校",{"$f":"VLOOKUP(C297,[1]招聘笔试成绩统计表!$B:$I,8,0)","v":62}]
[295,"陈娅萌","20240301011026","生物",10,26,"六枝特区职业技术学校",{"$f":"VLOOKUP(C298,[1]招聘笔试成绩统计表!$B:$I,8,0)","v":54}]
[296,"陈亚宏","20240301011101","生物",11,"01","六枝特区职业技术学校",{"$f":"VLOOKUP(C299,[1]招聘笔试成绩统计表!$B:$I,8,0)","v":73}]
[297,"宋定吉","20240301011102","生物",11,"02","六枝特区职业技术学校",{"$f":"VLOOKUP(C300,[1]招聘笔试成绩统计表!$B:$I,8,0)","v":75}]
[298,"张兴艳","20240301011103","生物",11,"03","六枝特区职业技术学校",{"$f":"VLOOKUP(C301,[1]招聘笔试成绩统计表!$B:$I,8,0)","v":"缺考"}]
[299,"白春春","20240301011104","生物",11,"04","六枝特区职业技术学校",{"$f":"VLOOKUP(C302,[1]招聘笔试成绩统计表!$B:$I,8,0)","v":77}]
[300,"刘丽","20240301011105","生物",11,"05","六枝特区职业技术学校",{"$f":"VLOOKUP(C303,[1]招聘笔试成绩统计表!$B:$I,8,0)","v":71}]
[301,"唐远姣","20240301011106","生物",11,"06","六枝特区职业技术学校",{"$f":"VLOOKUP(C304,[1]招聘笔试成绩统计表!$B:$I,8,0)","v":71}]
[302,"向林","20240301011107","生物",11,"07","六枝特区职业技术学校",{"$f":"VLOOKUP(C305,[1]招聘笔试成绩统计表!$B:$I,8,0)","v":58}]
[303,"芦凤雪","20240301011108","生物",11,"08","六枝特区职业技术学校",{"$f":"VLOOKUP(C306,[1]招聘笔试成绩统计表!$B:$I,8,0)","v":68}]
[304,"彭丽","20240301011109","生物",11,"09","六枝特区职业技术学校",{"$f":"VLOOKUP(C307,[1]招聘笔试成绩统计表!$B:$I,8,0)","v":73}]
[305,"陈朝梅","20240301011110","生物",11,10,"六枝特区职业技术学校",{"$f":"VLOOKUP(C308,[1]招聘笔试成绩统计表!$B:$I,8,0)","v":71}]
[306,"田景璇","20240301011111","生物",11,11,"六枝特区职业技术学校",{"$f":"VLOOKUP(C309,[1]招聘笔试成绩统计表!$B:$I,8,0)","v":58}]
[307,"雷朝霞","20240301011112","生物",11,12,"六枝特区职业技术学校",{"$f":"VLOOKUP(C310,[1]招聘笔试成绩统计表!$B:$I,8,0)","v":69}]
[308,"肖艺","20240301011113","生物",11,13,"六枝特区职业技术学校",{"$f":"VLOOKUP(C311,[1]招聘笔试成绩统计表!$B:$I,8,0)","v":73}]
[309,"陈海敏","20240301011114","生物",11,14,"六枝特区职业技术学校",{"$f":"VLOOKUP(C312,[1]招聘笔试成绩统计表!$B:$I,8,0)","v":71}]
[310,"周维芳","20240301011115","生物",11,15,"六枝特区职业技术学校",{"$f":"VLOOKUP(C313,[1]招聘笔试成绩统计表!$B:$I,8,0)","v":63}]
[311,"李晖","20240301011116","生物",11,16,"六枝特区职业技术学校",{"$f":"VLOOKUP(C314,[1]招聘笔试成绩统计表!$B:$I,8,0)","v":71}]
[312,"李玉航","20240301011117","生物",11,17,"六枝特区职业技术学校",{"$f":"VLOOKUP(C315,[1]招聘笔试成绩统计表!$B:$I,8,0)","v":72}]
[313,"代其先","20240301011118","生物",11,18,"六枝特区职业技术学校",{"$f":"VLOOKUP(C316,[1]招聘笔试成绩统计表!$B:$I,8,0)","v":70}]
[314,"杨迎","20240301011119","生物",11,19,"六枝特区职业技术学校",{"$f":"VLOOKUP(C317,[1]招聘笔试成绩统计表!$B:$I,8,0)","v":67}]
[315,"李恒庆","20240301011120","生物",11,20,"六枝特区职业技术学校",{"$f":"VLOOKUP(C318,[1]招聘笔试成绩统计表!$B:$I,8,0)","v":69}]
[316,"黄祁颖","20240301011121","生物",11,21,"六枝特区职业技术学校",{"$f":"VLOOKUP(C319,[1]招聘笔试成绩统计表!$B:$I,8,0)","v":73}]
[317,"李丽","20240301011122","生物",11,22,"六枝特区职业技术学校",{"$f":"VLOOKUP(C320,[1]招聘笔试成绩统计表!$B:$I,8,0)","v":76}]
[318,"赵雪","20240301011123","生物",11,23,"六枝特区职业技术学校",{"$f":"VLOOKUP(C321,[1]招聘笔试成绩统计表!$B:$I,8,0)","v":"缺考"}]
[319,"陈彬","20240301011124","生物",11,24,"六枝特区职业技术学校",{"$f":"VLOOKUP(C322,[1]招聘笔试成绩统计表!$B:$I,8,0)","v":56}]
[320,"周艳萍","20240301011125","生物",11,25,"六枝特区职业技术学校",{"$f":"VLOOKUP(C323,[1]招聘笔试成绩统计表!$B:$I,8,0)","v":66}]
[321,"张浩","20240301011126","生物",11,26,"六枝特区职业技术学校",{"$f":"VLOOKUP(C324,[1]招聘笔试成绩统计表!$B:$I,8,0)","v":80}]
[322,"李春芳","20240301011127","生物",11,27,"六枝特区职业技术学校",{"$f":"VLOOKUP(C325,[1]招聘笔试成绩统计表!$B:$I,8,0)","v":81}]
[323,"张蝶","20240301011128","生物",11,28,"六枝特区职业技术学校",{"$f":"VLOOKUP(C326,[1]招聘笔试成绩统计表!$B:$I,8,0)","v":71}]
[324,"邓凯利","20240301011129","生物",11,29,"六枝特区职业技术学校",{"$f":"VLOOKUP(C327,[1]招聘笔试成绩统计表!$B:$I,8,0)","v":72}]
[325,"何礼叶","20240301011130","生物",11,30,"六枝特区职业技术学校",{"$f":"VLOOKUP(C328,[1]招聘笔试成绩统计表!$B:$I,8,0)","v":61}]
[326,"唐敬遥","20240301011201","地理",12,"01","六枝特区职业技术学校",{"$f":"VLOOKUP(C329,[1]招聘笔试成绩统计表!$B:$I,8,0)","v":60}]
[327,"付智多","20240301011202","地理",12,"02","六枝特区职业技术学校",{"$f":"VLOOKUP(C330,[1]招聘笔试成绩统计表!$B:$I,8,0)","v":58}]
[328,"杜丝丝","20240301011203","地理",12,"03","六枝特区职业技术学校",{"$f":"VLOOKUP(C331,[1]招聘笔试成绩统计表!$B:$I,8,0)","v":65}]
[329,"伍冬妹","20240301011204","地理",12,"04","六枝特区职业技术学校",{"$f":"VLOOKUP(C332,[1]招聘笔试成绩统计表!$B:$I,8,0)","v":60}]
[330,"马杜玲","20240301011205","地理",12,"05","六枝特区职业技术学校",{"$f":"VLOOKUP(C333,[1]招聘笔试成绩统计表!$B:$I,8,0)","v":67}]
[331,"郭丽娜","20240301011206","地理",12,"06","六枝特区职业技术学校",{"$f":"VLOOKUP(C334,[1]招聘笔试成绩统计表!$B:$I,8,0)","v":53}]
[332,"胡涛艳","20240301011207","地理",12,"07","六枝特区职业技术学校",{"$f":"VLOOKUP(C335,[1]招聘笔试成绩统计表!$B:$I,8,0)","v":55}]
[333,"罗颖","20240301011208","地理",12,"08","六枝特区职业技术学校",{"$f":"VLOOKUP(C336,[1]招聘笔试成绩统计表!$B:$I,8,0)","v":61}]
[334,"林瑶","20240301011209","地理",12,"09","六枝特区职业技术学校",{"$f":"VLOOKUP(C337,[1]招聘笔试成绩统计表!$B:$I,8,0)","v":71}]
[335,"付姗姗","20240301011210","地理",12,10,"六枝特区职业技术学校",{"$f":"VLOOKUP(C338,[1]招聘笔试成绩统计表!$B:$I,8,0)","v":71}]
[336,"谷俊霏","20240301011211","地理",12,11,"六枝特区职业技术学校",{"$f":"VLOOKUP(C339,[1]招聘笔试成绩统计表!$B:$I,8,0)","v":60}]
[337,"陈欢","20240301011212","地理",12,12,"六枝特区职业技术学校",{"$f":"VLOOKUP(C340,[1]招聘笔试成绩统计表!$B:$I,8,0)","v":46}]
[338,"朱胡艳","20240301011213","地理",12,13,"六枝特区职业技术学校",{"$f":"VLOOKUP(C341,[1]招聘笔试成绩统计表!$B:$I,8,0)","v":83}]
[339,"尚蝶","20240301011214","地理",12,14,"六枝特区职业技术学校",{"$f":"VLOOKUP(C342,[1]招聘笔试成绩统计表!$B:$I,8,0)","v":65}]
[340,"马文云","20240301011215","地理",12,15,"六枝特区职业技术学校",{"$f":"VLOOKUP(C343,[1]招聘笔试成绩统计表!$B:$I,8,0)","v":"缺考"}]
[341,"李贤","20240301011216","地理",12,16,"六枝特区职业技术学校",{"$f":"VLOOKUP(C344,[1]招聘笔试成绩统计表!$B:$I,8,0)","v":63}]
[342,"王臣红","20240301011217","地理",12,17,"六枝特区职业技术学校",{"$f":"VLOOKUP(C345,[1]招聘笔试成绩统计表!$B:$I,8,0)","v":74}]
[343,"江兴勇","20240301011218","地理",12,18,"六枝特区职业技术学校",{"$f":"VLOOKUP(C346,[1]招聘笔试成绩统计表!$B:$I,8,0)","v":"缺考"}]
[344,"李春艳","20240301011219","地理",12,19,"六枝特区职业技术学校",{"$f":"VLOOKUP(C347,[1]招聘笔试成绩统计表!$B:$I,8,0)","v":57}]
[345,"刘梦情","20240301011220","地理",12,20,"六枝特区职业技术学校",{"$f":"VLOOKUP(C348,[1]招聘笔试成绩统计表!$B:$I,8,0)","v":68}]
[346,"徐庆鸿","20240301011221","地理",12,21,"六枝特区职业技术学校",{"$f":"VLOOKUP(C349,[1]招聘笔试成绩统计表!$B:$I,8,0)","v":78}]
[347,"龚忠芬","20240301011222","地理",12,22,"六枝特区职业技术学校",{"$f":"VLOOKUP(C350,[1]招聘笔试成绩统计表!$B:$I,8,0)","v":63}]
[348,"徐庆娇","20240301011223","地理",12,23,"六枝特区职业技术学校",{"$f":"VLOOKUP(C351,[1]招聘笔试成绩统计表!$B:$I,8,0)","v":64}]
[349,"杨丹","20240301011224","地理",12,24,"六枝特区职业技术学校",{"$f":"VLOOKUP(C352,[1]招聘笔试成绩统计表!$B:$I,8,0)","v":59}]
[350,"管庆伟","20240301011225","地理",12,25,"六枝特区职业技术学校",{"$f":"VLOOKUP(C353,[1]招聘笔试成绩统计表!$B:$I,8,0)","v":66}]
[351,"施怀珍","20240301011226","地理",12,26,"六枝特区职业技术学校",{"$f":"VLOOKUP(C354,[1]招聘笔试成绩统计表!$B:$I,8,0)","v":50}]
[352,"谭定针","20240301011227","地理",12,27,"六枝特区职业技术学校",{"$f":"VLOOKUP(C355,[1]招聘笔试成绩统计表!$B:$I,8,0)","v":45}]
[353,"龙怀玉","20240301011228","地理",12,28,"六枝特区职业技术学校",{"$f":"VLOOKUP(C356,[1]招聘笔试成绩统计表!$B:$I,8,0)","v":80}]
[354,"蒋艳艳","20240301011229","地理",12,29,"六枝特区职业技术学校",{"$f":"VLOOKUP(C357,[1]招聘笔试成绩统计表!$B:$I,8,0)","v":55}]
[355,"胡漫","20240301011301","信息科技",13,"01","六枝特区职业技术学校",{"$f":"VLOOKUP(C358,[1]招聘笔试成绩统计表!$B:$I,8,0)","v":62}]
[356,"曾蓉蓉","20240301011302","信息科技",13,"02","六枝特区职业技术学校",{"$f":"VLOOKUP(C359,[1]招聘笔试成绩统计表!$B:$I,8,0)","v":52}]
[357,"吴朝艳","20240301011303","信息科技",13,"03","六枝特区职业技术学校",{"$f":"VLOOKUP(C360,[1]招聘笔试成绩统计表!$B:$I,8,0)","v":39}]
[358,"余毛云","20240301011304","信息科技",13,"04","六枝特区职业技术学校",{"$f":"VLOOKUP(C361,[1]招聘笔试成绩统计表!$B:$I,8,0)","v":59}]
[359,"刘鲜","20240301011305","信息科技",13,"05","六枝特区职业技术学校",{"$f":"VLOOKUP(C362,[1]招聘笔试成绩统计表!$B:$I,8,0)","v":53}]
[360,"罗蓓蓓","20240301011306","信息科技",13,"06","六枝特区职业技术学校",{"$f":"VLOOKUP(C363,[1]招聘笔试成绩统计表!$B:$I,8,0)","v":39}]
[361,"邓小云","20240301011307","信息科技",13,"07","六枝特区职业技术学校",{"$f":"VLOOKUP(C364,[1]招聘笔试成绩统计表!$B:$I,8,0)","v":46}]
[362,"周海飞","20240301011308","信息科技",13,"08","六枝特区职业技术学校",{"$f":"VLOOKUP(C365,[1]招聘笔试成绩统计表!$B:$I,8,0)","v":58}]
[363,"付云","20240301011309","信息科技",13,"09","六枝特区职业技术学校",{"$f":"VLOOKUP(C366,[1]招聘笔试成绩统计表!$B:$I,8,0)","v":66}]
[364,"舒苏","20240301011310","信息科技",13,10,"六枝特区职业技术学校",{"$f":"VLOOKUP(C367,[1]招聘笔试成绩统计表!$B:$I,8,0)","v":39}]
[365,"叶倩","20240301011311","信息科技",13,11,"六枝特区职业技术学校",{"$f":"VLOOKUP(C368,[1]招聘笔试成绩统计表!$B:$I,8,0)","v":37}]
[366,"姚学倩","20240301011312","信息科技",13,12,"六枝特区职业技术学校",{"$f":"VLOOKUP(C369,[1]招聘笔试成绩统计表!$B:$I,8,0)","v":"缺考"}]
[367,"张苡","20240301011313","信息科技",13,13,"六枝特区职业技术学校",{"$f":"VLOOKUP(C370,[1]招聘笔试成绩统计表!$B:$I,8,0)","v":"缺考"}]
[368,"郑玉","20240301011314","信息科技",13,14,"六枝特区职业技术学校",{"$f":"VLOOKUP(C371,[1]招聘笔试成绩统计表!$B:$I,8,0)","v":53}]
[369,"严文静","20240301011315","信息科技",13,15,"六枝特区职业技术学校",{"$f":"VLOOKUP(C372,[1]招聘笔试成绩统计表!$B:$I,8,0)","v":53}]
[370,"陈佼","20240301011316","信息科技",13,16,"六枝特区职业技术学校",{"$f":"VLOOKUP(C373,[1]招聘笔试成绩统计表!$B:$I,8,0)","v":56}]
[371,"陈茂","20240301011317","信息科技",13,17,"六枝特区职业技术学校",{"$f":"VLOOKUP(C374,[1]招聘笔试成绩统计表!$B:$I,8,0)","v":59}]
[372,"赵玉红","20240301011318","信息科技",13,18,"六枝特区职业技术学校",{"$f":"VLOOKUP(C375,[1]招聘笔试成绩统计表!$B:$I,8,0)","v":60}]
[373,"王桂峨","20240301011319","信息科技",13,19,"六枝特区职业技术学校",{"$f":"VLOOKUP(C376,[1]招聘笔试成绩统计表!$B:$I,8,0)","v":59}]
[374,"刘蝶","20240301011320","信息科技",13,20,"六枝特区职业技术学校",{"$f":"VLOOKUP(C377,[1]招聘笔试成绩统计表!$B:$I,8,0)","v":79}]
[375,"刘星余","20240301011321","信息科技",13,21,"六枝特区职业技术学校",{"$f":"VLOOKUP(C378,[1]招聘笔试成绩统计表!$B:$I,8,0)","v":38}]
[376,"陈梅","20240301011322","信息科技",13,22,"六枝特区职业技术学校",{"$f":"VLOOKUP(C379,[1]招聘笔试成绩统计表!$B:$I,8,0)","v":62}]
[377,"龙忠青","20240301011323","信息科技",13,23,"六枝特区职业技术学校",{"$f":"VLOOKUP(C380,[1]招聘笔试成绩统计表!$B:$I,8,0)","v":59}]
[378,"黄蓉","20240301011324","信息科技",13,24,"六枝特区职业技术学校",{"$f":"VLOOKUP(C381,[1]招聘笔试成绩统计表!$B:$I,8,0)","v":63}]
[379,"龙菊","20240301011325","信息科技",13,25,"六枝特区职业技术学校",{"$f":"VLOOKUP(C382,[1]招聘笔试成绩统计表!$B:$I,8,0)","v":48}]
[380,"陈小吕","20240301011326","信息科技",13,26,"六枝特区职业技术学校",{"$f":"VLOOKUP(C383,[1]招聘笔试成绩统计表!$B:$I,8,0)","v":38}]
[381,"王利利","20240301011327","信息科技",13,27,"六枝特区职业技术学校",{"$f":"VLOOKUP(C384,[1]招聘笔试成绩统计表!$B:$I,8,0)","v":63}]
[382,"杨威","20240301011328","信息科技",13,28,"六枝特区职业技术学校",{"$f":"VLOOKUP(C385,[1]招聘笔试成绩统计表!$B:$I,8,0)","v":67}]
[383,"谢雨生","20240301011329","信息科技",13,29,"六枝特区职业技术学校",{"$f":"VLOOKUP(C386,[1]招聘笔试成绩统计表!$B:$I,8,0)","v":61}]
[384,"邓婷","20240301011330","信息科技",13,30,"六枝特区职业技术学校",{"$f":"VLOOKUP(C387,[1]招聘笔试成绩统计表!$B:$I,8,0)","v":49}]
[385,"杨金瑾","20240301011401","信息科技",14,"01","六枝特区职业技术学校",{"$f":"VLOOKUP(C388,[1]招聘笔试成绩统计表!$B:$I,8,0)","v":"缺考"}]
[386,"伍春程","20240301011402","信息科技",14,"02","六枝特区职业技术学校",{"$f":"VLOOKUP(C389,[1]招聘笔试成绩统计表!$B:$I,8,0)","v":61}]
[387,"丁梦秋","20240301011403","信息科技",14,"03","六枝特区职业技术学校",{"$f":"VLOOKUP(C390,[1]招聘笔试成绩统计表!$B:$I,8,0)","v":43}]
[388,"龙绘","20240301011404","信息科技",14,"04","六枝特区职业技术学校",{"$f":"VLOOKUP(C391,[1]招聘笔试成绩统计表!$B:$I,8,0)","v":49}]
[389,"郑龙婷","20240301011405","信息科技",14,"05","六枝特区职业技术学校",{"$f":"VLOOKUP(C392,[1]招聘笔试成绩统计表!$B:$I,8,0)","v":53}]
[390,"陈佳","20240301011406","信息科技",14,"06","六枝特区职业技术学校",{"$f":"VLOOKUP(C393,[1]招聘笔试成绩统计表!$B:$I,8,0)","v":51}]
[391,"安娜","20240301011407","信息科技",14,"07","六枝特区职业技术学校",{"$f":"VLOOKUP(C394,[1]招聘笔试成绩统计表!$B:$I,8,0)","v":63}]
[392,"王念","20240301011408","信息科技",14,"08","六枝特区职业技术学校",{"$f":"VLOOKUP(C395,[1]招聘笔试成绩统计表!$B:$I,8,0)","v":56}]
[393,"刘丽娟","20240301011409","信息科技",14,"09","六枝特区职业技术学校",{"$f":"VLOOKUP(C396,[1]招聘笔试成绩统计表!$B:$I,8,0)","v":61}]
[394,"余水妹","20240301011410","信息科技",14,10,"六枝特区职业技术学校",{"$f":"VLOOKUP(C397,[1]招聘笔试成绩统计表!$B:$I,8,0)","v":45}]
[395,"黄丽丹","20240301011411","信息科技",14,11,"六枝特区职业技术学校",{"$f":"VLOOKUP(C398,[1]招聘笔试成绩统计表!$B:$I,8,0)","v":46}]
[396,"陈海","20240301011412","信息科技",14,12,"六枝特区职业技术学校",{"$f":"VLOOKUP(C399,[1]招聘笔试成绩统计表!$B:$I,8,0)","v":63}]
[397,"付慧","20240301011413","信息科技",14,13,"六枝特区职业技术学校",{"$f":"VLOOKUP(C400,[1]招聘笔试成绩统计表!$B:$I,8,0)","v":46}]
[398,"李尧钰","20240301011414","信息科技",14,14,"六枝特区职业技术学校",{"$f":"VLOOKUP(C401,[1]招聘笔试成绩统计表!$B:$I,8,0)","v":60}]
[399,"胡宇强","20240301011415","信息科技",14,15,"六枝特区职业技术学校",{"$f":"VLOOKUP(C402,[1]招聘笔试成绩统计表!$B:$I,8,0)","v":"缺考"}]
[400,"石敏","20240301011416","信息科技",14,16,"六枝特区职业技术学校",{"$f":"VLOOKUP(C403,[1]招聘笔试成绩统计表!$B:$I,8,0)","v":62}]
[401,"孙海虹","20240301011417","信息科技",14,17,"六枝特区职业技术学校",{"$f":"VLOOKUP(C404,[1]招聘笔试成绩统计表!$B:$I,8,0)","v":47}]
[402,"苏五菊","20240301011418","信息科技",14,18,"六枝特区职业技术学校",{"$f":"VLOOKUP(C405,[1]招聘笔试成绩统计表!$B:$I,8,0)","v":"缺考"}]
[403,"龙连连","20240301011419","信息科技",14,19,"六枝特区职业技术学校",{"$f":"VLOOKUP(C406,[1]招聘笔试成绩统计表!$B:$I,8,0)","v":49}]
[404,"孙经莉","20240301011420","信息科技",14,20,"六枝特区职业技术学校",{"$f":"VLOOKUP(C407,[1]招聘笔试成绩统计表!$B:$I,8,0)","v":50}]
[405,"张文学","20240301011421","信息科技",14,21,"六枝特区职业技术学校",{"$f":"VLOOKUP(C408,[1]招聘笔试成绩统计表!$B:$I,8,0)","v":50}]
[406,"李飞","20240301011422","信息科技",14,22,"六枝特区职业技术学校",{"$f":"VLOOKUP(C409,[1]招聘笔试成绩统计表!$B:$I,8,0)","v":39}]
[407,"金青青","20240301011423","信息科技",14,23,"六枝特区职业技术学校",{"$f":"VLOOKUP(C410,[1]招聘笔试成绩统计表!$B:$I,8,0)","v":40}]
[408,"黄优","20240301011501","化学",15,"01","六枝特区职业技术学校",{"$f":"VLOOKUP(C411,[1]招聘笔试成绩统计表!$B:$I,8,0)","v":80}]
[409,"王瑶","20240301011502","化学",15,"02","六枝特区职业技术学校",{"$f":"VLOOKUP(C412,[1]招聘笔试成绩统计表!$B:$I,8,0)","v":"缺考"}]
[410,"马磊","20240301011503","化学",15,"03","六枝特区职业技术学校",{"$f":"VLOOKUP(C413,[1]招聘笔试成绩统计表!$B:$I,8,0)","v":87}]
[411,"张梦连","20240301011504","化学",15,"04","六枝特区职业技术学校",{"$f":"VLOOKUP(C414,[1]招聘笔试成绩统计表!$B:$I,8,0)","v":49}]
[412,"冯金兰","20240301011505","化学",15,"05","六枝特区职业技术学校",{"$f":"VLOOKUP(C415,[1]招聘笔试成绩统计表!$B:$I,8,0)","v":83}]
[413,"刘念","20240301011506","化学",15,"06","六枝特区职业技术学校",{"$f":"VLOOKUP(C416,[1]招聘笔试成绩统计表!$B:$I,8,0)","v":66}]
[414,"牟震","20240301011507","化学",15,"07","六枝特区职业技术学校",{"$f":"VLOOKUP(C417,[1]招聘笔试成绩统计表!$B:$I,8,0)","v":"缺考"}]
[415,"晏韦然","20240301011508","化学",15,"08","六枝特区职业技术学校",{"$f":"VLOOKUP(C418,[1]招聘笔试成绩统计表!$B:$I,8,0)","v":43}]
[416,"伍威","20240301011509","化学",15,"09","六枝特区职业技术学校",{"$f":"VLOOKUP(C419,[1]招聘笔试成绩统计表!$B:$I,8,0)","v":77}]
[417,"张雨荷","20240301011510","化学",15,10,"六枝特区职业技术学校",{"$f":"VLOOKUP(C420,[1]招聘笔试成绩统计表!$B:$I,8,0)","v":79}]
[418,"杨海霞","20240301011511","化学",15,11,"六枝特区职业技术学校",{"$f":"VLOOKUP(C421,[1]招聘笔试成绩统计表!$B:$I,8,0)","v":51}]
[419,"刘娇艳","20240301011512","化学",15,12,"六枝特区职业技术学校",{"$f":"VLOOKUP(C422,[1]招聘笔试成绩统计表!$B:$I,8,0)","v":79}]
[420,"曹坤丽","20240301011513","化学",15,13,"六枝特区职业技术学校",{"$f":"VLOOKUP(C423,[1]招聘笔试成绩统计表!$B:$I,8,0)","v":60}]
[421,"李会","20240301011514","化学",15,14,"六枝特区职业技术学校",{"$f":"VLOOKUP(C424,[1]招聘笔试成绩统计表!$B:$I,8,0)","v":72}]
[422,"吴礼洋","20240301011515","化学",15,15,"六枝特区职业技术学校",{"$f":"VLOOKUP(C425,[1]招聘笔试成绩统计表!$B:$I,8,0)","v":88}]
[423,"李娇","20240301011516","化学",15,16,"六枝特区职业技术学校",{"$f":"VLOOKUP(C426,[1]招聘笔试成绩统计表!$B:$I,8,0)","v":68}]
[424,"牛清清","20240301011517","化学",15,17,"六枝特区职业技术学校",{"$f":"VLOOKUP(C427,[1]招聘笔试成绩统计表!$B:$I,8,0)","v":81}]
[425,"尚忠芳","20240301011518","化学",15,18,"六枝特区职业技术学校",{"$f":"VLOOKUP(C428,[1]招聘笔试成绩统计表!$B:$I,8,0)","v":86}]
[426,"高莉","20240301011519","化学",15,19,"六枝特区职业技术学校",{"$f":"VLOOKUP(C429,[1]招聘笔试成绩统计表!$B:$I,8,0)","v":78}]
[427,"王钦宇","20240301011520","化学",15,20,"六枝特区职业技术学校",{"$f":"VLOOKUP(C430,[1]招聘笔试成绩统计表!$B:$I,8,0)","v":52}]
[428,"杨昌能","20240301011521","化学",15,21,"六枝特区职业技术学校",{"$f":"VLOOKUP(C431,[1]招聘笔试成绩统计表!$B:$I,8,0)","v":70}]
[429,"刘慧","20240301011522","化学",15,22,"六枝特区职业技术学校",{"$f":"VLOOKUP(C432,[1]招聘笔试成绩统计表!$B:$I,8,0)","v":55}]
[430,"张园","20240301011523","化学",15,23,"六枝特区职业技术学校",{"$f":"VLOOKUP(C433,[1]招聘笔试成绩统计表!$B:$I,8,0)","v":47}]
[431,"龚荣开","20240301011524","化学",15,24,"六枝特区职业技术学校",{"$f":"VLOOKUP(C434,[1]招聘笔试成绩统计表!$B:$I,8,0)","v":37}]
[432,"谭丹丹","20240301011525","化学",15,25,"六枝特区职业技术学校",{"$f":"VLOOKUP(C435,[1]招聘笔试成绩统计表!$B:$I,8,0)","v":67}]
[433,"刘康","20240301011526","化学",15,26,"六枝特区职业技术学校",{"$f":"VLOOKUP(C436,[1]招聘笔试成绩统计表!$B:$I,8,0)","v":74}]
[434,"张家敏","20240301011527","化学",15,27,"六枝特区职业技术学校",{"$f":"VLOOKUP(C437,[1]招聘笔试成绩统计表!$B:$I,8,0)","v":65}]
[435,"罗婷","20240301011528","化学",15,28,"六枝特区职业技术学校",{"$f":"VLOOKUP(C438,[1]招聘笔试成绩统计表!$B:$I,8,0)","v":73}]
[436,"王薇","20240301011529","化学",15,29,"六枝特区职业技术学校",{"$f":"VLOOKUP(C439,[1]招聘笔试成绩统计表!$B:$I,8,0)","v":65}]
[437,"杨燕","20240301011530","化学",15,30,"六枝特区职业技术学校",{"$f":"VLOOKUP(C440,[1]招聘笔试成绩统计表!$B:$I,8,0)","v":57}]
[438,"牟连丽","20240301011601","化学",16,"01","六枝特区职业技术学校",{"$f":"VLOOKUP(C441,[1]招聘笔试成绩统计表!$B:$I,8,0)","v":55}]
[439,"付佳熙","20240301011602","化学",16,"02","六枝特区职业技术学校",{"$f":"VLOOKUP(C442,[1]招聘笔试成绩统计表!$B:$I,8,0)","v":"缺考"}]
[440,"肖丝丝","20240301011603","化学",16,"03","六枝特区职业技术学校",{"$f":"VLOOKUP(C443,[1]招聘笔试成绩统计表!$B:$I,8,0)","v":"缺考"}]
[441,"高娅","20240301011604","化学",16,"04","六枝特区职业技术学校",{"$f":"VLOOKUP(C444,[1]招聘笔试成绩统计表!$B:$I,8,0)","v":73}]
[442,"陈思岳","20240301011605","化学",16,"05","六枝特区职业技术学校",{"$f":"VLOOKUP(C445,[1]招聘笔试成绩统计表!$B:$I,8,0)","v":44}]
[443,"张莎","20240301011606","化学",16,"06","六枝特区职业技术学校",{"$f":"VLOOKUP(C446,[1]招聘笔试成绩统计表!$B:$I,8,0)","v":63}]
[444,"陈蓉","20240301011607","化学",16,"07","六枝特区职业技术学校",{"$f":"VLOOKUP(C447,[1]招聘笔试成绩统计表!$B:$I,8,0)","v":68}]
[445,"杨鹏鹏","20240301011608","化学",16,"08","六枝特区职业技术学校",{"$f":"VLOOKUP(C448,[1]招聘笔试成绩统计表!$B:$I,8,0)","v":75}]
[446,"任秀","20240301011609","化学",16,"09","六枝特区职业技术学校",{"$f":"VLOOKUP(C449,[1]招聘笔试成绩统计表!$B:$I,8,0)","v":66}]
[447,"张玉珍","20240301011610","化学",16,10,"六枝特区职业技术学校",{"$f":"VLOOKUP(C450,[1]招聘笔试成绩统计表!$B:$I,8,0)","v":81}]
[448,"冯晶晶","20240301011611","化学",16,11,"六枝特区职业技术学校",{"$f":"VLOOKUP(C451,[1]招聘笔试成绩统计表!$B:$I,8,0)","v":70}]
[449,"刘超","20240301011612","物理",16,12,"六枝特区职业技术学校",{"$f":"VLOOKUP(C452,[1]招聘笔试成绩统计表!$B:$I,8,0)","v":49}]
[450,"秦兴叶","20240301011613","物理",16,13,"六枝特区职业技术学校",{"$f":"VLOOKUP(C453,[1]招聘笔试成绩统计表!$B:$I,8,0)","v":"缺考"}]
[451,"郭茜","20240301011614","物理",16,14,"六枝特区职业技术学校",{"$f":"VLOOKUP(C454,[1]招聘笔试成绩统计表!$B:$I,8,0)","v":51}]
[452,"杨磊","20240301011615","物理",16,15,"六枝特区职业技术学校",{"$f":"VLOOKUP(C455,[1]招聘笔试成绩统计表!$B:$I,8,0)","v":"缺考"}]
[453,"胡吉艳","20240301011701","道德与法治",17,"01","六枝特区职业技术学校",{"$f":"VLOOKUP(C456,[1]招聘笔试成绩统计表!$B:$I,8,0)","v":53}]
[454,"张念念","20240301011702","道德与法治",17,"02","六枝特区职业技术学校",{"$f":"VLOOKUP(C457,[1]招聘笔试成绩统计表!$B:$I,8,0)","v":61}]
[455,"杜月梅","20240301011703","道德与法治",17,"03","六枝特区职业技术学校",{"$f":"VLOOKUP(C458,[1]招聘笔试成绩统计表!$B:$I,8,0)","v":40}]
[456,"舒荣","20240301011704","道德与法治",17,"04","六枝特区职业技术学校",{"$f":"VLOOKUP(C459,[1]招聘笔试成绩统计表!$B:$I,8,0)","v":48}]
[457,"张玲玉","20240301011705","道德与法治",17,"05","六枝特区职业技术学校",{"$f":"VLOOKUP(C460,[1]招聘笔试成绩统计表!$B:$I,8,0)","v":75}]
[458,"蒋家贤","20240301011706","道德与法治",17,"06","六枝特区职业技术学校",{"$f":"VLOOKUP(C461,[1]招聘笔试成绩统计表!$B:$I,8,0)","v":42}]
[459,"陈家顺","20240301011707","道德与法治",17,"07","六枝特区职业技术学校",{"$f":"VLOOKUP(C462,[1]招聘笔试成绩统计表!$B:$I,8,0)","v":77}]
[460,"吴彩艳","20240301011708","道德与法治",17,"08","六枝特区职业技术学校",{"$f":"VLOOKUP(C463,[1]招聘笔试成绩统计表!$B:$I,8,0)","v":59}]
[461,"张文霞","20240301011709","道德与法治",17,"09","六枝特区职业技术学校",{"$f":"VLOOKUP(C464,[1]招聘笔试成绩统计表!$B:$I,8,0)","v":42}]
[462,"吴佳熹","20240301011710","道德与法治",17,10,"六枝特区职业技术学校",{"$f":"VLOOKUP(C465,[1]招聘笔试成绩统计表!$B:$I,8,0)","v":60}]
[463,"荣丹","20240301011711","道德与法治",17,11,"六枝特区职业技术学校",{"$f":"VLOOKUP(C466,[1]招聘笔试成绩统计表!$B:$I,8,0)","v":58}]
[464,"粟晶晶","20240301011712","道德与法治",17,12,"六枝特区职业技术学校",{"$f":"VLOOKUP(C467,[1]招聘笔试成绩统计表!$B:$I,8,0)","v":64}]
[465,"刘莉萍","20240301011713","道德与法治",17,13,"六枝特区职业技术学校",{"$f":"VLOOKUP(C468,[1]招聘笔试成绩统计表!$B:$I,8,0)","v":46}]
[466,"唐兴凤","20240301011714","道德与法治",17,14,"六枝特区职业技术学校",{"$f":"VLOOKUP(C469,[1]招聘笔试成绩统计表!$B:$I,8,0)","v":51}]
[467,"徐桢","20240301011715","道德与法治",17,15,"六枝特区职业技术学校",{"$f":"VLOOKUP(C470,[1]招聘笔试成绩统计表!$B:$I,8,0)","v":39}]
[468,"陈波浪","20240301011716","道德与法治",17,16,"六枝特区职业技术学校",{"$f":"VLOOKUP(C471,[1]招聘笔试成绩统计表!$B:$I,8,0)","v":68}]
[469,"肖兴兰","20240301011717","道德与法治",17,17,"六枝特区职业技术学校",{"$f":"VLOOKUP(C472,[1]招聘笔试成绩统计表!$B:$I,8,0)","v":51}]
[470,"陈银","20240301011718","道德与法治",17,18,"六枝特区职业技术学校",{"$f":"VLOOKUP(C473,[1]招聘笔试成绩统计表!$B:$I,8,0)","v":63}]
[471,"郑冰璠","20240301011719","科学",17,19,"六枝特区职业技术学校",{"$f":"VLOOKUP(C474,[1]招聘笔试成绩统计表!$B:$I,8,0)","v":62}]
[472,"尚丽","20240301011720","科学",17,20,"六枝特区职业技术学校",{"$f":"VLOOKUP(C475,[1]招聘笔试成绩统计表!$B:$I,8,0)","v":72}]
[473,"李守宇","20240301011721","科学",17,21,"六枝特区职业技术学校",{"$f":"VLOOKUP(C476,[1]招聘笔试成绩统计表!$B:$I,8,0)","v":68}]
[474,"苏倩","20240301011722","科学",17,22,"六枝特区职业技术学校",{"$f":"VLOOKUP(C477,[1]招聘笔试成绩统计表!$B:$I,8,0)","v":77.5}]
[475,"毕加扬","20240301011723","科学",17,23,"六枝特区职业技术学校",{"$f":"VLOOKUP(C478,[1]招聘笔试成绩统计表!$B:$I,8,0)","v":68}]
[476,"周微","20240301011724","科学",17,24,"六枝特区职业技术学校",{"$f":"VLOOKUP(C479,[1]招聘笔试成绩统计表!$B:$I,8,0)","v":58}]
[477,"聂朝锦","20240301011725","科学",17,25,"六枝特区职业技术学校",{"$f":"VLOOKUP(C480,[1]招聘笔试成绩统计表!$B:$I,8,0)","v":51}]
[478,"陶飞","20240301011726","科学",17,26,"六枝特区职业技术学校",{"$f":"VLOOKUP(C481,[1]招聘笔试成绩统计表!$B:$I,8,0)","v":61}]
[479,"刘艳艳","20240301011727","科学",17,27,"六枝特区职业技术学校",{"$f":"VLOOKUP(C482,[1]招聘笔试成绩统计表!$B:$I,8,0)","v":75}]
[480,"王明坤","20240301011728","科学",17,28,"六枝特区职业技术学校",{"$f":"VLOOKUP(C483,[1]招聘笔试成绩统计表!$B:$I,8,0)","v":82}]
[481,"崔虹玲","20240301011729","科学",17,29,"六枝特区职业技术学校",{"$f":"VLOOKUP(C484,[1]招聘笔试成绩统计表!$B:$I,8,0)","v":75}]
[482,"李兴益","20240301011730","科学",17,30,"六枝特区职业技术学校",{"$f":"VLOOKUP(C485,[1]招聘笔试成绩统计表!$B:$I,8,0)","v":58.5}]
[483,"龙雪","20240301011801","艺术（音乐）",18,"01","六枝特区职业技术学校",{"$f":"VLOOKUP(C486,[1]招聘笔试成绩统计表!$B:$I,8,0)","v":30}]
[484,"张馨予","20240301011802","艺术（音乐）",18,"02","六枝特区职业技术学校",{"$f":"VLOOKUP(C487,[1]招聘笔试成绩统计表!$B:$I,8,0)","v":54}]
[485,"温语珈","20240301011803","艺术（音乐）",18,"03","六枝特区职业技术学校",{"$f":"VLOOKUP(C488,[1]招聘笔试成绩统计表!$B:$I,8,0)","v":54}]
[486,"张天毅","20240301011804","艺术（音乐）",18,"04","六枝特区职业技术学校",{"$f":"VLOOKUP(C489,[1]招聘笔试成绩统计表!$B:$I,8,0)","v":28}]
[487,"周年延","20240301011805","艺术（音乐）",18,"05","六枝特区职业技术学校",{"$f":"VLOOKUP(C490,[1]招聘笔试成绩统计表!$B:$I,8,0)","v":29.5}]
[488,"陈泓伊","20240301011806","艺术（音乐）",18,"06","六枝特区职业技术学校",{"$f":"VLOOKUP(C491,[1]招聘笔试成绩统计表!$B:$I,8,0)","v":11}]
[489,"李美","20240301011807","艺术（音乐）",18,"07","六枝特区职业技术学校",{"$f":"VLOOKUP(C492,[1]招聘笔试成绩统计表!$B:$I,8,0)","v":30}]
[490,"陈丽","20240301011808","艺术（音乐）",18,"08","六枝特区职业技术学校",{"$f":"VLOOKUP(C493,[1]招聘笔试成绩统计表!$B:$I,8,0)","v":59}]
[491,"马江丽","20240301011809","艺术（音乐）",18,"09","六枝特区职业技术学校",{"$f":"VLOOKUP(C494,[1]招聘笔试成绩统计表!$B:$I,8,0)","v":"缺考"}]
[492,"朱思琪","20240301011810","艺术（音乐）",18,10,"六枝特区职业技术学校",{"$f":"VLOOKUP(C495,[1]招聘笔试成绩统计表!$B:$I,8,0)","v":68}]
[493,"李成竹","20240301011811","艺术（音乐）",18,11,"六枝特区职业技术学校",{"$f":"VLOOKUP(C496,[1]招聘笔试成绩统计表!$B:$I,8,0)","v":18}]
[494,"卢林艳","20240301011812","艺术（音乐）",18,12,"六枝特区职业技术学校",{"$f":"VLOOKUP(C497,[1]招聘笔试成绩统计表!$B:$I,8,0)","v":"缺考"}]
[495,"陈媛","20240301011813","艺术（音乐）",18,13,"六枝特区职业技术学校",{"$f":"VLOOKUP(C498,[1]招聘笔试成绩统计表!$B:$I,8,0)","v":60}]
[496,"叶菲菲","20240301011814","艺术（音乐）",18,14,"六枝特区职业技术学校",{"$f":"VLOOKUP(C499,[1]招聘笔试成绩统计表!$B:$I,8,0)","v":26}]
[497,"李玉梅","20240301011815","艺术（音乐）",18,15,"六枝特区职业技术学校",{"$f":"VLOOKUP(C500,[1]招聘笔试成绩统计表!$B:$I,8,0)","v":20}]
[498,"张芬","20240301011816","艺术（音乐）",18,16,"六枝特区职业技术学校",{"$f":"VLOOKUP(C501,[1]招聘笔试成绩统计表!$B:$I,8,0)","v":36.5}]
[499,"姬星卫","20240301011817","艺术（音乐）",18,17,"六枝特区职业技术学校",{"$f":"VLOOKUP(C502,[1]招聘笔试成绩统计表!$B:$I,8,0)","v":57}]
[500,"蒙素玥","20240301011818","艺术（音乐）",18,18,"六枝特区职业技术学校",{"$f":"VLOOKUP(C503,[1]招聘笔试成绩统计表!$B:$I,8,0)","v":"缺考"}]
[501,"侯雨","20240301011819","艺术（音乐）",18,19,"六枝特区职业技术学校",{"$f":"VLOOKUP(C504,[1]招聘笔试成绩统计表!$B:$I,8,0)","v":36.5}]
[502,"江远强","20240301011820","艺术（音乐）",18,20,"六枝特区职业技术学校",{"$f":"VLOOKUP(C505,[1]招聘笔试成绩统计表!$B:$I,8,0)","v":79}]
[503,"范贤","20240301011821","艺术（音乐）",18,21,"六枝特区职业技术学校",{"$f":"VLOOKUP(C506,[1]招聘笔试成绩统计表!$B:$I,8,0)","v":63}]
[504,"陈平","20240301011822","艺术（音乐）",18,22,"六枝特区职业技术学校",{"$f":"VLOOKUP(C507,[1]招聘笔试成绩统计表!$B:$I,8,0)","v":23.5}]
[505,"王娅","20240301011823","艺术（音乐）",18,23,"六枝特区职业技术学校",{"$f":"VLOOKUP(C508,[1]招聘笔试成绩统计表!$B:$I,8,0)","v":"缺考"}]
[506,"王润","20240301011824","体育与健康",18,24,"六枝特区职业技术学校",{"$f":"VLOOKUP(C509,[1]招聘笔试成绩统计表!$B:$I,8,0)","v":64.5}]
[507,"尹宏","20240301011825","体育与健康",18,25,"六枝特区职业技术学校",{"$f":"VLOOKUP(C510,[1]招聘笔试成绩统计表!$B:$I,8,0)","v":78}]
[508,"李兵","20240301011826","体育与健康",18,26,"六枝特区职业技术学校",{"$f":"VLOOKUP(C511,[1]招聘笔试成绩统计表!$B:$I,8,0)","v":63.5}]