{"text_format":"3","workbook":"xlsx","n_sheets":1,"sheets":["总成绩及入围面试信息"],"not_rendered":{"external_links":1,"defined_names":2},"read":"whole","date_system":"1900"}

{"sheet":"总成绩及入围面试信息","index":0,"n_rows":158,"n_cols":15,"rows_kept":158,"merged":[[0,0,0,2],[1,0,1,14]]}
["附件2"]
["普安县2023年特岗教师招聘总成绩及入围体检信息"]
["序\n号","姓名","准考证号","报考学段","报考学科","笔试\n成绩","面试考场","抽签号","面试成绩","笔试成绩\n折合分\n（50%）","面试成绩\n折合分\n（50%）","总分","总成绩\n排  名","是否入\n围体检","备注"]
[1,"彭林莉","20230904011126","初中","英语",80,{"$f":"VLOOKUP(C4,[1]面试室安排!$C$3:$I$157,7,0)","v":"第二面试室"},13,87.06,{"v":40,"d":"40.00"},43.53,83.53,1,"是"]
[2,"李芳","20230904011209","初中","英语",78,{"$f":"VLOOKUP(C5,[1]面试室安排!$C$3:$I$157,7,0)","v":"第二面试室"},4,86.72,{"v":39,"d":"39.00"},43.36,82.36,2,"是"]
[3,"李芳","20230904011215","初中","英语",81.5,{"$f":"VLOOKUP(C6,[1]面试室安排!$C$3:$I$157,7,0)","v":"第二面试室"},9,{"v":82.2,"d":"82.20"},40.75,{"v":41.1,"d":"41.10"},81.85,3,"是"]
[4,"韦生鑫","20230904011325","初中","英语",75,{"$f":"VLOOKUP(C7,[1]面试室安排!$C$3:$I$157,7,0)","v":"第二面试室"},2,84.76,{"v":37.5,"d":"37.50"},42.38,79.88,4,"否"]
[5,"张维彦","20230904011210","初中","英语",75,{"$f":"VLOOKUP(C8,[1]面试室安排!$C$3:$I$157,7,0)","v":"第二面试室"},6,83.72,{"v":37.5,"d":"37.50"},41.86,79.36,5,"否"]
[6,"李兰","20230904011224","初中","英语",77,{"$f":"VLOOKUP(C9,[1]面试室安排!$C$3:$I$157,7,0)","v":"第二面试室"},8,80.44,{"v":38.5,"d":"38.50"},40.22,78.72,6,"否"]
[7,"胡云云","20230904011221","初中","英语",74.5,{"$f":"VLOOKUP(C10,[1]面试室安排!$C$3:$I$157,7,0)","v":"第二面试室"},1,82.48,37.25,41.24,78.49,7,"否"]
[8,"王文广","20230904011304","初中","英语",73.5,{"$f":"VLOOKUP(C11,[1]面试室安排!$C$3:$I$157,7,0)","v":"第二面试室"},5,73.06,36.75,36.53,73.28,8,"否"]
[9,"景婷婷","20230904011119","初中","英语",78.5,{"$f":"VLOOKUP(C12,[1]面试室安排!$C$3:$I$157,7,0)","v":"第二面试室"},null,"缺考",39.25,"缺考",39.25,null,"否","缺考"]
[10,"谢俊琪","20230904011813","初中","体育",61.5,{"$f":"VLOOKUP(C13,[1]面试室安排!$C$3:$I$157,7,0)","v":"第三面试室"},8,89.36,30.75,44.68,75.43,1,"是"]
[11,"刘江河","20230904011822","初中","体育",54,{"$f":"VLOOKUP(C14,[1]面试室安排!$C$3:$I$157,7,0)","v":"第三面试室"},5,87.82,{"v":27,"d":"27.00"},43.91,70.91,2,"否"]
[12,"刘辉","20230904011819","初中","体育",56,{"$f":"VLOOKUP(C15,[1]面试室安排!$C$3:$I$157,7,0)","v":"第三面试室"},6,82.62,{"v":28,"d":"28.00"},41.31,69.31,3,"否"]
[13,"谭礼凤","20230904012418","初中","心理健康",75,{"$f":"VLOOKUP(C16,[1]面试室安排!$C$3:$I$157,7,0)","v":"第一面试室"},4,{"v":80.9,"d":"80.90"},{"v":37.5,"d":"37.50"},40.45,77.95,1,"是"]
[14,"陈小松","20230904012414","初中","心理健康",74,{"$f":"VLOOKUP(C17,[1]面试室安排!$C$3:$I$157,7,0)","v":"第一面试室"},1,{"v":78.9,"d":"78.90"},{"v":37,"d":"37.00"},39.45,76.45,2,"否"]
[15,"黄英","20230904012417","初中","心理健康",68,{"$f":"VLOOKUP(C18,[1]面试室安排!$C$3:$I$157,7,0)","v":"第一面试室"},2,82.98,{"v":34,"d":"34.00"},41.49,75.49,3,"否"]
[16,"张锐","20230904010113","小学","语文",80.5,{"$f":"VLOOKUP(C19,[1]面试室安排!$C$3:$I$157,7,0)","v":"第一面试室"},10,81.74,40.25,40.87,81.12,1,"是"]
[17,"陈鑫","20230904010123","小学","语文",76,{"$f":"VLOOKUP(C20,[1]面试室安排!$C$3:$I$157,7,0)","v":"第一面试室"},15,{"v":85.8,"d":"85.80"},{"v":38,"d":"38.00"},{"v":42.9,"d":"42.90"},{"v":80.9,"d":"80.90"},2,"是"]
[18,"陈静","20230904010119","小学","语文",73.5,{"$f":"VLOOKUP(C21,[1]面试室安排!$C$3:$I$157,7,0)","v":"第一面试室"},12,86.48,36.75,43.24,79.99,3,"是"]
[19,"李林妹","20230904010521","小学","语文",78,{"$f":"VLOOKUP(C22,[1]面试室安排!$C$3:$I$157,7,0)","v":"第一面试室"},14,81.04,{"v":39,"d":"39.00"},40.52,79.52,4,"否"]
[20,"陶余欢","20230904010505","小学","语文",75.5,{"$f":"VLOOKUP(C23,[1]面试室安排!$C$3:$I$157,7,0)","v":"第一面试室"},17,81.86,37.75,40.93,78.68,5,"否"]
[21,"刘佳仙","20230904010322","小学","语文",73,{"$f":"VLOOKUP(C24,[1]面试室安排!$C$3:$I$157,7,0)","v":"第一面试室"},11,83.08,{"v":36.5,"d":"36.50"},41.54,78.04,6,"否"]
[22,"刘娟梅","20230904010326","小学","语文",74,{"$f":"VLOOKUP(C25,[1]面试室安排!$C$3:$I$157,7,0)","v":"第一面试室"},13,78.82,{"v":37,"d":"37.00"},39.41,76.41,7,"否"]
[23,"李梦姣","20230904010115","小学","语文",73,{"$f":"VLOOKUP(C26,[1]面试室安排!$C$3:$I$157,7,0)","v":"第一面试室"},16,71.38,{"v":36.5,"d":"36.50"},35.69,72.19,8,"否"]
[24,"彭丽","20230904010308","小学","语文",75.5,{"$f":"VLOOKUP(C27,[1]面试室安排!$C$3:$I$157,7,0)","v":"第一面试室"},null,"缺考",37.75,"缺考",37.75,null,"否","缺考"]
[25,"赵艳婷","20230904010727","小学","语文",75,{"$f":"VLOOKUP(C28,[1]面试室安排!$C$3:$I$157,7,0)","v":"第一面试室"},null,"缺考",{"v":37.5,"d":"37.50"},"缺考",{"v":37.5,"d":"37.50"},null,"否","缺考"]
[26,"徐红琼","20230904010806","小学","数学",85,{"$f":"VLOOKUP(C29,[1]面试室安排!$C$3:$I$157,7,0)","v":"第一面试室"},9,85.82,{"v":42.5,"d":"42.50"},42.91,85.41,1,"是"]
[27,"杨克燕","20230904010810","小学","数学",83,{"$f":"VLOOKUP(C30,[1]面试室安排!$C$3:$I$157,7,0)","v":"第一面试室"},8,{"v":83,"d":"83.00"},{"v":41.5,"d":"41.50"},{"v":41.5,"d":"41.50"},{"v":83,"d":"83.00"},2,"否"]
[28,"陈进","20230904010924","小学","数学",80,{"$f":"VLOOKUP(C31,[1]面试室安排!$C$3:$I$157,7,0)","v":"第一面试室"},7,81.58,{"v":40,"d":"40.00"},40.79,80.79,3,"否"]
[29,"李兴丹","20230904011114","小学","英语",66,{"$f":"VLOOKUP(C32,[1]面试室安排!$C$3:$I$157,7,0)","v":"第二面试室"},10,88.36,{"v":33,"d":"33.00"},44.18,77.18,1,"是"]
[30,"陈滔","20230904011007","小学","英语",66.5,{"$f":"VLOOKUP(C33,[1]面试室安排!$C$3:$I$157,7,0)","v":"第二面试室"},15,79.46,33.25,39.73,72.98,2,"是"]
[31,"秦诗娅","20230904011019","小学","英语",65.5,{"$f":"VLOOKUP(C34,[1]面试室安排!$C$3:$I$157,7,0)","v":"第二面试室"},11,80.38,32.75,40.19,72.94,3,"否"]
[32,"李佳鸿","20230904011113","小学","英语",64,{"$f":"VLOOKUP(C35,[1]面试室安排!$C$3:$I$157,7,0)","v":"第二面试室"},7,81.68,{"v":32,"d":"32.00"},40.84,72.84,4,"否"]
[33,"宋仟","20230904011024","小学","英语",68.5,{"$f":"VLOOKUP(C36,[1]面试室安排!$C$3:$I$157,7,0)","v":"第二面试室"},3,76.88,34.25,38.44,72.69,5,"否"]
[34,"冉妮","20230904011020","小学","英语",63.5,{"$f":"VLOOKUP(C37,[1]面试室安排!$C$3:$I$157,7,0)","v":"第二面试室"},16,79.92,31.75,39.96,71.71,6,"否"]
[35,"胡爱泽","20230904011112","小学","英语",63.5,{"$f":"VLOOKUP(C38,[1]面试室安排!$C$3:$I$157,7,0)","v":"第二面试室"},12,77.98,31.75,38.99,70.74,7,"否"]
[36,"侯应婷","20230904011025","小学","英语",63.5,{"$f":"VLOOKUP(C39,[1]面试室安排!$C$3:$I$157,7,0)","v":"第二面试室"},14,73.52,31.75,36.76,68.51,8,"否"]
[37,"蔡青草","20230904011417","小学","音乐",85,{"$f":"VLOOKUP(C40,[1]面试室安排!$C$3:$I$157,7,0)","v":"第三面试室"},23,86.28,{"v":42.5,"d":"42.50"},43.14,85.64,1,"是"]
[38,"周楷","20230904011424","小学","音乐",76,{"$f":"VLOOKUP(C41,[1]面试室安排!$C$3:$I$157,7,0)","v":"第三面试室"},24,91.62,{"v":38,"d":"38.00"},45.81,83.81,2,"是"]
[39,"杨银铃","20230904011519","小学","音乐",71,{"$f":"VLOOKUP(C42,[1]面试室安排!$C$3:$I$157,7,0)","v":"第三面试室"},22,88.58,{"v":35.5,"d":"35.50"},44.29,79.79,3,"否"]
[40,"杨调","20230904011418","小学","音乐",67,{"$f":"VLOOKUP(C43,[1]面试室安排!$C$3:$I$157,7,0)","v":"第三面试室"},20,84.52,{"v":33.5,"d":"33.50"},42.26,75.76,4,"否"]
[41,"罗涛涛","20230904011518","小学","音乐",66,{"$f":"VLOOKUP(C44,[1]面试室安排!$C$3:$I$157,7,0)","v":"第三面试室"},21,{"v":78.9,"d":"78.90"},{"v":33,"d":"33.00"},39.45,72.45,5,"否"]
[42,"李守圆","20230904011409","小学","音乐",87,{"$f":"VLOOKUP(C45,[1]面试室安排!$C$3:$I$157,7,0)","v":"第三面试室"},null,"缺考",{"v":43.5,"d":"43.50"},"缺考",{"v":43.5,"d":"43.50"},null,"否","缺考"]
[43,"胡秀娇","20230904011611","小学","体育",71,{"$f":"VLOOKUP(C46,[1]面试室安排!$C$3:$I$157,7,0)","v":"第三面试室"},10,84.46,{"v":35.5,"d":"35.50"},42.23,77.73,1,"是"]
[44,"陈本焘","20230904011708","小学","体育",63,{"$f":"VLOOKUP(C47,[1]面试室安排!$C$3:$I$157,7,0)","v":"第三面试室"},7,{"v":91.4,"d":"91.40"},{"v":31.5,"d":"31.50"},{"v":45.7,"d":"45.70"},{"v":77.2,"d":"77.20"},2,"是"]
[45,"易浪慢","20230904011603","小学","体育",67.5,{"$f":"VLOOKUP(C48,[1]面试室安排!$C$3:$I$157,7,0)","v":"第三面试室"},3,85.92,33.75,42.96,76.71,3,"是"]
[46,"刘艳","20230904011807","小学","体育",57.5,{"$f":"VLOOKUP(C49,[1]面试室安排!$C$3:$I$157,7,0)","v":"第三面试室"},12,90.42,28.75,45.21,73.96,4,"是"]
[47,"刘娟","20230904011613","小学","体育",59,{"$f":"VLOOKUP(C50,[1]面试室安排!$C$3:$I$157,7,0)","v":"第三面试室"},4,88.32,{"v":29.5,"d":"29.50"},44.16,73.66,5,"否"]
[48,"黄万侣","20230904011806","小学","体育",60,{"$f":"VLOOKUP(C51,[1]面试室安排!$C$3:$I$157,7,0)","v":"第三面试室"},9,86.48,{"v":30,"d":"30.00"},43.24,73.24,6,"否"]
[49,"谢天","20230904011629","小学","体育",59.5,{"$f":"VLOOKUP(C52,[1]面试室安排!$C$3:$I$157,7,0)","v":"第三面试室"},13,{"v":86.7,"d":"86.70"},29.75,43.35,{"v":73.1,"d":"73.10"},7,"否"]
[50,"花兰兰","20230904011720","小学","体育",57.5,{"$f":"VLOOKUP(C53,[1]面试室安排!$C$3:$I$157,7,0)","v":"第三面试室"},1,{"v":86.4,"d":"86.40"},28.75,{"v":43.2,"d":"43.20"},71.95,8,"否"]
[51,"余东","20230904011804","小学","体育",60,{"$f":"VLOOKUP(C54,[1]面试室安排!$C$3:$I$157,7,0)","v":"第三面试室"},2,{"v":83.2,"d":"83.20"},{"v":30,"d":"30.00"},{"v":41.6,"d":"41.60"},{"v":71.6,"d":"71.60"},9,"否"]
[52,"何米","20230904011608","小学","体育",58.5,{"$f":"VLOOKUP(C55,[1]面试室安排!$C$3:$I$157,7,0)","v":"第三面试室"},11,{"v":84.1,"d":"84.10"},29.25,42.05,{"v":71.3,"d":"71.30"},10,"否"]
[53,"江家顺","20230904011718","小学","体育",69,{"$f":"VLOOKUP(C56,[1]面试室安排!$C$3:$I$157,7,0)","v":"第三面试室"},null,"缺考",{"v":34.5,"d":"34.50"},"缺考",{"v":34.5,"d":"34.50"},null,"否","缺考"]
[54,"王卓","20230904011609","小学","体育",59,{"$f":"VLOOKUP(C57,[1]面试室安排!$C$3:$I$157,7,0)","v":"第三面试室"},null,"缺考",{"v":29.5,"d":"29.50"},"缺考",{"v":29.5,"d":"29.50"},null,"否","缺考"]
[55,"朱桂英","20230904012306","小学","美术",85.3,{"$f":"VLOOKUP(C58,[1]面试室安排!$C$3:$I$157,7,0)","v":"第三面试室"},14,85.86,42.65,42.93,85.58,1,"是"]
[56,"鄢小左","20230904012012","小学","美术",80.3,{"$f":"VLOOKUP(C59,[1]面试室安排!$C$3:$I$157,7,0)","v":"第三面试室"},16,90.52,40.15,45.26,85.41,2,"是"]
[57,"王倩","20230904012122","小学","美术",80.5,{"$f":"VLOOKUP(C60,[1]面试室安排!$C$3:$I$157,7,0)","v":"第三面试室"},19,89.38,40.25,44.69,84.94,3,"否"]
[58,"汤兰","20230904012030","小学","美术",79.3,{"$f":"VLOOKUP(C61,[1]面试室安排!$C$3:$I$157,7,0)","v":"第三面试室"},15,{"v":89.7,"d":"89.70"},39.65,44.85,{"v":84.5,"d":"84.50"},4,"否"]
[59,"邓朴","20230904012101","小学","美术",85.5,{"$f":"VLOOKUP(C62,[1]面试室安排!$C$3:$I$157,7,0)","v":"第三面试室"},17,83.08,42.75,41.54,84.29,5,"否"]
[60,"余成洁","20230904011907","小学","美术",80.8,{"$f":"VLOOKUP(C63,[1]面试室安排!$C$3:$I$157,7,0)","v":"第三面试室"},18,86.44,{"v":40.4,"d":"40.40"},43.22,83.62,6,"否"]
[61,"肖亚枚","20230904012330","小学","心理健康",83,{"$f":"VLOOKUP(C64,[1]面试室安排!$C$3:$I$157,7,0)","v":"第一面试室"},3,{"v":78.5,"d":"78.50"},{"v":41.5,"d":"41.50"},39.25,80.75,1,"是"]
[62,"彭兰兰","20230904012324","小学","心理健康",72,{"$f":"VLOOKUP(C65,[1]面试室安排!$C$3:$I$157,7,0)","v":"第一面试室"},6,84.72,{"v":36,"d":"36.00"},42.36,78.36,2,"否"]
[63,"王熠","20230904012404","小学","心理健康",54.5,{"$f":"VLOOKUP(C66,[1]面试室安排!$C$3:$I$157,7,0)","v":"第一面试室"},5,75.34,27.25,37.67,64.92,3,"否"]
[64,"龙正翠","20230904013010","幼儿园","01幼儿园",79,{"$f":"VLOOKUP(C67,[1]面试室安排!$C$3:$I$157,7,0)","v":"第四面试室"},1,86.42,{"v":39.5,"d":"39.50"},43.21,82.71,1,"是"]
[65,"梁程雁","20230904012808","幼儿园","01幼儿园",72.5,{"$f":"VLOOKUP(C68,[1]面试室安排!$C$3:$I$157,7,0)","v":"第四面试室"},28,87.12,36.25,43.56,79.81,2,"是"]
[66,"黄娟娟","20230904013001","幼儿园","01幼儿园",75,{"$f":"VLOOKUP(C69,[1]面试室安排!$C$3:$I$157,7,0)","v":"第四面试室"},25,{"v":84.1,"d":"84.10"},{"v":37.5,"d":"37.50"},42.05,79.55,3,"是"]
[67,"杨昌錡","20230904012621","幼儿园","01幼儿园",68,{"$f":"VLOOKUP(C70,[1]面试室安排!$C$3:$I$157,7,0)","v":"第四面试室"},7,89.54,{"v":34,"d":"34.00"},44.77,78.77,4,"是"]
[68,"张志鲜","20230904012807","幼儿园","01幼儿园",70,{"$f":"VLOOKUP(C71,[1]面试室安排!$C$3:$I$157,7,0)","v":"第四面试室"},27,86.02,{"v":35,"d":"35.00"},43.01,78.01,5,"是"]
[69,"范青青","20230904012719","幼儿园","01幼儿园",67.5,{"$f":"VLOOKUP(C72,[1]面试室安排!$C$3:$I$157,7,0)","v":"第四面试室"},23,88.24,33.75,44.12,77.87,6,"是"]
[70,"李会","20230904012521","幼儿园","01幼儿园",72,{"$f":"VLOOKUP(C73,[1]面试室安排!$C$3:$I$157,7,0)","v":"第四面试室"},3,82.78,{"v":36,"d":"36.00"},41.39,77.39,7,"是"]
[71,"王菊","20230904012722","幼儿园","01幼儿园",71,{"$f":"VLOOKUP(C74,[1]面试室安排!$C$3:$I$157,7,0)","v":"第四面试室"},6,{"v":82,"d":"82.00"},{"v":35.5,"d":"35.50"},{"v":41,"d":"41.00"},{"v":76.5,"d":"76.50"},8,"是"]
[72,"李丹","20230904012610","幼儿园","01幼儿园",65,{"$f":"VLOOKUP(C75,[1]面试室安排!$C$3:$I$157,7,0)","v":"第四面试室"},4,86.06,{"v":32.5,"d":"32.50"},43.03,75.53,9,"是"]
[73,"刘微","20230904012823","幼儿园","01幼儿园",64.5,{"$f":"VLOOKUP(C76,[1]面试室安排!$C$3:$I$157,7,0)","v":"第四面试室"},22,86.36,32.25,43.18,75.43,10,"是"]
[74,"岑家娥","20230904012512","幼儿园","01幼儿园",68.5,{"$f":"VLOOKUP(C77,[1]面试室安排!$C$3:$I$157,7,0)","v":"第四面试室"},30,81.44,34.25,40.72,74.97,11,"否"]
[75,"谭礼妹","20230904012517","幼儿园","01幼儿园",66.5,{"$f":"VLOOKUP(C78,[1]面试室安排!$C$3:$I$157,7,0)","v":"第四面试室"},24,83.18,33.25,41.59,74.84,12,"否"]
[76,"左娟","20230904013008","幼儿园","01幼儿园",71.5,{"$f":"VLOOKUP(C79,[1]面试室安排!$C$3:$I$157,7,0)","v":"第四面试室"},2,77.54,35.75,38.77,74.52,13,"否"]
[77,"刘汉玉","20230904013009","幼儿园","01幼儿园",65,{"$f":"VLOOKUP(C80,[1]面试室安排!$C$3:$I$157,7,0)","v":"第四面试室"},5,83.68,{"v":32.5,"d":"32.50"},41.84,74.34,14,"否"]
[78,"吴茜","20230904012609","幼儿园","01幼儿园",63,{"$f":"VLOOKUP(C81,[1]面试室安排!$C$3:$I$157,7,0)","v":"第四面试室"},14,85.52,{"v":31.5,"d":"31.50"},42.76,74.26,15,"否"]
[79,"胡元辛","20230904012506","幼儿园","01幼儿园",69,{"$f":"VLOOKUP(C82,[1]面试室安排!$C$3:$I$157,7,0)","v":"第四面试室"},13,{"v":78.8,"d":"78.80"},{"v":34.5,"d":"34.50"},{"v":39.4,"d":"39.40"},{"v":73.9,"d":"73.90"},16,"否"]
[80,"赵斌","20230904012602","幼儿园","01幼儿园",67,{"$f":"VLOOKUP(C83,[1]面试室安排!$C$3:$I$157,7,0)","v":"第四面试室"},17,80.28,{"v":33.5,"d":"33.50"},40.14,73.64,17,"否"]
[81,"张丹丹","20230904012516","幼儿园","01幼儿园",63.5,{"$f":"VLOOKUP(C84,[1]面试室安排!$C$3:$I$157,7,0)","v":"第四面试室"},31,83.06,31.75,41.53,73.28,18,"否"]
[82,"朱娅","20230904012812","幼儿园","01幼儿园",63.5,{"$f":"VLOOKUP(C85,[1]面试室安排!$C$3:$I$157,7,0)","v":"第四面试室"},10,{"v":82.9,"d":"82.90"},31.75,41.45,{"v":73.2,"d":"73.20"},19,"否"]
[83,"王文秀","20230904012907","幼儿园","01幼儿园",61,{"$f":"VLOOKUP(C86,[1]面试室安排!$C$3:$I$157,7,0)","v":"第四面试室"},20,85.38,{"v":30.5,"d":"30.50"},42.69,73.19,20,"否"]
[84,"冉莲","20230904012908","幼儿园","01幼儿园",64.5,{"$f":"VLOOKUP(C87,[1]面试室安排!$C$3:$I$157,7,0)","v":"第四面试室"},29,81.26,32.25,40.63,72.88,21,"否"]
[85,"陈禹璇","20230904012716","幼儿园","01幼儿园",61,{"$f":"VLOOKUP(C88,[1]面试室安排!$C$3:$I$157,7,0)","v":"第四面试室"},21,{"v":84.1,"d":"84.10"},{"v":30.5,"d":"30.50"},42.05,72.55,22,"否"]
[86,"孙娟","20230904012917","幼儿园","01幼儿园",61,{"$f":"VLOOKUP(C89,[1]面试室安排!$C$3:$I$157,7,0)","v":"第四面试室"},11,83.78,{"v":30.5,"d":"30.50"},41.89,72.39,23,"否"]
[87,"周明先","20230904012902","幼儿园","01幼儿园",60,{"$f":"VLOOKUP(C90,[1]面试室安排!$C$3:$I$157,7,0)","v":"第四面试室"},9,84.78,{"v":30,"d":"30.00"},42.39,72.39,24,"否"]
[88,"胡官飞","20230904012915","幼儿园","01幼儿园",67.5,{"$f":"VLOOKUP(C91,[1]面试室安排!$C$3:$I$157,7,0)","v":"第四面试室"},15,76.66,33.75,38.33,72.08,25,"否"]
[89,"王娇","20230904012810","幼儿园","01幼儿园",63.5,{"$f":"VLOOKUP(C92,[1]面试室安排!$C$3:$I$157,7,0)","v":"第四面试室"},32,80.64,31.75,40.32,72.07,26,"否"]
[90,"彭显霞","20230904013002","幼儿园","01幼儿园",62,{"$f":"VLOOKUP(C93,[1]面试室安排!$C$3:$I$157,7,0)","v":"第四面试室"},19,{"v":82,"d":"82.00"},{"v":31,"d":"31.00"},{"v":41,"d":"41.00"},{"v":72,"d":"72.00"},27,"否"]
[91,"杨兴兰","20230904012619","幼儿园","01幼儿园",62,{"$f":"VLOOKUP(C94,[1]面试室安排!$C$3:$I$157,7,0)","v":"第四面试室"},12,81.32,{"v":31,"d":"31.00"},40.66,71.66,28,"否"]
[92,"张庆覃","20230904012821","幼儿园","01幼儿园",60,{"$f":"VLOOKUP(C95,[1]面试室安排!$C$3:$I$157,7,0)","v":"第四面试室"},26,83.06,{"v":30,"d":"30.00"},41.53,71.53,29,"否"]
[93,"陈花","20230904013012","幼儿园","01幼儿园",60,{"$f":"VLOOKUP(C96,[1]面试室安排!$C$3:$I$157,7,0)","v":"第四面试室"},18,{"v":81.8,"d":"81.80"},{"v":30,"d":"30.00"},{"v":40.9,"d":"40.90"},{"v":70.9,"d":"70.90"},30,"否"]
[94,"张英","20230904012905","幼儿园","01幼儿园",61.5,{"$f":"VLOOKUP(C97,[1]面试室安排!$C$3:$I$157,7,0)","v":"第四面试室"},16,79.06,30.75,39.53,70.28,31,"否"]
[95,"谭娟","20230904012715","幼儿园","01幼儿园",60.5,{"$f":"VLOOKUP(C98,[1]面试室安排!$C$3:$I$157,7,0)","v":"第四面试室"},8,74.86,30.25,37.43,67.68,31,"否"]
[96,"陈维维","20230904013118","幼儿园","02幼儿园",79,{"$f":"VLOOKUP(C99,[1]面试室安排!$C$3:$I$157,7,0)","v":"第五面试室"},1,87.56,{"v":39.5,"d":"39.50"},43.78,83.28,1,"是"]
[97,"余画","20230904013411","幼儿园","02幼儿园",79,{"$f":"VLOOKUP(C100,[1]面试室安排!$C$3:$I$157,7,0)","v":"第五面试室"},20,{"v":84,"d":"84.00"},{"v":39.5,"d":"39.50"},{"v":42,"d":"42.00"},{"v":81.5,"d":"81.50"},2,"是"]
[98,"胡凤","20230904013219","幼儿园","02幼儿园",77.5,{"$f":"VLOOKUP(C101,[1]面试室安排!$C$3:$I$157,7,0)","v":"第五面试室"},5,85.42,38.75,42.71,81.46,3,"是"]
[99,"黄丹","20230904013326","幼儿园","02幼儿园",75.5,{"$f":"VLOOKUP(C102,[1]面试室安排!$C$3:$I$157,7,0)","v":"第五面试室"},21,84.06,37.75,42.03,79.78,4,"是"]
[100,"杨梅","20230904013028","幼儿园","02幼儿园",74.5,{"$f":"VLOOKUP(C103,[1]面试室安排!$C$3:$I$157,7,0)","v":"第五面试室"},7,83.16,37.25,41.58,78.83,5,"是"]
[101,"苏艳","20230904013220","幼儿园","02幼儿园",75.5,{"$f":"VLOOKUP(C104,[1]面试室安排!$C$3:$I$157,7,0)","v":"第五面试室"},26,81.72,37.75,40.86,78.61,6,"是"]
[102,"陈奎米","20230904013424","幼儿园","02幼儿园",76.5,{"$f":"VLOOKUP(C105,[1]面试室安排!$C$3:$I$157,7,0)","v":"第五面试室"},29,80.56,38.25,40.28,78.53,7,"是"]
[103,"于容","20230904013408","幼儿园","02幼儿园",73.5,{"$f":"VLOOKUP(C106,[1]面试室安排!$C$3:$I$157,7,0)","v":"第五面试室"},6,82.52,36.75,41.26,78.01,8,"是"]
[104,"刘杰","20230904013018","幼儿园","02幼儿园",73.2,{"$f":"VLOOKUP(C107,[1]面试室安排!$C$3:$I$157,7,0)","v":"第五面试室"},27,82.22,{"v":36.6,"d":"36.60"},41.11,77.71,9,"是"]
[105,"李爽","20230904013420","幼儿园","02幼儿园",71.5,{"$f":"VLOOKUP(C108,[1]面试室安排!$C$3:$I$157,7,0)","v":"第五面试室"},2,{"v":83.5,"d":"83.50"},35.75,41.75,{"v":77.5,"d":"77.50"},10,"是","笔试成绩高于岑金珂"]
[106,"岑金珂","20230904013111","幼儿园","02幼儿园",69,{"$f":"VLOOKUP(C109,[1]面试室安排!$C$3:$I$157,7,0)","v":"第五面试室"},11,{"v":86,"d":"86.00"},{"v":34.5,"d":"34.50"},{"v":43,"d":"43.00"},{"v":77.5,"d":"77.50"},10,"否"]
[107,"唐溶林","20230904013229","幼儿园","02幼儿园",71.5,{"$f":"VLOOKUP(C110,[1]面试室安排!$C$3:$I$157,7,0)","v":"第五面试室"},25,{"v":83.1,"d":"83.10"},35.75,41.55,{"v":77.3,"d":"77.30"},12,"否"]
[108,"陈雪","20230904013114","幼儿园","02幼儿园",71,{"$f":"VLOOKUP(C111,[1]面试室安排!$C$3:$I$157,7,0)","v":"第五面试室"},28,83.54,{"v":35.5,"d":"35.50"},41.77,77.27,13,"否"]
[109,"赵庆平","20230904013105","幼儿园","02幼儿园",72,{"$f":"VLOOKUP(C112,[1]面试室安排!$C$3:$I$157,7,0)","v":"第五面试室"},30,{"v":81.3,"d":"81.30"},{"v":36,"d":"36.00"},40.65,76.65,14,"否"]
[110,"黄娜","20230904013510","幼儿园","02幼儿园",68.5,{"$f":"VLOOKUP(C113,[1]面试室安排!$C$3:$I$157,7,0)","v":"第五面试室"},12,84.44,34.25,42.22,76.47,15,"否"]
[111,"柏小锁","20230904013130","幼儿园","02幼儿园",67.5,{"$f":"VLOOKUP(C114,[1]面试室安排!$C$3:$I$157,7,0)","v":"第五面试室"},22,85.28,33.75,42.64,76.39,16,"否"]
[112,"李莹莹","20230904013312","幼儿园","02幼儿园",72,{"$f":"VLOOKUP(C115,[1]面试室安排!$C$3:$I$157,7,0)","v":"第五面试室"},19,{"v":80.5,"d":"80.50"},{"v":36,"d":"36.00"},40.25,76.25,17,"否"]
[113,"车尚飞","20230904013302","幼儿园","02幼儿园",65.5,{"$f":"VLOOKUP(C116,[1]面试室安排!$C$3:$I$157,7,0)","v":"第五面试室"},15,86.16,32.75,43.08,75.83,18,"否"]
[114,"李丽","20230904013201","幼儿园","02幼儿园",66.5,{"$f":"VLOOKUP(C117,[1]面试室安排!$C$3:$I$157,7,0)","v":"第五面试室"},17,84.64,33.25,42.32,75.57,19,"否"]
[115,"金玲","20230904013413","幼儿园","02幼儿园",67,{"$f":"VLOOKUP(C118,[1]面试室安排!$C$3:$I$157,7,0)","v":"第五面试室"},4,{"v":83.3,"d":"83.30"},{"v":33.5,"d":"33.50"},41.65,75.15,20,"否"]
[116,"常相琴","20230904013513","幼儿园","02幼儿园",69,{"$f":"VLOOKUP(C119,[1]面试室安排!$C$3:$I$157,7,0)","v":"第五面试室"},13,79.72,{"v":34.5,"d":"34.50"},39.86,74.36,21,"否"]
[117,"潘定友","20230904013415","幼儿园","02幼儿园",65,{"$f":"VLOOKUP(C120,[1]面试室安排!$C$3:$I$157,7,0)","v":"第五面试室"},16,81.94,{"v":32.5,"d":"32.50"},40.97,73.47,22,"否"]
[118,"胡曰仪","20230904013202","幼儿园","02幼儿园",67.5,{"$f":"VLOOKUP(C121,[1]面试室安排!$C$3:$I$157,7,0)","v":"第五面试室"},23,{"v":79.4,"d":"79.40"},33.75,{"v":39.7,"d":"39.70"},73.45,23,"否"]
[119,"王倩","20230904013511","幼儿园","02幼儿园",65.5,{"$f":"VLOOKUP(C122,[1]面试室安排!$C$3:$I$157,7,0)","v":"第五面试室"},3,{"v":81.4,"d":"81.40"},32.75,{"v":40.7,"d":"40.70"},73.45,23,"否"]
[120,"张羽","20230904013426","幼儿园","02幼儿园",66,{"$f":"VLOOKUP(C123,[1]面试室安排!$C$3:$I$157,7,0)","v":"第五面试室"},8,79.48,{"v":33,"d":"33.00"},39.74,72.74,25,"否"]
[121,"叶润","20230904013417","幼儿园","02幼儿园",65,{"$f":"VLOOKUP(C124,[1]面试室安排!$C$3:$I$157,7,0)","v":"第五面试室"},14,79.22,{"v":32.5,"d":"32.50"},39.61,72.11,26,"否"]
[122,"谭雨","20230904013014","幼儿园","02幼儿园",65,{"$f":"VLOOKUP(C125,[1]面试室安排!$C$3:$I$157,7,0)","v":"第五面试室"},9,{"v":78.2,"d":"78.20"},{"v":32.5,"d":"32.50"},{"v":39.1,"d":"39.10"},{"v":71.6,"d":"71.60"},27,"否"]
[123,"张谨","20230904013304","幼儿园","02幼儿园",65,{"$f":"VLOOKUP(C126,[1]面试室安排!$C$3:$I$157,7,0)","v":"第五面试室"},10,76.28,{"v":32.5,"d":"32.50"},38.14,70.64,28,"否"]
[124,"何敏","20230904013129","幼儿园","02幼儿园",67,{"$f":"VLOOKUP(C127,[1]面试室安排!$C$3:$I$157,7,0)","v":"第五面试室"},null,"缺考",{"v":33.5,"d":"33.50"},"缺考",{"v":33.5,"d":"33.50"},null,"否","缺考"]
[125,"于姗","20230904013102","幼儿园","02幼儿园",63.5,{"$f":"VLOOKUP(C128,[1]面试室安排!$C$3:$I$157,7,0)","v":"第五面试室"},null,"缺考",31.75,"缺考",31.75,null,"否","缺考"]
[126,"冯金梅","20230904013918","幼儿园","03幼儿园",75.5,{"$f":"VLOOKUP(C129,[1]面试室安排!$C$3:$I$157,7,0)","v":"第六面试室"},17,85.78,37.75,42.89,80.64,1,"是"]
[127,"谭洋","20230904013601","幼儿园","03幼儿园",72,{"$f":"VLOOKUP(C130,[1]面试室安排!$C$3:$I$157,7,0)","v":"第六面试室"},2,{"v":87.2,"d":"87.20"},{"v":36,"d":"36.00"},{"v":43.6,"d":"43.60"},{"v":79.6,"d":"79.60"},2,"是"]
[128,"黄倩","20230904013617","幼儿园","03幼儿园",74.5,{"$f":"VLOOKUP(C131,[1]面试室安排!$C$3:$I$157,7,0)","v":"第六面试室"},19,{"v":84,"d":"84.00"},37.25,{"v":42,"d":"42.00"},79.25,3,"是"]
[129,"朱炫颖","20230904013724","幼儿园","03幼儿园",72,{"$f":"VLOOKUP(C132,[1]面试室安排!$C$3:$I$157,7,0)","v":"第六面试室"},7,84.26,{"v":36,"d":"36.00"},42.13,78.13,4,"是"]
[130,"严月","20230904013616","幼儿园","03幼儿园",73,{"$f":"VLOOKUP(C133,[1]面试室安排!$C$3:$I$157,7,0)","v":"第六面试室"},13,{"v":83.1,"d":"83.10"},{"v":36.5,"d":"36.50"},41.55,78.05,5,"是"]
[131,"陈丹丹","20230904013518","幼儿园","03幼儿园",72,{"$f":"VLOOKUP(C134,[1]面试室安排!$C$3:$I$157,7,0)","v":"第六面试室"},1,81.78,{"v":36,"d":"36.00"},40.89,76.89,6,"是"]
[132,"邓婉蓉","20230904013812","幼儿园","03幼儿园",66,{"$f":"VLOOKUP(C135,[1]面试室安排!$C$3:$I$157,7,0)","v":"第六面试室"},4,{"v":86.9,"d":"86.90"},{"v":33,"d":"33.00"},43.45,76.45,7,"是"]
[133,"付光敏","20230904013903","幼儿园","03幼儿园",75,{"$f":"VLOOKUP(C136,[1]面试室安排!$C$3:$I$157,7,0)","v":"第六面试室"},30,77.86,{"v":37.5,"d":"37.50"},38.93,76.43,8,"是"]
[134,"李荣玉","20230904013901","幼儿园","03幼儿园",68,{"$f":"VLOOKUP(C137,[1]面试室安排!$C$3:$I$157,7,0)","v":"第六面试室"},10,84.58,{"v":34,"d":"34.00"},42.29,76.29,9,"是"]
[135,"匡颖","20230904013902","幼儿园","03幼儿园",69.5,{"$f":"VLOOKUP(C138,[1]面试室安排!$C$3:$I$157,7,0)","v":"第六面试室"},27,{"v":82.3,"d":"82.30"},34.75,41.15,{"v":75.9,"d":"75.90"},10,"是"]
[136,"李丹","20230904013603","幼儿园","03幼儿园",66.5,{"$f":"VLOOKUP(C139,[1]面试室安排!$C$3:$I$157,7,0)","v":"第六面试室"},20,84.88,33.25,42.44,75.69,11,"否"]
[137,"张二芬","20230904014029","幼儿园","03幼儿园",73.5,{"$f":"VLOOKUP(C140,[1]面试室安排!$C$3:$I$157,7,0)","v":"第六面试室"},9,{"v":77.3,"d":"77.30"},36.75,38.65,{"v":75.4,"d":"75.40"},12,"否"]
[138,"任静","20230904014019","幼儿园","03幼儿园",63,{"$f":"VLOOKUP(C141,[1]面试室安排!$C$3:$I$157,7,0)","v":"第六面试室"},23,87.28,{"v":31.5,"d":"31.50"},43.64,75.14,13,"否"]
[139,"周丹","20230904013604","幼儿园","03幼儿园",66.5,{"$f":"VLOOKUP(C142,[1]面试室安排!$C$3:$I$157,7,0)","v":"第六面试室"},8,83.42,33.25,41.71,74.96,14,"否"]
[140,"庞成琴","20230904013702","幼儿园","03幼儿园",68.5,{"$f":"VLOOKUP(C143,[1]面试室安排!$C$3:$I$157,7,0)","v":"第六面试室"},25,{"v":80,"d":"80.00"},34.25,{"v":40,"d":"40.00"},74.25,15,"否"]
[141,"赵思伊","20230904013914","幼儿园","03幼儿园",67.5,{"$f":"VLOOKUP(C144,[1]面试室安排!$C$3:$I$157,7,0)","v":"第六面试室"},14,{"v":80.4,"d":"80.40"},33.75,{"v":40.2,"d":"40.20"},73.95,16,"否"]
[142,"王尧","20230904014024","幼儿园","03幼儿园",64.5,{"$f":"VLOOKUP(C145,[1]面试室安排!$C$3:$I$157,7,0)","v":"第六面试室"},21,83.22,32.25,41.61,73.86,17,"否"]
[143,"杨珊","20230904013821","幼儿园","03幼儿园",65.5,{"$f":"VLOOKUP(C146,[1]面试室安排!$C$3:$I$157,7,0)","v":"第六面试室"},18,81.58,32.75,40.79,73.54,18,"否"]
[144,"刘凤","20230904013917","幼儿园","03幼儿园",68,{"$f":"VLOOKUP(C147,[1]面试室安排!$C$3:$I$157,7,0)","v":"第六面试室"},26,78.28,{"v":34,"d":"34.00"},39.14,73.14,19,"否"]
[145,"孙倩","20230904013713","幼儿园","03幼儿园",67.5,{"$f":"VLOOKUP(C148,[1]面试室安排!$C$3:$I$157,7,0)","v":"第六面试室"},16,78.02,33.75,39.01,72.76,20,"否"]
[146,"王娜","20230904014027","幼儿园","03幼儿园",65,{"$f":"VLOOKUP(C149,[1]面试室安排!$C$3:$I$157,7,0)","v":"第六面试室"},29,79.28,{"v":32.5,"d":"32.50"},39.64,72.14,21,"否"]
[147,"郑金粉","20230904013523","幼儿园","03幼儿园",64,{"$f":"VLOOKUP(C150,[1]面试室安排!$C$3:$I$157,7,0)","v":"第六面试室"},15,80.12,{"v":32,"d":"32.00"},40.06,72.06,22,"否"]
[148,"任燕","20230904013905","幼儿园","03幼儿园",62,{"$f":"VLOOKUP(C151,[1]面试室安排!$C$3:$I$157,7,0)","v":"第六面试室"},28,81.94,{"v":31,"d":"31.00"},40.97,71.97,23,"否"]
[149,"李珊","20230904013517","幼儿园","03幼儿园",63.5,{"$f":"VLOOKUP(C152,[1]面试室安排!$C$3:$I$157,7,0)","v":"第六面试室"},5,80.24,31.75,40.12,71.87,24,"否"]
[150,"张国艳","20230904013929","幼儿园","03幼儿园",62.5,{"$f":"VLOOKUP(C153,[1]面试室安排!$C$3:$I$157,7,0)","v":"第六面试室"},24,{"v":81.2,"d":"81.20"},31.25,{"v":40.6,"d":"40.60"},71.85,25,"否"]
[151,"代申芬","20230904014008","幼儿园","03幼儿园",63,{"$f":"VLOOKUP(C154,[1]面试室安排!$C$3:$I$157,7,0)","v":"第六面试室"},11,80.58,{"v":31.5,"d":"31.50"},40.29,71.79,26,"否"]
[152,"陶佳连","20230904013524","幼儿园","03幼儿园",68,{"$f":"VLOOKUP(C155,[1]面试室安排!$C$3:$I$157,7,0)","v":"第六面试室"},6,73.24,{"v":34,"d":"34.00"},36.62,70.62,27,"否"]
[153,"陈兴海","20230904013519","幼儿园","03幼儿园",62,{"$f":"VLOOKUP(C156,[1]面试室安排!$C$3:$I$157,7,0)","v":"第六面试室"},22,78.82,{"v":31,"d":"31.00"},39.41,70.41,28,"否"]
[154,"李自敏","20230904014011","幼儿园","03幼儿园",64.5,{"$f":"VLOOKUP(C157,[1]面试室安排!$C$3:$I$157,7,0)","v":"第六面试室"},12,75.68,32.25,37.84,70.09,29,"否"]
[155,"刘娜娜","20230904013705","幼儿园","03幼儿园",66,{"$f":"VLOOKUP(C158,[1]面试室安排!$C$3:$I$157,7,0)","v":"第六面试室"},3,72.16,{"v":33,"d":"33.00"},36.08,69.08,30,"否"]