{"text_format":"3","workbook":"xlsx","n_sheets":2,"sheets":["Sheet2","Sheet3"],"not_rendered":{"external_links":1,"defined_names":3},"read":"whole","date_system":"1900"}

{"sheet":"Sheet2","index":0,"n_rows":1933,"n_cols":9,"rows_kept":1933,"merged":[[0,0,0,8]]}
["松桃苗族自治县2023年“特岗计划”教师招聘考试笔试成绩"]
["序号","姓名","准考证号","考场号","座位号","报名号","报考学段","报考学科","笔试成绩"]
[1,"吴爱连",20230603010101,"01","01",2460,{"$f":"VLOOKUP(F3,[1]总表!$A$3:$AF$30000,31,FALSE)","v":"初中"},{"$f":"VLOOKUP(F3,[1]总表!$A$3:$AF$30000,32,FALSE)","v":"语文"},"56"]
[2,"田杨",20230603010102,"01","02",2565,{"$f":"VLOOKUP(F4,[1]总表!$A$3:$AF$30000,31,FALSE)","v":"初中"},{"$f":"VLOOKUP(F4,[1]总表!$A$3:$AF$30000,32,FALSE)","v":"语文"},"55"]
[3,"葛茂婕",20230603010103,"01","03",2485,{"$f":"VLOOKUP(F5,[1]总表!$A$3:$AF$30000,31,FALSE)","v":"初中"},{"$f":"VLOOKUP(F5,[1]总表!$A$3:$AF$30000,32,FALSE)","v":"语文"},"63.50"]
[4,"罗婷婷",20230603010104,"01","04",2524,{"$f":"VLOOKUP(F6,[1]总表!$A$3:$AF$30000,31,FALSE)","v":"初中"},{"$f":"VLOOKUP(F6,[1]总表!$A$3:$AF$30000,32,FALSE)","v":"语文"},"62.50"]
[5,"尹海南",20230603010105,"01","05",1952,{"$f":"VLOOKUP(F7,[1]总表!$A$3:$AF$30000,31,FALSE)","v":"初中"},{"$f":"VLOOKUP(F7,[1]总表!$A$3:$AF$30000,32,FALSE)","v":"语文"},"缺考"]
[6,"田海霞",20230603010106,"01","06",2415,{"$f":"VLOOKUP(F8,[1]总表!$A$3:$AF$30000,31,FALSE)","v":"初中"},{"$f":"VLOOKUP(F8,[1]总表!$A$3:$AF$30000,32,FALSE)","v":"语文"},"70.50"]
[7,"杨艳",20230603010107,"01","07",1986,{"$f":"VLOOKUP(F9,[1]总表!$A$3:$AF$30000,31,FALSE)","v":"初中"},{"$f":"VLOOKUP(F9,[1]总表!$A$3:$AF$30000,32,FALSE)","v":"语文"},"54.50"]
[8,"陆芳林",20230603010108,"01","08",2318,{"$f":"VLOOKUP(F10,[1]总表!$A$3:$AF$30000,31,FALSE)","v":"初中"},{"$f":"VLOOKUP(F10,[1]总表!$A$3:$AF$30000,32,FALSE)","v":"语文"},"57.50"]
[9,"刘芬",20230603010109,"01","09",2367,{"$f":"VLOOKUP(F11,[1]总表!$A$3:$AF$30000,31,FALSE)","v":"初中"},{"$f":"VLOOKUP(F11,[1]总表!$A$3:$AF$30000,32,FALSE)","v":"语文"},"51"]
[10,"邹玉茹",20230603010110,"01","10",2452,{"$f":"VLOOKUP(F12,[1]总表!$A$3:$AF$30000,31,FALSE)","v":"初中"},{"$f":"VLOOKUP(F12,[1]总表!$A$3:$AF$30000,32,FALSE)","v":"语文"},"59"]
[11,"彭颖",20230603010111,"01","11",2542,{"$f":"VLOOKUP(F13,[1]总表!$A$3:$AF$30000,31,FALSE)","v":"初中"},{"$f":"VLOOKUP(F13,[1]总表!$A$3:$AF$30000,32,FALSE)","v":"语文"},"49.50"]
[12,"涂琴",20230603010112,"01","12",2584,{"$f":"VLOOKUP(F14,[1]总表!$A$3:$AF$30000,31,FALSE)","v":"初中"},{"$f":"VLOOKUP(F14,[1]总表!$A$3:$AF$30000,32,FALSE)","v":"语文"},"53"]
[13,"吴晗鹏",20230603010113,"01","13",2023,{"$f":"VLOOKUP(F15,[1]总表!$A$3:$AF$30000,31,FALSE)","v":"初中"},{"$f":"VLOOKUP(F15,[1]总表!$A$3:$AF$30000,32,FALSE)","v":"语文"},"56.50"]
[14,"殷美玲",20230603010114,"01","14",2055,{"$f":"VLOOKUP(F16,[1]总表!$A$3:$AF$30000,31,FALSE)","v":"初中"},{"$f":"VLOOKUP(F16,[1]总表!$A$3:$AF$30000,32,FALSE)","v":"语文"},"60"]
[15,"杨玉蓉",20230603010115,"01","15",2044,{"$f":"VLOOKUP(F17,[1]总表!$A$3:$AF$30000,31,FALSE)","v":"初中"},{"$f":"VLOOKUP(F17,[1]总表!$A$3:$AF$30000,32,FALSE)","v":"语文"},"61.50"]
[16,"谭蓉",20230603010116,"01","16",2420,{"$f":"VLOOKUP(F18,[1]总表!$A$3:$AF$30000,31,FALSE)","v":"初中"},{"$f":"VLOOKUP(F18,[1]总表!$A$3:$AF$30000,32,FALSE)","v":"语文"},"65.50"]
[17,"殷婧帆",20230603010117,"01","17",2034,{"$f":"VLOOKUP(F19,[1]总表!$A$3:$AF$30000,31,FALSE)","v":"初中"},{"$f":"VLOOKUP(F19,[1]总表!$A$3:$AF$30000,32,FALSE)","v":"语文"},"56.50"]
[18,"杨胜芝",20230603010118,"01","18",2146,{"$f":"VLOOKUP(F20,[1]总表!$A$3:$AF$30000,31,FALSE)","v":"初中"},{"$f":"VLOOKUP(F20,[1]总表!$A$3:$AF$30000,32,FALSE)","v":"语文"},"62"]
[19,"杨思意",20230603010119,"01","19",2488,{"$f":"VLOOKUP(F21,[1]总表!$A$3:$AF$30000,31,FALSE)","v":"初中"},{"$f":"VLOOKUP(F21,[1]总表!$A$3:$AF$30000,32,FALSE)","v":"语文"},"65.50"]
[20,"陈雪林",20230603010120,"01","20",2271,{"$f":"VLOOKUP(F22,[1]总表!$A$3:$AF$30000,31,FALSE)","v":"初中"},{"$f":"VLOOKUP(F22,[1]总表!$A$3:$AF$30000,32,FALSE)","v":"语文"},"68"]
[21,"杨琪",20230603010121,"01","21",1976,{"$f":"VLOOKUP(F23,[1]总表!$A$3:$AF$30000,31,FALSE)","v":"初中"},{"$f":"VLOOKUP(F23,[1]总表!$A$3:$AF$30000,32,FALSE)","v":"语文"},"缺考"]
[22,"龙琳",20230603010122,"01","22",2657,{"$f":"VLOOKUP(F24,[1]总表!$A$3:$AF$30000,31,FALSE)","v":"初中"},{"$f":"VLOOKUP(F24,[1]总表!$A$3:$AF$30000,32,FALSE)","v":"语文"},"缺考"]
[23,"欧克霞",20230603010123,"01","23",2605,{"$f":"VLOOKUP(F25,[1]总表!$A$3:$AF$30000,31,FALSE)","v":"初中"},{"$f":"VLOOKUP(F25,[1]总表!$A$3:$AF$30000,32,FALSE)","v":"语文"},"61.50"]
[24,"杨娟",20230603010124,"01","24",2007,{"$f":"VLOOKUP(F26,[1]总表!$A$3:$AF$30000,31,FALSE)","v":"初中"},{"$f":"VLOOKUP(F26,[1]总表!$A$3:$AF$30000,32,FALSE)","v":"语文"},"72.50"]
[25,"雷华燕",20230603010125,"01","25",1929,{"$f":"VLOOKUP(F27,[1]总表!$A$3:$AF$30000,31,FALSE)","v":"初中"},{"$f":"VLOOKUP(F27,[1]总表!$A$3:$AF$30000,32,FALSE)","v":"语文"},"75"]
[26,"杨曼",20230603010126,"01","26",2209,{"$f":"VLOOKUP(F28,[1]总表!$A$3:$AF$30000,31,FALSE)","v":"初中"},{"$f":"VLOOKUP(F28,[1]总表!$A$3:$AF$30000,32,FALSE)","v":"语文"},"69"]
[27,"任美錞",20230603010127,"01","27",2049,{"$f":"VLOOKUP(F29,[1]总表!$A$3:$AF$30000,31,FALSE)","v":"初中"},{"$f":"VLOOKUP(F29,[1]总表!$A$3:$AF$30000,32,FALSE)","v":"语文"},"42.50"]
[28,"田丽霞",20230603010128,"01","28",1834,{"$f":"VLOOKUP(F30,[1]总表!$A$3:$AF$30000,31,FALSE)","v":"初中"},{"$f":"VLOOKUP(F30,[1]总表!$A$3:$AF$30000,32,FALSE)","v":"语文"},"61"]
[29,"敖美芬",20230603010129,"01","29",2457,{"$f":"VLOOKUP(F31,[1]总表!$A$3:$AF$30000,31,FALSE)","v":"初中"},{"$f":"VLOOKUP(F31,[1]总表!$A$3:$AF$30000,32,FALSE)","v":"语文"},"67"]
[30,"陈晴怡",20230603010130,"01","30",2585,{"$f":"VLOOKUP(F32,[1]总表!$A$3:$AF$30000,31,FALSE)","v":"初中"},{"$f":"VLOOKUP(F32,[1]总表!$A$3:$AF$30000,32,FALSE)","v":"语文"},"67.50"]
[31,"龙梅",20230603010201,"02","01",2350,{"$f":"VLOOKUP(F33,[1]总表!$A$3:$AF$30000,31,FALSE)","v":"初中"},{"$f":"VLOOKUP(F33,[1]总表!$A$3:$AF$30000,32,FALSE)","v":"语文"},"65"]
[32,"杨娜",20230603010202,"02","02",2144,{"$f":"VLOOKUP(F34,[1]总表!$A$3:$AF$30000,31,FALSE)","v":"初中"},{"$f":"VLOOKUP(F34,[1]总表!$A$3:$AF$30000,32,FALSE)","v":"语文"},"52"]
[33,"罗利华",20230603010203,"02","03",2527,{"$f":"VLOOKUP(F35,[1]总表!$A$3:$AF$30000,31,FALSE)","v":"初中"},{"$f":"VLOOKUP(F35,[1]总表!$A$3:$AF$30000,32,FALSE)","v":"语文"},"50"]
[34,"冉浩然",20230603010204,"02","04",2482,{"$f":"VLOOKUP(F36,[1]总表!$A$3:$AF$30000,31,FALSE)","v":"初中"},{"$f":"VLOOKUP(F36,[1]总表!$A$3:$AF$30000,32,FALSE)","v":"语文"},"63.50"]
[35,"石雪倩",20230603010205,"02","05",2056,{"$f":"VLOOKUP(F37,[1]总表!$A$3:$AF$30000,31,FALSE)","v":"初中"},{"$f":"VLOOKUP(F37,[1]总表!$A$3:$AF$30000,32,FALSE)","v":"语文"},"70.50"]
[36,"吴亚萍",20230603010206,"02","06",2127,{"$f":"VLOOKUP(F38,[1]总表!$A$3:$AF$30000,31,FALSE)","v":"初中"},{"$f":"VLOOKUP(F38,[1]总表!$A$3:$AF$30000,32,FALSE)","v":"语文"},"66"]
[37,"罗阳",20230603010207,"02","07",2538,{"$f":"VLOOKUP(F39,[1]总表!$A$3:$AF$30000,31,FALSE)","v":"初中"},{"$f":"VLOOKUP(F39,[1]总表!$A$3:$AF$30000,32,FALSE)","v":"语文"},"46.50"]
[38,"吴志娟",20230603010208,"02","08",1819,{"$f":"VLOOKUP(F40,[1]总表!$A$3:$AF$30000,31,FALSE)","v":"初中"},{"$f":"VLOOKUP(F40,[1]总表!$A$3:$AF$30000,32,FALSE)","v":"语文"},"60.50"]
[39,"伍娇",20230603010209,"02","09",2434,{"$f":"VLOOKUP(F41,[1]总表!$A$3:$AF$30000,31,FALSE)","v":"初中"},{"$f":"VLOOKUP(F41,[1]总表!$A$3:$AF$30000,32,FALSE)","v":"语文"},"58.50"]
[40,"石秋燕",20230603010210,"02","10",1970,{"$f":"VLOOKUP(F42,[1]总表!$A$3:$AF$30000,31,FALSE)","v":"初中"},{"$f":"VLOOKUP(F42,[1]总表!$A$3:$AF$30000,32,FALSE)","v":"语文"},"58.50"]
[41,"龙先飞",20230603010211,"02","11",1876,{"$f":"VLOOKUP(F43,[1]总表!$A$3:$AF$30000,31,FALSE)","v":"初中"},{"$f":"VLOOKUP(F43,[1]总表!$A$3:$AF$30000,32,FALSE)","v":"语文"},"54.50"]
[42,"杨娜娜",20230603010212,"02","12",2533,{"$f":"VLOOKUP(F44,[1]总表!$A$3:$AF$30000,31,FALSE)","v":"初中"},{"$f":"VLOOKUP(F44,[1]总表!$A$3:$AF$30000,32,FALSE)","v":"语文"},"53"]
[43,"符颖",20230603010213,"02","13",2115,{"$f":"VLOOKUP(F45,[1]总表!$A$3:$AF$30000,31,FALSE)","v":"初中"},{"$f":"VLOOKUP(F45,[1]总表!$A$3:$AF$30000,32,FALSE)","v":"语文"},"58"]
[44,"龙林",20230603010214,"02","14",2511,{"$f":"VLOOKUP(F46,[1]总表!$A$3:$AF$30000,31,FALSE)","v":"初中"},{"$f":"VLOOKUP(F46,[1]总表!$A$3:$AF$30000,32,FALSE)","v":"语文"},"58.50"]
[45,"罗雯昕",20230603010215,"02","15",2307,{"$f":"VLOOKUP(F47,[1]总表!$A$3:$AF$30000,31,FALSE)","v":"初中"},{"$f":"VLOOKUP(F47,[1]总表!$A$3:$AF$30000,32,FALSE)","v":"语文"},"49"]
[46,"姚慧敏",20230603010216,"02","16",1914,{"$f":"VLOOKUP(F48,[1]总表!$A$3:$AF$30000,31,FALSE)","v":"初中"},{"$f":"VLOOKUP(F48,[1]总表!$A$3:$AF$30000,32,FALSE)","v":"语文"},"59.50"]
[47,"黄庆",20230603010217,"02","17",2528,{"$f":"VLOOKUP(F49,[1]总表!$A$3:$AF$30000,31,FALSE)","v":"初中"},{"$f":"VLOOKUP(F49,[1]总表!$A$3:$AF$30000,32,FALSE)","v":"语文"},"61"]
[48,"田利娟",20230603010218,"02","18",2352,{"$f":"VLOOKUP(F50,[1]总表!$A$3:$AF$30000,31,FALSE)","v":"初中"},{"$f":"VLOOKUP(F50,[1]总表!$A$3:$AF$30000,32,FALSE)","v":"语文"},"54"]
[49,"詹雨玲",20230603010219,"02","19",2476,{"$f":"VLOOKUP(F51,[1]总表!$A$3:$AF$30000,31,FALSE)","v":"初中"},{"$f":"VLOOKUP(F51,[1]总表!$A$3:$AF$30000,32,FALSE)","v":"语文"},"60"]
[50,"郭世素",20230603010220,"02","20",2084,{"$f":"VLOOKUP(F52,[1]总表!$A$3:$AF$30000,31,FALSE)","v":"初中"},{"$f":"VLOOKUP(F52,[1]总表!$A$3:$AF$30000,32,FALSE)","v":"语文"},"63"]
[51,"田龙",20230603010221,"02","21",1869,{"$f":"VLOOKUP(F53,[1]总表!$A$3:$AF$30000,31,FALSE)","v":"初中"},{"$f":"VLOOKUP(F53,[1]总表!$A$3:$AF$30000,32,FALSE)","v":"语文"},"66"]
[52,"雷芬",20230603010222,"02","22",2501,{"$f":"VLOOKUP(F54,[1]总表!$A$3:$AF$30000,31,FALSE)","v":"初中"},{"$f":"VLOOKUP(F54,[1]总表!$A$3:$AF$30000,32,FALSE)","v":"语文"},"60"]
[53,"汪美婷",20230603010223,"02","23",2432,{"$f":"VLOOKUP(F55,[1]总表!$A$3:$AF$30000,31,FALSE)","v":"初中"},{"$f":"VLOOKUP(F55,[1]总表!$A$3:$AF$30000,32,FALSE)","v":"语文"},"59"]
[54,"罗珊",20230603010224,"02","24",2495,{"$f":"VLOOKUP(F56,[1]总表!$A$3:$AF$30000,31,FALSE)","v":"初中"},{"$f":"VLOOKUP(F56,[1]总表!$A$3:$AF$30000,32,FALSE)","v":"语文"},"71.50"]
[55,"龙雯惠",20230603010225,"02","25",2314,{"$f":"VLOOKUP(F57,[1]总表!$A$3:$AF$30000,31,FALSE)","v":"初中"},{"$f":"VLOOKUP(F57,[1]总表!$A$3:$AF$30000,32,FALSE)","v":"语文"},"53.50"]
[56,"鞠玲慧",20230603010226,"02","26",2481,{"$f":"VLOOKUP(F58,[1]总表!$A$3:$AF$30000,31,FALSE)","v":"初中"},{"$f":"VLOOKUP(F58,[1]总表!$A$3:$AF$30000,32,FALSE)","v":"语文"},"63"]
[57,"安田旭",20230603010227,"02","27",2113,{"$f":"VLOOKUP(F59,[1]总表!$A$3:$AF$30000,31,FALSE)","v":"初中"},{"$f":"VLOOKUP(F59,[1]总表!$A$3:$AF$30000,32,FALSE)","v":"语文"},"53"]
[58,"杜万琴",20230603010228,"02","28",2070,{"$f":"VLOOKUP(F60,[1]总表!$A$3:$AF$30000,31,FALSE)","v":"初中"},{"$f":"VLOOKUP(F60,[1]总表!$A$3:$AF$30000,32,FALSE)","v":"语文"},"58"]
[59,"吴映雪",20230603010229,"02","29",2294,{"$f":"VLOOKUP(F61,[1]总表!$A$3:$AF$30000,31,FALSE)","v":"初中"},{"$f":"VLOOKUP(F61,[1]总表!$A$3:$AF$30000,32,FALSE)","v":"语文"},"57.50"]
[60,"腾文坤",20230603010230,"02","30",2324,{"$f":"VLOOKUP(F62,[1]总表!$A$3:$AF$30000,31,FALSE)","v":"初中"},{"$f":"VLOOKUP(F62,[1]总表!$A$3:$AF$30000,32,FALSE)","v":"语文"},"48.50"]
[61,"雷美",20230603010301,"03","01",2175,{"$f":"VLOOKUP(F63,[1]总表!$A$3:$AF$30000,31,FALSE)","v":"初中"},{"$f":"VLOOKUP(F63,[1]总表!$A$3:$AF$30000,32,FALSE)","v":"语文"},"58.50"]
[62,"尹吉美",20230603010302,"03","02",2349,{"$f":"VLOOKUP(F64,[1]总表!$A$3:$AF$30000,31,FALSE)","v":"初中"},{"$f":"VLOOKUP(F64,[1]总表!$A$3:$AF$30000,32,FALSE)","v":"语文"},"缺考"]
[63,"唐艳妮",20230603010303,"03","03",2147,{"$f":"VLOOKUP(F65,[1]总表!$A$3:$AF$30000,31,FALSE)","v":"初中"},{"$f":"VLOOKUP(F65,[1]总表!$A$3:$AF$30000,32,FALSE)","v":"语文"},"65.50"]
[64,"滕凝露",20230603010304,"03","04",2110,{"$f":"VLOOKUP(F66,[1]总表!$A$3:$AF$30000,31,FALSE)","v":"初中"},{"$f":"VLOOKUP(F66,[1]总表!$A$3:$AF$30000,32,FALSE)","v":"语文"},"56"]
[65,"肖丽君",20230603010305,"03","05",2595,{"$f":"VLOOKUP(F67,[1]总表!$A$3:$AF$30000,31,FALSE)","v":"初中"},{"$f":"VLOOKUP(F67,[1]总表!$A$3:$AF$30000,32,FALSE)","v":"语文"},"74"]
[66,"张晓琴",20230603010306,"03","06",2548,{"$f":"VLOOKUP(F68,[1]总表!$A$3:$AF$30000,31,FALSE)","v":"初中"},{"$f":"VLOOKUP(F68,[1]总表!$A$3:$AF$30000,32,FALSE)","v":"语文"},"54.50"]
[67,"杨琴",20230603010307,"03","07",2399,{"$f":"VLOOKUP(F69,[1]总表!$A$3:$AF$30000,31,FALSE)","v":"初中"},{"$f":"VLOOKUP(F69,[1]总表!$A$3:$AF$30000,32,FALSE)","v":"语文"},"50.50"]
[68,"刘佳敏",20230603010308,"03","08",2222,{"$f":"VLOOKUP(F70,[1]总表!$A$3:$AF$30000,31,FALSE)","v":"初中"},{"$f":"VLOOKUP(F70,[1]总表!$A$3:$AF$30000,32,FALSE)","v":"语文"},"71"]
[69,"石勇登",20230603010309,"03","09",1920,{"$f":"VLOOKUP(F71,[1]总表!$A$3:$AF$30000,31,FALSE)","v":"初中"},{"$f":"VLOOKUP(F71,[1]总表!$A$3:$AF$30000,32,FALSE)","v":"语文"},"66"]
[70,"王雅婷",20230603010310,"03","10",1827,{"$f":"VLOOKUP(F72,[1]总表!$A$3:$AF$30000,31,FALSE)","v":"初中"},{"$f":"VLOOKUP(F72,[1]总表!$A$3:$AF$30000,32,FALSE)","v":"语文"},"61.50"]
[71,"刘庆君",20230603010311,"03","11",2431,{"$f":"VLOOKUP(F73,[1]总表!$A$3:$AF$30000,31,FALSE)","v":"初中"},{"$f":"VLOOKUP(F73,[1]总表!$A$3:$AF$30000,32,FALSE)","v":"语文"},"61.50"]
[72,"吴红霞",20230603010312,"03","12",2272,{"$f":"VLOOKUP(F74,[1]总表!$A$3:$AF$30000,31,FALSE)","v":"初中"},{"$f":"VLOOKUP(F74,[1]总表!$A$3:$AF$30000,32,FALSE)","v":"语文"},"64.50"]
[73,"田江碧",20230603010313,"03","13",2342,{"$f":"VLOOKUP(F75,[1]总表!$A$3:$AF$30000,31,FALSE)","v":"初中"},{"$f":"VLOOKUP(F75,[1]总表!$A$3:$AF$30000,32,FALSE)","v":"语文"},"65.50"]
[74,"卿玉玲",20230603010314,"03","14",2628,{"$f":"VLOOKUP(F76,[1]总表!$A$3:$AF$30000,31,FALSE)","v":"初中"},{"$f":"VLOOKUP(F76,[1]总表!$A$3:$AF$30000,32,FALSE)","v":"语文"},"59.50"]
[75,"龙微微",20230603010315,"03","15",2263,{"$f":"VLOOKUP(F77,[1]总表!$A$3:$AF$30000,31,FALSE)","v":"初中"},{"$f":"VLOOKUP(F77,[1]总表!$A$3:$AF$30000,32,FALSE)","v":"语文"},"67"]
[76,"杨秀辉",20230603010316,"03","16",1991,{"$f":"VLOOKUP(F78,[1]总表!$A$3:$AF$30000,31,FALSE)","v":"初中"},{"$f":"VLOOKUP(F78,[1]总表!$A$3:$AF$30000,32,FALSE)","v":"语文"},"69"]
[77,"李梅红",20230603010317,"03","17",1898,{"$f":"VLOOKUP(F79,[1]总表!$A$3:$AF$30000,31,FALSE)","v":"初中"},{"$f":"VLOOKUP(F79,[1]总表!$A$3:$AF$30000,32,FALSE)","v":"语文"},"59"]
[78,"周颖",20230603010318,"03","18",2611,{"$f":"VLOOKUP(F80,[1]总表!$A$3:$AF$30000,31,FALSE)","v":"初中"},{"$f":"VLOOKUP(F80,[1]总表!$A$3:$AF$30000,32,FALSE)","v":"语文"},"缺考"]
[79,"杨文惠",20230603010319,"03","19",2081,{"$f":"VLOOKUP(F81,[1]总表!$A$3:$AF$30000,31,FALSE)","v":"初中"},{"$f":"VLOOKUP(F81,[1]总表!$A$3:$AF$30000,32,FALSE)","v":"语文"},"47"]
[80,"唐倩",20230603010320,"03","20",2279,{"$f":"VLOOKUP(F82,[1]总表!$A$3:$AF$30000,31,FALSE)","v":"初中"},{"$f":"VLOOKUP(F82,[1]总表!$A$3:$AF$30000,32,FALSE)","v":"语文"},"54.50"]
[81,"龙梦彬",20230603010321,"03","21",2559,{"$f":"VLOOKUP(F83,[1]总表!$A$3:$AF$30000,31,FALSE)","v":"初中"},{"$f":"VLOOKUP(F83,[1]总表!$A$3:$AF$30000,32,FALSE)","v":"语文"},"58.50"]
[82,"周梦姣",20230603010322,"03","22",2118,{"$f":"VLOOKUP(F84,[1]总表!$A$3:$AF$30000,31,FALSE)","v":"初中"},{"$f":"VLOOKUP(F84,[1]总表!$A$3:$AF$30000,32,FALSE)","v":"语文"},"65"]
[83,"田迪丹",20230603010323,"03","23",2207,{"$f":"VLOOKUP(F85,[1]总表!$A$3:$AF$30000,31,FALSE)","v":"初中"},{"$f":"VLOOKUP(F85,[1]总表!$A$3:$AF$30000,32,FALSE)","v":"语文"},"56.50"]
[84,"石峰",20230603010324,"03","24",2107,{"$f":"VLOOKUP(F86,[1]总表!$A$3:$AF$30000,31,FALSE)","v":"初中"},{"$f":"VLOOKUP(F86,[1]总表!$A$3:$AF$30000,32,FALSE)","v":"语文"},"63"]
[85,"杨渺",20230603010325,"03","25",2385,{"$f":"VLOOKUP(F87,[1]总表!$A$3:$AF$30000,31,FALSE)","v":"初中"},{"$f":"VLOOKUP(F87,[1]总表!$A$3:$AF$30000,32,FALSE)","v":"语文"},"67"]
[86,"麻明芳",20230603010326,"03","26",2417,{"$f":"VLOOKUP(F88,[1]总表!$A$3:$AF$30000,31,FALSE)","v":"初中"},{"$f":"VLOOKUP(F88,[1]总表!$A$3:$AF$30000,32,FALSE)","v":"语文"},"53.50"]
[87,"杨忍",20230603010327,"03","27",2082,{"$f":"VLOOKUP(F89,[1]总表!$A$3:$AF$30000,31,FALSE)","v":"初中"},{"$f":"VLOOKUP(F89,[1]总表!$A$3:$AF$30000,32,FALSE)","v":"语文"},"63"]
[88,"吴倩",20230603010328,"03","28",2523,{"$f":"VLOOKUP(F90,[1]总表!$A$3:$AF$30000,31,FALSE)","v":"初中"},{"$f":"VLOOKUP(F90,[1]总表!$A$3:$AF$30000,32,FALSE)","v":"语文"},"60"]
[89,"汪佳",20230603010329,"03","29",1877,{"$f":"VLOOKUP(F91,[1]总表!$A$3:$AF$30000,31,FALSE)","v":"初中"},{"$f":"VLOOKUP(F91,[1]总表!$A$3:$AF$30000,32,FALSE)","v":"语文"},"65.50"]
[90,"付亚玲",20230603010330,"03","30",2186,{"$f":"VLOOKUP(F92,[1]总表!$A$3:$AF$30000,31,FALSE)","v":"初中"},{"$f":"VLOOKUP(F92,[1]总表!$A$3:$AF$30000,32,FALSE)","v":"语文"},"63"]
[91,"胡欣宇",20230603010401,"04","01",2261,{"$f":"VLOOKUP(F93,[1]总表!$A$3:$AF$30000,31,FALSE)","v":"初中"},{"$f":"VLOOKUP(F93,[1]总表!$A$3:$AF$30000,32,FALSE)","v":"语文"},"59"]
[92,"李沙沙",20230603010402,"04","02",2587,{"$f":"VLOOKUP(F94,[1]总表!$A$3:$AF$30000,31,FALSE)","v":"初中"},{"$f":"VLOOKUP(F94,[1]总表!$A$3:$AF$30000,32,FALSE)","v":"语文"},"53.50"]
[93,"龙红艳",20230603010403,"04","03",2410,{"$f":"VLOOKUP(F95,[1]总表!$A$3:$AF$30000,31,FALSE)","v":"初中"},{"$f":"VLOOKUP(F95,[1]总表!$A$3:$AF$30000,32,FALSE)","v":"语文"},"63.50"]
[94,"吴露",20230603010404,"04","04",1829,{"$f":"VLOOKUP(F96,[1]总表!$A$3:$AF$30000,31,FALSE)","v":"初中"},{"$f":"VLOOKUP(F96,[1]总表!$A$3:$AF$30000,32,FALSE)","v":"语文"},"51"]
[95,"龙正芬",20230603010405,"04","05",2008,{"$f":"VLOOKUP(F97,[1]总表!$A$3:$AF$30000,31,FALSE)","v":"初中"},{"$f":"VLOOKUP(F97,[1]总表!$A$3:$AF$30000,32,FALSE)","v":"语文"},"66"]
[96,"代方慧",20230603010406,"04","06",2129,{"$f":"VLOOKUP(F98,[1]总表!$A$3:$AF$30000,31,FALSE)","v":"初中"},{"$f":"VLOOKUP(F98,[1]总表!$A$3:$AF$30000,32,FALSE)","v":"语文"},"66"]
[97,"殷小妹",20230603010407,"04","07",2442,{"$f":"VLOOKUP(F99,[1]总表!$A$3:$AF$30000,31,FALSE)","v":"初中"},{"$f":"VLOOKUP(F99,[1]总表!$A$3:$AF$30000,32,FALSE)","v":"语文"},"62.50"]
[98,"田昱鑫",20230603010408,"04","08",1882,{"$f":"VLOOKUP(F100,[1]总表!$A$3:$AF$30000,31,FALSE)","v":"初中"},{"$f":"VLOOKUP(F100,[1]总表!$A$3:$AF$30000,32,FALSE)","v":"语文"},"56.50"]
[99,"田希",20230603010409,"04","09",1996,{"$f":"VLOOKUP(F101,[1]总表!$A$3:$AF$30000,31,FALSE)","v":"初中"},{"$f":"VLOOKUP(F101,[1]总表!$A$3:$AF$30000,32,FALSE)","v":"语文"},"58"]
[100,"杨茂春",20230603010410,"04","10",2474,{"$f":"VLOOKUP(F102,[1]总表!$A$3:$AF$30000,31,FALSE)","v":"初中"},{"$f":"VLOOKUP(F102,[1]总表!$A$3:$AF$30000,32,FALSE)","v":"语文"},"52.50"]
[101,"肖雅丹",20230603010411,"04","11",2160,{"$f":"VLOOKUP(F103,[1]总表!$A$3:$AF$30000,31,FALSE)","v":"初中"},{"$f":"VLOOKUP(F103,[1]总表!$A$3:$AF$30000,32,FALSE)","v":"语文"},"56"]
[102,"吴林琴",20230603010412,"04","12",2471,{"$f":"VLOOKUP(F104,[1]总表!$A$3:$AF$30000,31,FALSE)","v":"初中"},{"$f":"VLOOKUP(F104,[1]总表!$A$3:$AF$30000,32,FALSE)","v":"语文"},"61"]
[103,"黄婷",20230603010413,"04","13",2299,{"$f":"VLOOKUP(F105,[1]总表!$A$3:$AF$30000,31,FALSE)","v":"初中"},{"$f":"VLOOKUP(F105,[1]总表!$A$3:$AF$30000,32,FALSE)","v":"语文"},"55.50"]
[104,"付金玲",20230603010414,"04","14",1963,{"$f":"VLOOKUP(F106,[1]总表!$A$3:$AF$30000,31,FALSE)","v":"初中"},{"$f":"VLOOKUP(F106,[1]总表!$A$3:$AF$30000,32,FALSE)","v":"语文"},"60"]
[105,"李青青",20230603010415,"04","15",1974,{"$f":"VLOOKUP(F107,[1]总表!$A$3:$AF$30000,31,FALSE)","v":"初中"},{"$f":"VLOOKUP(F107,[1]总表!$A$3:$AF$30000,32,FALSE)","v":"语文"},"缺考"]
[106,"黎思涵",20230603010416,"04","16",2322,{"$f":"VLOOKUP(F108,[1]总表!$A$3:$AF$30000,31,FALSE)","v":"初中"},{"$f":"VLOOKUP(F108,[1]总表!$A$3:$AF$30000,32,FALSE)","v":"语文"},"64.50"]
[107,"杨静",20230603010417,"04","17",2156,{"$f":"VLOOKUP(F109,[1]总表!$A$3:$AF$30000,31,FALSE)","v":"初中"},{"$f":"VLOOKUP(F109,[1]总表!$A$3:$AF$30000,32,FALSE)","v":"语文"},"69"]
[108,"杨静霞",20230603010418,"04","18",2193,{"$f":"VLOOKUP(F110,[1]总表!$A$3:$AF$30000,31,FALSE)","v":"初中"},{"$f":"VLOOKUP(F110,[1]总表!$A$3:$AF$30000,32,FALSE)","v":"语文"},"62"]
[109,"唐蝶",20230603010419,"04","19",2025,{"$f":"VLOOKUP(F111,[1]总表!$A$3:$AF$30000,31,FALSE)","v":"初中"},{"$f":"VLOOKUP(F111,[1]总表!$A$3:$AF$30000,32,FALSE)","v":"语文"},"57.50"]
[110,"吴艳林",20230603010420,"04","20",2038,{"$f":"VLOOKUP(F112,[1]总表!$A$3:$AF$30000,31,FALSE)","v":"初中"},{"$f":"VLOOKUP(F112,[1]总表!$A$3:$AF$30000,32,FALSE)","v":"语文"},"58"]
[111,"王小慧",20230603010421,"04","21",2475,{"$f":"VLOOKUP(F113,[1]总表!$A$3:$AF$30000,31,FALSE)","v":"初中"},{"$f":"VLOOKUP(F113,[1]总表!$A$3:$AF$30000,32,FALSE)","v":"语文"},"55"]
[112,"田砚兮",20230603010422,"04","22",1899,{"$f":"VLOOKUP(F114,[1]总表!$A$3:$AF$30000,31,FALSE)","v":"初中"},{"$f":"VLOOKUP(F114,[1]总表!$A$3:$AF$30000,32,FALSE)","v":"语文"},"缺考"]
[113,"安杰",20230603010423,"04","23",2435,{"$f":"VLOOKUP(F115,[1]总表!$A$3:$AF$30000,31,FALSE)","v":"初中"},{"$f":"VLOOKUP(F115,[1]总表!$A$3:$AF$30000,32,FALSE)","v":"语文"},"48"]
[114,"李贵琴",20230603010424,"04","24",2192,{"$f":"VLOOKUP(F116,[1]总表!$A$3:$AF$30000,31,FALSE)","v":"初中"},{"$f":"VLOOKUP(F116,[1]总表!$A$3:$AF$30000,32,FALSE)","v":"语文"},"58.50"]
[115,"彭零丽",20230603010425,"04","25",2630,{"$f":"VLOOKUP(F117,[1]总表!$A$3:$AF$30000,31,FALSE)","v":"初中"},{"$f":"VLOOKUP(F117,[1]总表!$A$3:$AF$30000,32,FALSE)","v":"语文"},"61"]
[116,"段艳群",20230603010426,"04","26",1828,{"$f":"VLOOKUP(F118,[1]总表!$A$3:$AF$30000,31,FALSE)","v":"初中"},{"$f":"VLOOKUP(F118,[1]总表!$A$3:$AF$30000,32,FALSE)","v":"语文"},"58.50"]
[117,"梁微",20230603010427,"04","27",2643,{"$f":"VLOOKUP(F119,[1]总表!$A$3:$AF$30000,31,FALSE)","v":"初中"},{"$f":"VLOOKUP(F119,[1]总表!$A$3:$AF$30000,32,FALSE)","v":"语文"},"53"]
[118,"杨靓琳",20230603010428,"04","28",2040,{"$f":"VLOOKUP(F120,[1]总表!$A$3:$AF$30000,31,FALSE)","v":"初中"},{"$f":"VLOOKUP(F120,[1]总表!$A$3:$AF$30000,32,FALSE)","v":"语文"},"57"]
[119,"曹艳",20230603010429,"04","29",1972,{"$f":"VLOOKUP(F121,[1]总表!$A$3:$AF$30000,31,FALSE)","v":"初中"},{"$f":"VLOOKUP(F121,[1]总表!$A$3:$AF$30000,32,FALSE)","v":"语文"},"60"]
[120,"吴雪婷",20230603010430,"04","30",2048,{"$f":"VLOOKUP(F122,[1]总表!$A$3:$AF$30000,31,FALSE)","v":"初中"},{"$f":"VLOOKUP(F122,[1]总表!$A$3:$AF$30000,32,FALSE)","v":"语文"},"64"]
[121,"吴玮",20230603010501,"05","01",2518,{"$f":"VLOOKUP(F123,[1]总表!$A$3:$AF$30000,31,FALSE)","v":"初中"},{"$f":"VLOOKUP(F123,[1]总表!$A$3:$AF$30000,32,FALSE)","v":"语文"},"53"]
[122,"包思雯",20230603010502,"05","02",2259,{"$f":"VLOOKUP(F124,[1]总表!$A$3:$AF$30000,31,FALSE)","v":"初中"},{"$f":"VLOOKUP(F124,[1]总表!$A$3:$AF$30000,32,FALSE)","v":"语文"},"56.50"]
[123,"周琼",20230603010601,"06","01",1922,{"$f":"VLOOKUP(F125,[1]总表!$A$3:$AF$30000,31,FALSE)","v":"小学"},{"$f":"VLOOKUP(F125,[1]总表!$A$3:$AF$30000,32,FALSE)","v":"语文"},"61"]
[124,"吴宋翼",20230603010602,"06","02",2168,{"$f":"VLOOKUP(F126,[1]总表!$A$3:$AF$30000,31,FALSE)","v":"小学"},{"$f":"VLOOKUP(F126,[1]总表!$A$3:$AF$30000,32,FALSE)","v":"语文"},"55"]
[125,"舒恒",20230603010603,"06","03",1879,{"$f":"VLOOKUP(F127,[1]总表!$A$3:$AF$30000,31,FALSE)","v":"小学"},{"$f":"VLOOKUP(F127,[1]总表!$A$3:$AF$30000,32,FALSE)","v":"语文"},"50"]
[126,"杨秀珍",20230603010604,"06","04",1857,{"$f":"VLOOKUP(F128,[1]总表!$A$3:$AF$30000,31,FALSE)","v":"小学"},{"$f":"VLOOKUP(F128,[1]总表!$A$3:$AF$30000,32,FALSE)","v":"语文"},"68.50"]
[127,"龙芳钰",20230603010605,"06","05",1912,{"$f":"VLOOKUP(F129,[1]总表!$A$3:$AF$30000,31,FALSE)","v":"小学"},{"$f":"VLOOKUP(F129,[1]总表!$A$3:$AF$30000,32,FALSE)","v":"语文"},"43.50"]
[128,"杨燕青",20230603010606,"06","06",1906,{"$f":"VLOOKUP(F130,[1]总表!$A$3:$AF$30000,31,FALSE)","v":"小学"},{"$f":"VLOOKUP(F130,[1]总表!$A$3:$AF$30000,32,FALSE)","v":"语文"},"61"]
[129,"雷琴芬",20230603010607,"06","07",2231,{"$f":"VLOOKUP(F131,[1]总表!$A$3:$AF$30000,31,FALSE)","v":"小学"},{"$f":"VLOOKUP(F131,[1]总表!$A$3:$AF$30000,32,FALSE)","v":"语文"},"54.50"]
[130,"白桃",20230603010608,"06","08",2333,{"$f":"VLOOKUP(F132,[1]总表!$A$3:$AF$30000,31,FALSE)","v":"小学"},{"$f":"VLOOKUP(F132,[1]总表!$A$3:$AF$30000,32,FALSE)","v":"语文"},"缺考"]
[131,"龙思源",20230603010609,"06","09",1968,{"$f":"VLOOKUP(F133,[1]总表!$A$3:$AF$30000,31,FALSE)","v":"小学"},{"$f":"VLOOKUP(F133,[1]总表!$A$3:$AF$30000,32,FALSE)","v":"语文"},"43"]
[132,"张秀云",20230603010610,"06","10",2188,{"$f":"VLOOKUP(F134,[1]总表!$A$3:$AF$30000,31,FALSE)","v":"小学"},{"$f":"VLOOKUP(F134,[1]总表!$A$3:$AF$30000,32,FALSE)","v":"语文"},"58.50"]
[133,"朱娅",20230603010611,"06","11",2109,{"$f":"VLOOKUP(F135,[1]总表!$A$3:$AF$30000,31,FALSE)","v":"小学"},{"$f":"VLOOKUP(F135,[1]总表!$A$3:$AF$30000,32,FALSE)","v":"语文"},"61"]
[134,"袁小玲",20230603010612,"06","12",1880,{"$f":"VLOOKUP(F136,[1]总表!$A$3:$AF$30000,31,FALSE)","v":"小学"},{"$f":"VLOOKUP(F136,[1]总表!$A$3:$AF$30000,32,FALSE)","v":"语文"},"38.50"]
[135,"龙香园",20230603010613,"06","13",2295,{"$f":"VLOOKUP(F137,[1]总表!$A$3:$AF$30000,31,FALSE)","v":"小学"},{"$f":"VLOOKUP(F137,[1]总表!$A$3:$AF$30000,32,FALSE)","v":"语文"},"44.50"]
[136,"周莹",20230603010614,"06","14",2467,{"$f":"VLOOKUP(F138,[1]总表!$A$3:$AF$30000,31,FALSE)","v":"小学"},{"$f":"VLOOKUP(F138,[1]总表!$A$3:$AF$30000,32,FALSE)","v":"语文"},"46.50"]
[137,"张小青",20230603010615,"06","15",2152,{"$f":"VLOOKUP(F139,[1]总表!$A$3:$AF$30000,31,FALSE)","v":"小学"},{"$f":"VLOOKUP(F139,[1]总表!$A$3:$AF$30000,32,FALSE)","v":"语文"},"60.50"]
[138,"董定姣",20230603010616,"06","16",1858,{"$f":"VLOOKUP(F140,[1]总表!$A$3:$AF$30000,31,FALSE)","v":"小学"},{"$f":"VLOOKUP(F140,[1]总表!$A$3:$AF$30000,32,FALSE)","v":"语文"},"55"]
[139,"莫利花",20230603010617,"06","17",2398,{"$f":"VLOOKUP(F141,[1]总表!$A$3:$AF$30000,31,FALSE)","v":"小学"},{"$f":"VLOOKUP(F141,[1]总表!$A$3:$AF$30000,32,FALSE)","v":"语文"},"66.50"]
[140,"王旭晴",20230603010618,"06","18",2614,{"$f":"VLOOKUP(F142,[1]总表!$A$3:$AF$30000,31,FALSE)","v":"小学"},{"$f":"VLOOKUP(F142,[1]总表!$A$3:$AF$30000,32,FALSE)","v":"语文"},"58"]
[141,"邱慢慢",20230603010619,"06","19",2014,{"$f":"VLOOKUP(F143,[1]总表!$A$3:$AF$30000,31,FALSE)","v":"小学"},{"$f":"VLOOKUP(F143,[1]总表!$A$3:$AF$30000,32,FALSE)","v":"语文"},"缺考"]
[142,"姚倩",20230603010620,"06","20",2227,{"$f":"VLOOKUP(F144,[1]总表!$A$3:$AF$30000,31,FALSE)","v":"小学"},{"$f":"VLOOKUP(F144,[1]总表!$A$3:$AF$30000,32,FALSE)","v":"语文"},"58.50"]
[143,"石美芳",20230603010621,"06","21",2516,{"$f":"VLOOKUP(F145,[1]总表!$A$3:$AF$30000,31,FALSE)","v":"小学"},{"$f":"VLOOKUP(F145,[1]总表!$A$3:$AF$30000,32,FALSE)","v":"语文"},"53"]
[144,"田晟榕",20230603010622,"06","22",2094,{"$f":"VLOOKUP(F146,[1]总表!$A$3:$AF$30000,31,FALSE)","v":"小学"},{"$f":"VLOOKUP(F146,[1]总表!$A$3:$AF$30000,32,FALSE)","v":"语文"},"54.50"]
[145,"匡邵玲",20230603010623,"06","23",2268,{"$f":"VLOOKUP(F147,[1]总表!$A$3:$AF$30000,31,FALSE)","v":"小学"},{"$f":"VLOOKUP(F147,[1]总表!$A$3:$AF$30000,32,FALSE)","v":"语文"},"46.50"]
[146,"周红梅",20230603010624,"06","24",2241,{"$f":"VLOOKUP(F148,[1]总表!$A$3:$AF$30000,31,FALSE)","v":"小学"},{"$f":"VLOOKUP(F148,[1]总表!$A$3:$AF$30000,32,FALSE)","v":"语文"},"53"]
[147,"唐小荣",20230603010625,"06","25",2479,{"$f":"VLOOKUP(F149,[1]总表!$A$3:$AF$30000,31,FALSE)","v":"小学"},{"$f":"VLOOKUP(F149,[1]总表!$A$3:$AF$30000,32,FALSE)","v":"语文"},"62.50"]
[148,"雷文怡",20230603010626,"06","26",2571,{"$f":"VLOOKUP(F150,[1]总表!$A$3:$AF$30000,31,FALSE)","v":"小学"},{"$f":"VLOOKUP(F150,[1]总表!$A$3:$AF$30000,32,FALSE)","v":"语文"},"51.50"]
[149,"何开茂",20230603010627,"06","27",1886,{"$f":"VLOOKUP(F151,[1]总表!$A$3:$AF$30000,31,FALSE)","v":"小学"},{"$f":"VLOOKUP(F151,[1]总表!$A$3:$AF$30000,32,FALSE)","v":"语文"},"51"]
[150,"梁悦",20230603010628,"06","28",2221,{"$f":"VLOOKUP(F152,[1]总表!$A$3:$AF$30000,31,FALSE)","v":"小学"},{"$f":"VLOOKUP(F152,[1]总表!$A$3:$AF$30000,32,FALSE)","v":"语文"},"51.50"]
[151,"方学全",20230603010629,"06","29",1868,{"$f":"VLOOKUP(F153,[1]总表!$A$3:$AF$30000,31,FALSE)","v":"小学"},{"$f":"VLOOKUP(F153,[1]总表!$A$3:$AF$30000,32,FALSE)","v":"语文"},"62"]
[152,"张蓉",20230603010630,"06","30",2026,{"$f":"VLOOKUP(F154,[1]总表!$A$3:$AF$30000,31,FALSE)","v":"小学"},{"$f":"VLOOKUP(F154,[1]总表!$A$3:$AF$30000,32,FALSE)","v":"语文"},"71.50"]
[153,"蒋淑贤",20230603010701,"07","01",1932,{"$f":"VLOOKUP(F155,[1]总表!$A$3:$AF$30000,31,FALSE)","v":"小学"},{"$f":"VLOOKUP(F155,[1]总表!$A$3:$AF$30000,32,FALSE)","v":"语文"},"61"]
[154,"冉微",20230603010702,"07","02",2196,{"$f":"VLOOKUP(F156,[1]总表!$A$3:$AF$30000,31,FALSE)","v":"小学"},{"$f":"VLOOKUP(F156,[1]总表!$A$3:$AF$30000,32,FALSE)","v":"语文"},"55"]
[155,"吴三妹",20230603010703,"07","03",2421,{"$f":"VLOOKUP(F157,[1]总表!$A$3:$AF$30000,31,FALSE)","v":"小学"},{"$f":"VLOOKUP(F157,[1]总表!$A$3:$AF$30000,32,FALSE)","v":"语文"},"57"]
[156,"方芹芹",20230603010704,"07","04",2560,{"$f":"VLOOKUP(F158,[1]总表!$A$3:$AF$30000,31,FALSE)","v":"小学"},{"$f":"VLOOKUP(F158,[1]总表!$A$3:$AF$30000,32,FALSE)","v":"语文"},"缺考"]
[157,"代明琴",20230603010705,"07","05",2269,{"$f":"VLOOKUP(F159,[1]总表!$A$3:$AF$30000,31,FALSE)","v":"小学"},{"$f":"VLOOKUP(F159,[1]总表!$A$3:$AF$30000,32,FALSE)","v":"语文"},"60.50"]
[158,"冉立静",20230603010706,"07","06",2439,{"$f":"VLOOKUP(F160,[1]总表!$A$3:$AF$30000,31,FALSE)","v":"小学"},{"$f":"VLOOKUP(F160,[1]总表!$A$3:$AF$30000,32,FALSE)","v":"语文"},"54"]
[159,"罗姗",20230603010707,"07","07",2270,{"$f":"VLOOKUP(F161,[1]总表!$A$3:$AF$30000,31,FALSE)","v":"小学"},{"$f":"VLOOKUP(F161,[1]总表!$A$3:$AF$30000,32,FALSE)","v":"语文"},"53.50"]
[160,"刘宸希",20230603010708,"07","08",2393,{"$f":"VLOOKUP(F162,[1]总表!$A$3:$AF$30000,31,FALSE)","v":"小学"},{"$f":"VLOOKUP(F162,[1]总表!$A$3:$AF$30000,32,FALSE)","v":"语文"},"56.50"]
[161,"姚月静",20230603010709,"07","09",2210,{"$f":"VLOOKUP(F163,[1]总表!$A$3:$AF$30000,31,FALSE)","v":"小学"},{"$f":"VLOOKUP(F163,[1]总表!$A$3:$AF$30000,32,FALSE)","v":"语文"},"56.50"]
[162,"敖筑成",20230603010710,"07","10",2236,{"$f":"VLOOKUP(F164,[1]总表!$A$3:$AF$30000,31,FALSE)","v":"小学"},{"$f":"VLOOKUP(F164,[1]总表!$A$3:$AF$30000,32,FALSE)","v":"语文"},"46"]
[163,"龙建宏",20230603010711,"07","11",2353,{"$f":"VLOOKUP(F165,[1]总表!$A$3:$AF$30000,31,FALSE)","v":"小学"},{"$f":"VLOOKUP(F165,[1]总表!$A$3:$AF$30000,32,FALSE)","v":"语文"},"68.50"]
[164,"张文洋",20230603010712,"07","12",2191,{"$f":"VLOOKUP(F166,[1]总表!$A$3:$AF$30000,31,FALSE)","v":"小学"},{"$f":"VLOOKUP(F166,[1]总表!$A$3:$AF$30000,32,FALSE)","v":"语文"},"65.50"]
[165,"丁琳华",20230603010713,"07","13",2609,{"$f":"VLOOKUP(F167,[1]总表!$A$3:$AF$30000,31,FALSE)","v":"小学"},{"$f":"VLOOKUP(F167,[1]总表!$A$3:$AF$30000,32,FALSE)","v":"语文"},"54"]
[166,"陈芳",20230603010714,"07","14",2090,{"$f":"VLOOKUP(F168,[1]总表!$A$3:$AF$30000,31,FALSE)","v":"小学"},{"$f":"VLOOKUP(F168,[1]总表!$A$3:$AF$30000,32,FALSE)","v":"语文"},"62.50"]
[167,"廖银珍",20230603010715,"07","15",2624,{"$f":"VLOOKUP(F169,[1]总表!$A$3:$AF$30000,31,FALSE)","v":"小学"},{"$f":"VLOOKUP(F169,[1]总表!$A$3:$AF$30000,32,FALSE)","v":"语文"},"缺考"]
[168,"杜虹利",20230603010716,"07","16",2136,{"$f":"VLOOKUP(F170,[1]总表!$A$3:$AF$30000,31,FALSE)","v":"小学"},{"$f":"VLOOKUP(F170,[1]总表!$A$3:$AF$30000,32,FALSE)","v":"语文"},"51"]
[169,"欧昌敏",20230603010717,"07","17",1977,{"$f":"VLOOKUP(F171,[1]总表!$A$3:$AF$30000,31,FALSE)","v":"小学"},{"$f":"VLOOKUP(F171,[1]总表!$A$3:$AF$30000,32,FALSE)","v":"语文"},"65"]
[170,"刘柔柔",20230603010718,"07","18",2544,{"$f":"VLOOKUP(F172,[1]总表!$A$3:$AF$30000,31,FALSE)","v":"小学"},{"$f":"VLOOKUP(F172,[1]总表!$A$3:$AF$30000,32,FALSE)","v":"语文"},"57"]
[171,"郎江林",20230603010719,"07","19",2242,{"$f":"VLOOKUP(F173,[1]总表!$A$3:$AF$30000,31,FALSE)","v":"小学"},{"$f":"VLOOKUP(F173,[1]总表!$A$3:$AF$30000,32,FALSE)","v":"语文"},"54.50"]
[172,"安江琴",20230603010720,"07","20",2345,{"$f":"VLOOKUP(F174,[1]总表!$A$3:$AF$30000,31,FALSE)","v":"小学"},{"$f":"VLOOKUP(F174,[1]总表!$A$3:$AF$30000,32,FALSE)","v":"语文"},"60.50"]
[173,"张钗",20230603010721,"07","21",2637,{"$f":"VLOOKUP(F175,[1]总表!$A$3:$AF$30000,31,FALSE)","v":"小学"},{"$f":"VLOOKUP(F175,[1]总表!$A$3:$AF$30000,32,FALSE)","v":"语文"},"缺考"]
[174,"刘莎",20230603010722,"07","22",2507,{"$f":"VLOOKUP(F176,[1]总表!$A$3:$AF$30000,31,FALSE)","v":"小学"},{"$f":"VLOOKUP(F176,[1]总表!$A$3:$AF$30000,32,FALSE)","v":"语文"},"60.50"]
[175,"邓毅",20230603010723,"07","23",2405,{"$f":"VLOOKUP(F177,[1]总表!$A$3:$AF$30000,31,FALSE)","v":"小学"},{"$f":"VLOOKUP(F177,[1]总表!$A$3:$AF$30000,32,FALSE)","v":"语文"},"46.50"]
[176,"陈艳丽",20230603010724,"07","24",2037,{"$f":"VLOOKUP(F178,[1]总表!$A$3:$AF$30000,31,FALSE)","v":"小学"},{"$f":"VLOOKUP(F178,[1]总表!$A$3:$AF$30000,32,FALSE)","v":"语文"},"48.50"]
[177,"冉秀珍",20230603010725,"07","25",2289,{"$f":"VLOOKUP(F179,[1]总表!$A$3:$AF$30000,31,FALSE)","v":"小学"},{"$f":"VLOOKUP(F179,[1]总表!$A$3:$AF$30000,32,FALSE)","v":"语文"},"54.50"]
[178,"刘玉霞",20230603010726,"07","26",1990,{"$f":"VLOOKUP(F180,[1]总表!$A$3:$AF$30000,31,FALSE)","v":"小学"},{"$f":"VLOOKUP(F180,[1]总表!$A$3:$AF$30000,32,FALSE)","v":"语文"},"67"]
[179,"侯珊",20230603010727,"07","27",2510,{"$f":"VLOOKUP(F181,[1]总表!$A$3:$AF$30000,31,FALSE)","v":"小学"},{"$f":"VLOOKUP(F181,[1]总表!$A$3:$AF$30000,32,FALSE)","v":"语文"},"64.50"]
[180,"石求慧",20230603010728,"07","28",2064,{"$f":"VLOOKUP(F182,[1]总表!$A$3:$AF$30000,31,FALSE)","v":"小学"},{"$f":"VLOOKUP(F182,[1]总表!$A$3:$AF$30000,32,FALSE)","v":"语文"},"64.50"]
[181,"杨雪",20230603010729,"07","29",2232,{"$f":"VLOOKUP(F183,[1]总表!$A$3:$AF$30000,31,FALSE)","v":"小学"},{"$f":"VLOOKUP(F183,[1]总表!$A$3:$AF$30000,32,FALSE)","v":"语文"},"42"]
[182,"龙敏",20230603010730,"07","30",2321,{"$f":"VLOOKUP(F184,[1]总表!$A$3:$AF$30000,31,FALSE)","v":"小学"},{"$f":"VLOOKUP(F184,[1]总表!$A$3:$AF$30000,32,FALSE)","v":"语文"},"62"]
[183,"王启红",20230603010801,"08","01",2561,{"$f":"VLOOKUP(F185,[1]总表!$A$3:$AF$30000,31,FALSE)","v":"小学"},{"$f":"VLOOKUP(F185,[1]总表!$A$3:$AF$30000,32,FALSE)","v":"语文"},"55.50"]
[184,"杨婷婷",20230603010802,"08","02",2380,{"$f":"VLOOKUP(F186,[1]总表!$A$3:$AF$30000,31,FALSE)","v":"小学"},{"$f":"VLOOKUP(F186,[1]总表!$A$3:$AF$30000,32,FALSE)","v":"语文"},"50"]
[185,"杨登霞",20230603010803,"08","03",2255,{"$f":"VLOOKUP(F187,[1]总表!$A$3:$AF$30000,31,FALSE)","v":"小学"},{"$f":"VLOOKUP(F187,[1]总表!$A$3:$AF$30000,32,FALSE)","v":"语文"},"52"]
[186,"徐冬慧",20230603010804,"08","04",1870,{"$f":"VLOOKUP(F188,[1]总表!$A$3:$AF$30000,31,FALSE)","v":"小学"},{"$f":"VLOOKUP(F188,[1]总表!$A$3:$AF$30000,32,FALSE)","v":"语文"},"缺考"]
[187,"赵旭明",20230603010805,"08","05",1891,{"$f":"VLOOKUP(F189,[1]总表!$A$3:$AF$30000,31,FALSE)","v":"小学"},{"$f":"VLOOKUP(F189,[1]总表!$A$3:$AF$30000,32,FALSE)","v":"语文"},"66"]
[188,"杨彬",20230603010806,"08","06",2071,{"$f":"VLOOKUP(F190,[1]总表!$A$3:$AF$30000,31,FALSE)","v":"小学"},{"$f":"VLOOKUP(F190,[1]总表!$A$3:$AF$30000,32,FALSE)","v":"语文"},"48.50"]
[189,"吴辉燕",20230603010807,"08","07",2029,{"$f":"VLOOKUP(F191,[1]总表!$A$3:$AF$30000,31,FALSE)","v":"小学"},{"$f":"VLOOKUP(F191,[1]总表!$A$3:$AF$30000,32,FALSE)","v":"语文"},"52"]
[190,"龙京南",20230603010808,"08","08",1961,{"$f":"VLOOKUP(F192,[1]总表!$A$3:$AF$30000,31,FALSE)","v":"小学"},{"$f":"VLOOKUP(F192,[1]总表!$A$3:$AF$30000,32,FALSE)","v":"语文"},"42"]
[191,"刘婷",20230603010809,"08","09",2143,{"$f":"VLOOKUP(F193,[1]总表!$A$3:$AF$30000,31,FALSE)","v":"小学"},{"$f":"VLOOKUP(F193,[1]总表!$A$3:$AF$30000,32,FALSE)","v":"语文"},"61"]
[192,"邱小华",20230603010810,"08","10",1966,{"$f":"VLOOKUP(F194,[1]总表!$A$3:$AF$30000,31,FALSE)","v":"小学"},{"$f":"VLOOKUP(F194,[1]总表!$A$3:$AF$30000,32,FALSE)","v":"语文"},"41.50"]
[193,"张贵宁",20230603010811,"08","11",2451,{"$f":"VLOOKUP(F195,[1]总表!$A$3:$AF$30000,31,FALSE)","v":"小学"},{"$f":"VLOOKUP(F195,[1]总表!$A$3:$AF$30000,32,FALSE)","v":"语文"},"缺考"]
[194,"蔡露玲",20230603010812,"08","12",2235,{"$f":"VLOOKUP(F196,[1]总表!$A$3:$AF$30000,31,FALSE)","v":"小学"},{"$f":"VLOOKUP(F196,[1]总表!$A$3:$AF$30000,32,FALSE)","v":"语文"},"52.50"]
[195,"梁晓东",20230603010813,"08","13",2043,{"$f":"VLOOKUP(F197,[1]总表!$A$3:$AF$30000,31,FALSE)","v":"小学"},{"$f":"VLOOKUP(F197,[1]总表!$A$3:$AF$30000,32,FALSE)","v":"语文"},"54"]
[196,"龙燕英",20230603010814,"08","14",2039,{"$f":"VLOOKUP(F198,[1]总表!$A$3:$AF$30000,31,FALSE)","v":"小学"},{"$f":"VLOOKUP(F198,[1]总表!$A$3:$AF$30000,32,FALSE)","v":"语文"},"47"]
[197,"张彩红",20230603010815,"08","15",1997,{"$f":"VLOOKUP(F199,[1]总表!$A$3:$AF$30000,31,FALSE)","v":"小学"},{"$f":"VLOOKUP(F199,[1]总表!$A$3:$AF$30000,32,FALSE)","v":"语文"},"56.50"]
[198,"秦静容",20230603010816,"08","16",2200,{"$f":"VLOOKUP(F200,[1]总表!$A$3:$AF$30000,31,FALSE)","v":"小学"},{"$f":"VLOOKUP(F200,[1]总表!$A$3:$AF$30000,32,FALSE)","v":"语文"},"56.50"]
[199,"穆春容",20230603010817,"08","17",2502,{"$f":"VLOOKUP(F201,[1]总表!$A$3:$AF$30000,31,FALSE)","v":"小学"},{"$f":"VLOOKUP(F201,[1]总表!$A$3:$AF$30000,32,FALSE)","v":"语文"},"40"]
[200,"尹珍英",20230603010818,"08","18",1915,{"$f":"VLOOKUP(F202,[1]总表!$A$3:$AF$30000,31,FALSE)","v":"小学"},{"$f":"VLOOKUP(F202,[1]总表!$A$3:$AF$30000,32,FALSE)","v":"语文"},"57"]
[201,"杨立",20230603010819,"08","19",2288,{"$f":"VLOOKUP(F203,[1]总表!$A$3:$AF$30000,31,FALSE)","v":"小学"},{"$f":"VLOOKUP(F203,[1]总表!$A$3:$AF$30000,32,FALSE)","v":"语文"},"62.50"]
[202,"胡雪",20230603010820,"08","20",2366,{"$f":"VLOOKUP(F204,[1]总表!$A$3:$AF$30000,31,FALSE)","v":"小学"},{"$f":"VLOOKUP(F204,[1]总表!$A$3:$AF$30000,32,FALSE)","v":"语文"},"47.50"]
[203,"孙静莎",20230603010821,"08","21",1934,{"$f":"VLOOKUP(F205,[1]总表!$A$3:$AF$30000,31,FALSE)","v":"小学"},{"$f":"VLOOKUP(F205,[1]总表!$A$3:$AF$30000,32,FALSE)","v":"语文"},"49.50"]
[204,"梁红艳",20230603010822,"08","22",2311,{"$f":"VLOOKUP(F206,[1]总表!$A$3:$AF$30000,31,FALSE)","v":"小学"},{"$f":"VLOOKUP(F206,[1]总表!$A$3:$AF$30000,32,FALSE)","v":"语文"},"65.50"]
[205,"杨义书",20230603010823,"08","23",2183,{"$f":"VLOOKUP(F207,[1]总表!$A$3:$AF$30000,31,FALSE)","v":"小学"},{"$f":"VLOOKUP(F207,[1]总表!$A$3:$AF$30000,32,FALSE)","v":"语文"},"54.50"]
[206,"龙娥",20230603010824,"08","24",1948,{"$f":"VLOOKUP(F208,[1]总表!$A$3:$AF$30000,31,FALSE)","v":"小学"},{"$f":"VLOOKUP(F208,[1]总表!$A$3:$AF$30000,32,FALSE)","v":"语文"},"51.50"]
[207,"刘勤会",20230603010825,"08","25",2002,{"$f":"VLOOKUP(F209,[1]总表!$A$3:$AF$30000,31,FALSE)","v":"小学"},{"$f":"VLOOKUP(F209,[1]总表!$A$3:$AF$30000,32,FALSE)","v":"语文"},"54.50"]
[208,"王翠",20230603010826,"08","26",2320,{"$f":"VLOOKUP(F210,[1]总表!$A$3:$AF$30000,31,FALSE)","v":"小学"},{"$f":"VLOOKUP(F210,[1]总表!$A$3:$AF$30000,32,FALSE)","v":"语文"},"71.50"]
[209,"谭琦琪",20230603010827,"08","27",2470,{"$f":"VLOOKUP(F211,[1]总表!$A$3:$AF$30000,31,FALSE)","v":"小学"},{"$f":"VLOOKUP(F211,[1]总表!$A$3:$AF$30000,32,FALSE)","v":"语文"},"56"]
[210,"冉翔",20230603010828,"08","28",1949,{"$f":"VLOOKUP(F212,[1]总表!$A$3:$AF$30000,31,FALSE)","v":"小学"},{"$f":"VLOOKUP(F212,[1]总表!$A$3:$AF$30000,32,FALSE)","v":"语文"},"44"]
[211,"刘国亚",20230603010829,"08","29",2620,{"$f":"VLOOKUP(F213,[1]总表!$A$3:$AF$30000,31,FALSE)","v":"小学"},{"$f":"VLOOKUP(F213,[1]总表!$A$3:$AF$30000,32,FALSE)","v":"语文"},"37"]
[212,"陈佳慧",20230603010830,"08","30",2253,{"$f":"VLOOKUP(F214,[1]总表!$A$3:$AF$30000,31,FALSE)","v":"小学"},{"$f":"VLOOKUP(F214,[1]总表!$A$3:$AF$30000,32,FALSE)","v":"语文"},"64.50"]
[213,"王科霖",20230603010901,"09","01",2247,{"$f":"VLOOKUP(F215,[1]总表!$A$3:$AF$30000,31,FALSE)","v":"小学"},{"$f":"VLOOKUP(F215,[1]总表!$A$3:$AF$30000,32,FALSE)","v":"语文"},"45"]
[214,"杨亚",20230603010902,"09","02",1853,{"$f":"VLOOKUP(F216,[1]总表!$A$3:$AF$30000,31,FALSE)","v":"小学"},{"$f":"VLOOKUP(F216,[1]总表!$A$3:$AF$30000,32,FALSE)","v":"语文"},"53.50"]
[215,"杨妮",20230603010903,"09","03",2363,{"$f":"VLOOKUP(F217,[1]总表!$A$3:$AF$30000,31,FALSE)","v":"小学"},{"$f":"VLOOKUP(F217,[1]总表!$A$3:$AF$30000,32,FALSE)","v":"语文"},"51.50"]
[216,"杨柳",20230603010904,"09","04",2086,{"$f":"VLOOKUP(F218,[1]总表!$A$3:$AF$30000,31,FALSE)","v":"小学"},{"$f":"VLOOKUP(F218,[1]总表!$A$3:$AF$30000,32,FALSE)","v":"语文"},"47"]
[217,"肖红",20230603010905,"09","05",2194,{"$f":"VLOOKUP(F219,[1]总表!$A$3:$AF$30000,31,FALSE)","v":"小学"},{"$f":"VLOOKUP(F219,[1]总表!$A$3:$AF$30000,32,FALSE)","v":"语文"},"63.50"]
[218,"冯露",20230603010906,"09","06",2563,{"$f":"VLOOKUP(F220,[1]总表!$A$3:$AF$30000,31,FALSE)","v":"小学"},{"$f":"VLOOKUP(F220,[1]总表!$A$3:$AF$30000,32,FALSE)","v":"语文"},"缺考"]
[219,"吴雅欣",20230603010907,"09","07",2208,{"$f":"VLOOKUP(F221,[1]总表!$A$3:$AF$30000,31,FALSE)","v":"小学"},{"$f":"VLOOKUP(F221,[1]总表!$A$3:$AF$30000,32,FALSE)","v":"语文"},"48"]
[220,"张学燕",20230603010908,"09","08",2140,{"$f":"VLOOKUP(F222,[1]总表!$A$3:$AF$30000,31,FALSE)","v":"小学"},{"$f":"VLOOKUP(F222,[1]总表!$A$3:$AF$30000,32,FALSE)","v":"语文"},"54.50"]
[221,"田梦平",20230603010909,"09","09",2281,{"$f":"VLOOKUP(F223,[1]总表!$A$3:$AF$30000,31,FALSE)","v":"小学"},{"$f":"VLOOKUP(F223,[1]总表!$A$3:$AF$30000,32,FALSE)","v":"语文"},"58.50"]
[222,"姚冰洁",20230603010910,"09","10",2576,{"$f":"VLOOKUP(F224,[1]总表!$A$3:$AF$30000,31,FALSE)","v":"小学"},{"$f":"VLOOKUP(F224,[1]总表!$A$3:$AF$30000,32,FALSE)","v":"语文"},"67"]
[223,"施启章",20230603010911,"09","11",2407,{"$f":"VLOOKUP(F225,[1]总表!$A$3:$AF$30000,31,FALSE)","v":"小学"},{"$f":"VLOOKUP(F225,[1]总表!$A$3:$AF$30000,32,FALSE)","v":"语文"},"56"]
[224,"时丽红",20230603010912,"09","12",2265,{"$f":"VLOOKUP(F226,[1]总表!$A$3:$AF$30000,31,FALSE)","v":"小学"},{"$f":"VLOOKUP(F226,[1]总表!$A$3:$AF$30000,32,FALSE)","v":"语文"},"51"]
[225,"陈雪",20230603010913,"09","13",2509,{"$f":"VLOOKUP(F227,[1]总表!$A$3:$AF$30000,31,FALSE)","v":"小学"},{"$f":"VLOOKUP(F227,[1]总表!$A$3:$AF$30000,32,FALSE)","v":"语文"},"58"]
[226,"赵琴",20230603010914,"09","14",2224,{"$f":"VLOOKUP(F228,[1]总表!$A$3:$AF$30000,31,FALSE)","v":"小学"},{"$f":"VLOOKUP(F228,[1]总表!$A$3:$AF$30000,32,FALSE)","v":"语文"},"60"]
[227,"黄荣",20230603010915,"09","15",1926,{"$f":"VLOOKUP(F229,[1]总表!$A$3:$AF$30000,31,FALSE)","v":"小学"},{"$f":"VLOOKUP(F229,[1]总表!$A$3:$AF$30000,32,FALSE)","v":"语文"},"56"]
[228,"张海兰",20230603010916,"09","16",2141,{"$f":"VLOOKUP(F230,[1]总表!$A$3:$AF$30000,31,FALSE)","v":"小学"},{"$f":"VLOOKUP(F230,[1]总表!$A$3:$AF$30000,32,FALSE)","v":"语文"},"62.50"]
[229,"秦方",20230603010917,"09","17",2173,{"$f":"VLOOKUP(F231,[1]总表!$A$3:$AF$30000,31,FALSE)","v":"小学"},{"$f":"VLOOKUP(F231,[1]总表!$A$3:$AF$30000,32,FALSE)","v":"语文"},"54"]
[230,"杨盈银",20230603010918,"09","18",1941,{"$f":"VLOOKUP(F232,[1]总表!$A$3:$AF$30000,31,FALSE)","v":"小学"},{"$f":"VLOOKUP(F232,[1]总表!$A$3:$AF$30000,32,FALSE)","v":"语文"},"57.50"]
[231,"石文梅",20230603010919,"09","19",2608,{"$f":"VLOOKUP(F233,[1]总表!$A$3:$AF$30000,31,FALSE)","v":"小学"},{"$f":"VLOOKUP(F233,[1]总表!$A$3:$AF$30000,32,FALSE)","v":"语文"},"58"]
[232,"蒋永密",20230603010920,"09","20",1946,{"$f":"VLOOKUP(F234,[1]总表!$A$3:$AF$30000,31,FALSE)","v":"小学"},{"$f":"VLOOKUP(F234,[1]总表!$A$3:$AF$30000,32,FALSE)","v":"语文"},"56"]
[233,"郭蕾",20230603010921,"09","21",2357,{"$f":"VLOOKUP(F235,[1]总表!$A$3:$AF$30000,31,FALSE)","v":"小学"},{"$f":"VLOOKUP(F235,[1]总表!$A$3:$AF$30000,32,FALSE)","v":"语文"},"47.50"]
[234,"黎雄莉",20230603010922,"09","22",2537,{"$f":"VLOOKUP(F236,[1]总表!$A$3:$AF$30000,31,FALSE)","v":"小学"},{"$f":"VLOOKUP(F236,[1]总表!$A$3:$AF$30000,32,FALSE)","v":"语文"},"46"]
[235,"龙秋满",20230603010923,"09","23",2077,{"$f":"VLOOKUP(F237,[1]总表!$A$3:$AF$30000,31,FALSE)","v":"小学"},{"$f":"VLOOKUP(F237,[1]总表!$A$3:$AF$30000,32,FALSE)","v":"语文"},"53.50"]
[236,"刘娟",20230603010924,"09","24",2472,{"$f":"VLOOKUP(F238,[1]总表!$A$3:$AF$30000,31,FALSE)","v":"小学"},{"$f":"VLOOKUP(F238,[1]总表!$A$3:$AF$30000,32,FALSE)","v":"语文"},"39.50"]
[237,"李娜",20230603010925,"09","25",2150,{"$f":"VLOOKUP(F239,[1]总表!$A$3:$AF$30000,31,FALSE)","v":"小学"},{"$f":"VLOOKUP(F239,[1]总表!$A$3:$AF$30000,32,FALSE)","v":"语文"},"59.50"]
[238,"黄素素",20230603010926,"09","26",1896,{"$f":"VLOOKUP(F240,[1]总表!$A$3:$AF$30000,31,FALSE)","v":"小学"},{"$f":"VLOOKUP(F240,[1]总表!$A$3:$AF$30000,32,FALSE)","v":"语文"},"49.50"]
[239,"杨进",20230603010927,"09","27",1881,{"$f":"VLOOKUP(F241,[1]总表!$A$3:$AF$30000,31,FALSE)","v":"小学"},{"$f":"VLOOKUP(F241,[1]总表!$A$3:$AF$30000,32,FALSE)","v":"语文"},"57.50"]
[240,"吴燕",20230603010928,"09","28",1873,{"$f":"VLOOKUP(F242,[1]总表!$A$3:$AF$30000,31,FALSE)","v":"小学"},{"$f":"VLOOKUP(F242,[1]总表!$A$3:$AF$30000,32,FALSE)","v":"语文"},"56"]
[241,"杜兴",20230603010929,"09","29",2057,{"$f":"VLOOKUP(F243,[1]总表!$A$3:$AF$30000,31,FALSE)","v":"小学"},{"$f":"VLOOKUP(F243,[1]总表!$A$3:$AF$30000,32,FALSE)","v":"语文"},"52"]
[242,"张粬",20230603010930,"09","30",2330,{"$f":"VLOOKUP(F244,[1]总表!$A$3:$AF$30000,31,FALSE)","v":"小学"},{"$f":"VLOOKUP(F244,[1]总表!$A$3:$AF$30000,32,FALSE)","v":"语文"},"56.50"]
[243,"覃信丽",20230603011001,10,"01",2142,{"$f":"VLOOKUP(F245,[1]总表!$A$3:$AF$30000,31,FALSE)","v":"小学"},{"$f":"VLOOKUP(F245,[1]总表!$A$3:$AF$30000,32,FALSE)","v":"语文"},"64.50"]
[244,"龙倩",20230603011002,10,"02",1865,{"$f":"VLOOKUP(F246,[1]总表!$A$3:$AF$30000,31,FALSE)","v":"小学"},{"$f":"VLOOKUP(F246,[1]总表!$A$3:$AF$30000,32,FALSE)","v":"语文"},"54.50"]
[245,"杨青青",20230603011003,10,"03",1918,{"$f":"VLOOKUP(F247,[1]总表!$A$3:$AF$30000,31,FALSE)","v":"小学"},{"$f":"VLOOKUP(F247,[1]总表!$A$3:$AF$30000,32,FALSE)","v":"语文"},"53"]
[246,"杨花",20230603011004,10,"04",2104,{"$f":"VLOOKUP(F248,[1]总表!$A$3:$AF$30000,31,FALSE)","v":"小学"},{"$f":"VLOOKUP(F248,[1]总表!$A$3:$AF$30000,32,FALSE)","v":"语文"},"57"]
[247,"龙康丽",20230603011005,10,"05",2335,{"$f":"VLOOKUP(F249,[1]总表!$A$3:$AF$30000,31,FALSE)","v":"小学"},{"$f":"VLOOKUP(F249,[1]总表!$A$3:$AF$30000,32,FALSE)","v":"语文"},"45"]
[248,"伍艺婷",20230603011006,10,"06",2355,{"$f":"VLOOKUP(F250,[1]总表!$A$3:$AF$30000,31,FALSE)","v":"小学"},{"$f":"VLOOKUP(F250,[1]总表!$A$3:$AF$30000,32,FALSE)","v":"语文"},"52"]
[249,"李心怡",20230603011007,10,"07",1958,{"$f":"VLOOKUP(F251,[1]总表!$A$3:$AF$30000,31,FALSE)","v":"小学"},{"$f":"VLOOKUP(F251,[1]总表!$A$3:$AF$30000,32,FALSE)","v":"语文"},"缺考"]
[250,"龚芙蓉",20230603011008,10,"08",2020,{"$f":"VLOOKUP(F252,[1]总表!$A$3:$AF$30000,31,FALSE)","v":"小学"},{"$f":"VLOOKUP(F252,[1]总表!$A$3:$AF$30000,32,FALSE)","v":"语文"},"67"]
[251,"杨娥",20230603011009,10,"09",2325,{"$f":"VLOOKUP(F253,[1]总表!$A$3:$AF$30000,31,FALSE)","v":"小学"},{"$f":"VLOOKUP(F253,[1]总表!$A$3:$AF$30000,32,FALSE)","v":"语文"},"62.50"]
[252,"徐上艺",20230603011010,10,"10",2184,{"$f":"VLOOKUP(F254,[1]总表!$A$3:$AF$30000,31,FALSE)","v":"小学"},{"$f":"VLOOKUP(F254,[1]总表!$A$3:$AF$30000,32,FALSE)","v":"语文"},"56.50"]
[253,"安明莹",20230603011011,10,"11",2505,{"$f":"VLOOKUP(F255,[1]总表!$A$3:$AF$30000,31,FALSE)","v":"小学"},{"$f":"VLOOKUP(F255,[1]总表!$A$3:$AF$30000,32,FALSE)","v":"语文"},"59"]
[254,"杨雪琴",20230603011012,10,"12",1903,{"$f":"VLOOKUP(F256,[1]总表!$A$3:$AF$30000,31,FALSE)","v":"小学"},{"$f":"VLOOKUP(F256,[1]总表!$A$3:$AF$30000,32,FALSE)","v":"语文"},"56"]
[255,"黄蓉",20230603011013,10,"13",1822,{"$f":"VLOOKUP(F257,[1]总表!$A$3:$AF$30000,31,FALSE)","v":"小学"},{"$f":"VLOOKUP(F257,[1]总表!$A$3:$AF$30000,32,FALSE)","v":"语文"},"46"]
[256,"雷蝉",20230603011014,10,"14",2033,{"$f":"VLOOKUP(F258,[1]总表!$A$3:$AF$30000,31,FALSE)","v":"小学"},{"$f":"VLOOKUP(F258,[1]总表!$A$3:$AF$30000,32,FALSE)","v":"语文"},"53.50"]
[257,"潘海群",20230603011015,10,"15",1937,{"$f":"VLOOKUP(F259,[1]总表!$A$3:$AF$30000,31,FALSE)","v":"小学"},{"$f":"VLOOKUP(F259,[1]总表!$A$3:$AF$30000,32,FALSE)","v":"语文"},"61"]
[258,"吴琴",20230603011016,10,"16",2108,{"$f":"VLOOKUP(F260,[1]总表!$A$3:$AF$30000,31,FALSE)","v":"小学"},{"$f":"VLOOKUP(F260,[1]总表!$A$3:$AF$30000,32,FALSE)","v":"语文"},"54.50"]
[259,"龙明艳",20230603011017,10,"17",2180,{"$f":"VLOOKUP(F261,[1]总表!$A$3:$AF$30000,31,FALSE)","v":"小学"},{"$f":"VLOOKUP(F261,[1]总表!$A$3:$AF$30000,32,FALSE)","v":"语文"},"45"]
[260,"吴美美",20230603011018,10,"18",1955,{"$f":"VLOOKUP(F262,[1]总表!$A$3:$AF$30000,31,FALSE)","v":"小学"},{"$f":"VLOOKUP(F262,[1]总表!$A$3:$AF$30000,32,FALSE)","v":"语文"},"47"]
[261,"张永珠",20230603011019,10,"19",2382,{"$f":"VLOOKUP(F263,[1]总表!$A$3:$AF$30000,31,FALSE)","v":"小学"},{"$f":"VLOOKUP(F263,[1]总表!$A$3:$AF$30000,32,FALSE)","v":"语文"},"60"]
[262,"龙姣",20230603011020,10,"20",1964,{"$f":"VLOOKUP(F264,[1]总表!$A$3:$AF$30000,31,FALSE)","v":"小学"},{"$f":"VLOOKUP(F264,[1]总表!$A$3:$AF$30000,32,FALSE)","v":"语文"},"缺考"]
[263,"刘鑫",20230603011021,10,"21",2229,{"$f":"VLOOKUP(F265,[1]总表!$A$3:$AF$30000,31,FALSE)","v":"小学"},{"$f":"VLOOKUP(F265,[1]总表!$A$3:$AF$30000,32,FALSE)","v":"语文"},"缺考"]
[264,"李倩",20230603011022,10,"22",2019,{"$f":"VLOOKUP(F266,[1]总表!$A$3:$AF$30000,31,FALSE)","v":"小学"},{"$f":"VLOOKUP(F266,[1]总表!$A$3:$AF$30000,32,FALSE)","v":"语文"},"44.50"]
[265,"石珍羽",20230603011023,10,"23",2433,{"$f":"VLOOKUP(F267,[1]总表!$A$3:$AF$30000,31,FALSE)","v":"小学"},{"$f":"VLOOKUP(F267,[1]总表!$A$3:$AF$30000,32,FALSE)","v":"语文"},"44"]
[266,"彭斯",20230603011024,10,"24",2562,{"$f":"VLOOKUP(F268,[1]总表!$A$3:$AF$30000,31,FALSE)","v":"小学"},{"$f":"VLOOKUP(F268,[1]总表!$A$3:$AF$30000,32,FALSE)","v":"语文"},"51.50"]
[267,"蒋莉莎",20230603011025,10,"25",1979,{"$f":"VLOOKUP(F269,[1]总表!$A$3:$AF$30000,31,FALSE)","v":"小学"},{"$f":"VLOOKUP(F269,[1]总表!$A$3:$AF$30000,32,FALSE)","v":"语文"},"49"]
[268,"滕惠敏",20230603011026,10,"26",2341,{"$f":"VLOOKUP(F270,[1]总表!$A$3:$AF$30000,31,FALSE)","v":"小学"},{"$f":"VLOOKUP(F270,[1]总表!$A$3:$AF$30000,32,FALSE)","v":"语文"},"59.50"]
[269,"赵德艳",20230603011027,10,"27",1892,{"$f":"VLOOKUP(F271,[1]总表!$A$3:$AF$30000,31,FALSE)","v":"小学"},{"$f":"VLOOKUP(F271,[1]总表!$A$3:$AF$30000,32,FALSE)","v":"语文"},"58"]
[270,"谭億",20230603011028,10,"28",1919,{"$f":"VLOOKUP(F272,[1]总表!$A$3:$AF$30000,31,FALSE)","v":"小学"},{"$f":"VLOOKUP(F272,[1]总表!$A$3:$AF$30000,32,FALSE)","v":"语文"},"缺考"]
[271,"白玉梅",20230603011029,10,"29",1820,{"$f":"VLOOKUP(F273,[1]总表!$A$3:$AF$30000,31,FALSE)","v":"小学"},{"$f":"VLOOKUP(F273,[1]总表!$A$3:$AF$30000,32,FALSE)","v":"语文"},"54.50"]
[272,"周玲丽",20230603011030,10,"30",2139,{"$f":"VLOOKUP(F274,[1]总表!$A$3:$AF$30000,31,FALSE)","v":"小学"},{"$f":"VLOOKUP(F274,[1]总表!$A$3:$AF$30000,32,FALSE)","v":"语文"},"57"]
[273,"刘定仙",20230603011101,11,"01",2396,{"$f":"VLOOKUP(F275,[1]总表!$A$3:$AF$30000,31,FALSE)","v":"小学"},{"$f":"VLOOKUP(F275,[1]总表!$A$3:$AF$30000,32,FALSE)","v":"语文"},"47.50"]
[274,"李凌艺",20230603011102,11,"02",2083,{"$f":"VLOOKUP(F276,[1]总表!$A$3:$AF$30000,31,FALSE)","v":"小学"},{"$f":"VLOOKUP(F276,[1]总表!$A$3:$AF$30000,32,FALSE)","v":"语文"},"61.50"]
[275,"欧峰宏",20230603011103,11,"03",2477,{"$f":"VLOOKUP(F277,[1]总表!$A$3:$AF$30000,31,FALSE)","v":"小学"},{"$f":"VLOOKUP(F277,[1]总表!$A$3:$AF$30000,32,FALSE)","v":"语文"},"67.50"]
[276,"梁桃",20230603011104,11,"04",2334,{"$f":"VLOOKUP(F278,[1]总表!$A$3:$AF$30000,31,FALSE)","v":"小学"},{"$f":"VLOOKUP(F278,[1]总表!$A$3:$AF$30000,32,FALSE)","v":"语文"},"62"]
[277,"王姣",20230603011105,11,"05",2130,{"$f":"VLOOKUP(F279,[1]总表!$A$3:$AF$30000,31,FALSE)","v":"小学"},{"$f":"VLOOKUP(F279,[1]总表!$A$3:$AF$30000,32,FALSE)","v":"语文"},"56"]
[278,"龙敏",20230603011106,11,"06",2264,{"$f":"VLOOKUP(F280,[1]总表!$A$3:$AF$30000,31,FALSE)","v":"小学"},{"$f":"VLOOKUP(F280,[1]总表!$A$3:$AF$30000,32,FALSE)","v":"语文"},"56.50"]
[279,"张薇",20230603011107,11,"07",2361,{"$f":"VLOOKUP(F281,[1]总表!$A$3:$AF$30000,31,FALSE)","v":"小学"},{"$f":"VLOOKUP(F281,[1]总表!$A$3:$AF$30000,32,FALSE)","v":"语文"},"68.50"]
[280,"王先慧",20230603011108,11,"08",2217,{"$f":"VLOOKUP(F282,[1]总表!$A$3:$AF$30000,31,FALSE)","v":"小学"},{"$f":"VLOOKUP(F282,[1]总表!$A$3:$AF$30000,32,FALSE)","v":"语文"},"55.50"]
[281,"胡婷",20230603011109,11,"09",2095,{"$f":"VLOOKUP(F283,[1]总表!$A$3:$AF$30000,31,FALSE)","v":"小学"},{"$f":"VLOOKUP(F283,[1]总表!$A$3:$AF$30000,32,FALSE)","v":"语文"},"72.50"]
[282,"谭丹丹",20230603011110,11,"10",2248,{"$f":"VLOOKUP(F284,[1]总表!$A$3:$AF$30000,31,FALSE)","v":"小学"},{"$f":"VLOOKUP(F284,[1]总表!$A$3:$AF$30000,32,FALSE)","v":"语文"},"59"]
[283,"杨松利",20230603011111,11,"11",2128,{"$f":"VLOOKUP(F285,[1]总表!$A$3:$AF$30000,31,FALSE)","v":"小学"},{"$f":"VLOOKUP(F285,[1]总表!$A$3:$AF$30000,32,FALSE)","v":"语文"},"55"]
[284,"伍胜连",20230603011112,11,"12",2223,{"$f":"VLOOKUP(F286,[1]总表!$A$3:$AF$30000,31,FALSE)","v":"小学"},{"$f":"VLOOKUP(F286,[1]总表!$A$3:$AF$30000,32,FALSE)","v":"语文"},"46"]
[285,"程世渝",20230603011113,11,"13",2615,{"$f":"VLOOKUP(F287,[1]总表!$A$3:$AF$30000,31,FALSE)","v":"小学"},{"$f":"VLOOKUP(F287,[1]总表!$A$3:$AF$30000,32,FALSE)","v":"语文"},"缺考"]
[286,"石姚",20230603011114,11,"14",2594,{"$f":"VLOOKUP(F288,[1]总表!$A$3:$AF$30000,31,FALSE)","v":"小学"},{"$f":"VLOOKUP(F288,[1]总表!$A$3:$AF$30000,32,FALSE)","v":"语文"},"53.50"]
[287,"撒雪彩",20230603011115,11,"15",2534,{"$f":"VLOOKUP(F289,[1]总表!$A$3:$AF$30000,31,FALSE)","v":"小学"},{"$f":"VLOOKUP(F289,[1]总表!$A$3:$AF$30000,32,FALSE)","v":"语文"},"51"]
[288,"杨欣鑫",20230603011116,11,"16",2547,{"$f":"VLOOKUP(F290,[1]总表!$A$3:$AF$30000,31,FALSE)","v":"小学"},{"$f":"VLOOKUP(F290,[1]总表!$A$3:$AF$30000,32,FALSE)","v":"语文"},"60"]
[289,"陈冲",20230603011117,11,"17",1921,{"$f":"VLOOKUP(F291,[1]总表!$A$3:$AF$30000,31,FALSE)","v":"小学"},{"$f":"VLOOKUP(F291,[1]总表!$A$3:$AF$30000,32,FALSE)","v":"语文"},"63"]
[290,"龙亚",20230603011118,11,"18",2604,{"$f":"VLOOKUP(F292,[1]总表!$A$3:$AF$30000,31,FALSE)","v":"小学"},{"$f":"VLOOKUP(F292,[1]总表!$A$3:$AF$30000,32,FALSE)","v":"语文"},"48"]
[291,"陆安蝶",20230603011119,11,"19",2197,{"$f":"VLOOKUP(F293,[1]总表!$A$3:$AF$30000,31,FALSE)","v":"小学"},{"$f":"VLOOKUP(F293,[1]总表!$A$3:$AF$30000,32,FALSE)","v":"语文"},"59"]
[292,"龙浴颖",20230603011120,11,"20",2201,{"$f":"VLOOKUP(F294,[1]总表!$A$3:$AF$30000,31,FALSE)","v":"小学"},{"$f":"VLOOKUP(F294,[1]总表!$A$3:$AF$30000,32,FALSE)","v":"语文"},"64.50"]
[293,"高芳",20230603011121,11,"21",1951,{"$f":"VLOOKUP(F295,[1]总表!$A$3:$AF$30000,31,FALSE)","v":"小学"},{"$f":"VLOOKUP(F295,[1]总表!$A$3:$AF$30000,32,FALSE)","v":"语文"},"58"]
[294,"龙晓晓",20230603011122,11,"22",2278,{"$f":"VLOOKUP(F296,[1]总表!$A$3:$AF$30000,31,FALSE)","v":"小学"},{"$f":"VLOOKUP(F296,[1]总表!$A$3:$AF$30000,32,FALSE)","v":"语文"},"62"]
[295,"陈玉洁",20230603011123,11,"23",2337,{"$f":"VLOOKUP(F297,[1]总表!$A$3:$AF$30000,31,FALSE)","v":"小学"},{"$f":"VLOOKUP(F297,[1]总表!$A$3:$AF$30000,32,FALSE)","v":"语文"},"60.50"]
[296,"田晟",20230603011124,11,"24",2170,{"$f":"VLOOKUP(F298,[1]总表!$A$3:$AF$30000,31,FALSE)","v":"小学"},{"$f":"VLOOKUP(F298,[1]总表!$A$3:$AF$30000,32,FALSE)","v":"语文"},"68"]
[297,"龙萍",20230603011125,11,"25",2074,{"$f":"VLOOKUP(F299,[1]总表!$A$3:$AF$30000,31,FALSE)","v":"小学"},{"$f":"VLOOKUP(F299,[1]总表!$A$3:$AF$30000,32,FALSE)","v":"语文"},"51.50"]
[298,"黄姣姣",20230603011126,11,"26",2111,{"$f":"VLOOKUP(F300,[1]总表!$A$3:$AF$30000,31,FALSE)","v":"小学"},{"$f":"VLOOKUP(F300,[1]总表!$A$3:$AF$30000,32,FALSE)","v":"语文"},"43.50"]
[299,"杨秀苹",20230603011127,11,"27",2179,{"$f":"VLOOKUP(F301,[1]总表!$A$3:$AF$30000,31,FALSE)","v":"小学"},{"$f":"VLOOKUP(F301,[1]总表!$A$3:$AF$30000,32,FALSE)","v":"语文"},"54.50"]
[300,"石晶",20230603011128,11,"28",2216,{"$f":"VLOOKUP(F302,[1]总表!$A$3:$AF$30000,31,FALSE)","v":"小学"},{"$f":"VLOOKUP(F302,[1]总表!$A$3:$AF$30000,32,FALSE)","v":"语文"},"58"]
[301,"罗伟",20230603011129,11,"29",2312,{"$f":"VLOOKUP(F303,[1]总表!$A$3:$AF$30000,31,FALSE)","v":"小学"},{"$f":"VLOOKUP(F303,[1]总表!$A$3:$AF$30000,32,FALSE)","v":"语文"},"57"]
[302,"曾凡净",20230603011130,11,"30",2445,{"$f":"VLOOKUP(F304,[1]总表!$A$3:$AF$30000,31,FALSE)","v":"小学"},{"$f":"VLOOKUP(F304,[1]总表!$A$3:$AF$30000,32,FALSE)","v":"语文"},"64"]
[303,"赵敏",20230603011201,12,"01",2031,{"$f":"VLOOKUP(F305,[1]总表!$A$3:$AF$30000,31,FALSE)","v":"小学"},{"$f":"VLOOKUP(F305,[1]总表!$A$3:$AF$30000,32,FALSE)","v":"语文"},"缺考"]
[304,"石灵芝",20230603011202,12,"02",2202,{"$f":"VLOOKUP(F306,[1]总表!$A$3:$AF$30000,31,FALSE)","v":"小学"},{"$f":"VLOOKUP(F306,[1]总表!$A$3:$AF$30000,32,FALSE)","v":"语文"},"56"]
[305,"李徐",20230603011203,12,"03",2441,{"$f":"VLOOKUP(F307,[1]总表!$A$3:$AF$30000,31,FALSE)","v":"小学"},{"$f":"VLOOKUP(F307,[1]总表!$A$3:$AF$30000,32,FALSE)","v":"语文"},"缺考"]
[306,"黄敏文",20230603011204,12,"04",2103,{"$f":"VLOOKUP(F308,[1]总表!$A$3:$AF$30000,31,FALSE)","v":"小学"},{"$f":"VLOOKUP(F308,[1]总表!$A$3:$AF$30000,32,FALSE)","v":"语文"},"62"]
[307,"蒋怡敏",20230603011205,12,"05",2437,{"$f":"VLOOKUP(F309,[1]总表!$A$3:$AF$30000,31,FALSE)","v":"小学"},{"$f":"VLOOKUP(F309,[1]总表!$A$3:$AF$30000,32,FALSE)","v":"语文"},"58"]
[308,"吴俊松",20230603011206,12,"06",1864,{"$f":"VLOOKUP(F310,[1]总表!$A$3:$AF$30000,31,FALSE)","v":"小学"},{"$f":"VLOOKUP(F310,[1]总表!$A$3:$AF$30000,32,FALSE)","v":"语文"},"58"]
[309,"王芳",20230603011207,12,"07",2246,{"$f":"VLOOKUP(F311,[1]总表!$A$3:$AF$30000,31,FALSE)","v":"小学"},{"$f":"VLOOKUP(F311,[1]总表!$A$3:$AF$30000,32,FALSE)","v":"语文"},"53.50"]
[310,"吴双",20230603011208,12,"08",2491,{"$f":"VLOOKUP(F312,[1]总表!$A$3:$AF$30000,31,FALSE)","v":"小学"},{"$f":"VLOOKUP(F312,[1]总表!$A$3:$AF$30000,32,FALSE)","v":"语文"},"53"]
[311,"刘相琴",20230603011209,12,"09",2262,{"$f":"VLOOKUP(F313,[1]总表!$A$3:$AF$30000,31,FALSE)","v":"小学"},{"$f":"VLOOKUP(F313,[1]总表!$A$3:$AF$30000,32,FALSE)","v":"语文"},"53.50"]
[312,"赵悦",20230603011210,12,"10",1863,{"$f":"VLOOKUP(F314,[1]总表!$A$3:$AF$30000,31,FALSE)","v":"小学"},{"$f":"VLOOKUP(F314,[1]总表!$A$3:$AF$30000,32,FALSE)","v":"语文"},"43.50"]
[313,"冉飞",20230603011211,12,"11",2097,{"$f":"VLOOKUP(F315,[1]总表!$A$3:$AF$30000,31,FALSE)","v":"小学"},{"$f":"VLOOKUP(F315,[1]总表!$A$3:$AF$30000,32,FALSE)","v":"语文"},"59.50"]
[314,"李仕慧",20230603011212,12,"12",2024,{"$f":"VLOOKUP(F316,[1]总表!$A$3:$AF$30000,31,FALSE)","v":"小学"},{"$f":"VLOOKUP(F316,[1]总表!$A$3:$AF$30000,32,FALSE)","v":"语文"},"52"]
[315,"夏响",20230603011213,12,"13",2285,{"$f":"VLOOKUP(F317,[1]总表!$A$3:$AF$30000,31,FALSE)","v":"小学"},{"$f":"VLOOKUP(F317,[1]总表!$A$3:$AF$30000,32,FALSE)","v":"语文"},"46.50"]
[316,"龙飞",20230603011214,12,"14",1859,{"$f":"VLOOKUP(F318,[1]总表!$A$3:$AF$30000,31,FALSE)","v":"小学"},{"$f":"VLOOKUP(F318,[1]总表!$A$3:$AF$30000,32,FALSE)","v":"语文"},"56.50"]
[317,"杨欣宇",20230603011215,12,"15",2001,{"$f":"VLOOKUP(F319,[1]总表!$A$3:$AF$30000,31,FALSE)","v":"小学"},{"$f":"VLOOKUP(F319,[1]总表!$A$3:$AF$30000,32,FALSE)","v":"语文"},"58"]
[318,"石凤",20230603011216,12,"16",2336,{"$f":"VLOOKUP(F320,[1]总表!$A$3:$AF$30000,31,FALSE)","v":"小学"},{"$f":"VLOOKUP(F320,[1]总表!$A$3:$AF$30000,32,FALSE)","v":"语文"},"62"]
[319,"龙柳",20230603011217,12,"17",2414,{"$f":"VLOOKUP(F321,[1]总表!$A$3:$AF$30000,31,FALSE)","v":"小学"},{"$f":"VLOOKUP(F321,[1]总表!$A$3:$AF$30000,32,FALSE)","v":"语文"},"49.50"]
[320,"罗雪娜",20230603011218,12,"18",2293,{"$f":"VLOOKUP(F322,[1]总表!$A$3:$AF$30000,31,FALSE)","v":"小学"},{"$f":"VLOOKUP(F322,[1]总表!$A$3:$AF$30000,32,FALSE)","v":"语文"},"58.50"]
[321,"杨崎",20230603011219,12,"19",2408,{"$f":"VLOOKUP(F323,[1]总表!$A$3:$AF$30000,31,FALSE)","v":"小学"},{"$f":"VLOOKUP(F323,[1]总表!$A$3:$AF$30000,32,FALSE)","v":"语文"},"50"]
[322,"石岳树",20230603011220,12,"20",2051,{"$f":"VLOOKUP(F324,[1]总表!$A$3:$AF$30000,31,FALSE)","v":"小学"},{"$f":"VLOOKUP(F324,[1]总表!$A$3:$AF$30000,32,FALSE)","v":"语文"},"63.50"]
[323,"张颖琦",20230603011221,12,"21",2050,{"$f":"VLOOKUP(F325,[1]总表!$A$3:$AF$30000,31,FALSE)","v":"小学"},{"$f":"VLOOKUP(F325,[1]总表!$A$3:$AF$30000,32,FALSE)","v":"语文"},"62"]
[324,"田燕",20230603011222,12,"22",2296,{"$f":"VLOOKUP(F326,[1]总表!$A$3:$AF$30000,31,FALSE)","v":"小学"},{"$f":"VLOOKUP(F326,[1]总表!$A$3:$AF$30000,32,FALSE)","v":"语文"},"58.50"]
[325,"杨海月",20230603011223,12,"23",2076,{"$f":"VLOOKUP(F327,[1]总表!$A$3:$AF$30000,31,FALSE)","v":"小学"},{"$f":"VLOOKUP(F327,[1]总表!$A$3:$AF$30000,32,FALSE)","v":"语文"},"54.50"]
[326,"卢子璇",20230603011224,12,"24",2374,{"$f":"VLOOKUP(F328,[1]总表!$A$3:$AF$30000,31,FALSE)","v":"小学"},{"$f":"VLOOKUP(F328,[1]总表!$A$3:$AF$30000,32,FALSE)","v":"语文"},"48"]
[327,"田春霞",20230603011225,12,"25",2214,{"$f":"VLOOKUP(F329,[1]总表!$A$3:$AF$30000,31,FALSE)","v":"小学"},{"$f":"VLOOKUP(F329,[1]总表!$A$3:$AF$30000,32,FALSE)","v":"语文"},"67.50"]
[328,"龙微",20230603011226,12,"26",1847,{"$f":"VLOOKUP(F330,[1]总表!$A$3:$AF$30000,31,FALSE)","v":"小学"},{"$f":"VLOOKUP(F330,[1]总表!$A$3:$AF$30000,32,FALSE)","v":"语文"},"53"]
[329,"杨红",20230603011227,12,"27",2515,{"$f":"VLOOKUP(F331,[1]总表!$A$3:$AF$30000,31,FALSE)","v":"小学"},{"$f":"VLOOKUP(F331,[1]总表!$A$3:$AF$30000,32,FALSE)","v":"语文"},"55.50"]
[330,"代怀利",20230603011228,12,"28",2145,{"$f":"VLOOKUP(F332,[1]总表!$A$3:$AF$30000,31,FALSE)","v":"小学"},{"$f":"VLOOKUP(F332,[1]总表!$A$3:$AF$30000,32,FALSE)","v":"语文"},"53.50"]
[331,"张慧",20230603011229,12,"29",2021,{"$f":"VLOOKUP(F333,[1]总表!$A$3:$AF$30000,31,FALSE)","v":"小学"},{"$f":"VLOOKUP(F333,[1]总表!$A$3:$AF$30000,32,FALSE)","v":"语文"},"52"]
[332,"邓海琳",20230603011230,12,"30",2465,{"$f":"VLOOKUP(F334,[1]总表!$A$3:$AF$30000,31,FALSE)","v":"小学"},{"$f":"VLOOKUP(F334,[1]总表!$A$3:$AF$30000,32,FALSE)","v":"语文"},"缺考"]
[333,"张颖",20230603011301,13,"01",2114,{"$f":"VLOOKUP(F335,[1]总表!$A$3:$AF$30000,31,FALSE)","v":"小学"},{"$f":"VLOOKUP(F335,[1]总表!$A$3:$AF$30000,32,FALSE)","v":"语文"},"61"]
[334,"吴凤景",20230603011302,13,"02",1917,{"$f":"VLOOKUP(F336,[1]总表!$A$3:$AF$30000,31,FALSE)","v":"小学"},{"$f":"VLOOKUP(F336,[1]总表!$A$3:$AF$30000,32,FALSE)","v":"语文"},"42.50"]
[335,"滕丽蒙",20230603011303,13,"03",2602,{"$f":"VLOOKUP(F337,[1]总表!$A$3:$AF$30000,31,FALSE)","v":"小学"},{"$f":"VLOOKUP(F337,[1]总表!$A$3:$AF$30000,32,FALSE)","v":"语文"},"60.50"]
[336,"刘芬",20230603011304,13,"04",1875,{"$f":"VLOOKUP(F338,[1]总表!$A$3:$AF$30000,31,FALSE)","v":"小学"},{"$f":"VLOOKUP(F338,[1]总表!$A$3:$AF$30000,32,FALSE)","v":"语文"},"53.50"]
[337,"毛彩飞",20230603011305,13,"05",2651,{"$f":"VLOOKUP(F339,[1]总表!$A$3:$AF$30000,31,FALSE)","v":"小学"},{"$f":"VLOOKUP(F339,[1]总表!$A$3:$AF$30000,32,FALSE)","v":"语文"},"47.50"]
[338,"杨静",20230603011306,13,"06",2416,{"$f":"VLOOKUP(F340,[1]总表!$A$3:$AF$30000,31,FALSE)","v":"小学"},{"$f":"VLOOKUP(F340,[1]总表!$A$3:$AF$30000,32,FALSE)","v":"语文"},"57.50"]
[339,"吴路萍",20230603011307,13,"07",1933,{"$f":"VLOOKUP(F341,[1]总表!$A$3:$AF$30000,31,FALSE)","v":"小学"},{"$f":"VLOOKUP(F341,[1]总表!$A$3:$AF$30000,32,FALSE)","v":"语文"},"46.50"]
[340,"向茜",20230603011308,13,"08",2015,{"$f":"VLOOKUP(F342,[1]总表!$A$3:$AF$30000,31,FALSE)","v":"小学"},{"$f":"VLOOKUP(F342,[1]总表!$A$3:$AF$30000,32,FALSE)","v":"语文"},"48.50"]
[341,"吴粘",20230603011309,13,"09",2157,{"$f":"VLOOKUP(F343,[1]总表!$A$3:$AF$30000,31,FALSE)","v":"小学"},{"$f":"VLOOKUP(F343,[1]总表!$A$3:$AF$30000,32,FALSE)","v":"语文"},"63.50"]
[342,"杨琴",20230603011310,13,"10",2549,{"$f":"VLOOKUP(F344,[1]总表!$A$3:$AF$30000,31,FALSE)","v":"小学"},{"$f":"VLOOKUP(F344,[1]总表!$A$3:$AF$30000,32,FALSE)","v":"语文"},"42.50"]
[343,"刘彩",20230603011311,13,"11",2458,{"$f":"VLOOKUP(F345,[1]总表!$A$3:$AF$30000,31,FALSE)","v":"小学"},{"$f":"VLOOKUP(F345,[1]总表!$A$3:$AF$30000,32,FALSE)","v":"语文"},"55"]
[344,"管海南",20230603011312,13,"12",2079,{"$f":"VLOOKUP(F346,[1]总表!$A$3:$AF$30000,31,FALSE)","v":"小学"},{"$f":"VLOOKUP(F346,[1]总表!$A$3:$AF$30000,32,FALSE)","v":"语文"},"49"]
[345,"付超波",20230603011313,13,"13",2215,{"$f":"VLOOKUP(F347,[1]总表!$A$3:$AF$30000,31,FALSE)","v":"小学"},{"$f":"VLOOKUP(F347,[1]总表!$A$3:$AF$30000,32,FALSE)","v":"语文"},"42"]
[346,"黎霞",20230603011314,13,"14",2218,{"$f":"VLOOKUP(F348,[1]总表!$A$3:$AF$30000,31,FALSE)","v":"小学"},{"$f":"VLOOKUP(F348,[1]总表!$A$3:$AF$30000,32,FALSE)","v":"语文"},"52.50"]
[347,"孟悦",20230603011315,13,"15",2093,{"$f":"VLOOKUP(F349,[1]总表!$A$3:$AF$30000,31,FALSE)","v":"小学"},{"$f":"VLOOKUP(F349,[1]总表!$A$3:$AF$30000,32,FALSE)","v":"语文"},"49"]
[348,"袁佳祺",20230603011316,13,"16",2252,{"$f":"VLOOKUP(F350,[1]总表!$A$3:$AF$30000,31,FALSE)","v":"小学"},{"$f":"VLOOKUP(F350,[1]总表!$A$3:$AF$30000,32,FALSE)","v":"语文"},"42.50"]
[349,"龙林艳",20230603011317,13,"17",1813,{"$f":"VLOOKUP(F351,[1]总表!$A$3:$AF$30000,31,FALSE)","v":"小学"},{"$f":"VLOOKUP(F351,[1]总表!$A$3:$AF$30000,32,FALSE)","v":"语文"},"55.50"]
[350,"张小芳",20230603011318,13,"18",2132,{"$f":"VLOOKUP(F352,[1]总表!$A$3:$AF$30000,31,FALSE)","v":"小学"},{"$f":"VLOOKUP(F352,[1]总表!$A$3:$AF$30000,32,FALSE)","v":"语文"},"45.50"]
[351,"张丽萍",20230603011319,13,"19",2365,{"$f":"VLOOKUP(F353,[1]总表!$A$3:$AF$30000,31,FALSE)","v":"小学"},{"$f":"VLOOKUP(F353,[1]总表!$A$3:$AF$30000,32,FALSE)","v":"语文"},"缺考"]
[352,"李冬月",20230603011320,13,"20",1818,{"$f":"VLOOKUP(F354,[1]总表!$A$3:$AF$30000,31,FALSE)","v":"小学"},{"$f":"VLOOKUP(F354,[1]总表!$A$3:$AF$30000,32,FALSE)","v":"语文"},"44"]
[353,"刘悦",20230603011321,13,"21",2062,{"$f":"VLOOKUP(F355,[1]总表!$A$3:$AF$30000,31,FALSE)","v":"小学"},{"$f":"VLOOKUP(F355,[1]总表!$A$3:$AF$30000,32,FALSE)","v":"语文"},"44.50"]
[354,"赵艳",20230603011322,13,"22",2133,{"$f":"VLOOKUP(F356,[1]总表!$A$3:$AF$30000,31,FALSE)","v":"小学"},{"$f":"VLOOKUP(F356,[1]总表!$A$3:$AF$30000,32,FALSE)","v":"语文"},"53"]
[355,"吴响烨",20230603011323,13,"23",2373,{"$f":"VLOOKUP(F357,[1]总表!$A$3:$AF$30000,31,FALSE)","v":"小学"},{"$f":"VLOOKUP(F357,[1]总表!$A$3:$AF$30000,32,FALSE)","v":"语文"},"42.50"]
[356,"向含韵",20230603011324,13,"24",2473,{"$f":"VLOOKUP(F358,[1]总表!$A$3:$AF$30000,31,FALSE)","v":"小学"},{"$f":"VLOOKUP(F358,[1]总表!$A$3:$AF$30000,32,FALSE)","v":"语文"},"55"]
[357,"张雪",20230603011325,13,"25",2354,{"$f":"VLOOKUP(F359,[1]总表!$A$3:$AF$30000,31,FALSE)","v":"小学"},{"$f":"VLOOKUP(F359,[1]总表!$A$3:$AF$30000,32,FALSE)","v":"语文"},"70.50"]
[358,"蓝玉仙",20230603011326,13,"26",1832,{"$f":"VLOOKUP(F360,[1]总表!$A$3:$AF$30000,31,FALSE)","v":"小学"},{"$f":"VLOOKUP(F360,[1]总表!$A$3:$AF$30000,32,FALSE)","v":"语文"},"55"]
[359,"杨琴柳子",20230603011327,13,"27",2572,{"$f":"VLOOKUP(F361,[1]总表!$A$3:$AF$30000,31,FALSE)","v":"小学"},{"$f":"VLOOKUP(F361,[1]总表!$A$3:$AF$30000,32,FALSE)","v":"语文"},"57.50"]
[360,"杨金桃",20230603011328,13,"28",2100,{"$f":"VLOOKUP(F362,[1]总表!$A$3:$AF$30000,31,FALSE)","v":"小学"},{"$f":"VLOOKUP(F362,[1]总表!$A$3:$AF$30000,32,FALSE)","v":"语文"},"49"]
[361,"蔡米云",20230603011329,13,"29",2220,{"$f":"VLOOKUP(F363,[1]总表!$A$3:$AF$30000,31,FALSE)","v":"小学"},{"$f":"VLOOKUP(F363,[1]总表!$A$3:$AF$30000,32,FALSE)","v":"语文"},"46"]
[362,"陶晓",20230603011330,13,"30",2061,{"$f":"VLOOKUP(F364,[1]总表!$A$3:$AF$30000,31,FALSE)","v":"小学"},{"$f":"VLOOKUP(F364,[1]总表!$A$3:$AF$30000,32,FALSE)","v":"语文"},"59.50"]
[363,"吴雪慧",20230603011401,14,"01",1855,{"$f":"VLOOKUP(F365,[1]总表!$A$3:$AF$30000,31,FALSE)","v":"小学"},{"$f":"VLOOKUP(F365,[1]总表!$A$3:$AF$30000,32,FALSE)","v":"语文"},"47.50"]
[364,"聂庆",20230603011402,14,"02",2089,{"$f":"VLOOKUP(F366,[1]总表!$A$3:$AF$30000,31,FALSE)","v":"小学"},{"$f":"VLOOKUP(F366,[1]总表!$A$3:$AF$30000,32,FALSE)","v":"语文"},"67.50"]
[365,"何俊杨",20230603011403,14,"03",1973,{"$f":"VLOOKUP(F367,[1]总表!$A$3:$AF$30000,31,FALSE)","v":"小学"},{"$f":"VLOOKUP(F367,[1]总表!$A$3:$AF$30000,32,FALSE)","v":"语文"},"55"]
[366,"龙婷婷",20230603011404,14,"04",2212,{"$f":"VLOOKUP(F368,[1]总表!$A$3:$AF$30000,31,FALSE)","v":"小学"},{"$f":"VLOOKUP(F368,[1]总表!$A$3:$AF$30000,32,FALSE)","v":"语文"},"55"]
[367,"吴芳",20230603011405,14,"05",2535,{"$f":"VLOOKUP(F369,[1]总表!$A$3:$AF$30000,31,FALSE)","v":"小学"},{"$f":"VLOOKUP(F369,[1]总表!$A$3:$AF$30000,32,FALSE)","v":"语文"},"62.50"]
[368,"龙光美",20230603011406,14,"06",2258,{"$f":"VLOOKUP(F370,[1]总表!$A$3:$AF$30000,31,FALSE)","v":"小学"},{"$f":"VLOOKUP(F370,[1]总表!$A$3:$AF$30000,32,FALSE)","v":"语文"},"61"]
[369,"唐火珍",20230603011407,14,"07",1897,{"$f":"VLOOKUP(F371,[1]总表!$A$3:$AF$30000,31,FALSE)","v":"小学"},{"$f":"VLOOKUP(F371,[1]总表!$A$3:$AF$30000,32,FALSE)","v":"语文"},"49.50"]
[370,"田莉薇",20230603011408,14,"08",2190,{"$f":"VLOOKUP(F372,[1]总表!$A$3:$AF$30000,31,FALSE)","v":"小学"},{"$f":"VLOOKUP(F372,[1]总表!$A$3:$AF$30000,32,FALSE)","v":"语文"},"38.50"]
[371,"杨淋叶",20230603011409,14,"09",1909,{"$f":"VLOOKUP(F373,[1]总表!$A$3:$AF$30000,31,FALSE)","v":"小学"},{"$f":"VLOOKUP(F373,[1]总表!$A$3:$AF$30000,32,FALSE)","v":"语文"},"58.50"]
[372,"张琴",20230603011410,14,"10",2384,{"$f":"VLOOKUP(F374,[1]总表!$A$3:$AF$30000,31,FALSE)","v":"小学"},{"$f":"VLOOKUP(F374,[1]总表!$A$3:$AF$30000,32,FALSE)","v":"语文"},"59"]
[373,"李欣欣",20230603011411,14,"11",1845,{"$f":"VLOOKUP(F375,[1]总表!$A$3:$AF$30000,31,FALSE)","v":"小学"},{"$f":"VLOOKUP(F375,[1]总表!$A$3:$AF$30000,32,FALSE)","v":"语文"},"59"]
[374,"吴茂平",20230603011412,14,"12",2329,{"$f":"VLOOKUP(F376,[1]总表!$A$3:$AF$30000,31,FALSE)","v":"小学"},{"$f":"VLOOKUP(F376,[1]总表!$A$3:$AF$30000,32,FALSE)","v":"语文"},"62.50"]
[375,"徐清",20230603011413,14,"13",2422,{"$f":"VLOOKUP(F377,[1]总表!$A$3:$AF$30000,31,FALSE)","v":"小学"},{"$f":"VLOOKUP(F377,[1]总表!$A$3:$AF$30000,32,FALSE)","v":"语文"},"55.50"]
[376,"段路路",20230603011414,14,"14",2045,{"$f":"VLOOKUP(F378,[1]总表!$A$3:$AF$30000,31,FALSE)","v":"小学"},{"$f":"VLOOKUP(F378,[1]总表!$A$3:$AF$30000,32,FALSE)","v":"语文"},"51"]
[377,"刘其玲",20230603011415,14,"15",2309,{"$f":"VLOOKUP(F379,[1]总表!$A$3:$AF$30000,31,FALSE)","v":"小学"},{"$f":"VLOOKUP(F379,[1]总表!$A$3:$AF$30000,32,FALSE)","v":"语文"},"53"]
[378,"吴艳",20230603011416,14,"16",2068,{"$f":"VLOOKUP(F380,[1]总表!$A$3:$AF$30000,31,FALSE)","v":"小学"},{"$f":"VLOOKUP(F380,[1]总表!$A$3:$AF$30000,32,FALSE)","v":"语文"},"64.50"]
[379,"李胜菊",20230603011417,14,"17",2092,{"$f":"VLOOKUP(F381,[1]总表!$A$3:$AF$30000,31,FALSE)","v":"小学"},{"$f":"VLOOKUP(F381,[1]总表!$A$3:$AF$30000,32,FALSE)","v":"语文"},"47"]
[380,"何福高",20230603011418,14,"18",2331,{"$f":"VLOOKUP(F382,[1]总表!$A$3:$AF$30000,31,FALSE)","v":"小学"},{"$f":"VLOOKUP(F382,[1]总表!$A$3:$AF$30000,32,FALSE)","v":"语文"},"49"]
[381,"陈燕",20230603011419,14,"19",2464,{"$f":"VLOOKUP(F383,[1]总表!$A$3:$AF$30000,31,FALSE)","v":"小学"},{"$f":"VLOOKUP(F383,[1]总表!$A$3:$AF$30000,32,FALSE)","v":"语文"},"53.50"]
[382,"龙丽兰",20230603011420,14,"20",2395,{"$f":"VLOOKUP(F384,[1]总表!$A$3:$AF$30000,31,FALSE)","v":"小学"},{"$f":"VLOOKUP(F384,[1]总表!$A$3:$AF$30000,32,FALSE)","v":"语文"},"54.50"]
[383,"李巧林",20230603011421,14,"21",2172,{"$f":"VLOOKUP(F385,[1]总表!$A$3:$AF$30000,31,FALSE)","v":"小学"},{"$f":"VLOOKUP(F385,[1]总表!$A$3:$AF$30000,32,FALSE)","v":"语文"},"55.50"]
[384,"田巡",20230603011422,14,"22",2163,{"$f":"VLOOKUP(F386,[1]总表!$A$3:$AF$30000,31,FALSE)","v":"小学"},{"$f":"VLOOKUP(F386,[1]总表!$A$3:$AF$30000,32,FALSE)","v":"语文"},"57.50"]
[385,"吴冬菊",20230603011423,14,"23",2138,{"$f":"VLOOKUP(F387,[1]总表!$A$3:$AF$30000,31,FALSE)","v":"小学"},{"$f":"VLOOKUP(F387,[1]总表!$A$3:$AF$30000,32,FALSE)","v":"语文"},"46.50"]
[386,"祝燕燕",20230603011424,14,"24",2122,{"$f":"VLOOKUP(F388,[1]总表!$A$3:$AF$30000,31,FALSE)","v":"小学"},{"$f":"VLOOKUP(F388,[1]总表!$A$3:$AF$30000,32,FALSE)","v":"语文"},"49.50"]
[387,"石丽凤",20230603011425,14,"25",2508,{"$f":"VLOOKUP(F389,[1]总表!$A$3:$AF$30000,31,FALSE)","v":"小学"},{"$f":"VLOOKUP(F389,[1]总表!$A$3:$AF$30000,32,FALSE)","v":"语文"},"缺考"]
[388,"王直英",20230603011426,14,"26",2174,{"$f":"VLOOKUP(F390,[1]总表!$A$3:$AF$30000,31,FALSE)","v":"小学"},{"$f":"VLOOKUP(F390,[1]总表!$A$3:$AF$30000,32,FALSE)","v":"语文"},"62.50"]
[389,"李雨",20230603011427,14,"27",2436,{"$f":"VLOOKUP(F391,[1]总表!$A$3:$AF$30000,31,FALSE)","v":"小学"},{"$f":"VLOOKUP(F391,[1]总表!$A$3:$AF$30000,32,FALSE)","v":"语文"},"58.50"]
[390,"王慧清",20230603011428,14,"28",1935,{"$f":"VLOOKUP(F392,[1]总表!$A$3:$AF$30000,31,FALSE)","v":"小学"},{"$f":"VLOOKUP(F392,[1]总表!$A$3:$AF$30000,32,FALSE)","v":"语文"},"60.50"]
[391,"何菁菁",20230603011429,14,"29",2137,{"$f":"VLOOKUP(F393,[1]总表!$A$3:$AF$30000,31,FALSE)","v":"小学"},{"$f":"VLOOKUP(F393,[1]总表!$A$3:$AF$30000,32,FALSE)","v":"语文"},"33"]
[392,"周映汝",20230603011430,14,"30",2390,{"$f":"VLOOKUP(F394,[1]总表!$A$3:$AF$30000,31,FALSE)","v":"小学"},{"$f":"VLOOKUP(F394,[1]总表!$A$3:$AF$30000,32,FALSE)","v":"语文"},"44.50"]
[393,"严雯惠",20230603011501,15,"01",1861,{"$f":"VLOOKUP(F395,[1]总表!$A$3:$AF$30000,31,FALSE)","v":"小学"},{"$f":"VLOOKUP(F395,[1]总表!$A$3:$AF$30000,32,FALSE)","v":"语文"},"42.50"]
[394,"杨徐",20230603011502,15,"02",1846,{"$f":"VLOOKUP(F396,[1]总表!$A$3:$AF$30000,31,FALSE)","v":"小学"},{"$f":"VLOOKUP(F396,[1]总表!$A$3:$AF$30000,32,FALSE)","v":"语文"},"47"]
[395,"龙江雪",20230603011503,15,"03",2052,{"$f":"VLOOKUP(F397,[1]总表!$A$3:$AF$30000,31,FALSE)","v":"小学"},{"$f":"VLOOKUP(F397,[1]总表!$A$3:$AF$30000,32,FALSE)","v":"语文"},"57"]
[396,"龙艳",20230603011504,15,"04",2531,{"$f":"VLOOKUP(F398,[1]总表!$A$3:$AF$30000,31,FALSE)","v":"小学"},{"$f":"VLOOKUP(F398,[1]总表!$A$3:$AF$30000,32,FALSE)","v":"语文"},"49.50"]
[397,"欧玲玲",20230603011505,15,"05",2266,{"$f":"VLOOKUP(F399,[1]总表!$A$3:$AF$30000,31,FALSE)","v":"小学"},{"$f":"VLOOKUP(F399,[1]总表!$A$3:$AF$30000,32,FALSE)","v":"语文"},"63"]
[398,"方删删",20230603011506,15,"06",2323,{"$f":"VLOOKUP(F400,[1]总表!$A$3:$AF$30000,31,FALSE)","v":"小学"},{"$f":"VLOOKUP(F400,[1]总表!$A$3:$AF$30000,32,FALSE)","v":"语文"},"40"]
[399,"宋珊珊",20230603011507,15,"07",2112,{"$f":"VLOOKUP(F401,[1]总表!$A$3:$AF$30000,31,FALSE)","v":"小学"},{"$f":"VLOOKUP(F401,[1]总表!$A$3:$AF$30000,32,FALSE)","v":"语文"},"56"]
[400,"张雪莲",20230603011508,15,"08",2358,{"$f":"VLOOKUP(F402,[1]总表!$A$3:$AF$30000,31,FALSE)","v":"小学"},{"$f":"VLOOKUP(F402,[1]总表!$A$3:$AF$30000,32,FALSE)","v":"语文"},"49"]
[401,"王佳敏",20230603011509,15,"09",2553,{"$f":"VLOOKUP(F403,[1]总表!$A$3:$AF$30000,31,FALSE)","v":"小学"},{"$f":"VLOOKUP(F403,[1]总表!$A$3:$AF$30000,32,FALSE)","v":"语文"},"56.50"]
[402,"邓秘",20230603011510,15,"10",2182,{"$f":"VLOOKUP(F404,[1]总表!$A$3:$AF$30000,31,FALSE)","v":"小学"},{"$f":"VLOOKUP(F404,[1]总表!$A$3:$AF$30000,32,FALSE)","v":"语文"},"55.50"]
[403,"满延婷",20230603011511,15,"11",2239,{"$f":"VLOOKUP(F405,[1]总表!$A$3:$AF$30000,31,FALSE)","v":"小学"},{"$f":"VLOOKUP(F405,[1]总表!$A$3:$AF$30000,32,FALSE)","v":"语文"},"68"]
[404,"滕翠",20230603011512,15,"12",2346,{"$f":"VLOOKUP(F406,[1]总表!$A$3:$AF$30000,31,FALSE)","v":"小学"},{"$f":"VLOOKUP(F406,[1]总表!$A$3:$AF$30000,32,FALSE)","v":"语文"},"54"]
[405,"黄羽",20230603011513,15,"13",1981,{"$f":"VLOOKUP(F407,[1]总表!$A$3:$AF$30000,31,FALSE)","v":"小学"},{"$f":"VLOOKUP(F407,[1]总表!$A$3:$AF$30000,32,FALSE)","v":"语文"},"39.50"]
[406,"滕艳群",20230603011514,15,"14",2228,{"$f":"VLOOKUP(F408,[1]总表!$A$3:$AF$30000,31,FALSE)","v":"小学"},{"$f":"VLOOKUP(F408,[1]总表!$A$3:$AF$30000,32,FALSE)","v":"语文"},"61"]
[407,"粟耀莹",20230603011515,15,"15",2566,{"$f":"VLOOKUP(F409,[1]总表!$A$3:$AF$30000,31,FALSE)","v":"小学"},{"$f":"VLOOKUP(F409,[1]总表!$A$3:$AF$30000,32,FALSE)","v":"语文"},"68.50"]
[408,"周丹",20230603011516,15,"16",2016,{"$f":"VLOOKUP(F410,[1]总表!$A$3:$AF$30000,31,FALSE)","v":"小学"},{"$f":"VLOOKUP(F410,[1]总表!$A$3:$AF$30000,32,FALSE)","v":"语文"},"49.50"]
[409,"梁慧",20230603011517,15,"17",2105,{"$f":"VLOOKUP(F411,[1]总表!$A$3:$AF$30000,31,FALSE)","v":"小学"},{"$f":"VLOOKUP(F411,[1]总表!$A$3:$AF$30000,32,FALSE)","v":"语文"},"52.50"]
[410,"安宁一",20230603011518,15,"18",1965,{"$f":"VLOOKUP(F412,[1]总表!$A$3:$AF$30000,31,FALSE)","v":"小学"},{"$f":"VLOOKUP(F412,[1]总表!$A$3:$AF$30000,32,FALSE)","v":"语文"},"58.50"]
[411,"刘婷",20230603011519,15,"19",2245,{"$f":"VLOOKUP(F413,[1]总表!$A$3:$AF$30000,31,FALSE)","v":"小学"},{"$f":"VLOOKUP(F413,[1]总表!$A$3:$AF$30000,32,FALSE)","v":"语文"},"51"]
[412,"龙秋怀",20230603011520,15,"20",2226,{"$f":"VLOOKUP(F414,[1]总表!$A$3:$AF$30000,31,FALSE)","v":"小学"},{"$f":"VLOOKUP(F414,[1]总表!$A$3:$AF$30000,32,FALSE)","v":"语文"},"47"]
[413,"陈姝羽",20230603011521,15,"21",2162,{"$f":"VLOOKUP(F415,[1]总表!$A$3:$AF$30000,31,FALSE)","v":"小学"},{"$f":"VLOOKUP(F415,[1]总表!$A$3:$AF$30000,32,FALSE)","v":"语文"},"50.50"]
[414,"吴泽炘",20230603011522,15,"22",1999,{"$f":"VLOOKUP(F416,[1]总表!$A$3:$AF$30000,31,FALSE)","v":"小学"},{"$f":"VLOOKUP(F416,[1]总表!$A$3:$AF$30000,32,FALSE)","v":"语文"},"57"]
[415,"戴娅文",20230603011523,15,"23",1856,{"$f":"VLOOKUP(F417,[1]总表!$A$3:$AF$30000,31,FALSE)","v":"小学"},{"$f":"VLOOKUP(F417,[1]总表!$A$3:$AF$30000,32,FALSE)","v":"语文"},"61.50"]
[416,"张义原",20230603011524,15,"24",2013,{"$f":"VLOOKUP(F418,[1]总表!$A$3:$AF$30000,31,FALSE)","v":"小学"},{"$f":"VLOOKUP(F418,[1]总表!$A$3:$AF$30000,32,FALSE)","v":"语文"},"51"]
[417,"李杰",20230603011525,15,"25",2319,{"$f":"VLOOKUP(F419,[1]总表!$A$3:$AF$30000,31,FALSE)","v":"小学"},{"$f":"VLOOKUP(F419,[1]总表!$A$3:$AF$30000,32,FALSE)","v":"语文"},"58"]
[418,"何淑兰",20230603011526,15,"26",2343,{"$f":"VLOOKUP(F420,[1]总表!$A$3:$AF$30000,31,FALSE)","v":"小学"},{"$f":"VLOOKUP(F420,[1]总表!$A$3:$AF$30000,32,FALSE)","v":"语文"},"57.50"]
[419,"陈卓莹",20230603011527,15,"27",2459,{"$f":"VLOOKUP(F421,[1]总表!$A$3:$AF$30000,31,FALSE)","v":"小学"},{"$f":"VLOOKUP(F421,[1]总表!$A$3:$AF$30000,32,FALSE)","v":"语文"},"缺考"]
[420,"张前娜",20230603011528,15,"28",2286,{"$f":"VLOOKUP(F422,[1]总表!$A$3:$AF$30000,31,FALSE)","v":"小学"},{"$f":"VLOOKUP(F422,[1]总表!$A$3:$AF$30000,32,FALSE)","v":"语文"},"55.50"]
[421,"田月林",20230603011529,15,"29",2277,{"$f":"VLOOKUP(F423,[1]总表!$A$3:$AF$30000,31,FALSE)","v":"小学"},{"$f":"VLOOKUP(F423,[1]总表!$A$3:$AF$30000,32,FALSE)","v":"语文"},"55.50"]
[422,"刘林芳",20230603011530,15,"30",2539,{"$f":"VLOOKUP(F424,[1]总表!$A$3:$AF$30000,31,FALSE)","v":"小学"},{"$f":"VLOOKUP(F424,[1]总表!$A$3:$AF$30000,32,FALSE)","v":"语文"},"69.50"]
[423,"王娜",20230603011601,16,"01",2292,{"$f":"VLOOKUP(F425,[1]总表!$A$3:$AF$30000,31,FALSE)","v":"小学"},{"$f":"VLOOKUP(F425,[1]总表!$A$3:$AF$30000,32,FALSE)","v":"语文"},"46"]
[424,"包琴",20230603011602,16,"02",2297,{"$f":"VLOOKUP(F426,[1]总表!$A$3:$AF$30000,31,FALSE)","v":"小学"},{"$f":"VLOOKUP(F426,[1]总表!$A$3:$AF$30000,32,FALSE)","v":"语文"},"50"]
[425,"杨青霖",20230603011603,16,"03",2178,{"$f":"VLOOKUP(F427,[1]总表!$A$3:$AF$30000,31,FALSE)","v":"小学"},{"$f":"VLOOKUP(F427,[1]总表!$A$3:$AF$30000,32,FALSE)","v":"语文"},"54"]
[426,"张芯怡",20230603011604,16,"04",2028,{"$f":"VLOOKUP(F428,[1]总表!$A$3:$AF$30000,31,FALSE)","v":"小学"},{"$f":"VLOOKUP(F428,[1]总表!$A$3:$AF$30000,32,FALSE)","v":"语文"},"51.50"]
[427,"何映明",20230603011605,16,"05",1911,{"$f":"VLOOKUP(F429,[1]总表!$A$3:$AF$30000,31,FALSE)","v":"小学"},{"$f":"VLOOKUP(F429,[1]总表!$A$3:$AF$30000,32,FALSE)","v":"语文"},"60.50"]
[428,"彭柳鑫",20230603011606,16,"06",2364,{"$f":"VLOOKUP(F430,[1]总表!$A$3:$AF$30000,31,FALSE)","v":"小学"},{"$f":"VLOOKUP(F430,[1]总表!$A$3:$AF$30000,32,FALSE)","v":"语文"},"51.50"]
[429,"邓玲",20230603011607,16,"07",2291,{"$f":"VLOOKUP(F431,[1]总表!$A$3:$AF$30000,31,FALSE)","v":"小学"},{"$f":"VLOOKUP(F431,[1]总表!$A$3:$AF$30000,32,FALSE)","v":"语文"},"52.50"]
[430,"罗文敏",20230603011608,16,"08",1836,{"$f":"VLOOKUP(F432,[1]总表!$A$3:$AF$30000,31,FALSE)","v":"小学"},{"$f":"VLOOKUP(F432,[1]总表!$A$3:$AF$30000,32,FALSE)","v":"语文"},"57.50"]
[431,"杨柳",20230603011609,16,"09",2123,{"$f":"VLOOKUP(F433,[1]总表!$A$3:$AF$30000,31,FALSE)","v":"小学"},{"$f":"VLOOKUP(F433,[1]总表!$A$3:$AF$30000,32,FALSE)","v":"语文"},"48.50"]
[432,"熊瑞",20230603011610,16,"10",2131,{"$f":"VLOOKUP(F434,[1]总表!$A$3:$AF$30000,31,FALSE)","v":"小学"},{"$f":"VLOOKUP(F434,[1]总表!$A$3:$AF$30000,32,FALSE)","v":"语文"},"58"]
[433,"李雨蓉",20230603011611,16,"11",2304,{"$f":"VLOOKUP(F435,[1]总表!$A$3:$AF$30000,31,FALSE)","v":"小学"},{"$f":"VLOOKUP(F435,[1]总表!$A$3:$AF$30000,32,FALSE)","v":"语文"},"48"]
[434,"付承周",20230603011612,16,"12",2017,{"$f":"VLOOKUP(F436,[1]总表!$A$3:$AF$30000,31,FALSE)","v":"小学"},{"$f":"VLOOKUP(F436,[1]总表!$A$3:$AF$30000,32,FALSE)","v":"语文"},"51.50"]
[435,"张馨予",20230603011613,16,"13",2240,{"$f":"VLOOKUP(F437,[1]总表!$A$3:$AF$30000,31,FALSE)","v":"小学"},{"$f":"VLOOKUP(F437,[1]总表!$A$3:$AF$30000,32,FALSE)","v":"语文"},"68"]
[436,"罗补发",20230603011614,16,"14",1885,{"$f":"VLOOKUP(F438,[1]总表!$A$3:$AF$30000,31,FALSE)","v":"小学"},{"$f":"VLOOKUP(F438,[1]总表!$A$3:$AF$30000,32,FALSE)","v":"语文"},"55"]
[437,"郑艳萍",20230603011615,16,"15",1967,{"$f":"VLOOKUP(F439,[1]总表!$A$3:$AF$30000,31,FALSE)","v":"小学"},{"$f":"VLOOKUP(F439,[1]总表!$A$3:$AF$30000,32,FALSE)","v":"语文"},"70"]
[438,"胡琴园",20230603011616,16,"16",2589,{"$f":"VLOOKUP(F440,[1]总表!$A$3:$AF$30000,31,FALSE)","v":"小学"},{"$f":"VLOOKUP(F440,[1]总表!$A$3:$AF$30000,32,FALSE)","v":"语文"},"62.50"]
[439,"陈明英",20230603011617,16,"17",2009,{"$f":"VLOOKUP(F441,[1]总表!$A$3:$AF$30000,31,FALSE)","v":"小学"},{"$f":"VLOOKUP(F441,[1]总表!$A$3:$AF$30000,32,FALSE)","v":"语文"},"41"]
[440,"龙桂花",20230603011618,16,"18",2556,{"$f":"VLOOKUP(F442,[1]总表!$A$3:$AF$30000,31,FALSE)","v":"小学"},{"$f":"VLOOKUP(F442,[1]总表!$A$3:$AF$30000,32,FALSE)","v":"语文"},"缺考"]
[441,"肖睿",20230603011619,16,"19",2237,{"$f":"VLOOKUP(F443,[1]总表!$A$3:$AF$30000,31,FALSE)","v":"小学"},{"$f":"VLOOKUP(F443,[1]总表!$A$3:$AF$30000,32,FALSE)","v":"语文"},"50"]
[442,"杨琴",20230603011620,16,"20",2567,{"$f":"VLOOKUP(F444,[1]总表!$A$3:$AF$30000,31,FALSE)","v":"小学"},{"$f":"VLOOKUP(F444,[1]总表!$A$3:$AF$30000,32,FALSE)","v":"语文"},"69"]
[443,"高粉艳",20230603011621,16,"21",2521,{"$f":"VLOOKUP(F445,[1]总表!$A$3:$AF$30000,31,FALSE)","v":"小学"},{"$f":"VLOOKUP(F445,[1]总表!$A$3:$AF$30000,32,FALSE)","v":"语文"},"59.50"]
[444,"邹玉",20230603011622,16,"22",2087,{"$f":"VLOOKUP(F446,[1]总表!$A$3:$AF$30000,31,FALSE)","v":"小学"},{"$f":"VLOOKUP(F446,[1]总表!$A$3:$AF$30000,32,FALSE)","v":"语文"},"55.50"]
[445,"秦江平",20230603011623,16,"23",1928,{"$f":"VLOOKUP(F447,[1]总表!$A$3:$AF$30000,31,FALSE)","v":"小学"},{"$f":"VLOOKUP(F447,[1]总表!$A$3:$AF$30000,32,FALSE)","v":"语文"},"缺考"]
[446,"姚玲",20230603011624,16,"24",2550,{"$f":"VLOOKUP(F448,[1]总表!$A$3:$AF$30000,31,FALSE)","v":"小学"},{"$f":"VLOOKUP(F448,[1]总表!$A$3:$AF$30000,32,FALSE)","v":"语文"},"缺考"]
[447,"胡娅",20230603011625,16,"25",1883,{"$f":"VLOOKUP(F449,[1]总表!$A$3:$AF$30000,31,FALSE)","v":"小学"},{"$f":"VLOOKUP(F449,[1]总表!$A$3:$AF$30000,32,FALSE)","v":"语文"},"51"]
[448,"冉霜",20230603011626,16,"26",2066,{"$f":"VLOOKUP(F450,[1]总表!$A$3:$AF$30000,31,FALSE)","v":"小学"},{"$f":"VLOOKUP(F450,[1]总表!$A$3:$AF$30000,32,FALSE)","v":"语文"},"68"]
[449,"冉美林",20230603011627,16,"27",2275,{"$f":"VLOOKUP(F451,[1]总表!$A$3:$AF$30000,31,FALSE)","v":"小学"},{"$f":"VLOOKUP(F451,[1]总表!$A$3:$AF$30000,32,FALSE)","v":"语文"},"缺考"]
[450,"陈海兰",20230603011628,16,"28",2126,{"$f":"VLOOKUP(F452,[1]总表!$A$3:$AF$30000,31,FALSE)","v":"小学"},{"$f":"VLOOKUP(F452,[1]总表!$A$3:$AF$30000,32,FALSE)","v":"语文"},"51.50"]
[451,"高秀艳",20230603011629,16,"29",1872,{"$f":"VLOOKUP(F453,[1]总表!$A$3:$AF$30000,31,FALSE)","v":"小学"},{"$f":"VLOOKUP(F453,[1]总表!$A$3:$AF$30000,32,FALSE)","v":"语文"},"57"]
[452,"陈培焱",20230603011630,16,"30",2406,{"$f":"VLOOKUP(F454,[1]总表!$A$3:$AF$30000,31,FALSE)","v":"小学"},{"$f":"VLOOKUP(F454,[1]总表!$A$3:$AF$30000,32,FALSE)","v":"语文"},"53"]
[453,"包雪雪",20230603011701,17,"01",2626,{"$f":"VLOOKUP(F455,[1]总表!$A$3:$AF$30000,31,FALSE)","v":"小学"},{"$f":"VLOOKUP(F455,[1]总表!$A$3:$AF$30000,32,FALSE)","v":"语文"},"57.50"]
[454,"杨选芳",20230603011702,17,"02",1815,{"$f":"VLOOKUP(F456,[1]总表!$A$3:$AF$30000,31,FALSE)","v":"小学"},{"$f":"VLOOKUP(F456,[1]总表!$A$3:$AF$30000,32,FALSE)","v":"语文"},"46"]
[455,"田旭",20230603011703,17,"03",2063,{"$f":"VLOOKUP(F457,[1]总表!$A$3:$AF$30000,31,FALSE)","v":"小学"},{"$f":"VLOOKUP(F457,[1]总表!$A$3:$AF$30000,32,FALSE)","v":"语文"},"64.50"]
[456,"杨文静",20230603011704,17,"04",1878,{"$f":"VLOOKUP(F458,[1]总表!$A$3:$AF$30000,31,FALSE)","v":"小学"},{"$f":"VLOOKUP(F458,[1]总表!$A$3:$AF$30000,32,FALSE)","v":"语文"},"46"]
[457,"杨勇",20230603011705,17,"05",2489,{"$f":"VLOOKUP(F459,[1]总表!$A$3:$AF$30000,31,FALSE)","v":"小学"},{"$f":"VLOOKUP(F459,[1]总表!$A$3:$AF$30000,32,FALSE)","v":"语文"},"57.50"]
[458,"张倩倩",20230603011706,17,"06",2540,{"$f":"VLOOKUP(F460,[1]总表!$A$3:$AF$30000,31,FALSE)","v":"小学"},{"$f":"VLOOKUP(F460,[1]总表!$A$3:$AF$30000,32,FALSE)","v":"语文"},"47"]
[459,"赵佳燕",20230603011707,17,"07",1831,{"$f":"VLOOKUP(F461,[1]总表!$A$3:$AF$30000,31,FALSE)","v":"小学"},{"$f":"VLOOKUP(F461,[1]总表!$A$3:$AF$30000,32,FALSE)","v":"语文"},"58"]
[460,"田淑芳",20230603011708,17,"08",1823,{"$f":"VLOOKUP(F462,[1]总表!$A$3:$AF$30000,31,FALSE)","v":"小学"},{"$f":"VLOOKUP(F462,[1]总表!$A$3:$AF$30000,32,FALSE)","v":"语文"},"67"]
[461,"刘淑玉",20230603011709,17,"09",2588,{"$f":"VLOOKUP(F463,[1]总表!$A$3:$AF$30000,31,FALSE)","v":"小学"},{"$f":"VLOOKUP(F463,[1]总表!$A$3:$AF$30000,32,FALSE)","v":"语文"},"49.50"]
[462,"石慧丹",20230603011710,17,"10",2348,{"$f":"VLOOKUP(F464,[1]总表!$A$3:$AF$30000,31,FALSE)","v":"小学"},{"$f":"VLOOKUP(F464,[1]总表!$A$3:$AF$30000,32,FALSE)","v":"语文"},"缺考"]
[463,"张淼",20230603011711,17,"11",2171,{"$f":"VLOOKUP(F465,[1]总表!$A$3:$AF$30000,31,FALSE)","v":"小学"},{"$f":"VLOOKUP(F465,[1]总表!$A$3:$AF$30000,32,FALSE)","v":"语文"},"58"]
[464,"唐静",20230603011712,17,"12",2305,{"$f":"VLOOKUP(F466,[1]总表!$A$3:$AF$30000,31,FALSE)","v":"小学"},{"$f":"VLOOKUP(F466,[1]总表!$A$3:$AF$30000,32,FALSE)","v":"语文"},"50"]
[465,"吴娅娇",20230603011713,17,"13",2027,{"$f":"VLOOKUP(F467,[1]总表!$A$3:$AF$30000,31,FALSE)","v":"小学"},{"$f":"VLOOKUP(F467,[1]总表!$A$3:$AF$30000,32,FALSE)","v":"语文"},"缺考"]
[466,"杨金燕",20230603011714,17,"14",2075,{"$f":"VLOOKUP(F468,[1]总表!$A$3:$AF$30000,31,FALSE)","v":"小学"},{"$f":"VLOOKUP(F468,[1]总表!$A$3:$AF$30000,32,FALSE)","v":"语文"},"70"]
[467,"冉敏",20230603011715,17,"15",1816,{"$f":"VLOOKUP(F469,[1]总表!$A$3:$AF$30000,31,FALSE)","v":"小学"},{"$f":"VLOOKUP(F469,[1]总表!$A$3:$AF$30000,32,FALSE)","v":"语文"},"50"]
[468,"蒋雨辰",20230603011716,17,"16",2047,{"$f":"VLOOKUP(F470,[1]总表!$A$3:$AF$30000,31,FALSE)","v":"小学"},{"$f":"VLOOKUP(F470,[1]总表!$A$3:$AF$30000,32,FALSE)","v":"语文"},"51.50"]
[469,"陈前锦",20230603011717,17,"17",1959,{"$f":"VLOOKUP(F471,[1]总表!$A$3:$AF$30000,31,FALSE)","v":"小学"},{"$f":"VLOOKUP(F471,[1]总表!$A$3:$AF$30000,32,FALSE)","v":"语文"},"68.50"]
[470,"王凤云",20230603011718,17,"18",2529,{"$f":"VLOOKUP(F472,[1]总表!$A$3:$AF$30000,31,FALSE)","v":"小学"},{"$f":"VLOOKUP(F472,[1]总表!$A$3:$AF$30000,32,FALSE)","v":"语文"},"47.50"]
[471,"龙含毅",20230603011719,17,"19",2274,{"$f":"VLOOKUP(F473,[1]总表!$A$3:$AF$30000,31,FALSE)","v":"小学"},{"$f":"VLOOKUP(F473,[1]总表!$A$3:$AF$30000,32,FALSE)","v":"语文"},"64"]
[472,"顾园园",20230603011720,17,"20",2225,{"$f":"VLOOKUP(F474,[1]总表!$A$3:$AF$30000,31,FALSE)","v":"小学"},{"$f":"VLOOKUP(F474,[1]总表!$A$3:$AF$30000,32,FALSE)","v":"语文"},"45.50"]
[473,"范俊岑",20230603011721,17,"21",1984,{"$f":"VLOOKUP(F475,[1]总表!$A$3:$AF$30000,31,FALSE)","v":"小学"},{"$f":"VLOOKUP(F475,[1]总表!$A$3:$AF$30000,32,FALSE)","v":"语文"},"65"]
[474,"严进南",20230603011722,17,"22",1962,{"$f":"VLOOKUP(F476,[1]总表!$A$3:$AF$30000,31,FALSE)","v":"小学"},{"$f":"VLOOKUP(F476,[1]总表!$A$3:$AF$30000,32,FALSE)","v":"语文"},"44"]
[475,"覃招娣",20230603011723,17,"23",2332,{"$f":"VLOOKUP(F477,[1]总表!$A$3:$AF$30000,31,FALSE)","v":"小学"},{"$f":"VLOOKUP(F477,[1]总表!$A$3:$AF$30000,32,FALSE)","v":"语文"},"45"]
[476,"肖杨慧子",20230603011724,17,"24",2035,{"$f":"VLOOKUP(F478,[1]总表!$A$3:$AF$30000,31,FALSE)","v":"小学"},{"$f":"VLOOKUP(F478,[1]总表!$A$3:$AF$30000,32,FALSE)","v":"语文"},"44"]
[477,"张叶",20230603011725,17,"25",2161,{"$f":"VLOOKUP(F479,[1]总表!$A$3:$AF$30000,31,FALSE)","v":"小学"},{"$f":"VLOOKUP(F479,[1]总表!$A$3:$AF$30000,32,FALSE)","v":"语文"},"52"]
[478,"钟倩",20230603011726,17,"26",2326,{"$f":"VLOOKUP(F480,[1]总表!$A$3:$AF$30000,31,FALSE)","v":"小学"},{"$f":"VLOOKUP(F480,[1]总表!$A$3:$AF$30000,32,FALSE)","v":"语文"},"53"]
[479,"陈艳",20230603011727,17,"27",1998,{"$f":"VLOOKUP(F481,[1]总表!$A$3:$AF$30000,31,FALSE)","v":"小学"},{"$f":"VLOOKUP(F481,[1]总表!$A$3:$AF$30000,32,FALSE)","v":"语文"},"49.50"]
[480,"付佳佳",20230603011728,17,"28",1874,{"$f":"VLOOKUP(F482,[1]总表!$A$3:$AF$30000,31,FALSE)","v":"小学"},{"$f":"VLOOKUP(F482,[1]总表!$A$3:$AF$30000,32,FALSE)","v":"语文"},"48"]
[481,"杨蓉",20230603011729,17,"29",2308,{"$f":"VLOOKUP(F483,[1]总表!$A$3:$AF$30000,31,FALSE)","v":"小学"},{"$f":"VLOOKUP(F483,[1]总表!$A$3:$AF$30000,32,FALSE)","v":"语文"},"75.50"]
[482,"田莎",20230603011730,17,"30",2448,{"$f":"VLOOKUP(F484,[1]总表!$A$3:$AF$30000,31,FALSE)","v":"小学"},{"$f":"VLOOKUP(F484,[1]总表!$A$3:$AF$30000,32,FALSE)","v":"语文"},"65"]
[483,"王婕妤",20230603011801,18,"01",2583,{"$f":"VLOOKUP(F485,[1]总表!$A$3:$AF$30000,31,FALSE)","v":"小学"},{"$f":"VLOOKUP(F485,[1]总表!$A$3:$AF$30000,32,FALSE)","v":"语文"},"缺考"]
[484,"颜丽",20230603011802,18,"02",2513,{"$f":"VLOOKUP(F486,[1]总表!$A$3:$AF$30000,31,FALSE)","v":"小学"},{"$f":"VLOOKUP(F486,[1]总表!$A$3:$AF$30000,32,FALSE)","v":"语文"},"62"]
[485,"田刘杨",20230603011803,18,"03",2362,{"$f":"VLOOKUP(F487,[1]总表!$A$3:$AF$30000,31,FALSE)","v":"小学"},{"$f":"VLOOKUP(F487,[1]总表!$A$3:$AF$30000,32,FALSE)","v":"语文"},"53"]
[486,"向敏敏",20230603011804,18,"04",2412,{"$f":"VLOOKUP(F488,[1]总表!$A$3:$AF$30000,31,FALSE)","v":"小学"},{"$f":"VLOOKUP(F488,[1]总表!$A$3:$AF$30000,32,FALSE)","v":"语文"},"62"]
[487,"白虹",20230603011805,18,"05",2316,{"$f":"VLOOKUP(F489,[1]总表!$A$3:$AF$30000,31,FALSE)","v":"小学"},{"$f":"VLOOKUP(F489,[1]总表!$A$3:$AF$30000,32,FALSE)","v":"语文"},"66"]
[488,"田红梅",20230603011806,18,"06",1884,{"$f":"VLOOKUP(F490,[1]总表!$A$3:$AF$30000,31,FALSE)","v":"小学"},{"$f":"VLOOKUP(F490,[1]总表!$A$3:$AF$30000,32,FALSE)","v":"语文"},"52"]
[489,"孟清",20230603011807,18,"07",2276,{"$f":"VLOOKUP(F491,[1]总表!$A$3:$AF$30000,31,FALSE)","v":"小学"},{"$f":"VLOOKUP(F491,[1]总表!$A$3:$AF$30000,32,FALSE)","v":"语文"},"63"]
[490,"丁旭梅",20230603011808,18,"08",1938,{"$f":"VLOOKUP(F492,[1]总表!$A$3:$AF$30000,31,FALSE)","v":"小学"},{"$f":"VLOOKUP(F492,[1]总表!$A$3:$AF$30000,32,FALSE)","v":"语文"},"缺考"]
[491,"滕浩",20230603011809,18,"09",2195,{"$f":"VLOOKUP(F493,[1]总表!$A$3:$AF$30000,31,FALSE)","v":"小学"},{"$f":"VLOOKUP(F493,[1]总表!$A$3:$AF$30000,32,FALSE)","v":"语文"},"56.50"]
[492,"向红叶",20230603011810,18,"10",2282,{"$f":"VLOOKUP(F494,[1]总表!$A$3:$AF$30000,31,FALSE)","v":"小学"},{"$f":"VLOOKUP(F494,[1]总表!$A$3:$AF$30000,32,FALSE)","v":"语文"},"59"]
[493,"谭游琴",20230603011811,18,"11",2359,{"$f":"VLOOKUP(F495,[1]总表!$A$3:$AF$30000,31,FALSE)","v":"小学"},{"$f":"VLOOKUP(F495,[1]总表!$A$3:$AF$30000,32,FALSE)","v":"语文"},"54"]
[494,"曹蜜莎",20230603011812,18,"12",2054,{"$f":"VLOOKUP(F496,[1]总表!$A$3:$AF$30000,31,FALSE)","v":"小学"},{"$f":"VLOOKUP(F496,[1]总表!$A$3:$AF$30000,32,FALSE)","v":"语文"},"64.50"]
[495,"周浩",20230603011813,18,"13",2187,{"$f":"VLOOKUP(F497,[1]总表!$A$3:$AF$30000,31,FALSE)","v":"小学"},{"$f":"VLOOKUP(F497,[1]总表!$A$3:$AF$30000,32,FALSE)","v":"语文"},"65.50"]
[496,"安全敏",20230603011814,18,"14",2154,{"$f":"VLOOKUP(F498,[1]总表!$A$3:$AF$30000,31,FALSE)","v":"小学"},{"$f":"VLOOKUP(F498,[1]总表!$A$3:$AF$30000,32,FALSE)","v":"语文"},"50.50"]
[497,"肖丽娟",20230603011815,18,"15",2484,{"$f":"VLOOKUP(F499,[1]总表!$A$3:$AF$30000,31,FALSE)","v":"小学"},{"$f":"VLOOKUP(F499,[1]总表!$A$3:$AF$30000,32,FALSE)","v":"语文"},"75"]
[498,"万贵芳",20230603011816,18,"16",2586,{"$f":"VLOOKUP(F500,[1]总表!$A$3:$AF$30000,31,FALSE)","v":"小学"},{"$f":"VLOOKUP(F500,[1]总表!$A$3:$AF$30000,32,FALSE)","v":"语文"},"缺考"]
[499,"肖晓涵",20230603011817,18,"17",1867,{"$f":"VLOOKUP(F501,[1]总表!$A$3:$AF$30000,31,FALSE)","v":"小学"},{"$f":"VLOOKUP(F501,[1]总表!$A$3:$AF$30000,32,FALSE)","v":"语文"},"55"]
[500,"杨琴文",20230603011818,18,"18",2429,{"$f":"VLOOKUP(F502,[1]总表!$A$3:$AF$30000,31,FALSE)","v":"小学"},{"$f":"VLOOKUP(F502,[1]总表!$A$3:$AF$30000,32,FALSE)","v":"语文"},"64"]
[501,"范开倩",20230603011819,18,"19",2383,{"$f":"VLOOKUP(F503,[1]总表!$A$3:$AF$30000,31,FALSE)","v":"小学"},{"$f":"VLOOKUP(F503,[1]总表!$A$3:$AF$30000,32,FALSE)","v":"语文"},"57.50"]
[502,"敖芸",20230603011820,18,"20",2652,{"$f":"VLOOKUP(F504,[1]总表!$A$3:$AF$30000,31,FALSE)","v":"小学"},{"$f":"VLOOKUP(F504,[1]总表!$A$3:$AF$30000,32,FALSE)","v":"语文"},"53.50"]
[503,"田妮",20230603011821,18,"21",2148,{"$f":"VLOOKUP(F505,[1]总表!$A$3:$AF$30000,31,FALSE)","v":"小学"},{"$f":"VLOOKUP(F505,[1]总表!$A$3:$AF$30000,32,FALSE)","v":"语文"},"缺考"]
[504,"杨钦",20230603011822,18,"22",2520,{"$f":"VLOOKUP(F506,[1]总表!$A$3:$AF$30000,31,FALSE)","v":"小学"},{"$f":"VLOOKUP(F506,[1]总表!$A$3:$AF$30000,32,FALSE)","v":"语文"},"53"]
[505,"杨婷",20230603011823,18,"23",2012,{"$f":"VLOOKUP(F507,[1]总表!$A$3:$AF$30000,31,FALSE)","v":"小学"},{"$f":"VLOOKUP(F507,[1]总表!$A$3:$AF$30000,32,FALSE)","v":"语文"},"44.50"]
[506,"张艾敏",20230603011824,18,"24",2176,{"$f":"VLOOKUP(F508,[1]总表!$A$3:$AF$30000,31,FALSE)","v":"小学"},{"$f":"VLOOKUP(F508,[1]总表!$A$3:$AF$30000,32,FALSE)","v":"语文"},"62"]
[507,"李选绣",20230603011825,18,"25",2430,{"$f":"VLOOKUP(F509,[1]总表!$A$3:$AF$30000,31,FALSE)","v":"小学"},{"$f":"VLOOKUP(F509,[1]总表!$A$3:$AF$30000,32,FALSE)","v":"语文"},"51"]
[508,"杨恒",20230603011826,18,"26",2102,{"$f":"VLOOKUP(F510,[1]总表!$A$3:$AF$30000,31,FALSE)","v":"小学"},{"$f":"VLOOKUP(F510,[1]总表!$A$3:$AF$30000,32,FALSE)","v":"语文"},"61"]
[509,"陈艳君",20230603011827,18,"27",2249,{"$f":"VLOOKUP(F511,[1]总表!$A$3:$AF$30000,31,FALSE)","v":"小学"},{"$f":"VLOOKUP(F511,[1]总表!$A$3:$AF$30000,32,FALSE)","v":"语文"},"45"]
[510,"马情芳",20230603011828,18,"28",2504,{"$f":"VLOOKUP(F512,[1]总表!$A$3:$AF$30000,31,FALSE)","v":"小学"},{"$f":"VLOOKUP(F512,[1]总表!$A$3:$AF$30000,32,FALSE)","v":"语文"},"74"]
[511,"吴正芳",20230603011829,18,"29",2060,{"$f":"VLOOKUP(F513,[1]总表!$A$3:$AF$30000,31,FALSE)","v":"小学"},{"$f":"VLOOKUP(F513,[1]总表!$A$3:$AF$30000,32,FALSE)","v":"语文"},"50.50"]
[512,"何双",20230603011830,18,"30",1930,{"$f":"VLOOKUP(F514,[1]总表!$A$3:$AF$30000,31,FALSE)","v":"小学"},{"$f":"VLOOKUP(F514,[1]总表!$A$3:$AF$30000,32,FALSE)","v":"语文"},"49.50"]
[513,"吴清照",20230603011901,19,"01",2298,{"$f":"VLOOKUP(F515,[1]总表!$A$3:$AF$30000,31,FALSE)","v":"小学"},{"$f":"VLOOKUP(F515,[1]总表!$A$3:$AF$30000,32,FALSE)","v":"语文"},"55"]
[514,"段秋红",20230603011902,19,"02",2199,{"$f":"VLOOKUP(F516,[1]总表!$A$3:$AF$30000,31,FALSE)","v":"小学"},{"$f":"VLOOKUP(F516,[1]总表!$A$3:$AF$30000,32,FALSE)","v":"语文"},"48"]
[515,"王玲",20230603011903,19,"03",2251,{"$f":"VLOOKUP(F517,[1]总表!$A$3:$AF$30000,31,FALSE)","v":"小学"},{"$f":"VLOOKUP(F517,[1]总表!$A$3:$AF$30000,32,FALSE)","v":"语文"},"36"]
[516,"王芹",20230603011904,19,"04",1852,{"$f":"VLOOKUP(F518,[1]总表!$A$3:$AF$30000,31,FALSE)","v":"小学"},{"$f":"VLOOKUP(F518,[1]总表!$A$3:$AF$30000,32,FALSE)","v":"语文"},"74"]
[517,"杨佳",20230603011905,19,"05",2394,{"$f":"VLOOKUP(F519,[1]总表!$A$3:$AF$30000,31,FALSE)","v":"小学"},{"$f":"VLOOKUP(F519,[1]总表!$A$3:$AF$30000,32,FALSE)","v":"语文"},"53.50"]
[518,"廖秀芳",20230603011906,19,"06",2164,{"$f":"VLOOKUP(F520,[1]总表!$A$3:$AF$30000,31,FALSE)","v":"小学"},{"$f":"VLOOKUP(F520,[1]总表!$A$3:$AF$30000,32,FALSE)","v":"语文"},"57"]
[519,"代惠敏",20230603011907,19,"07",2401,{"$f":"VLOOKUP(F521,[1]总表!$A$3:$AF$30000,31,FALSE)","v":"小学"},{"$f":"VLOOKUP(F521,[1]总表!$A$3:$AF$30000,32,FALSE)","v":"语文"},"72"]
[520,"谭想",20230603011908,19,"08",2392,{"$f":"VLOOKUP(F522,[1]总表!$A$3:$AF$30000,31,FALSE)","v":"小学"},{"$f":"VLOOKUP(F522,[1]总表!$A$3:$AF$30000,32,FALSE)","v":"语文"},"51"]
[521,"龙丽芳",20230603011909,19,"09",2444,{"$f":"VLOOKUP(F523,[1]总表!$A$3:$AF$30000,31,FALSE)","v":"小学"},{"$f":"VLOOKUP(F523,[1]总表!$A$3:$AF$30000,32,FALSE)","v":"语文"},"56"]
[522,"刘金兰",20230603011910,19,"10",2360,{"$f":"VLOOKUP(F524,[1]总表!$A$3:$AF$30000,31,FALSE)","v":"小学"},{"$f":"VLOOKUP(F524,[1]总表!$A$3:$AF$30000,32,FALSE)","v":"语文"},"33.50"]
[523,"向洁",20230603011911,19,"11",1924,{"$f":"VLOOKUP(F525,[1]总表!$A$3:$AF$30000,31,FALSE)","v":"小学"},{"$f":"VLOOKUP(F525,[1]总表!$A$3:$AF$30000,32,FALSE)","v":"语文"},"68.50"]
[524,"毛慧敏",20230603011912,19,"12",1910,{"$f":"VLOOKUP(F526,[1]总表!$A$3:$AF$30000,31,FALSE)","v":"小学"},{"$f":"VLOOKUP(F526,[1]总表!$A$3:$AF$30000,32,FALSE)","v":"语文"},"55"]
[525,"李英",20230603011913,19,"13",1890,{"$f":"VLOOKUP(F527,[1]总表!$A$3:$AF$30000,31,FALSE)","v":"小学"},{"$f":"VLOOKUP(F527,[1]总表!$A$3:$AF$30000,32,FALSE)","v":"语文"},"50"]
[526,"宋德娟",20230603011914,19,"14",1907,{"$f":"VLOOKUP(F528,[1]总表!$A$3:$AF$30000,31,FALSE)","v":"小学"},{"$f":"VLOOKUP(F528,[1]总表!$A$3:$AF$30000,32,FALSE)","v":"语文"},"38.50"]
[527,"杨楠琳",20230603011915,19,"15",2631,{"$f":"VLOOKUP(F529,[1]总表!$A$3:$AF$30000,31,FALSE)","v":"小学"},{"$f":"VLOOKUP(F529,[1]总表!$A$3:$AF$30000,32,FALSE)","v":"语文"},"50.50"]
[528,"张义群",20230603011916,19,"16",1900,{"$f":"VLOOKUP(F530,[1]总表!$A$3:$AF$30000,31,FALSE)","v":"小学"},{"$f":"VLOOKUP(F530,[1]总表!$A$3:$AF$30000,32,FALSE)","v":"语文"},"49"]
[529,"吴琳琳",20230603011917,19,"17",2032,{"$f":"VLOOKUP(F531,[1]总表!$A$3:$AF$30000,31,FALSE)","v":"小学"},{"$f":"VLOOKUP(F531,[1]总表!$A$3:$AF$30000,32,FALSE)","v":"语文"},"59.50"]
[530,"黄烈林",20230603011918,19,"18",2018,{"$f":"VLOOKUP(F532,[1]总表!$A$3:$AF$30000,31,FALSE)","v":"小学"},{"$f":"VLOOKUP(F532,[1]总表!$A$3:$AF$30000,32,FALSE)","v":"语文"},"60.50"]
[531,"袁淼",20230603011919,19,"19",2418,{"$f":"VLOOKUP(F533,[1]总表!$A$3:$AF$30000,31,FALSE)","v":"小学"},{"$f":"VLOOKUP(F533,[1]总表!$A$3:$AF$30000,32,FALSE)","v":"语文"},"48"]
[532,"龙静",20230603011920,19,"20",2011,{"$f":"VLOOKUP(F534,[1]总表!$A$3:$AF$30000,31,FALSE)","v":"小学"},{"$f":"VLOOKUP(F534,[1]总表!$A$3:$AF$30000,32,FALSE)","v":"语文"},"52.50"]
[533,"汪永平",20230603011921,19,"21",2120,{"$f":"VLOOKUP(F535,[1]总表!$A$3:$AF$30000,31,FALSE)","v":"小学"},{"$f":"VLOOKUP(F535,[1]总表!$A$3:$AF$30000,32,FALSE)","v":"语文"},"53.50"]
[534,"杨雨秋",20230603011922,19,"22",1893,{"$f":"VLOOKUP(F536,[1]总表!$A$3:$AF$30000,31,FALSE)","v":"小学"},{"$f":"VLOOKUP(F536,[1]总表!$A$3:$AF$30000,32,FALSE)","v":"语文"},"缺考"]
[535,"余海甜",20230603011923,19,"23",2053,{"$f":"VLOOKUP(F537,[1]总表!$A$3:$AF$30000,31,FALSE)","v":"小学"},{"$f":"VLOOKUP(F537,[1]总表!$A$3:$AF$30000,32,FALSE)","v":"语文"},"46"]
[536,"冉娇",20230603011924,19,"24",1985,{"$f":"VLOOKUP(F538,[1]总表!$A$3:$AF$30000,31,FALSE)","v":"小学"},{"$f":"VLOOKUP(F538,[1]总表!$A$3:$AF$30000,32,FALSE)","v":"语文"},"62"]
[537,"牟丽丽",20230603011925,19,"25",2647,{"$f":"VLOOKUP(F539,[1]总表!$A$3:$AF$30000,31,FALSE)","v":"小学"},{"$f":"VLOOKUP(F539,[1]总表!$A$3:$AF$30000,32,FALSE)","v":"语文"},"49"]
[538,"黎凤",20230603011926,19,"26",2424,{"$f":"VLOOKUP(F540,[1]总表!$A$3:$AF$30000,31,FALSE)","v":"小学"},{"$f":"VLOOKUP(F540,[1]总表!$A$3:$AF$30000,32,FALSE)","v":"语文"},"46"]
[539,"张叶",20230603011927,19,"27",2280,{"$f":"VLOOKUP(F541,[1]总表!$A$3:$AF$30000,31,FALSE)","v":"小学"},{"$f":"VLOOKUP(F541,[1]总表!$A$3:$AF$30000,32,FALSE)","v":"语文"},"47.50"]
[540,"陈朝艳",20230603011928,19,"28",1871,{"$f":"VLOOKUP(F542,[1]总表!$A$3:$AF$30000,31,FALSE)","v":"小学"},{"$f":"VLOOKUP(F542,[1]总表!$A$3:$AF$30000,32,FALSE)","v":"语文"},"49"]
[541,"龙丽",20230603011929,19,"29",1830,{"$f":"VLOOKUP(F543,[1]总表!$A$3:$AF$30000,31,FALSE)","v":"小学"},{"$f":"VLOOKUP(F543,[1]总表!$A$3:$AF$30000,32,FALSE)","v":"语文"},"52"]
[542,"黄丹绘",20230603011930,19,"30",2165,{"$f":"VLOOKUP(F544,[1]总表!$A$3:$AF$30000,31,FALSE)","v":"小学"},{"$f":"VLOOKUP(F544,[1]总表!$A$3:$AF$30000,32,FALSE)","v":"语文"},"56"]
[543,"张卫玲",20230603012001,20,"01",1995,{"$f":"VLOOKUP(F545,[1]总表!$A$3:$AF$30000,31,FALSE)","v":"小学"},{"$f":"VLOOKUP(F545,[1]总表!$A$3:$AF$30000,32,FALSE)","v":"语文"},"63.50"]
[544,"胡永芬",20230603012002,20,"02",1838,{"$f":"VLOOKUP(F546,[1]总表!$A$3:$AF$30000,31,FALSE)","v":"小学"},{"$f":"VLOOKUP(F546,[1]总表!$A$3:$AF$30000,32,FALSE)","v":"语文"},"55"]
[545,"陈松",20230603012003,20,"03",1901,{"$f":"VLOOKUP(F547,[1]总表!$A$3:$AF$30000,31,FALSE)","v":"小学"},{"$f":"VLOOKUP(F547,[1]总表!$A$3:$AF$30000,32,FALSE)","v":"语文"},"54"]
[546,"成珣",20230603012004,20,"04",2573,{"$f":"VLOOKUP(F548,[1]总表!$A$3:$AF$30000,31,FALSE)","v":"小学"},{"$f":"VLOOKUP(F548,[1]总表!$A$3:$AF$30000,32,FALSE)","v":"语文"},"56.50"]
[547,"张阳溢",20230603012005,20,"05",1992,{"$f":"VLOOKUP(F549,[1]总表!$A$3:$AF$30000,31,FALSE)","v":"小学"},{"$f":"VLOOKUP(F549,[1]总表!$A$3:$AF$30000,32,FALSE)","v":"语文"},"缺考"]
[548,"余志梅",20230603012006,20,"06",1866,{"$f":"VLOOKUP(F550,[1]总表!$A$3:$AF$30000,31,FALSE)","v":"小学"},{"$f":"VLOOKUP(F550,[1]总表!$A$3:$AF$30000,32,FALSE)","v":"语文"},"48.50"]
[549,"孙小红",20230603012007,20,"07",2250,{"$f":"VLOOKUP(F551,[1]总表!$A$3:$AF$30000,31,FALSE)","v":"小学"},{"$f":"VLOOKUP(F551,[1]总表!$A$3:$AF$30000,32,FALSE)","v":"语文"},"44"]
[550,"潘惠琦",20230603012008,20,"08",2389,{"$f":"VLOOKUP(F552,[1]总表!$A$3:$AF$30000,31,FALSE)","v":"小学"},{"$f":"VLOOKUP(F552,[1]总表!$A$3:$AF$30000,32,FALSE)","v":"语文"},"56.50"]
[551,"龙应菊",20230603012009,20,"09",2300,{"$f":"VLOOKUP(F553,[1]总表!$A$3:$AF$30000,31,FALSE)","v":"小学"},{"$f":"VLOOKUP(F553,[1]总表!$A$3:$AF$30000,32,FALSE)","v":"语文"},"46"]
[552,"陆柳宏",20230603012010,20,"10",1969,{"$f":"VLOOKUP(F554,[1]总表!$A$3:$AF$30000,31,FALSE)","v":"小学"},{"$f":"VLOOKUP(F554,[1]总表!$A$3:$AF$30000,32,FALSE)","v":"语文"},"49"]
[553,"李艳",20230603012011,20,"11",2377,{"$f":"VLOOKUP(F555,[1]总表!$A$3:$AF$30000,31,FALSE)","v":"小学"},{"$f":"VLOOKUP(F555,[1]总表!$A$3:$AF$30000,32,FALSE)","v":"语文"},"45"]
[554,"胡远林",20230603012012,20,"12",1840,{"$f":"VLOOKUP(F556,[1]总表!$A$3:$AF$30000,31,FALSE)","v":"小学"},{"$f":"VLOOKUP(F556,[1]总表!$A$3:$AF$30000,32,FALSE)","v":"语文"},"缺考"]
[555,"陈茂霞",20230603012013,20,"13",1887,{"$f":"VLOOKUP(F557,[1]总表!$A$3:$AF$30000,31,FALSE)","v":"小学"},{"$f":"VLOOKUP(F557,[1]总表!$A$3:$AF$30000,32,FALSE)","v":"语文"},"46"]
[556,"卢俊睿",20230603012014,20,"14",1944,{"$f":"VLOOKUP(F558,[1]总表!$A$3:$AF$30000,31,FALSE)","v":"小学"},{"$f":"VLOOKUP(F558,[1]总表!$A$3:$AF$30000,32,FALSE)","v":"语文"},"缺考"]
[557,"冯美洁",20230603012015,20,"15",2409,{"$f":"VLOOKUP(F559,[1]总表!$A$3:$AF$30000,31,FALSE)","v":"小学"},{"$f":"VLOOKUP(F559,[1]总表!$A$3:$AF$30000,32,FALSE)","v":"语文"},"57"]
[558,"万可",20230603012016,20,"16",2211,{"$f":"VLOOKUP(F560,[1]总表!$A$3:$AF$30000,31,FALSE)","v":"小学"},{"$f":"VLOOKUP(F560,[1]总表!$A$3:$AF$30000,32,FALSE)","v":"语文"},"64.50"]
[559,"杨荣煜",20230603012017,20,"17",2596,{"$f":"VLOOKUP(F561,[1]总表!$A$3:$AF$30000,31,FALSE)","v":"小学"},{"$f":"VLOOKUP(F561,[1]总表!$A$3:$AF$30000,32,FALSE)","v":"语文"},"44"]
[560,"杨旭",20230603012018,20,"18",2397,{"$f":"VLOOKUP(F562,[1]总表!$A$3:$AF$30000,31,FALSE)","v":"小学"},{"$f":"VLOOKUP(F562,[1]总表!$A$3:$AF$30000,32,FALSE)","v":"语文"},"65"]
[561,"龙倩",20230603012019,20,"19",2205,{"$f":"VLOOKUP(F563,[1]总表!$A$3:$AF$30000,31,FALSE)","v":"小学"},{"$f":"VLOOKUP(F563,[1]总表!$A$3:$AF$30000,32,FALSE)","v":"语文"},"57"]
[562,"陈加敏",20230603012020,20,"20",2003,{"$f":"VLOOKUP(F564,[1]总表!$A$3:$AF$30000,31,FALSE)","v":"小学"},{"$f":"VLOOKUP(F564,[1]总表!$A$3:$AF$30000,32,FALSE)","v":"语文"},"39"]
[563,"朱鑫鑫",20230603012021,20,"21",2155,{"$f":"VLOOKUP(F565,[1]总表!$A$3:$AF$30000,31,FALSE)","v":"小学"},{"$f":"VLOOKUP(F565,[1]总表!$A$3:$AF$30000,32,FALSE)","v":"语文"},"47.50"]
[564,"邓笑寒",20230603012022,20,"22",2425,{"$f":"VLOOKUP(F566,[1]总表!$A$3:$AF$30000,31,FALSE)","v":"小学"},{"$f":"VLOOKUP(F566,[1]总表!$A$3:$AF$30000,32,FALSE)","v":"语文"},"53"]
[565,"龚姣姣",20230603012023,20,"23",2273,{"$f":"VLOOKUP(F567,[1]总表!$A$3:$AF$30000,31,FALSE)","v":"小学"},{"$f":"VLOOKUP(F567,[1]总表!$A$3:$AF$30000,32,FALSE)","v":"语文"},"46.50"]
[566,"龙思诗",20230603012024,20,"24",2378,{"$f":"VLOOKUP(F568,[1]总表!$A$3:$AF$30000,31,FALSE)","v":"小学"},{"$f":"VLOOKUP(F568,[1]总表!$A$3:$AF$30000,32,FALSE)","v":"语文"},"45"]
[567,"秦小岚",20230603012025,20,"25",2619,{"$f":"VLOOKUP(F569,[1]总表!$A$3:$AF$30000,31,FALSE)","v":"小学"},{"$f":"VLOOKUP(F569,[1]总表!$A$3:$AF$30000,32,FALSE)","v":"语文"},"44"]
[568,"田飞云",20230603012026,20,"26",1841,{"$f":"VLOOKUP(F570,[1]总表!$A$3:$AF$30000,31,FALSE)","v":"小学"},{"$f":"VLOOKUP(F570,[1]总表!$A$3:$AF$30000,32,FALSE)","v":"语文"},"67.50"]
[569,"丁燕",20230603012027,20,"27",2443,{"$f":"VLOOKUP(F571,[1]总表!$A$3:$AF$30000,31,FALSE)","v":"小学"},{"$f":"VLOOKUP(F571,[1]总表!$A$3:$AF$30000,32,FALSE)","v":"语文"},"缺考"]
[570,"杨燕",20230603012028,20,"28",1927,{"$f":"VLOOKUP(F572,[1]总表!$A$3:$AF$30000,31,FALSE)","v":"小学"},{"$f":"VLOOKUP(F572,[1]总表!$A$3:$AF$30000,32,FALSE)","v":"语文"},"53.50"]
[571,"张海霞",20230603012029,20,"29",2612,{"$f":"VLOOKUP(F573,[1]总表!$A$3:$AF$30000,31,FALSE)","v":"小学"},{"$f":"VLOOKUP(F573,[1]总表!$A$3:$AF$30000,32,FALSE)","v":"语文"},"46.50"]
[572,"黄霞",20230603012030,20,"30",2135,{"$f":"VLOOKUP(F574,[1]总表!$A$3:$AF$30000,31,FALSE)","v":"小学"},{"$f":"VLOOKUP(F574,[1]总表!$A$3:$AF$30000,32,FALSE)","v":"语文"},"64"]
[573,"石家慧",20230603012101,21,"01",2375,{"$f":"VLOOKUP(F575,[1]总表!$A$3:$AF$30000,31,FALSE)","v":"小学"},{"$f":"VLOOKUP(F575,[1]总表!$A$3:$AF$30000,32,FALSE)","v":"语文"},"74.50"]
[574,"何凤莲",20230603012102,21,"02",2503,{"$f":"VLOOKUP(F576,[1]总表!$A$3:$AF$30000,31,FALSE)","v":"小学"},{"$f":"VLOOKUP(F576,[1]总表!$A$3:$AF$30000,32,FALSE)","v":"语文"},"53"]
[575,"何芝婷",20230603012103,21,"03",1993,{"$f":"VLOOKUP(F577,[1]总表!$A$3:$AF$30000,31,FALSE)","v":"小学"},{"$f":"VLOOKUP(F577,[1]总表!$A$3:$AF$30000,32,FALSE)","v":"语文"},"56"]
[576,"张莎莎",20230603012104,21,"04",2340,{"$f":"VLOOKUP(F578,[1]总表!$A$3:$AF$30000,31,FALSE)","v":"小学"},{"$f":"VLOOKUP(F578,[1]总表!$A$3:$AF$30000,32,FALSE)","v":"语文"},"63.50"]
[577,"刘小宇",20230603012105,21,"05",2310,{"$f":"VLOOKUP(F579,[1]总表!$A$3:$AF$30000,31,FALSE)","v":"小学"},{"$f":"VLOOKUP(F579,[1]总表!$A$3:$AF$30000,32,FALSE)","v":"语文"},"64"]
[578,"李雪",20230603012106,21,"06",2622,{"$f":"VLOOKUP(F580,[1]总表!$A$3:$AF$30000,31,FALSE)","v":"小学"},{"$f":"VLOOKUP(F580,[1]总表!$A$3:$AF$30000,32,FALSE)","v":"语文"},"53"]
[579,"冯然",20230603012107,21,"07",2244,{"$f":"VLOOKUP(F581,[1]总表!$A$3:$AF$30000,31,FALSE)","v":"小学"},{"$f":"VLOOKUP(F581,[1]总表!$A$3:$AF$30000,32,FALSE)","v":"语文"},"62"]
[580,"胡慧",20230603012108,21,"08",2213,{"$f":"VLOOKUP(F582,[1]总表!$A$3:$AF$30000,31,FALSE)","v":"小学"},{"$f":"VLOOKUP(F582,[1]总表!$A$3:$AF$30000,32,FALSE)","v":"语文"},"55.50"]
[581,"王亚玲",20230603012109,21,"09",2000,{"$f":"VLOOKUP(F583,[1]总表!$A$3:$AF$30000,31,FALSE)","v":"小学"},{"$f":"VLOOKUP(F583,[1]总表!$A$3:$AF$30000,32,FALSE)","v":"语文"},"缺考"]
[582,"张聪",20230603012110,21,"10",2169,{"$f":"VLOOKUP(F584,[1]总表!$A$3:$AF$30000,31,FALSE)","v":"小学"},{"$f":"VLOOKUP(F584,[1]总表!$A$3:$AF$30000,32,FALSE)","v":"语文"},"54"]
[583,"杨昭微",20230603012111,21,"11",2579,{"$f":"VLOOKUP(F585,[1]总表!$A$3:$AF$30000,31,FALSE)","v":"小学"},{"$f":"VLOOKUP(F585,[1]总表!$A$3:$AF$30000,32,FALSE)","v":"语文"},"46.50"]
[584,"杨丽",20230603012112,21,"12",2593,{"$f":"VLOOKUP(F586,[1]总表!$A$3:$AF$30000,31,FALSE)","v":"小学"},{"$f":"VLOOKUP(F586,[1]总表!$A$3:$AF$30000,32,FALSE)","v":"语文"},"55.50"]
[585,"彭傲男",20230603012113,21,"13",2339,{"$f":"VLOOKUP(F587,[1]总表!$A$3:$AF$30000,31,FALSE)","v":"小学"},{"$f":"VLOOKUP(F587,[1]总表!$A$3:$AF$30000,32,FALSE)","v":"语文"},"55"]
[586,"杨琪",20230603012114,21,"14",2022,{"$f":"VLOOKUP(F588,[1]总表!$A$3:$AF$30000,31,FALSE)","v":"小学"},{"$f":"VLOOKUP(F588,[1]总表!$A$3:$AF$30000,32,FALSE)","v":"语文"},"58"]
[587,"瞿仙",20230603012115,21,"15",2290,{"$f":"VLOOKUP(F589,[1]总表!$A$3:$AF$30000,31,FALSE)","v":"小学"},{"$f":"VLOOKUP(F589,[1]总表!$A$3:$AF$30000,32,FALSE)","v":"语文"},"55"]
[588,"龙燕萍",20230603012116,21,"16",2203,{"$f":"VLOOKUP(F590,[1]总表!$A$3:$AF$30000,31,FALSE)","v":"小学"},{"$f":"VLOOKUP(F590,[1]总表!$A$3:$AF$30000,32,FALSE)","v":"语文"},"42.50"]
[589,"杨馥铭",20230603012117,21,"17",1814,{"$f":"VLOOKUP(F591,[1]总表!$A$3:$AF$30000,31,FALSE)","v":"小学"},{"$f":"VLOOKUP(F591,[1]总表!$A$3:$AF$30000,32,FALSE)","v":"语文"},"51"]
[590,"杨雪梅",20230603012118,21,"18",2351,{"$f":"VLOOKUP(F592,[1]总表!$A$3:$AF$30000,31,FALSE)","v":"小学"},{"$f":"VLOOKUP(F592,[1]总表!$A$3:$AF$30000,32,FALSE)","v":"语文"},"72"]
[591,"隆晓东",20230603012119,21,"19",2453,{"$f":"VLOOKUP(F593,[1]总表!$A$3:$AF$30000,31,FALSE)","v":"小学"},{"$f":"VLOOKUP(F593,[1]总表!$A$3:$AF$30000,32,FALSE)","v":"语文"},"60.50"]
[592,"田苗苗",20230603012120,21,"20",2301,{"$f":"VLOOKUP(F594,[1]总表!$A$3:$AF$30000,31,FALSE)","v":"小学"},{"$f":"VLOOKUP(F594,[1]总表!$A$3:$AF$30000,32,FALSE)","v":"语文"},"51"]
[593,"雷琴琴",20230603012121,21,"21",2623,{"$f":"VLOOKUP(F595,[1]总表!$A$3:$AF$30000,31,FALSE)","v":"小学"},{"$f":"VLOOKUP(F595,[1]总表!$A$3:$AF$30000,32,FALSE)","v":"语文"},"55"]
[594,"石裕群",20230603012122,21,"22",1989,{"$f":"VLOOKUP(F596,[1]总表!$A$3:$AF$30000,31,FALSE)","v":"小学"},{"$f":"VLOOKUP(F596,[1]总表!$A$3:$AF$30000,32,FALSE)","v":"语文"},"46.50"]
[595,"刘莉",20230603012123,21,"23",2327,{"$f":"VLOOKUP(F597,[1]总表!$A$3:$AF$30000,31,FALSE)","v":"小学"},{"$f":"VLOOKUP(F597,[1]总表!$A$3:$AF$30000,32,FALSE)","v":"语文"},"55.50"]
[596,"叶晶晶",20230603012201,22,"01",620,{"$f":"VLOOKUP(F598,[1]总表!$A$3:$AF$30000,31,FALSE)","v":"初中"},{"$f":"VLOOKUP(F598,[1]总表!$A$3:$AF$30000,32,FALSE)","v":"数学"},"51"]
[597,"唐晓玲",20230603012202,22,"02",153,{"$f":"VLOOKUP(F599,[1]总表!$A$3:$AF$30000,31,FALSE)","v":"初中"},{"$f":"VLOOKUP(F599,[1]总表!$A$3:$AF$30000,32,FALSE)","v":"数学"},"57"]
[598,"龙文勇",20230603012203,22,"03",372,{"$f":"VLOOKUP(F600,[1]总表!$A$3:$AF$30000,31,FALSE)","v":"初中"},{"$f":"VLOOKUP(F600,[1]总表!$A$3:$AF$30000,32,FALSE)","v":"数学"},"69"]
[599,"杨海华",20230603012204,22,"04",233,{"$f":"VLOOKUP(F601,[1]总表!$A$3:$AF$30000,31,FALSE)","v":"初中"},{"$f":"VLOOKUP(F601,[1]总表!$A$3:$AF$30000,32,FALSE)","v":"数学"},"缺考"]
[600,"聂声达",20230603012205,22,"05",305,{"$f":"VLOOKUP(F602,[1]总表!$A$3:$AF$30000,31,FALSE)","v":"初中"},{"$f":"VLOOKUP(F602,[1]总表!$A$3:$AF$30000,32,FALSE)","v":"数学"},"65"]
[601,"尹露露",20230603012206,22,"06",619,{"$f":"VLOOKUP(F603,[1]总表!$A$3:$AF$30000,31,FALSE)","v":"初中"},{"$f":"VLOOKUP(F603,[1]总表!$A$3:$AF$30000,32,FALSE)","v":"数学"},"68.50"]
[602,"蒋尚磊",20230603012207,22,"07",179,{"$f":"VLOOKUP(F604,[1]总表!$A$3:$AF$30000,31,FALSE)","v":"初中"},{"$f":"VLOOKUP(F604,[1]总表!$A$3:$AF$30000,32,FALSE)","v":"数学"},"46.50"]
[603,"胡霞",20230603012208,22,"08",457,{"$f":"VLOOKUP(F605,[1]总表!$A$3:$AF$30000,31,FALSE)","v":"初中"},{"$f":"VLOOKUP(F605,[1]总表!$A$3:$AF$30000,32,FALSE)","v":"数学"},"56"]
[604,"罗元宝",20230603012209,22,"09",432,{"$f":"VLOOKUP(F606,[1]总表!$A$3:$AF$30000,31,FALSE)","v":"初中"},{"$f":"VLOOKUP(F606,[1]总表!$A$3:$AF$30000,32,FALSE)","v":"数学"},"26"]
[605,"陈康梅",20230603012210,22,"10",521,{"$f":"VLOOKUP(F607,[1]总表!$A$3:$AF$30000,31,FALSE)","v":"初中"},{"$f":"VLOOKUP(F607,[1]总表!$A$3:$AF$30000,32,FALSE)","v":"数学"},"46.50"]
[606,"杨圆圆",20230603012211,22,"11",659,{"$f":"VLOOKUP(F608,[1]总表!$A$3:$AF$30000,31,FALSE)","v":"初中"},{"$f":"VLOOKUP(F608,[1]总表!$A$3:$AF$30000,32,FALSE)","v":"数学"},"74"]
[607,"方李",20230603012212,22,"12",275,{"$f":"VLOOKUP(F609,[1]总表!$A$3:$AF$30000,31,FALSE)","v":"初中"},{"$f":"VLOOKUP(F609,[1]总表!$A$3:$AF$30000,32,FALSE)","v":"数学"},"87"]
[608,"吴明松",20230603012213,22,"13",501,{"$f":"VLOOKUP(F610,[1]总表!$A$3:$AF$30000,31,FALSE)","v":"初中"},{"$f":"VLOOKUP(F610,[1]总表!$A$3:$AF$30000,32,FALSE)","v":"数学"},"38.50"]
[609,"冉晓丹",20230603012214,22,"14",272,{"$f":"VLOOKUP(F611,[1]总表!$A$3:$AF$30000,31,FALSE)","v":"初中"},{"$f":"VLOOKUP(F611,[1]总表!$A$3:$AF$30000,32,FALSE)","v":"数学"},"76"]
[610,"刘宇佳",20230603012215,22,"15",348,{"$f":"VLOOKUP(F612,[1]总表!$A$3:$AF$30000,31,FALSE)","v":"初中"},{"$f":"VLOOKUP(F612,[1]总表!$A$3:$AF$30000,32,FALSE)","v":"数学"},"59"]
[611,"刘雪艳",20230603012216,22,"16",669,{"$f":"VLOOKUP(F613,[1]总表!$A$3:$AF$30000,31,FALSE)","v":"初中"},{"$f":"VLOOKUP(F613,[1]总表!$A$3:$AF$30000,32,FALSE)","v":"数学"},"76.50"]
[612,"雷茜",20230603012217,22,"17",296,{"$f":"VLOOKUP(F614,[1]总表!$A$3:$AF$30000,31,FALSE)","v":"初中"},{"$f":"VLOOKUP(F614,[1]总表!$A$3:$AF$30000,32,FALSE)","v":"数学"},"67.50"]
[613,"张艳红",20230603012218,22,"18",533,{"$f":"VLOOKUP(F615,[1]总表!$A$3:$AF$30000,31,FALSE)","v":"初中"},{"$f":"VLOOKUP(F615,[1]总表!$A$3:$AF$30000,32,FALSE)","v":"数学"},"70.50"]
[614,"李天凡",20230603012219,22,"19",526,{"$f":"VLOOKUP(F616,[1]总表!$A$3:$AF$30000,31,FALSE)","v":"初中"},{"$f":"VLOOKUP(F616,[1]总表!$A$3:$AF$30000,32,FALSE)","v":"数学"},"68"]
[615,"黎思华",20230603012220,22,"20",667,{"$f":"VLOOKUP(F617,[1]总表!$A$3:$AF$30000,31,FALSE)","v":"初中"},{"$f":"VLOOKUP(F617,[1]总表!$A$3:$AF$30000,32,FALSE)","v":"数学"},"55"]
[616,"熊敏艳",20230603012221,22,"21",674,{"$f":"VLOOKUP(F618,[1]总表!$A$3:$AF$30000,31,FALSE)","v":"初中"},{"$f":"VLOOKUP(F618,[1]总表!$A$3:$AF$30000,32,FALSE)","v":"数学"},"72.50"]
[617,"易铃铃",20230603012222,22,"22",429,{"$f":"VLOOKUP(F619,[1]总表!$A$3:$AF$30000,31,FALSE)","v":"初中"},{"$f":"VLOOKUP(F619,[1]总表!$A$3:$AF$30000,32,FALSE)","v":"数学"},"67"]
[618,"罗文惠",20230603012223,22,"23",261,{"$f":"VLOOKUP(F620,[1]总表!$A$3:$AF$30000,31,FALSE)","v":"初中"},{"$f":"VLOOKUP(F620,[1]总表!$A$3:$AF$30000,32,FALSE)","v":"数学"},"75"]
[619,"姚淑萍",20230603012224,22,"24",242,{"$f":"VLOOKUP(F621,[1]总表!$A$3:$AF$30000,31,FALSE)","v":"初中"},{"$f":"VLOOKUP(F621,[1]总表!$A$3:$AF$30000,32,FALSE)","v":"数学"},"65.50"]
[620,"向杨",20230603012225,22,"25",514,{"$f":"VLOOKUP(F622,[1]总表!$A$3:$AF$30000,31,FALSE)","v":"初中"},{"$f":"VLOOKUP(F622,[1]总表!$A$3:$AF$30000,32,FALSE)","v":"数学"},"缺考"]
[621,"廖世倩",20230603012226,22,"26",280,{"$f":"VLOOKUP(F623,[1]总表!$A$3:$AF$30000,31,FALSE)","v":"初中"},{"$f":"VLOOKUP(F623,[1]总表!$A$3:$AF$30000,32,FALSE)","v":"数学"},"72.50"]
[622,"姜凡",20230603012227,22,"27",214,{"$f":"VLOOKUP(F624,[1]总表!$A$3:$AF$30000,31,FALSE)","v":"初中"},{"$f":"VLOOKUP(F624,[1]总表!$A$3:$AF$30000,32,FALSE)","v":"数学"},"70.50"]
[623,"贺柳柳",20230603012228,22,"28",704,{"$f":"VLOOKUP(F625,[1]总表!$A$3:$AF$30000,31,FALSE)","v":"初中"},{"$f":"VLOOKUP(F625,[1]总表!$A$3:$AF$30000,32,FALSE)","v":"数学"},"40"]
[624,"李继绍",20230603012229,22,"29",232,{"$f":"VLOOKUP(F626,[1]总表!$A$3:$AF$30000,31,FALSE)","v":"初中"},{"$f":"VLOOKUP(F626,[1]总表!$A$3:$AF$30000,32,FALSE)","v":"数学"},"66"]
[625,"周汶霖",20230603012230,22,"30",369,{"$f":"VLOOKUP(F627,[1]总表!$A$3:$AF$30000,31,FALSE)","v":"初中"},{"$f":"VLOOKUP(F627,[1]总表!$A$3:$AF$30000,32,FALSE)","v":"数学"},"29"]
[626,"蒋涛",20230603012301,23,"01",560,{"$f":"VLOOKUP(F628,[1]总表!$A$3:$AF$30000,31,FALSE)","v":"初中"},{"$f":"VLOOKUP(F628,[1]总表!$A$3:$AF$30000,32,FALSE)","v":"数学"},"75.50"]
[627,"郭爽",20230603012302,23,"02",334,{"$f":"VLOOKUP(F629,[1]总表!$A$3:$AF$30000,31,FALSE)","v":"初中"},{"$f":"VLOOKUP(F629,[1]总表!$A$3:$AF$30000,32,FALSE)","v":"数学"},"71.50"]
[628,"鲁锡雨",20230603012303,23,"03",609,{"$f":"VLOOKUP(F630,[1]总表!$A$3:$AF$30000,31,FALSE)","v":"初中"},{"$f":"VLOOKUP(F630,[1]总表!$A$3:$AF$30000,32,FALSE)","v":"数学"},"75"]
[629,"滕屹林",20230603012304,23,"04",686,{"$f":"VLOOKUP(F631,[1]总表!$A$3:$AF$30000,31,FALSE)","v":"初中"},{"$f":"VLOOKUP(F631,[1]总表!$A$3:$AF$30000,32,FALSE)","v":"数学"},"40"]
[630,"田倩倩",20230603012305,23,"05",386,{"$f":"VLOOKUP(F632,[1]总表!$A$3:$AF$30000,31,FALSE)","v":"初中"},{"$f":"VLOOKUP(F632,[1]总表!$A$3:$AF$30000,32,FALSE)","v":"数学"},"79.50"]
[631,"田震",20230603012306,23,"06",250,{"$f":"VLOOKUP(F633,[1]总表!$A$3:$AF$30000,31,FALSE)","v":"初中"},{"$f":"VLOOKUP(F633,[1]总表!$A$3:$AF$30000,32,FALSE)","v":"数学"},"58.50"]
[632,"杨婉婷",20230603012307,23,"07",518,{"$f":"VLOOKUP(F634,[1]总表!$A$3:$AF$30000,31,FALSE)","v":"初中"},{"$f":"VLOOKUP(F634,[1]总表!$A$3:$AF$30000,32,FALSE)","v":"数学"},"59.50"]
[633,"童欢",20230603012308,23,"08",373,{"$f":"VLOOKUP(F635,[1]总表!$A$3:$AF$30000,31,FALSE)","v":"初中"},{"$f":"VLOOKUP(F635,[1]总表!$A$3:$AF$30000,32,FALSE)","v":"数学"},"87"]
[634,"宋佩香",20230603012401,24,"01",227,{"$f":"VLOOKUP(F636,[1]总表!$A$3:$AF$30000,31,FALSE)","v":"小学"},{"$f":"VLOOKUP(F636,[1]总表!$A$3:$AF$30000,32,FALSE)","v":"数学"},"62.50"]
[635,"叶彩",20230603012402,24,"02",362,{"$f":"VLOOKUP(F637,[1]总表!$A$3:$AF$30000,31,FALSE)","v":"小学"},{"$f":"VLOOKUP(F637,[1]总表!$A$3:$AF$30000,32,FALSE)","v":"数学"},"61.50"]
[636,"肖玢琳",20230603012403,24,"03",385,{"$f":"VLOOKUP(F638,[1]总表!$A$3:$AF$30000,31,FALSE)","v":"小学"},{"$f":"VLOOKUP(F638,[1]总表!$A$3:$AF$30000,32,FALSE)","v":"数学"},"30.50"]
[637,"吴思雨",20230603012404,24,"04",627,{"$f":"VLOOKUP(F639,[1]总表!$A$3:$AF$30000,31,FALSE)","v":"小学"},{"$f":"VLOOKUP(F639,[1]总表!$A$3:$AF$30000,32,FALSE)","v":"数学"},"50.50"]
[638,"彭利",20230603012405,24,"05",246,{"$f":"VLOOKUP(F640,[1]总表!$A$3:$AF$30000,31,FALSE)","v":"小学"},{"$f":"VLOOKUP(F640,[1]总表!$A$3:$AF$30000,32,FALSE)","v":"数学"},"58.50"]
[639,"李筑敏",20230603012406,24,"06",220,{"$f":"VLOOKUP(F641,[1]总表!$A$3:$AF$30000,31,FALSE)","v":"小学"},{"$f":"VLOOKUP(F641,[1]总表!$A$3:$AF$30000,32,FALSE)","v":"数学"},"36"]
[640,"董美男",20230603012407,24,"07",633,{"$f":"VLOOKUP(F642,[1]总表!$A$3:$AF$30000,31,FALSE)","v":"小学"},{"$f":"VLOOKUP(F642,[1]总表!$A$3:$AF$30000,32,FALSE)","v":"数学"},"64"]
[641,"陈阳",20230603012408,24,"08",685,{"$f":"VLOOKUP(F643,[1]总表!$A$3:$AF$30000,31,FALSE)","v":"小学"},{"$f":"VLOOKUP(F643,[1]总表!$A$3:$AF$30000,32,FALSE)","v":"数学"},"76"]
[642,"湛铃铃",20230603012409,24,"09",504,{"$f":"VLOOKUP(F644,[1]总表!$A$3:$AF$30000,31,FALSE)","v":"小学"},{"$f":"VLOOKUP(F644,[1]总表!$A$3:$AF$30000,32,FALSE)","v":"数学"},"60"]
[643,"李远琴",20230603012410,24,"10",418,{"$f":"VLOOKUP(F645,[1]总表!$A$3:$AF$30000,31,FALSE)","v":"小学"},{"$f":"VLOOKUP(F645,[1]总表!$A$3:$AF$30000,32,FALSE)","v":"数学"},"26.50"]
[644,"陈放敏",20230603012411,24,"11",394,{"$f":"VLOOKUP(F646,[1]总表!$A$3:$AF$30000,31,FALSE)","v":"小学"},{"$f":"VLOOKUP(F646,[1]总表!$A$3:$AF$30000,32,FALSE)","v":"数学"},"40.50"]
[645,"邹京",20230603012412,24,"12",539,{"$f":"VLOOKUP(F647,[1]总表!$A$3:$AF$30000,31,FALSE)","v":"小学"},{"$f":"VLOOKUP(F647,[1]总表!$A$3:$AF$30000,32,FALSE)","v":"数学"},"30"]
[646,"秦小艳",20230603012413,24,"13",201,{"$f":"VLOOKUP(F648,[1]总表!$A$3:$AF$30000,31,FALSE)","v":"小学"},{"$f":"VLOOKUP(F648,[1]总表!$A$3:$AF$30000,32,FALSE)","v":"数学"},"缺考"]
[647,"梅成容",20230603012414,24,"14",255,{"$f":"VLOOKUP(F649,[1]总表!$A$3:$AF$30000,31,FALSE)","v":"小学"},{"$f":"VLOOKUP(F649,[1]总表!$A$3:$AF$30000,32,FALSE)","v":"数学"},"45.50"]
[648,"谢勇霞",20230603012415,24,"15",379,{"$f":"VLOOKUP(F650,[1]总表!$A$3:$AF$30000,31,FALSE)","v":"小学"},{"$f":"VLOOKUP(F650,[1]总表!$A$3:$AF$30000,32,FALSE)","v":"数学"},"缺考"]
[649,"滕雪令",20230603012416,24,"16",378,{"$f":"VLOOKUP(F651,[1]总表!$A$3:$AF$30000,31,FALSE)","v":"小学"},{"$f":"VLOOKUP(F651,[1]总表!$A$3:$AF$30000,32,FALSE)","v":"数学"},"37"]
[650,"袁金沙",20230603012417,24,"17",690,{"$f":"VLOOKUP(F652,[1]总表!$A$3:$AF$30000,31,FALSE)","v":"小学"},{"$f":"VLOOKUP(F652,[1]总表!$A$3:$AF$30000,32,FALSE)","v":"数学"},"28.50"]
[651,"张念",20230603012418,24,"18",595,{"$f":"VLOOKUP(F653,[1]总表!$A$3:$AF$30000,31,FALSE)","v":"小学"},{"$f":"VLOOKUP(F653,[1]总表!$A$3:$AF$30000,32,FALSE)","v":"数学"},"57.50"]
[652,"王丽娟",20230603012419,24,"19",315,{"$f":"VLOOKUP(F654,[1]总表!$A$3:$AF$30000,31,FALSE)","v":"小学"},{"$f":"VLOOKUP(F654,[1]总表!$A$3:$AF$30000,32,FALSE)","v":"数学"},"38.50"]
[653,"黄娅",20230603012420,24,"20",412,{"$f":"VLOOKUP(F655,[1]总表!$A$3:$AF$30000,31,FALSE)","v":"小学"},{"$f":"VLOOKUP(F655,[1]总表!$A$3:$AF$30000,32,FALSE)","v":"数学"},"39.50"]
[654,"罗琳",20230603012421,24,"21",570,{"$f":"VLOOKUP(F656,[1]总表!$A$3:$AF$30000,31,FALSE)","v":"小学"},{"$f":"VLOOKUP(F656,[1]总表!$A$3:$AF$30000,32,FALSE)","v":"数学"},"80"]
[655,"黄隽鸿",20230603012422,24,"22",723,{"$f":"VLOOKUP(F657,[1]总表!$A$3:$AF$30000,31,FALSE)","v":"小学"},{"$f":"VLOOKUP(F657,[1]总表!$A$3:$AF$30000,32,FALSE)","v":"数学"},"71"]
[656,"许婧",20230603012423,24,"23",171,{"$f":"VLOOKUP(F658,[1]总表!$A$3:$AF$30000,31,FALSE)","v":"小学"},{"$f":"VLOOKUP(F658,[1]总表!$A$3:$AF$30000,32,FALSE)","v":"数学"},"78.50"]
[657,"付学能",20230603012424,24,"24",552,{"$f":"VLOOKUP(F659,[1]总表!$A$3:$AF$30000,31,FALSE)","v":"小学"},{"$f":"VLOOKUP(F659,[1]总表!$A$3:$AF$30000,32,FALSE)","v":"数学"},"84.50"]
[658,"黄晓江",20230603012425,24,"25",389,{"$f":"VLOOKUP(F660,[1]总表!$A$3:$AF$30000,31,FALSE)","v":"小学"},{"$f":"VLOOKUP(F660,[1]总表!$A$3:$AF$30000,32,FALSE)","v":"数学"},"87.50"]
[659,"刘诗琪",20230603012426,24,"26",525,{"$f":"VLOOKUP(F661,[1]总表!$A$3:$AF$30000,31,FALSE)","v":"小学"},{"$f":"VLOOKUP(F661,[1]总表!$A$3:$AF$30000,32,FALSE)","v":"数学"},"28.50"]
[660,"田彗",20230603012427,24,"27",316,{"$f":"VLOOKUP(F662,[1]总表!$A$3:$AF$30000,31,FALSE)","v":"小学"},{"$f":"VLOOKUP(F662,[1]总表!$A$3:$AF$30000,32,FALSE)","v":"数学"},"27.50"]
[661,"廖玲丽",20230603012428,24,"28",342,{"$f":"VLOOKUP(F663,[1]总表!$A$3:$AF$30000,31,FALSE)","v":"小学"},{"$f":"VLOOKUP(F663,[1]总表!$A$3:$AF$30000,32,FALSE)","v":"数学"},"25.50"]
[662,"张宁",20230603012429,24,"29",449,{"$f":"VLOOKUP(F664,[1]总表!$A$3:$AF$30000,31,FALSE)","v":"小学"},{"$f":"VLOOKUP(F664,[1]总表!$A$3:$AF$30000,32,FALSE)","v":"数学"},"78.50"]
[663,"龙小岚",20230603012430,24,"30",304,{"$f":"VLOOKUP(F665,[1]总表!$A$3:$AF$30000,31,FALSE)","v":"小学"},{"$f":"VLOOKUP(F665,[1]总表!$A$3:$AF$30000,32,FALSE)","v":"数学"},"17.50"]
[664,"曾祥禄",20230603012501,25,"01",678,{"$f":"VLOOKUP(F666,[1]总表!$A$3:$AF$30000,31,FALSE)","v":"小学"},{"$f":"VLOOKUP(F666,[1]总表!$A$3:$AF$30000,32,FALSE)","v":"数学"},"缺考"]
[665,"滕杰",20230603012502,25,"02",219,{"$f":"VLOOKUP(F667,[1]总表!$A$3:$AF$30000,31,FALSE)","v":"小学"},{"$f":"VLOOKUP(F667,[1]总表!$A$3:$AF$30000,32,FALSE)","v":"数学"},"23"]
[666,"杨稳",20230603012503,25,"03",430,{"$f":"VLOOKUP(F668,[1]总表!$A$3:$AF$30000,31,FALSE)","v":"小学"},{"$f":"VLOOKUP(F668,[1]总表!$A$3:$AF$30000,32,FALSE)","v":"数学"},"75"]
[667,"杨明娟",20230603012504,25,"04",498,{"$f":"VLOOKUP(F669,[1]总表!$A$3:$AF$30000,31,FALSE)","v":"小学"},{"$f":"VLOOKUP(F669,[1]总表!$A$3:$AF$30000,32,FALSE)","v":"数学"},"32.50"]
[668,"张峰",20230603012505,25,"05",345,{"$f":"VLOOKUP(F670,[1]总表!$A$3:$AF$30000,31,FALSE)","v":"小学"},{"$f":"VLOOKUP(F670,[1]总表!$A$3:$AF$30000,32,FALSE)","v":"数学"},"18"]
[669,"曾艳",20230603012506,25,"06",694,{"$f":"VLOOKUP(F671,[1]总表!$A$3:$AF$30000,31,FALSE)","v":"小学"},{"$f":"VLOOKUP(F671,[1]总表!$A$3:$AF$30000,32,FALSE)","v":"数学"},"32.50"]
[670,"赵才飞",20230603012507,25,"07",578,{"$f":"VLOOKUP(F672,[1]总表!$A$3:$AF$30000,31,FALSE)","v":"小学"},{"$f":"VLOOKUP(F672,[1]总表!$A$3:$AF$30000,32,FALSE)","v":"数学"},"34.50"]
[671,"杨晴",20230603012508,25,"08",344,{"$f":"VLOOKUP(F673,[1]总表!$A$3:$AF$30000,31,FALSE)","v":"小学"},{"$f":"VLOOKUP(F673,[1]总表!$A$3:$AF$30000,32,FALSE)","v":"数学"},"71.50"]
[672,"方颖",20230603012509,25,"09",326,{"$f":"VLOOKUP(F674,[1]总表!$A$3:$AF$30000,31,FALSE)","v":"小学"},{"$f":"VLOOKUP(F674,[1]总表!$A$3:$AF$30000,32,FALSE)","v":"数学"},"40"]
[673,"李小凯",20230603012510,25,"10",506,{"$f":"VLOOKUP(F675,[1]总表!$A$3:$AF$30000,31,FALSE)","v":"小学"},{"$f":"VLOOKUP(F675,[1]总表!$A$3:$AF$30000,32,FALSE)","v":"数学"},"24"]
[674,"秦姗",20230603012511,25,"11",244,{"$f":"VLOOKUP(F676,[1]总表!$A$3:$AF$30000,31,FALSE)","v":"小学"},{"$f":"VLOOKUP(F676,[1]总表!$A$3:$AF$30000,32,FALSE)","v":"数学"},"29"]
[675,"贺正兰",20230603012512,25,"12",483,{"$f":"VLOOKUP(F677,[1]总表!$A$3:$AF$30000,31,FALSE)","v":"小学"},{"$f":"VLOOKUP(F677,[1]总表!$A$3:$AF$30000,32,FALSE)","v":"数学"},"41"]
[676,"任慧",20230603012513,25,"13",186,{"$f":"VLOOKUP(F678,[1]总表!$A$3:$AF$30000,31,FALSE)","v":"小学"},{"$f":"VLOOKUP(F678,[1]总表!$A$3:$AF$30000,32,FALSE)","v":"数学"},"51"]
[677,"杨田",20230603012514,25,"14",253,{"$f":"VLOOKUP(F679,[1]总表!$A$3:$AF$30000,31,FALSE)","v":"小学"},{"$f":"VLOOKUP(F679,[1]总表!$A$3:$AF$30000,32,FALSE)","v":"数学"},"缺考"]
[678,"吴徐琴",20230603012515,25,"15",617,{"$f":"VLOOKUP(F680,[1]总表!$A$3:$AF$30000,31,FALSE)","v":"小学"},{"$f":"VLOOKUP(F680,[1]总表!$A$3:$AF$30000,32,FALSE)","v":"数学"},"43"]
[679,"田缘缘",20230603012516,25,"16",618,{"$f":"VLOOKUP(F681,[1]总表!$A$3:$AF$30000,31,FALSE)","v":"小学"},{"$f":"VLOOKUP(F681,[1]总表!$A$3:$AF$30000,32,FALSE)","v":"数学"},"缺考"]
[680,"杨雷",20230603012517,25,"17",611,{"$f":"VLOOKUP(F682,[1]总表!$A$3:$AF$30000,31,FALSE)","v":"小学"},{"$f":"VLOOKUP(F682,[1]总表!$A$3:$AF$30000,32,FALSE)","v":"数学"},"74.50"]
[681,"龙自镪",20230603012518,25,"18",628,{"$f":"VLOOKUP(F683,[1]总表!$A$3:$AF$30000,31,FALSE)","v":"小学"},{"$f":"VLOOKUP(F683,[1]总表!$A$3:$AF$30000,32,FALSE)","v":"数学"},"79.50"]
[682,"石俊",20230603012519,25,"19",182,{"$f":"VLOOKUP(F684,[1]总表!$A$3:$AF$30000,31,FALSE)","v":"小学"},{"$f":"VLOOKUP(F684,[1]总表!$A$3:$AF$30000,32,FALSE)","v":"数学"},"缺考"]
[683,"彭愿",20230603012520,25,"20",503,{"$f":"VLOOKUP(F685,[1]总表!$A$3:$AF$30000,31,FALSE)","v":"小学"},{"$f":"VLOOKUP(F685,[1]总表!$A$3:$AF$30000,32,FALSE)","v":"数学"},"60"]
[684,"王建松",20230603012521,25,"21",622,{"$f":"VLOOKUP(F686,[1]总表!$A$3:$AF$30000,31,FALSE)","v":"小学"},{"$f":"VLOOKUP(F686,[1]总表!$A$3:$AF$30000,32,FALSE)","v":"数学"},"84.50"]
[685,"冯风超",20230603012522,25,"22",510,{"$f":"VLOOKUP(F687,[1]总表!$A$3:$AF$30000,31,FALSE)","v":"小学"},{"$f":"VLOOKUP(F687,[1]总表!$A$3:$AF$30000,32,FALSE)","v":"数学"},"38"]
[686,"张凤应",20230603012523,25,"23",359,{"$f":"VLOOKUP(F688,[1]总表!$A$3:$AF$30000,31,FALSE)","v":"小学"},{"$f":"VLOOKUP(F688,[1]总表!$A$3:$AF$30000,32,FALSE)","v":"数学"},"27.50"]
[687,"孙夜仙",20230603012524,25,"24",545,{"$f":"VLOOKUP(F689,[1]总表!$A$3:$AF$30000,31,FALSE)","v":"小学"},{"$f":"VLOOKUP(F689,[1]总表!$A$3:$AF$30000,32,FALSE)","v":"数学"},"77"]
[688,"龙红英",20230603012525,25,"25",356,{"$f":"VLOOKUP(F690,[1]总表!$A$3:$AF$30000,31,FALSE)","v":"小学"},{"$f":"VLOOKUP(F690,[1]总表!$A$3:$AF$30000,32,FALSE)","v":"数学"},"35"]
[689,"简许霞",20230603012526,25,"26",649,{"$f":"VLOOKUP(F691,[1]总表!$A$3:$AF$30000,31,FALSE)","v":"小学"},{"$f":"VLOOKUP(F691,[1]总表!$A$3:$AF$30000,32,FALSE)","v":"数学"},"25"]
[690,"蒲佳亨",20230603012527,25,"27",561,{"$f":"VLOOKUP(F692,[1]总表!$A$3:$AF$30000,31,FALSE)","v":"小学"},{"$f":"VLOOKUP(F692,[1]总表!$A$3:$AF$30000,32,FALSE)","v":"数学"},"44"]
[691,"熊玉冬",20230603012528,25,"28",375,{"$f":"VLOOKUP(F693,[1]总表!$A$3:$AF$30000,31,FALSE)","v":"小学"},{"$f":"VLOOKUP(F693,[1]总表!$A$3:$AF$30000,32,FALSE)","v":"数学"},"28"]
[692,"张开锋",20230603012529,25,"29",354,{"$f":"VLOOKUP(F694,[1]总表!$A$3:$AF$30000,31,FALSE)","v":"小学"},{"$f":"VLOOKUP(F694,[1]总表!$A$3:$AF$30000,32,FALSE)","v":"数学"},"70"]
[693,"王娅",20230603012530,25,"30",717,{"$f":"VLOOKUP(F695,[1]总表!$A$3:$AF$30000,31,FALSE)","v":"小学"},{"$f":"VLOOKUP(F695,[1]总表!$A$3:$AF$30000,32,FALSE)","v":"数学"},"62.50"]
[694,"姚婷",20230603012601,26,"01",639,{"$f":"VLOOKUP(F696,[1]总表!$A$3:$AF$30000,31,FALSE)","v":"小学"},{"$f":"VLOOKUP(F696,[1]总表!$A$3:$AF$30000,32,FALSE)","v":"数学"},"40"]
[695,"周玉",20230603012602,26,"02",264,{"$f":"VLOOKUP(F697,[1]总表!$A$3:$AF$30000,31,FALSE)","v":"小学"},{"$f":"VLOOKUP(F697,[1]总表!$A$3:$AF$30000,32,FALSE)","v":"数学"},"43"]
[696,"杨银",20230603012603,26,"03",380,{"$f":"VLOOKUP(F698,[1]总表!$A$3:$AF$30000,31,FALSE)","v":"小学"},{"$f":"VLOOKUP(F698,[1]总表!$A$3:$AF$30000,32,FALSE)","v":"数学"},"29.50"]
[697,"龙美",20230603012604,26,"04",401,{"$f":"VLOOKUP(F699,[1]总表!$A$3:$AF$30000,31,FALSE)","v":"小学"},{"$f":"VLOOKUP(F699,[1]总表!$A$3:$AF$30000,32,FALSE)","v":"数学"},"33"]
[698,"曾星",20230603012605,26,"05",154,{"$f":"VLOOKUP(F700,[1]总表!$A$3:$AF$30000,31,FALSE)","v":"小学"},{"$f":"VLOOKUP(F700,[1]总表!$A$3:$AF$30000,32,FALSE)","v":"数学"},"66"]
[699,"杨智",20230603012606,26,"06",266,{"$f":"VLOOKUP(F701,[1]总表!$A$3:$AF$30000,31,FALSE)","v":"小学"},{"$f":"VLOOKUP(F701,[1]总表!$A$3:$AF$30000,32,FALSE)","v":"数学"},"33.50"]
[700,"刘灵江",20230603012607,26,"07",205,{"$f":"VLOOKUP(F702,[1]总表!$A$3:$AF$30000,31,FALSE)","v":"小学"},{"$f":"VLOOKUP(F702,[1]总表!$A$3:$AF$30000,32,FALSE)","v":"数学"},"50"]
[701,"陈雪玲",20230603012608,26,"08",687,{"$f":"VLOOKUP(F703,[1]总表!$A$3:$AF$30000,31,FALSE)","v":"小学"},{"$f":"VLOOKUP(F703,[1]总表!$A$3:$AF$30000,32,FALSE)","v":"数学"},"58"]
[702,"杨锐涵",20230603012609,26,"09",187,{"$f":"VLOOKUP(F704,[1]总表!$A$3:$AF$30000,31,FALSE)","v":"小学"},{"$f":"VLOOKUP(F704,[1]总表!$A$3:$AF$30000,32,FALSE)","v":"数学"},"21.50"]
[703,"周咪",20230603012610,26,"10",607,{"$f":"VLOOKUP(F705,[1]总表!$A$3:$AF$30000,31,FALSE)","v":"小学"},{"$f":"VLOOKUP(F705,[1]总表!$A$3:$AF$30000,32,FALSE)","v":"数学"},"缺考"]
[704,"田鹤",20230603012611,26,"11",428,{"$f":"VLOOKUP(F706,[1]总表!$A$3:$AF$30000,31,FALSE)","v":"小学"},{"$f":"VLOOKUP(F706,[1]总表!$A$3:$AF$30000,32,FALSE)","v":"数学"},"缺考"]
[705,"梅溢",20230603012612,26,"12",654,{"$f":"VLOOKUP(F707,[1]总表!$A$3:$AF$30000,31,FALSE)","v":"小学"},{"$f":"VLOOKUP(F707,[1]总表!$A$3:$AF$30000,32,FALSE)","v":"数学"},"31"]
[706,"郭爱华",20230603012613,26,"13",721,{"$f":"VLOOKUP(F708,[1]总表!$A$3:$AF$30000,31,FALSE)","v":"小学"},{"$f":"VLOOKUP(F708,[1]总表!$A$3:$AF$30000,32,FALSE)","v":"数学"},"40"]
[707,"卢旋",20230603012614,26,"14",433,{"$f":"VLOOKUP(F709,[1]总表!$A$3:$AF$30000,31,FALSE)","v":"小学"},{"$f":"VLOOKUP(F709,[1]总表!$A$3:$AF$30000,32,FALSE)","v":"数学"},"52.50"]
[708,"张芬",20230603012615,26,"15",268,{"$f":"VLOOKUP(F710,[1]总表!$A$3:$AF$30000,31,FALSE)","v":"小学"},{"$f":"VLOOKUP(F710,[1]总表!$A$3:$AF$30000,32,FALSE)","v":"数学"},"67.50"]
[709,"何东东",20230603012616,26,"16",381,{"$f":"VLOOKUP(F711,[1]总表!$A$3:$AF$30000,31,FALSE)","v":"小学"},{"$f":"VLOOKUP(F711,[1]总表!$A$3:$AF$30000,32,FALSE)","v":"数学"},"26.50"]
[710,"蒲国芳",20230603012617,26,"17",321,{"$f":"VLOOKUP(F712,[1]总表!$A$3:$AF$30000,31,FALSE)","v":"小学"},{"$f":"VLOOKUP(F712,[1]总表!$A$3:$AF$30000,32,FALSE)","v":"数学"},"34"]
[711,"谢双",20230603012618,26,"18",178,{"$f":"VLOOKUP(F713,[1]总表!$A$3:$AF$30000,31,FALSE)","v":"小学"},{"$f":"VLOOKUP(F713,[1]总表!$A$3:$AF$30000,32,FALSE)","v":"数学"},"61"]
[712,"王宁宇",20230603012619,26,"19",663,{"$f":"VLOOKUP(F714,[1]总表!$A$3:$AF$30000,31,FALSE)","v":"小学"},{"$f":"VLOOKUP(F714,[1]总表!$A$3:$AF$30000,32,FALSE)","v":"数学"},"53"]
[713,"符宁",20230603012620,26,"20",641,{"$f":"VLOOKUP(F715,[1]总表!$A$3:$AF$30000,31,FALSE)","v":"小学"},{"$f":"VLOOKUP(F715,[1]总表!$A$3:$AF$30000,32,FALSE)","v":"数学"},"27"]
[714,"张倩倩",20230603012621,26,"21",238,{"$f":"VLOOKUP(F716,[1]总表!$A$3:$AF$30000,31,FALSE)","v":"小学"},{"$f":"VLOOKUP(F716,[1]总表!$A$3:$AF$30000,32,FALSE)","v":"数学"},"80"]
[715,"蒋国梅",20230603012622,26,"22",312,{"$f":"VLOOKUP(F717,[1]总表!$A$3:$AF$30000,31,FALSE)","v":"小学"},{"$f":"VLOOKUP(F717,[1]总表!$A$3:$AF$30000,32,FALSE)","v":"数学"},"44.50"]
[716,"田太桥",20230603012623,26,"23",283,{"$f":"VLOOKUP(F718,[1]总表!$A$3:$AF$30000,31,FALSE)","v":"小学"},{"$f":"VLOOKUP(F718,[1]总表!$A$3:$AF$30000,32,FALSE)","v":"数学"},"缺考"]
[717,"涂国丽",20230603012624,26,"24",516,{"$f":"VLOOKUP(F719,[1]总表!$A$3:$AF$30000,31,FALSE)","v":"小学"},{"$f":"VLOOKUP(F719,[1]总表!$A$3:$AF$30000,32,FALSE)","v":"数学"},"48.50"]
[718,"杨晨",20230603012625,26,"25",313,{"$f":"VLOOKUP(F720,[1]总表!$A$3:$AF$30000,31,FALSE)","v":"小学"},{"$f":"VLOOKUP(F720,[1]总表!$A$3:$AF$30000,32,FALSE)","v":"数学"},"44"]
[719,"陈小艳",20230603012626,26,"26",173,{"$f":"VLOOKUP(F721,[1]总表!$A$3:$AF$30000,31,FALSE)","v":"小学"},{"$f":"VLOOKUP(F721,[1]总表!$A$3:$AF$30000,32,FALSE)","v":"数学"},"25.50"]
[720,"姚秀端",20230603012627,26,"27",265,{"$f":"VLOOKUP(F722,[1]总表!$A$3:$AF$30000,31,FALSE)","v":"小学"},{"$f":"VLOOKUP(F722,[1]总表!$A$3:$AF$30000,32,FALSE)","v":"数学"},"缺考"]
[721,"张自斌",20230603012628,26,"28",234,{"$f":"VLOOKUP(F723,[1]总表!$A$3:$AF$30000,31,FALSE)","v":"小学"},{"$f":"VLOOKUP(F723,[1]总表!$A$3:$AF$30000,32,FALSE)","v":"数学"},"缺考"]
[722,"冉蓉蓉",20230603012629,26,"29",558,{"$f":"VLOOKUP(F724,[1]总表!$A$3:$AF$30000,31,FALSE)","v":"小学"},{"$f":"VLOOKUP(F724,[1]总表!$A$3:$AF$30000,32,FALSE)","v":"数学"},"32"]
[723,"杨琳",20230603012630,26,"30",580,{"$f":"VLOOKUP(F725,[1]总表!$A$3:$AF$30000,31,FALSE)","v":"小学"},{"$f":"VLOOKUP(F725,[1]总表!$A$3:$AF$30000,32,FALSE)","v":"数学"},"50.50"]
[724,"朱连",20230603012701,27,"01",259,{"$f":"VLOOKUP(F726,[1]总表!$A$3:$AF$30000,31,FALSE)","v":"小学"},{"$f":"VLOOKUP(F726,[1]总表!$A$3:$AF$30000,32,FALSE)","v":"数学"},"51"]
[725,"田小燕",20230603012702,27,"02",508,{"$f":"VLOOKUP(F727,[1]总表!$A$3:$AF$30000,31,FALSE)","v":"小学"},{"$f":"VLOOKUP(F727,[1]总表!$A$3:$AF$30000,32,FALSE)","v":"数学"},"缺考"]
[726,"冯克敏",20230603012703,27,"03",608,{"$f":"VLOOKUP(F728,[1]总表!$A$3:$AF$30000,31,FALSE)","v":"小学"},{"$f":"VLOOKUP(F728,[1]总表!$A$3:$AF$30000,32,FALSE)","v":"数学"},"缺考"]
[727,"覃国蓉",20230603012704,27,"04",555,{"$f":"VLOOKUP(F729,[1]总表!$A$3:$AF$30000,31,FALSE)","v":"小学"},{"$f":"VLOOKUP(F729,[1]总表!$A$3:$AF$30000,32,FALSE)","v":"数学"},"31"]
[728,"陈丹妮",20230603012705,27,"05",181,{"$f":"VLOOKUP(F730,[1]总表!$A$3:$AF$30000,31,FALSE)","v":"小学"},{"$f":"VLOOKUP(F730,[1]总表!$A$3:$AF$30000,32,FALSE)","v":"数学"},"27.50"]
[729,"黄瑞平",20230603012706,27,"06",383,{"$f":"VLOOKUP(F731,[1]总表!$A$3:$AF$30000,31,FALSE)","v":"小学"},{"$f":"VLOOKUP(F731,[1]总表!$A$3:$AF$30000,32,FALSE)","v":"数学"},"48"]
[730,"黎莉慧",20230603012707,27,"07",722,{"$f":"VLOOKUP(F732,[1]总表!$A$3:$AF$30000,31,FALSE)","v":"小学"},{"$f":"VLOOKUP(F732,[1]总表!$A$3:$AF$30000,32,FALSE)","v":"数学"},"62"]
[731,"唐瑞",20230603012708,27,"08",688,{"$f":"VLOOKUP(F733,[1]总表!$A$3:$AF$30000,31,FALSE)","v":"小学"},{"$f":"VLOOKUP(F733,[1]总表!$A$3:$AF$30000,32,FALSE)","v":"数学"},"47.50"]
[732,"谢雪琴",20230603012709,27,"09",215,{"$f":"VLOOKUP(F734,[1]总表!$A$3:$AF$30000,31,FALSE)","v":"小学"},{"$f":"VLOOKUP(F734,[1]总表!$A$3:$AF$30000,32,FALSE)","v":"数学"},"56"]
[733,"游家曼",20230603012710,27,"10",293,{"$f":"VLOOKUP(F735,[1]总表!$A$3:$AF$30000,31,FALSE)","v":"小学"},{"$f":"VLOOKUP(F735,[1]总表!$A$3:$AF$30000,32,FALSE)","v":"数学"},"66.50"]
[734,"程丽娟",20230603012711,27,"11",530,{"$f":"VLOOKUP(F736,[1]总表!$A$3:$AF$30000,31,FALSE)","v":"小学"},{"$f":"VLOOKUP(F736,[1]总表!$A$3:$AF$30000,32,FALSE)","v":"数学"},"26"]
[735,"冯彦辉",20230603012712,27,"12",636,{"$f":"VLOOKUP(F737,[1]总表!$A$3:$AF$30000,31,FALSE)","v":"小学"},{"$f":"VLOOKUP(F737,[1]总表!$A$3:$AF$30000,32,FALSE)","v":"数学"},"60.50"]
[736,"任敏",20230603012713,27,"13",161,{"$f":"VLOOKUP(F738,[1]总表!$A$3:$AF$30000,31,FALSE)","v":"小学"},{"$f":"VLOOKUP(F738,[1]总表!$A$3:$AF$30000,32,FALSE)","v":"数学"},"缺考"]
[737,"廖涛",20230603012714,27,"14",656,{"$f":"VLOOKUP(F739,[1]总表!$A$3:$AF$30000,31,FALSE)","v":"小学"},{"$f":"VLOOKUP(F739,[1]总表!$A$3:$AF$30000,32,FALSE)","v":"数学"},"71"]
[738,"张丽",20230603012715,27,"15",702,{"$f":"VLOOKUP(F740,[1]总表!$A$3:$AF$30000,31,FALSE)","v":"小学"},{"$f":"VLOOKUP(F740,[1]总表!$A$3:$AF$30000,32,FALSE)","v":"数学"},"31.50"]
[739,"徐露",20230603012716,27,"16",338,{"$f":"VLOOKUP(F741,[1]总表!$A$3:$AF$30000,31,FALSE)","v":"小学"},{"$f":"VLOOKUP(F741,[1]总表!$A$3:$AF$30000,32,FALSE)","v":"数学"},"37"]
[740,"龙金鱼",20230603012717,27,"17",700,{"$f":"VLOOKUP(F742,[1]总表!$A$3:$AF$30000,31,FALSE)","v":"小学"},{"$f":"VLOOKUP(F742,[1]总表!$A$3:$AF$30000,32,FALSE)","v":"数学"},"25.50"]
[741,"曾凡菲",20230603012718,27,"18",698,{"$f":"VLOOKUP(F743,[1]总表!$A$3:$AF$30000,31,FALSE)","v":"小学"},{"$f":"VLOOKUP(F743,[1]总表!$A$3:$AF$30000,32,FALSE)","v":"数学"},"16.50"]
[742,"夏昌",20230603012719,27,"19",423,{"$f":"VLOOKUP(F744,[1]总表!$A$3:$AF$30000,31,FALSE)","v":"小学"},{"$f":"VLOOKUP(F744,[1]总表!$A$3:$AF$30000,32,FALSE)","v":"数学"},"38.50"]
[743,"陈富",20230603012720,27,"20",393,{"$f":"VLOOKUP(F745,[1]总表!$A$3:$AF$30000,31,FALSE)","v":"小学"},{"$f":"VLOOKUP(F745,[1]总表!$A$3:$AF$30000,32,FALSE)","v":"数学"},"35.50"]
[744,"雷凤华",20230603012721,27,"21",324,{"$f":"VLOOKUP(F746,[1]总表!$A$3:$AF$30000,31,FALSE)","v":"小学"},{"$f":"VLOOKUP(F746,[1]总表!$A$3:$AF$30000,32,FALSE)","v":"数学"},"50.50"]
[745,"张超雲",20230603012722,27,"22",646,{"$f":"VLOOKUP(F747,[1]总表!$A$3:$AF$30000,31,FALSE)","v":"小学"},{"$f":"VLOOKUP(F747,[1]总表!$A$3:$AF$30000,32,FALSE)","v":"数学"},"43.50"]
[746,"邹美玲",20230603012723,27,"23",603,{"$f":"VLOOKUP(F748,[1]总表!$A$3:$AF$30000,31,FALSE)","v":"小学"},{"$f":"VLOOKUP(F748,[1]总表!$A$3:$AF$30000,32,FALSE)","v":"数学"},"缺考"]
[747,"罗沙",20230603012724,27,"24",480,{"$f":"VLOOKUP(F749,[1]总表!$A$3:$AF$30000,31,FALSE)","v":"小学"},{"$f":"VLOOKUP(F749,[1]总表!$A$3:$AF$30000,32,FALSE)","v":"数学"},"24"]
[748,"杨麦怡",20230603012725,27,"25",251,{"$f":"VLOOKUP(F750,[1]总表!$A$3:$AF$30000,31,FALSE)","v":"小学"},{"$f":"VLOOKUP(F750,[1]总表!$A$3:$AF$30000,32,FALSE)","v":"数学"},"45"]
[749,"何世霞",20230603012726,27,"26",522,{"$f":"VLOOKUP(F751,[1]总表!$A$3:$AF$30000,31,FALSE)","v":"小学"},{"$f":"VLOOKUP(F751,[1]总表!$A$3:$AF$30000,32,FALSE)","v":"数学"},"缺考"]
[750,"李诗",20230603012727,27,"27",583,{"$f":"VLOOKUP(F752,[1]总表!$A$3:$AF$30000,31,FALSE)","v":"小学"},{"$f":"VLOOKUP(F752,[1]总表!$A$3:$AF$30000,32,FALSE)","v":"数学"},"36"]
[751,"吴开琴",20230603012728,27,"28",572,{"$f":"VLOOKUP(F753,[1]总表!$A$3:$AF$30000,31,FALSE)","v":"小学"},{"$f":"VLOOKUP(F753,[1]总表!$A$3:$AF$30000,32,FALSE)","v":"数学"},"48"]
[752,"陈白慧",20230603012729,27,"29",367,{"$f":"VLOOKUP(F754,[1]总表!$A$3:$AF$30000,31,FALSE)","v":"小学"},{"$f":"VLOOKUP(F754,[1]总表!$A$3:$AF$30000,32,FALSE)","v":"数学"},"65.50"]
[753,"龙正炜",20230603012730,27,"30",473,{"$f":"VLOOKUP(F755,[1]总表!$A$3:$AF$30000,31,FALSE)","v":"小学"},{"$f":"VLOOKUP(F755,[1]总表!$A$3:$AF$30000,32,FALSE)","v":"数学"},"27.50"]
[754,"张玉镜",20230603012801,"28","01",541,{"$f":"VLOOKUP(F756,[1]总表!$A$3:$AF$30000,31,FALSE)","v":"小学"},{"$f":"VLOOKUP(F756,[1]总表!$A$3:$AF$30000,32,FALSE)","v":"数学"},"69"]
[755,"李连艳",20230603012802,"28","02",427,{"$f":"VLOOKUP(F757,[1]总表!$A$3:$AF$30000,31,FALSE)","v":"小学"},{"$f":"VLOOKUP(F757,[1]总表!$A$3:$AF$30000,32,FALSE)","v":"数学"},"45.50"]
[756,"杨芳",20230603012803,"28","03",165,{"$f":"VLOOKUP(F758,[1]总表!$A$3:$AF$30000,31,FALSE)","v":"小学"},{"$f":"VLOOKUP(F758,[1]总表!$A$3:$AF$30000,32,FALSE)","v":"数学"},"32"]
[757,"石银园",20230603012804,"28","04",158,{"$f":"VLOOKUP(F759,[1]总表!$A$3:$AF$30000,31,FALSE)","v":"小学"},{"$f":"VLOOKUP(F759,[1]总表!$A$3:$AF$30000,32,FALSE)","v":"数学"},"28.50"]
[758,"蒲文婷",20230603012805,"28","05",294,{"$f":"VLOOKUP(F760,[1]总表!$A$3:$AF$30000,31,FALSE)","v":"小学"},{"$f":"VLOOKUP(F760,[1]总表!$A$3:$AF$30000,32,FALSE)","v":"数学"},"32.50"]
[759,"龙自标",20230603012806,"28","06",444,{"$f":"VLOOKUP(F761,[1]总表!$A$3:$AF$30000,31,FALSE)","v":"小学"},{"$f":"VLOOKUP(F761,[1]总表!$A$3:$AF$30000,32,FALSE)","v":"数学"},"37"]
[760,"李媛媛",20230603012807,"28","07",565,{"$f":"VLOOKUP(F762,[1]总表!$A$3:$AF$30000,31,FALSE)","v":"小学"},{"$f":"VLOOKUP(F762,[1]总表!$A$3:$AF$30000,32,FALSE)","v":"数学"},"52.50"]
[761,"赵宾莲",20230603012808,"28","08",696,{"$f":"VLOOKUP(F763,[1]总表!$A$3:$AF$30000,31,FALSE)","v":"小学"},{"$f":"VLOOKUP(F763,[1]总表!$A$3:$AF$30000,32,FALSE)","v":"数学"},"41.50"]
[762,"龚露露",20230603012809,"28","09",531,{"$f":"VLOOKUP(F764,[1]总表!$A$3:$AF$30000,31,FALSE)","v":"小学"},{"$f":"VLOOKUP(F764,[1]总表!$A$3:$AF$30000,32,FALSE)","v":"数学"},"缺考"]
[763,"杨政",20230603012810,"28","10",237,{"$f":"VLOOKUP(F765,[1]总表!$A$3:$AF$30000,31,FALSE)","v":"小学"},{"$f":"VLOOKUP(F765,[1]总表!$A$3:$AF$30000,32,FALSE)","v":"数学"},"缺考"]
[764,"田勤",20230603012811,"28","11",528,{"$f":"VLOOKUP(F766,[1]总表!$A$3:$AF$30000,31,FALSE)","v":"小学"},{"$f":"VLOOKUP(F766,[1]总表!$A$3:$AF$30000,32,FALSE)","v":"数学"},"47.50"]
[765,"余文广",20230603012812,"28","12",543,{"$f":"VLOOKUP(F767,[1]总表!$A$3:$AF$30000,31,FALSE)","v":"小学"},{"$f":"VLOOKUP(F767,[1]总表!$A$3:$AF$30000,32,FALSE)","v":"数学"},"71.50"]
[766,"杨晓青",20230603012813,"28","13",217,{"$f":"VLOOKUP(F768,[1]总表!$A$3:$AF$30000,31,FALSE)","v":"小学"},{"$f":"VLOOKUP(F768,[1]总表!$A$3:$AF$30000,32,FALSE)","v":"数学"},"61.50"]
[767,"石三",20230603012814,"28","14",364,{"$f":"VLOOKUP(F769,[1]总表!$A$3:$AF$30000,31,FALSE)","v":"小学"},{"$f":"VLOOKUP(F769,[1]总表!$A$3:$AF$30000,32,FALSE)","v":"数学"},"30"]
[768,"王燕",20230603012815,"28","15",245,{"$f":"VLOOKUP(F770,[1]总表!$A$3:$AF$30000,31,FALSE)","v":"小学"},{"$f":"VLOOKUP(F770,[1]总表!$A$3:$AF$30000,32,FALSE)","v":"数学"},"缺考"]
[769,"陈余飞",20230603012816,"28","16",598,{"$f":"VLOOKUP(F771,[1]总表!$A$3:$AF$30000,31,FALSE)","v":"小学"},{"$f":"VLOOKUP(F771,[1]总表!$A$3:$AF$30000,32,FALSE)","v":"数学"},"45"]
[770,"曹艳",20230603012817,"28","17",544,{"$f":"VLOOKUP(F772,[1]总表!$A$3:$AF$30000,31,FALSE)","v":"小学"},{"$f":"VLOOKUP(F772,[1]总表!$A$3:$AF$30000,32,FALSE)","v":"数学"},"48"]
[771,"李维",20230603012818,"28","18",707,{"$f":"VLOOKUP(F773,[1]总表!$A$3:$AF$30000,31,FALSE)","v":"小学"},{"$f":"VLOOKUP(F773,[1]总表!$A$3:$AF$30000,32,FALSE)","v":"数学"},"39.50"]
[772,"赵才团",20230603012819,"28","19",546,{"$f":"VLOOKUP(F774,[1]总表!$A$3:$AF$30000,31,FALSE)","v":"小学"},{"$f":"VLOOKUP(F774,[1]总表!$A$3:$AF$30000,32,FALSE)","v":"数学"},"缺考"]
[773,"何少华",20230603012820,"28","20",579,{"$f":"VLOOKUP(F775,[1]总表!$A$3:$AF$30000,31,FALSE)","v":"小学"},{"$f":"VLOOKUP(F775,[1]总表!$A$3:$AF$30000,32,FALSE)","v":"数学"},"38"]
[774,"雷琴",20230603012821,"28","21",407,{"$f":"VLOOKUP(F776,[1]总表!$A$3:$AF$30000,31,FALSE)","v":"小学"},{"$f":"VLOOKUP(F776,[1]总表!$A$3:$AF$30000,32,FALSE)","v":"数学"},"62"]
[775,"陈劼怡",20230603012822,"28","22",699,{"$f":"VLOOKUP(F777,[1]总表!$A$3:$AF$30000,31,FALSE)","v":"小学"},{"$f":"VLOOKUP(F777,[1]总表!$A$3:$AF$30000,32,FALSE)","v":"数学"},"45"]
[776,"袁莉",20230603012823,"28","23",665,{"$f":"VLOOKUP(F778,[1]总表!$A$3:$AF$30000,31,FALSE)","v":"小学"},{"$f":"VLOOKUP(F778,[1]总表!$A$3:$AF$30000,32,FALSE)","v":"数学"},"78.50"]
[777,"安羽",20230603012824,"28","24",392,{"$f":"VLOOKUP(F779,[1]总表!$A$3:$AF$30000,31,FALSE)","v":"小学"},{"$f":"VLOOKUP(F779,[1]总表!$A$3:$AF$30000,32,FALSE)","v":"数学"},"缺考"]
[778,"李宇",20230603012825,"28","25",693,{"$f":"VLOOKUP(F780,[1]总表!$A$3:$AF$30000,31,FALSE)","v":"小学"},{"$f":"VLOOKUP(F780,[1]总表!$A$3:$AF$30000,32,FALSE)","v":"数学"},"31"]
[779,"潘桂梅",20230603012826,"28","26",269,{"$f":"VLOOKUP(F781,[1]总表!$A$3:$AF$30000,31,FALSE)","v":"小学"},{"$f":"VLOOKUP(F781,[1]总表!$A$3:$AF$30000,32,FALSE)","v":"数学"},"51.50"]
[780,"彭诗",20230603012827,"28","27",547,{"$f":"VLOOKUP(F782,[1]总表!$A$3:$AF$30000,31,FALSE)","v":"小学"},{"$f":"VLOOKUP(F782,[1]总表!$A$3:$AF$30000,32,FALSE)","v":"数学"},"46.50"]
[781,"田雪",20230603012828,"28","28",376,{"$f":"VLOOKUP(F783,[1]总表!$A$3:$AF$30000,31,FALSE)","v":"小学"},{"$f":"VLOOKUP(F783,[1]总表!$A$3:$AF$30000,32,FALSE)","v":"数学"},"65.50"]
[782,"杨芳",20230603012829,"28","29",512,{"$f":"VLOOKUP(F784,[1]总表!$A$3:$AF$30000,31,FALSE)","v":"小学"},{"$f":"VLOOKUP(F784,[1]总表!$A$3:$AF$30000,32,FALSE)","v":"数学"},"39"]
[783,"张甜",20230603012830,"28","30",683,{"$f":"VLOOKUP(F785,[1]总表!$A$3:$AF$30000,31,FALSE)","v":"小学"},{"$f":"VLOOKUP(F785,[1]总表!$A$3:$AF$30000,32,FALSE)","v":"数学"},"79"]
[784,"杨艳",20230603012901,29,"01",206,{"$f":"VLOOKUP(F786,[1]总表!$A$3:$AF$30000,31,FALSE)","v":"小学"},{"$f":"VLOOKUP(F786,[1]总表!$A$3:$AF$30000,32,FALSE)","v":"数学"},"缺考"]
[785,"訾成娥",20230603012902,29,"02",311,{"$f":"VLOOKUP(F787,[1]总表!$A$3:$AF$30000,31,FALSE)","v":"小学"},{"$f":"VLOOKUP(F787,[1]总表!$A$3:$AF$30000,32,FALSE)","v":"数学"},"75"]
[786,"刘珍英",20230603012903,29,"03",443,{"$f":"VLOOKUP(F788,[1]总表!$A$3:$AF$30000,31,FALSE)","v":"小学"},{"$f":"VLOOKUP(F788,[1]总表!$A$3:$AF$30000,32,FALSE)","v":"数学"},"31"]
[787,"王雪倩",20230603012904,29,"04",368,{"$f":"VLOOKUP(F789,[1]总表!$A$3:$AF$30000,31,FALSE)","v":"小学"},{"$f":"VLOOKUP(F789,[1]总表!$A$3:$AF$30000,32,FALSE)","v":"数学"},"缺考"]
[788,"龙艳",20230603012905,29,"05",287,{"$f":"VLOOKUP(F790,[1]总表!$A$3:$AF$30000,31,FALSE)","v":"小学"},{"$f":"VLOOKUP(F790,[1]总表!$A$3:$AF$30000,32,FALSE)","v":"数学"},"41"]
[789,"杜国洪",20230603012906,29,"06",630,{"$f":"VLOOKUP(F791,[1]总表!$A$3:$AF$30000,31,FALSE)","v":"小学"},{"$f":"VLOOKUP(F791,[1]总表!$A$3:$AF$30000,32,FALSE)","v":"数学"},"41"]
[790,"安琴",20230603012907,29,"07",709,{"$f":"VLOOKUP(F792,[1]总表!$A$3:$AF$30000,31,FALSE)","v":"小学"},{"$f":"VLOOKUP(F792,[1]总表!$A$3:$AF$30000,32,FALSE)","v":"数学"},"43.50"]
[791,"冉慧",20230603012908,29,"08",203,{"$f":"VLOOKUP(F793,[1]总表!$A$3:$AF$30000,31,FALSE)","v":"小学"},{"$f":"VLOOKUP(F793,[1]总表!$A$3:$AF$30000,32,FALSE)","v":"数学"},"19.50"]
[792,"孙露",20230603012909,29,"09",653,{"$f":"VLOOKUP(F794,[1]总表!$A$3:$AF$30000,31,FALSE)","v":"小学"},{"$f":"VLOOKUP(F794,[1]总表!$A$3:$AF$30000,32,FALSE)","v":"数学"},"缺考"]
[793,"刘丽玲",20230603012910,29,"10",658,{"$f":"VLOOKUP(F795,[1]总表!$A$3:$AF$30000,31,FALSE)","v":"小学"},{"$f":"VLOOKUP(F795,[1]总表!$A$3:$AF$30000,32,FALSE)","v":"数学"},"26.50"]
[794,"李红君",20230603012911,29,"11",494,{"$f":"VLOOKUP(F796,[1]总表!$A$3:$AF$30000,31,FALSE)","v":"小学"},{"$f":"VLOOKUP(F796,[1]总表!$A$3:$AF$30000,32,FALSE)","v":"数学"},"34"]
[795,"杨昌林",20230603012912,29,"12",442,{"$f":"VLOOKUP(F797,[1]总表!$A$3:$AF$30000,31,FALSE)","v":"小学"},{"$f":"VLOOKUP(F797,[1]总表!$A$3:$AF$30000,32,FALSE)","v":"数学"},"34.50"]
[796,"李奎",20230603012913,29,"13",278,{"$f":"VLOOKUP(F798,[1]总表!$A$3:$AF$30000,31,FALSE)","v":"小学"},{"$f":"VLOOKUP(F798,[1]总表!$A$3:$AF$30000,32,FALSE)","v":"数学"},"76.50"]
[797,"李丹容",20230603012914,29,"14",297,{"$f":"VLOOKUP(F799,[1]总表!$A$3:$AF$30000,31,FALSE)","v":"小学"},{"$f":"VLOOKUP(F799,[1]总表!$A$3:$AF$30000,32,FALSE)","v":"数学"},"47"]
[798,"王益鹏",20230603012915,29,"15",629,{"$f":"VLOOKUP(F800,[1]总表!$A$3:$AF$30000,31,FALSE)","v":"小学"},{"$f":"VLOOKUP(F800,[1]总表!$A$3:$AF$30000,32,FALSE)","v":"数学"},"75"]
[799,"肖丽莎",20230603012916,29,"16",340,{"$f":"VLOOKUP(F801,[1]总表!$A$3:$AF$30000,31,FALSE)","v":"小学"},{"$f":"VLOOKUP(F801,[1]总表!$A$3:$AF$30000,32,FALSE)","v":"数学"},"84.50"]
[800,"张程",20230603012917,29,"17",587,{"$f":"VLOOKUP(F802,[1]总表!$A$3:$AF$30000,31,FALSE)","v":"小学"},{"$f":"VLOOKUP(F802,[1]总表!$A$3:$AF$30000,32,FALSE)","v":"数学"},"25.50"]
[801,"李凤",20230603012918,29,"18",252,{"$f":"VLOOKUP(F803,[1]总表!$A$3:$AF$30000,31,FALSE)","v":"小学"},{"$f":"VLOOKUP(F803,[1]总表!$A$3:$AF$30000,32,FALSE)","v":"数学"},"42"]
[802,"唐仁畅",20230603012919,29,"19",291,{"$f":"VLOOKUP(F804,[1]总表!$A$3:$AF$30000,31,FALSE)","v":"小学"},{"$f":"VLOOKUP(F804,[1]总表!$A$3:$AF$30000,32,FALSE)","v":"数学"},"52"]
[803,"杨雪",20230603012920,29,"20",209,{"$f":"VLOOKUP(F805,[1]总表!$A$3:$AF$30000,31,FALSE)","v":"小学"},{"$f":"VLOOKUP(F805,[1]总表!$A$3:$AF$30000,32,FALSE)","v":"数学"},"24.50"]
[804,"王露璇",20230603012921,29,"21",352,{"$f":"VLOOKUP(F806,[1]总表!$A$3:$AF$30000,31,FALSE)","v":"小学"},{"$f":"VLOOKUP(F806,[1]总表!$A$3:$AF$30000,32,FALSE)","v":"数学"},"26"]
[805,"熊彩",20230603012922,29,"22",169,{"$f":"VLOOKUP(F807,[1]总表!$A$3:$AF$30000,31,FALSE)","v":"小学"},{"$f":"VLOOKUP(F807,[1]总表!$A$3:$AF$30000,32,FALSE)","v":"数学"},"47"]
[806,"张平",20230603012923,29,"23",593,{"$f":"VLOOKUP(F808,[1]总表!$A$3:$AF$30000,31,FALSE)","v":"小学"},{"$f":"VLOOKUP(F808,[1]总表!$A$3:$AF$30000,32,FALSE)","v":"数学"},"缺考"]
[807,"何光艳",20230603012924,29,"24",549,{"$f":"VLOOKUP(F809,[1]总表!$A$3:$AF$30000,31,FALSE)","v":"小学"},{"$f":"VLOOKUP(F809,[1]总表!$A$3:$AF$30000,32,FALSE)","v":"数学"},"33"]
[808,"廖益波",20230603012925,29,"25",684,{"$f":"VLOOKUP(F810,[1]总表!$A$3:$AF$30000,31,FALSE)","v":"小学"},{"$f":"VLOOKUP(F810,[1]总表!$A$3:$AF$30000,32,FALSE)","v":"数学"},"缺考"]
[809,"李广会",20230603012926,29,"26",493,{"$f":"VLOOKUP(F811,[1]总表!$A$3:$AF$30000,31,FALSE)","v":"小学"},{"$f":"VLOOKUP(F811,[1]总表!$A$3:$AF$30000,32,FALSE)","v":"数学"},"75"]
[810,"孙露",20230603012927,29,"27",720,{"$f":"VLOOKUP(F812,[1]总表!$A$3:$AF$30000,31,FALSE)","v":"小学"},{"$f":"VLOOKUP(F812,[1]总表!$A$3:$AF$30000,32,FALSE)","v":"数学"},"31.50"]
[811,"罗玲",20230603012928,29,"28",451,{"$f":"VLOOKUP(F813,[1]总表!$A$3:$AF$30000,31,FALSE)","v":"小学"},{"$f":"VLOOKUP(F813,[1]总表!$A$3:$AF$30000,32,FALSE)","v":"数学"},"缺考"]
[812,"石洪宇",20230603012929,29,"29",515,{"$f":"VLOOKUP(F814,[1]总表!$A$3:$AF$30000,31,FALSE)","v":"小学"},{"$f":"VLOOKUP(F814,[1]总表!$A$3:$AF$30000,32,FALSE)","v":"数学"},"57"]
[813,"吴厚鼎",20230603012930,29,"30",310,{"$f":"VLOOKUP(F815,[1]总表!$A$3:$AF$30000,31,FALSE)","v":"小学"},{"$f":"VLOOKUP(F815,[1]总表!$A$3:$AF$30000,32,FALSE)","v":"数学"},"45"]
[814,"李贞强",20230603013001,30,"01",330,{"$f":"VLOOKUP(F816,[1]总表!$A$3:$AF$30000,31,FALSE)","v":"小学"},{"$f":"VLOOKUP(F816,[1]总表!$A$3:$AF$30000,32,FALSE)","v":"数学"},"64"]
[815,"王前荣",20230603013002,30,"02",384,{"$f":"VLOOKUP(F817,[1]总表!$A$3:$AF$30000,31,FALSE)","v":"小学"},{"$f":"VLOOKUP(F817,[1]总表!$A$3:$AF$30000,32,FALSE)","v":"数学"},"72.50"]
[816,"唐波",20230603013003,30,"03",701,{"$f":"VLOOKUP(F818,[1]总表!$A$3:$AF$30000,31,FALSE)","v":"小学"},{"$f":"VLOOKUP(F818,[1]总表!$A$3:$AF$30000,32,FALSE)","v":"数学"},"67.50"]
[817,"高漫华",20230603013004,30,"04",235,{"$f":"VLOOKUP(F819,[1]总表!$A$3:$AF$30000,31,FALSE)","v":"小学"},{"$f":"VLOOKUP(F819,[1]总表!$A$3:$AF$30000,32,FALSE)","v":"数学"},"36.50"]
[818,"谭家妍",20230603013005,30,"05",289,{"$f":"VLOOKUP(F820,[1]总表!$A$3:$AF$30000,31,FALSE)","v":"小学"},{"$f":"VLOOKUP(F820,[1]总表!$A$3:$AF$30000,32,FALSE)","v":"数学"},"63"]
[819,"侯慧",20230603013006,30,"06",651,{"$f":"VLOOKUP(F821,[1]总表!$A$3:$AF$30000,31,FALSE)","v":"小学"},{"$f":"VLOOKUP(F821,[1]总表!$A$3:$AF$30000,32,FALSE)","v":"数学"},"58.50"]
[820,"陈瑞雪",20230603013007,30,"07",319,{"$f":"VLOOKUP(F822,[1]总表!$A$3:$AF$30000,31,FALSE)","v":"小学"},{"$f":"VLOOKUP(F822,[1]总表!$A$3:$AF$30000,32,FALSE)","v":"数学"},"56.50"]
[821,"付康玲",20230603013008,30,"08",577,{"$f":"VLOOKUP(F823,[1]总表!$A$3:$AF$30000,31,FALSE)","v":"小学"},{"$f":"VLOOKUP(F823,[1]总表!$A$3:$AF$30000,32,FALSE)","v":"数学"},"40"]
[822,"龙平",20230603013009,30,"09",435,{"$f":"VLOOKUP(F824,[1]总表!$A$3:$AF$30000,31,FALSE)","v":"小学"},{"$f":"VLOOKUP(F824,[1]总表!$A$3:$AF$30000,32,FALSE)","v":"数学"},"35"]
[823,"戴海滨",20230603013010,30,"10",212,{"$f":"VLOOKUP(F825,[1]总表!$A$3:$AF$30000,31,FALSE)","v":"小学"},{"$f":"VLOOKUP(F825,[1]总表!$A$3:$AF$30000,32,FALSE)","v":"数学"},"57"]
[824,"肖璐瑶",20230603013011,30,"11",230,{"$f":"VLOOKUP(F826,[1]总表!$A$3:$AF$30000,31,FALSE)","v":"小学"},{"$f":"VLOOKUP(F826,[1]总表!$A$3:$AF$30000,32,FALSE)","v":"数学"},"23.50"]
[825,"龙云",20230603013012,30,"12",568,{"$f":"VLOOKUP(F827,[1]总表!$A$3:$AF$30000,31,FALSE)","v":"小学"},{"$f":"VLOOKUP(F827,[1]总表!$A$3:$AF$30000,32,FALSE)","v":"数学"},"缺考"]
[826,"杨芳芳",20230603013013,30,"13",204,{"$f":"VLOOKUP(F828,[1]总表!$A$3:$AF$30000,31,FALSE)","v":"小学"},{"$f":"VLOOKUP(F828,[1]总表!$A$3:$AF$30000,32,FALSE)","v":"数学"},"30.50"]
[827,"杨卓",20230603013014,30,"14",332,{"$f":"VLOOKUP(F829,[1]总表!$A$3:$AF$30000,31,FALSE)","v":"小学"},{"$f":"VLOOKUP(F829,[1]总表!$A$3:$AF$30000,32,FALSE)","v":"数学"},"40.50"]
[828,"秦亚宏",20230603013015,30,"15",415,{"$f":"VLOOKUP(F830,[1]总表!$A$3:$AF$30000,31,FALSE)","v":"小学"},{"$f":"VLOOKUP(F830,[1]总表!$A$3:$AF$30000,32,FALSE)","v":"数学"},"缺考"]
[829,"何晓芬",20230603013016,30,"16",575,{"$f":"VLOOKUP(F831,[1]总表!$A$3:$AF$30000,31,FALSE)","v":"小学"},{"$f":"VLOOKUP(F831,[1]总表!$A$3:$AF$30000,32,FALSE)","v":"数学"},"42"]
[830,"李琦琦",20230603013017,30,"17",336,{"$f":"VLOOKUP(F832,[1]总表!$A$3:$AF$30000,31,FALSE)","v":"小学"},{"$f":"VLOOKUP(F832,[1]总表!$A$3:$AF$30000,32,FALSE)","v":"数学"},"38.50"]
[831,"龙艳群",20230603013018,30,"18",225,{"$f":"VLOOKUP(F833,[1]总表!$A$3:$AF$30000,31,FALSE)","v":"小学"},{"$f":"VLOOKUP(F833,[1]总表!$A$3:$AF$30000,32,FALSE)","v":"数学"},"46"]
[832,"杨娅",20230603013019,30,"19",218,{"$f":"VLOOKUP(F834,[1]总表!$A$3:$AF$30000,31,FALSE)","v":"小学"},{"$f":"VLOOKUP(F834,[1]总表!$A$3:$AF$30000,32,FALSE)","v":"数学"},"34.50"]
[833,"郑工超",20230603013020,30,"20",398,{"$f":"VLOOKUP(F835,[1]总表!$A$3:$AF$30000,31,FALSE)","v":"小学"},{"$f":"VLOOKUP(F835,[1]总表!$A$3:$AF$30000,32,FALSE)","v":"数学"},"缺考"]
[834,"胡丹",20230603013021,30,"21",303,{"$f":"VLOOKUP(F836,[1]总表!$A$3:$AF$30000,31,FALSE)","v":"小学"},{"$f":"VLOOKUP(F836,[1]总表!$A$3:$AF$30000,32,FALSE)","v":"数学"},"42.50"]
[835,"王艳琴",20230603013022,30,"22",634,{"$f":"VLOOKUP(F837,[1]总表!$A$3:$AF$30000,31,FALSE)","v":"小学"},{"$f":"VLOOKUP(F837,[1]总表!$A$3:$AF$30000,32,FALSE)","v":"数学"},"24.50"]
[836,"田秋丽",20230603013023,30,"23",202,{"$f":"VLOOKUP(F838,[1]总表!$A$3:$AF$30000,31,FALSE)","v":"小学"},{"$f":"VLOOKUP(F838,[1]总表!$A$3:$AF$30000,32,FALSE)","v":"数学"},"25"]
[837,"王娅",20230603013024,30,"24",718,{"$f":"VLOOKUP(F839,[1]总表!$A$3:$AF$30000,31,FALSE)","v":"小学"},{"$f":"VLOOKUP(F839,[1]总表!$A$3:$AF$30000,32,FALSE)","v":"数学"},"75.50"]
[838,"周雪艳",20230603013025,30,"25",670,{"$f":"VLOOKUP(F840,[1]总表!$A$3:$AF$30000,31,FALSE)","v":"小学"},{"$f":"VLOOKUP(F840,[1]总表!$A$3:$AF$30000,32,FALSE)","v":"数学"},"缺考"]
[839,"李莉利",20230603013026,30,"26",590,{"$f":"VLOOKUP(F841,[1]总表!$A$3:$AF$30000,31,FALSE)","v":"小学"},{"$f":"VLOOKUP(F841,[1]总表!$A$3:$AF$30000,32,FALSE)","v":"数学"},"34"]
[840,"田欢",20230603013027,30,"27",689,{"$f":"VLOOKUP(F842,[1]总表!$A$3:$AF$30000,31,FALSE)","v":"小学"},{"$f":"VLOOKUP(F842,[1]总表!$A$3:$AF$30000,32,FALSE)","v":"数学"},"31"]
[841,"张小红",20230603013028,30,"28",650,{"$f":"VLOOKUP(F843,[1]总表!$A$3:$AF$30000,31,FALSE)","v":"小学"},{"$f":"VLOOKUP(F843,[1]总表!$A$3:$AF$30000,32,FALSE)","v":"数学"},"14"]
[842,"杨晓燕",20230603013029,30,"29",241,{"$f":"VLOOKUP(F844,[1]总表!$A$3:$AF$30000,31,FALSE)","v":"小学"},{"$f":"VLOOKUP(F844,[1]总表!$A$3:$AF$30000,32,FALSE)","v":"数学"},"34"]
[843,"杨娅",20230603013030,30,"30",346,{"$f":"VLOOKUP(F845,[1]总表!$A$3:$AF$30000,31,FALSE)","v":"小学"},{"$f":"VLOOKUP(F845,[1]总表!$A$3:$AF$30000,32,FALSE)","v":"数学"},"41"]
[844,"宋鹏鹏",20230603013101,31,"01",594,{"$f":"VLOOKUP(F846,[1]总表!$A$3:$AF$30000,31,FALSE)","v":"小学"},{"$f":"VLOOKUP(F846,[1]总表!$A$3:$AF$30000,32,FALSE)","v":"数学"},"31.50"]
[845,"贾卓青",20230603013102,31,"02",668,{"$f":"VLOOKUP(F847,[1]总表!$A$3:$AF$30000,31,FALSE)","v":"小学"},{"$f":"VLOOKUP(F847,[1]总表!$A$3:$AF$30000,32,FALSE)","v":"数学"},"31"]
[846,"段佳丽",20230603013103,31,"03",301,{"$f":"VLOOKUP(F848,[1]总表!$A$3:$AF$30000,31,FALSE)","v":"小学"},{"$f":"VLOOKUP(F848,[1]总表!$A$3:$AF$30000,32,FALSE)","v":"数学"},"39"]
[847,"赵松",20230603013104,31,"04",328,{"$f":"VLOOKUP(F849,[1]总表!$A$3:$AF$30000,31,FALSE)","v":"小学"},{"$f":"VLOOKUP(F849,[1]总表!$A$3:$AF$30000,32,FALSE)","v":"数学"},"38"]
[848,"吴创新",20230603013105,31,"05",550,{"$f":"VLOOKUP(F850,[1]总表!$A$3:$AF$30000,31,FALSE)","v":"小学"},{"$f":"VLOOKUP(F850,[1]总表!$A$3:$AF$30000,32,FALSE)","v":"数学"},"缺考"]
[849,"冉一君",20230603013106,31,"06",417,{"$f":"VLOOKUP(F851,[1]总表!$A$3:$AF$30000,31,FALSE)","v":"小学"},{"$f":"VLOOKUP(F851,[1]总表!$A$3:$AF$30000,32,FALSE)","v":"数学"},"33"]
[850,"罗琴",20230603013107,31,"07",163,{"$f":"VLOOKUP(F852,[1]总表!$A$3:$AF$30000,31,FALSE)","v":"小学"},{"$f":"VLOOKUP(F852,[1]总表!$A$3:$AF$30000,32,FALSE)","v":"数学"},"64.50"]
[851,"杨芳",20230603013108,31,"08",624,{"$f":"VLOOKUP(F853,[1]总表!$A$3:$AF$30000,31,FALSE)","v":"小学"},{"$f":"VLOOKUP(F853,[1]总表!$A$3:$AF$30000,32,FALSE)","v":"数学"},"62"]
[852,"赵珊妹",20230603013109,31,"09",706,{"$f":"VLOOKUP(F854,[1]总表!$A$3:$AF$30000,31,FALSE)","v":"小学"},{"$f":"VLOOKUP(F854,[1]总表!$A$3:$AF$30000,32,FALSE)","v":"数学"},"39.50"]
[853,"王钰馨",20230603013110,31,"10",391,{"$f":"VLOOKUP(F855,[1]总表!$A$3:$AF$30000,31,FALSE)","v":"小学"},{"$f":"VLOOKUP(F855,[1]总表!$A$3:$AF$30000,32,FALSE)","v":"数学"},"缺考"]
[854,"何晓艳",20230603013111,31,"11",274,{"$f":"VLOOKUP(F856,[1]总表!$A$3:$AF$30000,31,FALSE)","v":"小学"},{"$f":"VLOOKUP(F856,[1]总表!$A$3:$AF$30000,32,FALSE)","v":"数学"},"83"]
[855,"任利玲",20230603013112,31,"12",273,{"$f":"VLOOKUP(F857,[1]总表!$A$3:$AF$30000,31,FALSE)","v":"小学"},{"$f":"VLOOKUP(F857,[1]总表!$A$3:$AF$30000,32,FALSE)","v":"数学"},"82.50"]
[856,"冉雯姣",20230603013113,31,"13",637,{"$f":"VLOOKUP(F858,[1]总表!$A$3:$AF$30000,31,FALSE)","v":"小学"},{"$f":"VLOOKUP(F858,[1]总表!$A$3:$AF$30000,32,FALSE)","v":"数学"},"缺考"]
[857,"付刚",20230603013114,31,"14",511,{"$f":"VLOOKUP(F859,[1]总表!$A$3:$AF$30000,31,FALSE)","v":"小学"},{"$f":"VLOOKUP(F859,[1]总表!$A$3:$AF$30000,32,FALSE)","v":"数学"},"48.50"]
[858,"黄旭燕",20230603013115,31,"15",167,{"$f":"VLOOKUP(F860,[1]总表!$A$3:$AF$30000,31,FALSE)","v":"小学"},{"$f":"VLOOKUP(F860,[1]总表!$A$3:$AF$30000,32,FALSE)","v":"数学"},"41"]
[859,"杨忠亮",20230603013116,31,"16",551,{"$f":"VLOOKUP(F861,[1]总表!$A$3:$AF$30000,31,FALSE)","v":"小学"},{"$f":"VLOOKUP(F861,[1]总表!$A$3:$AF$30000,32,FALSE)","v":"数学"},"29.50"]
[860,"朱婷",20230603013117,31,"17",377,{"$f":"VLOOKUP(F862,[1]总表!$A$3:$AF$30000,31,FALSE)","v":"小学"},{"$f":"VLOOKUP(F862,[1]总表!$A$3:$AF$30000,32,FALSE)","v":"数学"},"32.50"]
[861,"隆金谕",20230603013118,31,"18",302,{"$f":"VLOOKUP(F863,[1]总表!$A$3:$AF$30000,31,FALSE)","v":"小学"},{"$f":"VLOOKUP(F863,[1]总表!$A$3:$AF$30000,32,FALSE)","v":"数学"},"26"]
[862,"盛宝玉",20230603013119,31,"19",177,{"$f":"VLOOKUP(F864,[1]总表!$A$3:$AF$30000,31,FALSE)","v":"小学"},{"$f":"VLOOKUP(F864,[1]总表!$A$3:$AF$30000,32,FALSE)","v":"数学"},"87.50"]
[863,"刘可欣",20230603013120,31,"20",496,{"$f":"VLOOKUP(F865,[1]总表!$A$3:$AF$30000,31,FALSE)","v":"小学"},{"$f":"VLOOKUP(F865,[1]总表!$A$3:$AF$30000,32,FALSE)","v":"数学"},"31.50"]
[864,"张丽霞",20230603013121,31,"21",623,{"$f":"VLOOKUP(F866,[1]总表!$A$3:$AF$30000,31,FALSE)","v":"小学"},{"$f":"VLOOKUP(F866,[1]总表!$A$3:$AF$30000,32,FALSE)","v":"数学"},"缺考"]
[865,"陆铃钰",20230603013122,31,"22",677,{"$f":"VLOOKUP(F867,[1]总表!$A$3:$AF$30000,31,FALSE)","v":"小学"},{"$f":"VLOOKUP(F867,[1]总表!$A$3:$AF$30000,32,FALSE)","v":"数学"},"52.50"]
[866,"黄天德",20230603013123,31,"23",661,{"$f":"VLOOKUP(F868,[1]总表!$A$3:$AF$30000,31,FALSE)","v":"小学"},{"$f":"VLOOKUP(F868,[1]总表!$A$3:$AF$30000,32,FALSE)","v":"数学"},"31"]
[867,"陈霞菲",20230603013124,31,"24",495,{"$f":"VLOOKUP(F869,[1]总表!$A$3:$AF$30000,31,FALSE)","v":"小学"},{"$f":"VLOOKUP(F869,[1]总表!$A$3:$AF$30000,32,FALSE)","v":"数学"},"31.50"]
[868,"温明微",20230603013125,31,"25",258,{"$f":"VLOOKUP(F870,[1]总表!$A$3:$AF$30000,31,FALSE)","v":"小学"},{"$f":"VLOOKUP(F870,[1]总表!$A$3:$AF$30000,32,FALSE)","v":"数学"},"64.50"]
[869,"甘海芬",20230603013126,31,"26",185,{"$f":"VLOOKUP(F871,[1]总表!$A$3:$AF$30000,31,FALSE)","v":"小学"},{"$f":"VLOOKUP(F871,[1]总表!$A$3:$AF$30000,32,FALSE)","v":"数学"},"29.50"]
[870,"陈伟刚",20230603013127,31,"27",290,{"$f":"VLOOKUP(F872,[1]总表!$A$3:$AF$30000,31,FALSE)","v":"小学"},{"$f":"VLOOKUP(F872,[1]总表!$A$3:$AF$30000,32,FALSE)","v":"数学"},"60"]
[871,"何虹",20230603013128,31,"28",405,{"$f":"VLOOKUP(F873,[1]总表!$A$3:$AF$30000,31,FALSE)","v":"小学"},{"$f":"VLOOKUP(F873,[1]总表!$A$3:$AF$30000,32,FALSE)","v":"数学"},"缺考"]
[872,"徐金容",20230603013129,31,"29",631,{"$f":"VLOOKUP(F874,[1]总表!$A$3:$AF$30000,31,FALSE)","v":"小学"},{"$f":"VLOOKUP(F874,[1]总表!$A$3:$AF$30000,32,FALSE)","v":"数学"},"41"]
[873,"程正猛",20230603013130,31,"30",657,{"$f":"VLOOKUP(F875,[1]总表!$A$3:$AF$30000,31,FALSE)","v":"小学"},{"$f":"VLOOKUP(F875,[1]总表!$A$3:$AF$30000,32,FALSE)","v":"数学"},"71"]
[874,"彭秀美",20230603013201,32,"01",459,{"$f":"VLOOKUP(F876,[1]总表!$A$3:$AF$30000,31,FALSE)","v":"小学"},{"$f":"VLOOKUP(F876,[1]总表!$A$3:$AF$30000,32,FALSE)","v":"数学"},"缺考"]
[875,"张兵兵",20230603013202,32,"02",188,{"$f":"VLOOKUP(F877,[1]总表!$A$3:$AF$30000,31,FALSE)","v":"小学"},{"$f":"VLOOKUP(F877,[1]总表!$A$3:$AF$30000,32,FALSE)","v":"数学"},"74"]
[876,"唐明婵",20230603013203,32,"03",517,{"$f":"VLOOKUP(F878,[1]总表!$A$3:$AF$30000,31,FALSE)","v":"小学"},{"$f":"VLOOKUP(F878,[1]总表!$A$3:$AF$30000,32,FALSE)","v":"数学"},"缺考"]
[877,"肖淼",20230603013204,32,"04",553,{"$f":"VLOOKUP(F879,[1]总表!$A$3:$AF$30000,31,FALSE)","v":"小学"},{"$f":"VLOOKUP(F879,[1]总表!$A$3:$AF$30000,32,FALSE)","v":"数学"},"33.50"]
[878,"田尧",20230603013205,32,"05",610,{"$f":"VLOOKUP(F880,[1]总表!$A$3:$AF$30000,31,FALSE)","v":"小学"},{"$f":"VLOOKUP(F880,[1]总表!$A$3:$AF$30000,32,FALSE)","v":"数学"},"27.50"]
[879,"时贝",20230603013206,32,"06",643,{"$f":"VLOOKUP(F881,[1]总表!$A$3:$AF$30000,31,FALSE)","v":"小学"},{"$f":"VLOOKUP(F881,[1]总表!$A$3:$AF$30000,32,FALSE)","v":"数学"},"48.50"]
[880,"杨文艳",20230603013207,32,"07",502,{"$f":"VLOOKUP(F882,[1]总表!$A$3:$AF$30000,31,FALSE)","v":"小学"},{"$f":"VLOOKUP(F882,[1]总表!$A$3:$AF$30000,32,FALSE)","v":"数学"},"34"]
[881,"涂小怡",20230603013208,32,"08",211,{"$f":"VLOOKUP(F883,[1]总表!$A$3:$AF$30000,31,FALSE)","v":"小学"},{"$f":"VLOOKUP(F883,[1]总表!$A$3:$AF$30000,32,FALSE)","v":"数学"},"31.50"]
[882,"潘明珍",20230603013209,32,"09",692,{"$f":"VLOOKUP(F884,[1]总表!$A$3:$AF$30000,31,FALSE)","v":"小学"},{"$f":"VLOOKUP(F884,[1]总表!$A$3:$AF$30000,32,FALSE)","v":"数学"},"24.50"]
[883,"沈松琴",20230603013210,32,"10",355,{"$f":"VLOOKUP(F885,[1]总表!$A$3:$AF$30000,31,FALSE)","v":"小学"},{"$f":"VLOOKUP(F885,[1]总表!$A$3:$AF$30000,32,FALSE)","v":"数学"},"30"]
[884,"龙樱子",20230603013211,32,"11",231,{"$f":"VLOOKUP(F886,[1]总表!$A$3:$AF$30000,31,FALSE)","v":"小学"},{"$f":"VLOOKUP(F886,[1]总表!$A$3:$AF$30000,32,FALSE)","v":"数学"},"40"]
[885,"杨力",20230603013212,32,"12",308,{"$f":"VLOOKUP(F887,[1]总表!$A$3:$AF$30000,31,FALSE)","v":"小学"},{"$f":"VLOOKUP(F887,[1]总表!$A$3:$AF$30000,32,FALSE)","v":"数学"},"48.50"]
[886,"吴鲜",20230603013213,32,"13",660,{"$f":"VLOOKUP(F888,[1]总表!$A$3:$AF$30000,31,FALSE)","v":"小学"},{"$f":"VLOOKUP(F888,[1]总表!$A$3:$AF$30000,32,FALSE)","v":"数学"},"20.50"]
[887,"廖芙蓉",20230603013214,32,"14",421,{"$f":"VLOOKUP(F889,[1]总表!$A$3:$AF$30000,31,FALSE)","v":"小学"},{"$f":"VLOOKUP(F889,[1]总表!$A$3:$AF$30000,32,FALSE)","v":"数学"},"34.50"]
[888,"黄金梅",20230603013215,32,"15",166,{"$f":"VLOOKUP(F890,[1]总表!$A$3:$AF$30000,31,FALSE)","v":"小学"},{"$f":"VLOOKUP(F890,[1]总表!$A$3:$AF$30000,32,FALSE)","v":"数学"},"61"]
[889,"桂文洪",20230603013216,32,"16",664,{"$f":"VLOOKUP(F891,[1]总表!$A$3:$AF$30000,31,FALSE)","v":"小学"},{"$f":"VLOOKUP(F891,[1]总表!$A$3:$AF$30000,32,FALSE)","v":"数学"},"57.50"]
[890,"刘代旗",20230603013217,32,"17",596,{"$f":"VLOOKUP(F892,[1]总表!$A$3:$AF$30000,31,FALSE)","v":"小学"},{"$f":"VLOOKUP(F892,[1]总表!$A$3:$AF$30000,32,FALSE)","v":"数学"},"缺考"]
[891,"杨登省",20230603013218,32,"18",390,{"$f":"VLOOKUP(F893,[1]总表!$A$3:$AF$30000,31,FALSE)","v":"小学"},{"$f":"VLOOKUP(F893,[1]总表!$A$3:$AF$30000,32,FALSE)","v":"数学"},"72.50"]
[892,"杨正鹏",20230603013219,32,"19",175,{"$f":"VLOOKUP(F894,[1]总表!$A$3:$AF$30000,31,FALSE)","v":"小学"},{"$f":"VLOOKUP(F894,[1]总表!$A$3:$AF$30000,32,FALSE)","v":"数学"},"68.50"]
[893,"刘海芬",20230603013220,32,"20",152,{"$f":"VLOOKUP(F895,[1]总表!$A$3:$AF$30000,31,FALSE)","v":"小学"},{"$f":"VLOOKUP(F895,[1]总表!$A$3:$AF$30000,32,FALSE)","v":"数学"},"86.50"]
[894,"杨俊",20230603013221,32,"21",486,{"$f":"VLOOKUP(F896,[1]总表!$A$3:$AF$30000,31,FALSE)","v":"小学"},{"$f":"VLOOKUP(F896,[1]总表!$A$3:$AF$30000,32,FALSE)","v":"数学"},"36"]
[895,"鲁建芬",20230603013222,32,"22",438,{"$f":"VLOOKUP(F897,[1]总表!$A$3:$AF$30000,31,FALSE)","v":"小学"},{"$f":"VLOOKUP(F897,[1]总表!$A$3:$AF$30000,32,FALSE)","v":"数学"},"26.50"]
[896,"刘娜娜",20230603013223,32,"23",424,{"$f":"VLOOKUP(F898,[1]总表!$A$3:$AF$30000,31,FALSE)","v":"小学"},{"$f":"VLOOKUP(F898,[1]总表!$A$3:$AF$30000,32,FALSE)","v":"数学"},"30"]
[897,"杨加加",20230603013224,32,"24",703,{"$f":"VLOOKUP(F899,[1]总表!$A$3:$AF$30000,31,FALSE)","v":"小学"},{"$f":"VLOOKUP(F899,[1]总表!$A$3:$AF$30000,32,FALSE)","v":"数学"},"44"]
[898,"汪融",20230603013225,32,"25",286,{"$f":"VLOOKUP(F900,[1]总表!$A$3:$AF$30000,31,FALSE)","v":"小学"},{"$f":"VLOOKUP(F900,[1]总表!$A$3:$AF$30000,32,FALSE)","v":"数学"},"30"]
[899,"刘玉",20230603013226,32,"26",406,{"$f":"VLOOKUP(F901,[1]总表!$A$3:$AF$30000,31,FALSE)","v":"小学"},{"$f":"VLOOKUP(F901,[1]总表!$A$3:$AF$30000,32,FALSE)","v":"数学"},"缺考"]
[900,"吕世瑞",20230603013227,32,"27",426,{"$f":"VLOOKUP(F902,[1]总表!$A$3:$AF$30000,31,FALSE)","v":"小学"},{"$f":"VLOOKUP(F902,[1]总表!$A$3:$AF$30000,32,FALSE)","v":"数学"},"缺考"]
[901,"舒华琴",20230603013228,32,"28",640,{"$f":"VLOOKUP(F903,[1]总表!$A$3:$AF$30000,31,FALSE)","v":"小学"},{"$f":"VLOOKUP(F903,[1]总表!$A$3:$AF$30000,32,FALSE)","v":"数学"},"65.50"]
[902,"罗丽菊",20230603013229,32,"29",715,{"$f":"VLOOKUP(F904,[1]总表!$A$3:$AF$30000,31,FALSE)","v":"小学"},{"$f":"VLOOKUP(F904,[1]总表!$A$3:$AF$30000,32,FALSE)","v":"数学"},"71.50"]
[903,"罗丽娜",20230603013230,32,"30",353,{"$f":"VLOOKUP(F905,[1]总表!$A$3:$AF$30000,31,FALSE)","v":"小学"},{"$f":"VLOOKUP(F905,[1]总表!$A$3:$AF$30000,32,FALSE)","v":"数学"},"30"]
[904,"谈冰",20230603013301,33,"01",710,{"$f":"VLOOKUP(F906,[1]总表!$A$3:$AF$30000,31,FALSE)","v":"小学"},{"$f":"VLOOKUP(F906,[1]总表!$A$3:$AF$30000,32,FALSE)","v":"数学"},"38.50"]
[905,"田露芳",20230603013302,33,"02",422,{"$f":"VLOOKUP(F907,[1]总表!$A$3:$AF$30000,31,FALSE)","v":"小学"},{"$f":"VLOOKUP(F907,[1]总表!$A$3:$AF$30000,32,FALSE)","v":"数学"},"80.50"]
[906,"高丽君",20230603013303,33,"03",184,{"$f":"VLOOKUP(F908,[1]总表!$A$3:$AF$30000,31,FALSE)","v":"小学"},{"$f":"VLOOKUP(F908,[1]总表!$A$3:$AF$30000,32,FALSE)","v":"数学"},"74"]
[907,"杨兴飞",20230603013304,33,"04",626,{"$f":"VLOOKUP(F909,[1]总表!$A$3:$AF$30000,31,FALSE)","v":"小学"},{"$f":"VLOOKUP(F909,[1]总表!$A$3:$AF$30000,32,FALSE)","v":"数学"},"79.50"]
[908,"张芳玲",20230603013305,33,"05",436,{"$f":"VLOOKUP(F910,[1]总表!$A$3:$AF$30000,31,FALSE)","v":"小学"},{"$f":"VLOOKUP(F910,[1]总表!$A$3:$AF$30000,32,FALSE)","v":"数学"},"缺考"]
[909,"包敏敏",20230603013306,33,"06",673,{"$f":"VLOOKUP(F911,[1]总表!$A$3:$AF$30000,31,FALSE)","v":"小学"},{"$f":"VLOOKUP(F911,[1]总表!$A$3:$AF$30000,32,FALSE)","v":"数学"},"40.50"]
[910,"全微婷",20230603013307,33,"07",402,{"$f":"VLOOKUP(F912,[1]总表!$A$3:$AF$30000,31,FALSE)","v":"小学"},{"$f":"VLOOKUP(F912,[1]总表!$A$3:$AF$30000,32,FALSE)","v":"数学"},"23.50"]
[911,"刘海露",20230603013308,33,"08",183,{"$f":"VLOOKUP(F913,[1]总表!$A$3:$AF$30000,31,FALSE)","v":"小学"},{"$f":"VLOOKUP(F913,[1]总表!$A$3:$AF$30000,32,FALSE)","v":"数学"},"81"]
[912,"李俊锜",20230603013309,33,"09",441,{"$f":"VLOOKUP(F914,[1]总表!$A$3:$AF$30000,31,FALSE)","v":"小学"},{"$f":"VLOOKUP(F914,[1]总表!$A$3:$AF$30000,32,FALSE)","v":"数学"},"66"]
[913,"胡艳",20230603013310,33,"10",582,{"$f":"VLOOKUP(F915,[1]总表!$A$3:$AF$30000,31,FALSE)","v":"小学"},{"$f":"VLOOKUP(F915,[1]总表!$A$3:$AF$30000,32,FALSE)","v":"数学"},"36"]
[914,"齐挺",20230603013311,33,"11",363,{"$f":"VLOOKUP(F916,[1]总表!$A$3:$AF$30000,31,FALSE)","v":"小学"},{"$f":"VLOOKUP(F916,[1]总表!$A$3:$AF$30000,32,FALSE)","v":"数学"},"39.50"]
[915,"陈琴",20230603013312,33,"12",270,{"$f":"VLOOKUP(F917,[1]总表!$A$3:$AF$30000,31,FALSE)","v":"小学"},{"$f":"VLOOKUP(F917,[1]总表!$A$3:$AF$30000,32,FALSE)","v":"数学"},"44"]
[916,"赵超",20230603013313,33,"13",556,{"$f":"VLOOKUP(F918,[1]总表!$A$3:$AF$30000,31,FALSE)","v":"小学"},{"$f":"VLOOKUP(F918,[1]总表!$A$3:$AF$30000,32,FALSE)","v":"数学"},"缺考"]
[917,"龙治全",20230603013314,33,"14",151,{"$f":"VLOOKUP(F919,[1]总表!$A$3:$AF$30000,31,FALSE)","v":"小学"},{"$f":"VLOOKUP(F919,[1]总表!$A$3:$AF$30000,32,FALSE)","v":"数学"},"58.50"]
[918,"李成燕",20230603013315,33,"15",309,{"$f":"VLOOKUP(F920,[1]总表!$A$3:$AF$30000,31,FALSE)","v":"小学"},{"$f":"VLOOKUP(F920,[1]总表!$A$3:$AF$30000,32,FALSE)","v":"数学"},"52.50"]
[919,"石卫红",20230603013316,33,"16",180,{"$f":"VLOOKUP(F921,[1]总表!$A$3:$AF$30000,31,FALSE)","v":"小学"},{"$f":"VLOOKUP(F921,[1]总表!$A$3:$AF$30000,32,FALSE)","v":"数学"},"缺考"]
[920,"冉丹",20230603013317,33,"17",478,{"$f":"VLOOKUP(F922,[1]总表!$A$3:$AF$30000,31,FALSE)","v":"小学"},{"$f":"VLOOKUP(F922,[1]总表!$A$3:$AF$30000,32,FALSE)","v":"数学"},"35.50"]
[921,"邹念",20230603013318,33,"18",566,{"$f":"VLOOKUP(F923,[1]总表!$A$3:$AF$30000,31,FALSE)","v":"小学"},{"$f":"VLOOKUP(F923,[1]总表!$A$3:$AF$30000,32,FALSE)","v":"数学"},"87"]
[922,"谢明娟",20230603013319,33,"19",339,{"$f":"VLOOKUP(F924,[1]总表!$A$3:$AF$30000,31,FALSE)","v":"小学"},{"$f":"VLOOKUP(F924,[1]总表!$A$3:$AF$30000,32,FALSE)","v":"数学"},"30.50"]
[923,"曹申健",20230603013320,33,"20",691,{"$f":"VLOOKUP(F925,[1]总表!$A$3:$AF$30000,31,FALSE)","v":"小学"},{"$f":"VLOOKUP(F925,[1]总表!$A$3:$AF$30000,32,FALSE)","v":"数学"},"43.50"]
[924,"肖丽",20230603013321,33,"21",458,{"$f":"VLOOKUP(F926,[1]总表!$A$3:$AF$30000,31,FALSE)","v":"小学"},{"$f":"VLOOKUP(F926,[1]总表!$A$3:$AF$30000,32,FALSE)","v":"数学"},"76.50"]
[925,"冉宜",20230603013322,33,"22",240,{"$f":"VLOOKUP(F927,[1]总表!$A$3:$AF$30000,31,FALSE)","v":"小学"},{"$f":"VLOOKUP(F927,[1]总表!$A$3:$AF$30000,32,FALSE)","v":"数学"},"缺考"]
[926,"何艳",20230603013323,33,"23",200,{"$f":"VLOOKUP(F928,[1]总表!$A$3:$AF$30000,31,FALSE)","v":"小学"},{"$f":"VLOOKUP(F928,[1]总表!$A$3:$AF$30000,32,FALSE)","v":"数学"},"39"]
[927,"杨亚雪",20230603013324,33,"24",576,{"$f":"VLOOKUP(F929,[1]总表!$A$3:$AF$30000,31,FALSE)","v":"小学"},{"$f":"VLOOKUP(F929,[1]总表!$A$3:$AF$30000,32,FALSE)","v":"数学"},"48.50"]
[928,"罗智明",20230603013325,33,"25",298,{"$f":"VLOOKUP(F930,[1]总表!$A$3:$AF$30000,31,FALSE)","v":"小学"},{"$f":"VLOOKUP(F930,[1]总表!$A$3:$AF$30000,32,FALSE)","v":"数学"},"24"]
[929,"龙晓霞",20230603013326,33,"26",365,{"$f":"VLOOKUP(F931,[1]总表!$A$3:$AF$30000,31,FALSE)","v":"小学"},{"$f":"VLOOKUP(F931,[1]总表!$A$3:$AF$30000,32,FALSE)","v":"数学"},"29"]
[930,"莫坤",20230603013327,33,"27",282,{"$f":"VLOOKUP(F932,[1]总表!$A$3:$AF$30000,31,FALSE)","v":"小学"},{"$f":"VLOOKUP(F932,[1]总表!$A$3:$AF$30000,32,FALSE)","v":"数学"},"52"]
[931,"任江青",20230603013328,33,"28",213,{"$f":"VLOOKUP(F933,[1]总表!$A$3:$AF$30000,31,FALSE)","v":"小学"},{"$f":"VLOOKUP(F933,[1]总表!$A$3:$AF$30000,32,FALSE)","v":"数学"},"35.50"]
[932,"彭雪",20230603013401,34,"01",1787,{"$f":"VLOOKUP(F934,[1]总表!$A$3:$AF$30000,31,FALSE)","v":"初中"},{"$f":"VLOOKUP(F934,[1]总表!$A$3:$AF$30000,32,FALSE)","v":"英语"},"缺考"]
[933,"马江平",20230603013402,34,"02",1769,{"$f":"VLOOKUP(F935,[1]总表!$A$3:$AF$30000,31,FALSE)","v":"初中"},{"$f":"VLOOKUP(F935,[1]总表!$A$3:$AF$30000,32,FALSE)","v":"英语"},"80"]
[934,"龙毛毛",20230603013403,34,"03",1642,{"$f":"VLOOKUP(F936,[1]总表!$A$3:$AF$30000,31,FALSE)","v":"初中"},{"$f":"VLOOKUP(F936,[1]总表!$A$3:$AF$30000,32,FALSE)","v":"英语"},"50.50"]
[935,"李良燕",20230603013404,34,"04",1660,{"$f":"VLOOKUP(F937,[1]总表!$A$3:$AF$30000,31,FALSE)","v":"初中"},{"$f":"VLOOKUP(F937,[1]总表!$A$3:$AF$30000,32,FALSE)","v":"英语"},"59.50"]
[936,"吴英",20230603013405,34,"05",1549,{"$f":"VLOOKUP(F938,[1]总表!$A$3:$AF$30000,31,FALSE)","v":"初中"},{"$f":"VLOOKUP(F938,[1]总表!$A$3:$AF$30000,32,FALSE)","v":"英语"},"64.50"]
[937,"张应智",20230603013406,34,"06",1551,{"$f":"VLOOKUP(F939,[1]总表!$A$3:$AF$30000,31,FALSE)","v":"初中"},{"$f":"VLOOKUP(F939,[1]总表!$A$3:$AF$30000,32,FALSE)","v":"英语"},"68"]
[938,"王雪莲",20230603013407,34,"07",1772,{"$f":"VLOOKUP(F940,[1]总表!$A$3:$AF$30000,31,FALSE)","v":"初中"},{"$f":"VLOOKUP(F940,[1]总表!$A$3:$AF$30000,32,FALSE)","v":"英语"},"71.50"]
[939,"田宏芳",20230603013408,34,"08",1519,{"$f":"VLOOKUP(F941,[1]总表!$A$3:$AF$30000,31,FALSE)","v":"初中"},{"$f":"VLOOKUP(F941,[1]总表!$A$3:$AF$30000,32,FALSE)","v":"英语"},"72.50"]
[940,"陈敏",20230603013409,34,"09",1652,{"$f":"VLOOKUP(F942,[1]总表!$A$3:$AF$30000,31,FALSE)","v":"初中"},{"$f":"VLOOKUP(F942,[1]总表!$A$3:$AF$30000,32,FALSE)","v":"英语"},"54"]
[941,"邹娜",20230603013410,34,"10",1635,{"$f":"VLOOKUP(F943,[1]总表!$A$3:$AF$30000,31,FALSE)","v":"初中"},{"$f":"VLOOKUP(F943,[1]总表!$A$3:$AF$30000,32,FALSE)","v":"英语"},"64.50"]
[942,"张叶舟",20230603013411,34,"11",1729,{"$f":"VLOOKUP(F944,[1]总表!$A$3:$AF$30000,31,FALSE)","v":"初中"},{"$f":"VLOOKUP(F944,[1]总表!$A$3:$AF$30000,32,FALSE)","v":"英语"},"68"]
[943,"龙正清",20230603013412,34,"12",1795,{"$f":"VLOOKUP(F945,[1]总表!$A$3:$AF$30000,31,FALSE)","v":"初中"},{"$f":"VLOOKUP(F945,[1]总表!$A$3:$AF$30000,32,FALSE)","v":"英语"},"55"]
[944,"张勇",20230603013413,34,"13",1563,{"$f":"VLOOKUP(F946,[1]总表!$A$3:$AF$30000,31,FALSE)","v":"初中"},{"$f":"VLOOKUP(F946,[1]总表!$A$3:$AF$30000,32,FALSE)","v":"英语"},"60.50"]
[945,"石雪婷",20230603013414,34,"14",1778,{"$f":"VLOOKUP(F947,[1]总表!$A$3:$AF$30000,31,FALSE)","v":"初中"},{"$f":"VLOOKUP(F947,[1]总表!$A$3:$AF$30000,32,FALSE)","v":"英语"},"80.50"]
[946,"唐会",20230603013415,34,"15",1698,{"$f":"VLOOKUP(F948,[1]总表!$A$3:$AF$30000,31,FALSE)","v":"初中"},{"$f":"VLOOKUP(F948,[1]总表!$A$3:$AF$30000,32,FALSE)","v":"英语"},"69"]
[947,"陈松平",20230603013416,34,"16",1737,{"$f":"VLOOKUP(F949,[1]总表!$A$3:$AF$30000,31,FALSE)","v":"初中"},{"$f":"VLOOKUP(F949,[1]总表!$A$3:$AF$30000,32,FALSE)","v":"英语"},"79"]
[948,"田雪敏",20230603013417,34,"17",1673,{"$f":"VLOOKUP(F950,[1]总表!$A$3:$AF$30000,31,FALSE)","v":"初中"},{"$f":"VLOOKUP(F950,[1]总表!$A$3:$AF$30000,32,FALSE)","v":"英语"},"55"]
[949,"黄海燕",20230603013418,34,"18",1666,{"$f":"VLOOKUP(F951,[1]总表!$A$3:$AF$30000,31,FALSE)","v":"初中"},{"$f":"VLOOKUP(F951,[1]总表!$A$3:$AF$30000,32,FALSE)","v":"英语"},"64.50"]
[950,"李进",20230603013419,34,"19",1784,{"$f":"VLOOKUP(F952,[1]总表!$A$3:$AF$30000,31,FALSE)","v":"初中"},{"$f":"VLOOKUP(F952,[1]总表!$A$3:$AF$30000,32,FALSE)","v":"英语"},"59.50"]
[951,"余俐柯",20230603013420,34,"20",1688,{"$f":"VLOOKUP(F953,[1]总表!$A$3:$AF$30000,31,FALSE)","v":"初中"},{"$f":"VLOOKUP(F953,[1]总表!$A$3:$AF$30000,32,FALSE)","v":"英语"},"65.50"]
[952,"晏青杨",20230603013421,34,"21",1572,{"$f":"VLOOKUP(F954,[1]总表!$A$3:$AF$30000,31,FALSE)","v":"初中"},{"$f":"VLOOKUP(F954,[1]总表!$A$3:$AF$30000,32,FALSE)","v":"英语"},"68"]
[953,"杨欣",20230603013422,34,"22",1634,{"$f":"VLOOKUP(F955,[1]总表!$A$3:$AF$30000,31,FALSE)","v":"初中"},{"$f":"VLOOKUP(F955,[1]总表!$A$3:$AF$30000,32,FALSE)","v":"英语"},"67.50"]
[954,"田珍英",20230603013423,34,"23",1812,{"$f":"VLOOKUP(F956,[1]总表!$A$3:$AF$30000,31,FALSE)","v":"初中"},{"$f":"VLOOKUP(F956,[1]总表!$A$3:$AF$30000,32,FALSE)","v":"英语"},"76.50"]
[955,"张琳琳",20230603013424,34,"24",1770,{"$f":"VLOOKUP(F957,[1]总表!$A$3:$AF$30000,31,FALSE)","v":"初中"},{"$f":"VLOOKUP(F957,[1]总表!$A$3:$AF$30000,32,FALSE)","v":"英语"},"67"]
[956,"钟瑶",20230603013425,34,"25",1710,{"$f":"VLOOKUP(F958,[1]总表!$A$3:$AF$30000,31,FALSE)","v":"初中"},{"$f":"VLOOKUP(F958,[1]总表!$A$3:$AF$30000,32,FALSE)","v":"英语"},"74"]
[957,"蒋婷",20230603013426,34,"26",1683,{"$f":"VLOOKUP(F959,[1]总表!$A$3:$AF$30000,31,FALSE)","v":"初中"},{"$f":"VLOOKUP(F959,[1]总表!$A$3:$AF$30000,32,FALSE)","v":"英语"},"58.50"]
[958,"熊金凤",20230603013427,34,"27",1693,{"$f":"VLOOKUP(F960,[1]总表!$A$3:$AF$30000,31,FALSE)","v":"初中"},{"$f":"VLOOKUP(F960,[1]总表!$A$3:$AF$30000,32,FALSE)","v":"英语"},"69"]
[959,"杨丹",20230603013428,34,"28",1558,{"$f":"VLOOKUP(F961,[1]总表!$A$3:$AF$30000,31,FALSE)","v":"初中"},{"$f":"VLOOKUP(F961,[1]总表!$A$3:$AF$30000,32,FALSE)","v":"英语"},"68"]
[960,"石红姣",20230603013429,34,"29",1577,{"$f":"VLOOKUP(F962,[1]总表!$A$3:$AF$30000,31,FALSE)","v":"初中"},{"$f":"VLOOKUP(F962,[1]总表!$A$3:$AF$30000,32,FALSE)","v":"英语"},"64.50"]
[961,"吴燕美",20230603013430,34,"30",1754,{"$f":"VLOOKUP(F963,[1]总表!$A$3:$AF$30000,31,FALSE)","v":"初中"},{"$f":"VLOOKUP(F963,[1]总表!$A$3:$AF$30000,32,FALSE)","v":"英语"},"66"]
[962,"肖天珍",20230603013501,35,"01",1645,{"$f":"VLOOKUP(F964,[1]总表!$A$3:$AF$30000,31,FALSE)","v":"初中"},{"$f":"VLOOKUP(F964,[1]总表!$A$3:$AF$30000,32,FALSE)","v":"英语"},"70.50"]
[963,"杨妮",20230603013502,35,"02",1798,{"$f":"VLOOKUP(F965,[1]总表!$A$3:$AF$30000,31,FALSE)","v":"初中"},{"$f":"VLOOKUP(F965,[1]总表!$A$3:$AF$30000,32,FALSE)","v":"英语"},"63"]
[964,"吴彬",20230603013503,35,"03",1717,{"$f":"VLOOKUP(F966,[1]总表!$A$3:$AF$30000,31,FALSE)","v":"初中"},{"$f":"VLOOKUP(F966,[1]总表!$A$3:$AF$30000,32,FALSE)","v":"英语"},"58"]
[965,"任嘉琳",20230603013504,35,"04",1595,{"$f":"VLOOKUP(F967,[1]总表!$A$3:$AF$30000,31,FALSE)","v":"初中"},{"$f":"VLOOKUP(F967,[1]总表!$A$3:$AF$30000,32,FALSE)","v":"英语"},"67"]
[966,"徐苏越",20230603013505,35,"05",1765,{"$f":"VLOOKUP(F968,[1]总表!$A$3:$AF$30000,31,FALSE)","v":"初中"},{"$f":"VLOOKUP(F968,[1]总表!$A$3:$AF$30000,32,FALSE)","v":"英语"},"70.50"]
[967,"杨思柔",20230603013506,35,"06",1542,{"$f":"VLOOKUP(F969,[1]总表!$A$3:$AF$30000,31,FALSE)","v":"初中"},{"$f":"VLOOKUP(F969,[1]总表!$A$3:$AF$30000,32,FALSE)","v":"英语"},"缺考"]
[968,"冉妮",20230603013507,35,"07",1749,{"$f":"VLOOKUP(F970,[1]总表!$A$3:$AF$30000,31,FALSE)","v":"初中"},{"$f":"VLOOKUP(F970,[1]总表!$A$3:$AF$30000,32,FALSE)","v":"英语"},"73.50"]
[969,"严群",20230603013508,35,"08",1594,{"$f":"VLOOKUP(F971,[1]总表!$A$3:$AF$30000,31,FALSE)","v":"初中"},{"$f":"VLOOKUP(F971,[1]总表!$A$3:$AF$30000,32,FALSE)","v":"英语"},"46.50"]
[970,"刘小婷",20230603013509,35,"09",1753,{"$f":"VLOOKUP(F972,[1]总表!$A$3:$AF$30000,31,FALSE)","v":"初中"},{"$f":"VLOOKUP(F972,[1]总表!$A$3:$AF$30000,32,FALSE)","v":"英语"},"62.50"]
[971,"余超群",20230603013510,35,"10",1744,{"$f":"VLOOKUP(F973,[1]总表!$A$3:$AF$30000,31,FALSE)","v":"初中"},{"$f":"VLOOKUP(F973,[1]总表!$A$3:$AF$30000,32,FALSE)","v":"英语"},"71"]
[972,"龙雄燕",20230603013511,35,"11",1734,{"$f":"VLOOKUP(F974,[1]总表!$A$3:$AF$30000,31,FALSE)","v":"初中"},{"$f":"VLOOKUP(F974,[1]总表!$A$3:$AF$30000,32,FALSE)","v":"英语"},"73"]
[973,"龙丽",20230603013512,35,"12",1607,{"$f":"VLOOKUP(F975,[1]总表!$A$3:$AF$30000,31,FALSE)","v":"初中"},{"$f":"VLOOKUP(F975,[1]总表!$A$3:$AF$30000,32,FALSE)","v":"英语"},"缺考"]
[974,"江伶利",20230603013513,35,"13",1668,{"$f":"VLOOKUP(F976,[1]总表!$A$3:$AF$30000,31,FALSE)","v":"初中"},{"$f":"VLOOKUP(F976,[1]总表!$A$3:$AF$30000,32,FALSE)","v":"英语"},"64"]
[975,"龙晓燕",20230603013514,35,"14",1738,{"$f":"VLOOKUP(F977,[1]总表!$A$3:$AF$30000,31,FALSE)","v":"初中"},{"$f":"VLOOKUP(F977,[1]总表!$A$3:$AF$30000,32,FALSE)","v":"英语"},"61.50"]
[976,"田香洋",20230603013515,35,"15",1525,{"$f":"VLOOKUP(F978,[1]总表!$A$3:$AF$30000,31,FALSE)","v":"初中"},{"$f":"VLOOKUP(F978,[1]总表!$A$3:$AF$30000,32,FALSE)","v":"英语"},"56"]
[977,"杨丹丹",20230603013516,35,"16",1807,{"$f":"VLOOKUP(F979,[1]总表!$A$3:$AF$30000,31,FALSE)","v":"初中"},{"$f":"VLOOKUP(F979,[1]总表!$A$3:$AF$30000,32,FALSE)","v":"英语"},"68"]
[978,"唐仁意",20230603013517,35,"17",1560,{"$f":"VLOOKUP(F980,[1]总表!$A$3:$AF$30000,31,FALSE)","v":"初中"},{"$f":"VLOOKUP(F980,[1]总表!$A$3:$AF$30000,32,FALSE)","v":"英语"},"57.50"]
[979,"蔡诗蝶",20230603013518,35,"18",1580,{"$f":"VLOOKUP(F981,[1]总表!$A$3:$AF$30000,31,FALSE)","v":"初中"},{"$f":"VLOOKUP(F981,[1]总表!$A$3:$AF$30000,32,FALSE)","v":"英语"},"62"]
[980,"王璐璐",20230603013519,35,"19",1723,{"$f":"VLOOKUP(F982,[1]总表!$A$3:$AF$30000,31,FALSE)","v":"初中"},{"$f":"VLOOKUP(F982,[1]总表!$A$3:$AF$30000,32,FALSE)","v":"英语"},"45.50"]
[981,"黄松",20230603013520,35,"20",1598,{"$f":"VLOOKUP(F983,[1]总表!$A$3:$AF$30000,31,FALSE)","v":"初中"},{"$f":"VLOOKUP(F983,[1]总表!$A$3:$AF$30000,32,FALSE)","v":"英语"},"45.50"]
[982,"田玉芝",20230603013521,35,"21",1747,{"$f":"VLOOKUP(F984,[1]总表!$A$3:$AF$30000,31,FALSE)","v":"初中"},{"$f":"VLOOKUP(F984,[1]总表!$A$3:$AF$30000,32,FALSE)","v":"英语"},"73.50"]
[983,"龙代玉",20230603013522,35,"22",1746,{"$f":"VLOOKUP(F985,[1]总表!$A$3:$AF$30000,31,FALSE)","v":"初中"},{"$f":"VLOOKUP(F985,[1]总表!$A$3:$AF$30000,32,FALSE)","v":"英语"},"55.50"]
[984,"何倩",20230603013523,35,"23",1743,{"$f":"VLOOKUP(F986,[1]总表!$A$3:$AF$30000,31,FALSE)","v":"初中"},{"$f":"VLOOKUP(F986,[1]总表!$A$3:$AF$30000,32,FALSE)","v":"英语"},"71.50"]
[985,"李璐",20230603013524,35,"24",1556,{"$f":"VLOOKUP(F987,[1]总表!$A$3:$AF$30000,31,FALSE)","v":"初中"},{"$f":"VLOOKUP(F987,[1]总表!$A$3:$AF$30000,32,FALSE)","v":"英语"},"64.50"]
[986,"杨佳珍",20230603013525,35,"25",1732,{"$f":"VLOOKUP(F988,[1]总表!$A$3:$AF$30000,31,FALSE)","v":"初中"},{"$f":"VLOOKUP(F988,[1]总表!$A$3:$AF$30000,32,FALSE)","v":"英语"},"56.50"]
[987,"秦志慧",20230603013526,35,"26",1648,{"$f":"VLOOKUP(F989,[1]总表!$A$3:$AF$30000,31,FALSE)","v":"初中"},{"$f":"VLOOKUP(F989,[1]总表!$A$3:$AF$30000,32,FALSE)","v":"英语"},"50.50"]
[988,"黄新宇",20230603013527,35,"27",1709,{"$f":"VLOOKUP(F990,[1]总表!$A$3:$AF$30000,31,FALSE)","v":"初中"},{"$f":"VLOOKUP(F990,[1]总表!$A$3:$AF$30000,32,FALSE)","v":"英语"},"65"]
[989,"龙漫",20230603013528,35,"28",1537,{"$f":"VLOOKUP(F991,[1]总表!$A$3:$AF$30000,31,FALSE)","v":"初中"},{"$f":"VLOOKUP(F991,[1]总表!$A$3:$AF$30000,32,FALSE)","v":"英语"},"67.50"]
[990,"杨艳丹",20230603013529,35,"29",1803,{"$f":"VLOOKUP(F992,[1]总表!$A$3:$AF$30000,31,FALSE)","v":"初中"},{"$f":"VLOOKUP(F992,[1]总表!$A$3:$AF$30000,32,FALSE)","v":"英语"},"59"]
[991,"刘晓放",20230603013530,35,"30",1741,{"$f":"VLOOKUP(F993,[1]总表!$A$3:$AF$30000,31,FALSE)","v":"初中"},{"$f":"VLOOKUP(F993,[1]总表!$A$3:$AF$30000,32,FALSE)","v":"英语"},"68"]
[992,"龙林霞",20230603013601,36,"01",1654,{"$f":"VLOOKUP(F994,[1]总表!$A$3:$AF$30000,31,FALSE)","v":"初中"},{"$f":"VLOOKUP(F994,[1]总表!$A$3:$AF$30000,32,FALSE)","v":"英语"},"62.50"]
[993,"吴艳芬",20230603013602,36,"02",1786,{"$f":"VLOOKUP(F995,[1]总表!$A$3:$AF$30000,31,FALSE)","v":"初中"},{"$f":"VLOOKUP(F995,[1]总表!$A$3:$AF$30000,32,FALSE)","v":"英语"},"70.50"]
[994,"邓苏亮",20230603013603,36,"03",1789,{"$f":"VLOOKUP(F996,[1]总表!$A$3:$AF$30000,31,FALSE)","v":"初中"},{"$f":"VLOOKUP(F996,[1]总表!$A$3:$AF$30000,32,FALSE)","v":"英语"},"67"]
[995,"钱娇",20230603013604,36,"04",1736,{"$f":"VLOOKUP(F997,[1]总表!$A$3:$AF$30000,31,FALSE)","v":"初中"},{"$f":"VLOOKUP(F997,[1]总表!$A$3:$AF$30000,32,FALSE)","v":"英语"},"62.50"]
[996,"刘群",20230603013605,36,"05",1667,{"$f":"VLOOKUP(F998,[1]总表!$A$3:$AF$30000,31,FALSE)","v":"初中"},{"$f":"VLOOKUP(F998,[1]总表!$A$3:$AF$30000,32,FALSE)","v":"英语"},"49.50"]
[997,"喻琴艳",20230603013606,36,"06",1672,{"$f":"VLOOKUP(F999,[1]总表!$A$3:$AF$30000,31,FALSE)","v":"初中"},{"$f":"VLOOKUP(F999,[1]总表!$A$3:$AF$30000,32,FALSE)","v":"英语"},"80"]
[998,"田怡",20230603013607,36,"07",1757,{"$f":"VLOOKUP(F1000,[1]总表!$A$3:$AF$30000,31,FALSE)","v":"初中"},{"$f":"VLOOKUP(F1000,[1]总表!$A$3:$AF$30000,32,FALSE)","v":"英语"},"54"]
[999,"白敏",20230603013608,36,"08",1793,{"$f":"VLOOKUP(F1001,[1]总表!$A$3:$AF$30000,31,FALSE)","v":"初中"},{"$f":"VLOOKUP(F1001,[1]总表!$A$3:$AF$30000,32,FALSE)","v":"英语"},"75"]
[1000,"王诺兰",20230603013609,36,"09",1764,{"$f":"VLOOKUP(F1002,[1]总表!$A$3:$AF$30000,31,FALSE)","v":"初中"},{"$f":"VLOOKUP(F1002,[1]总表!$A$3:$AF$30000,32,FALSE)","v":"英语"},"69.50"]
[1001,"龙文莲",20230603013610,36,"10",1713,{"$f":"VLOOKUP(F1003,[1]总表!$A$3:$AF$30000,31,FALSE)","v":"初中"},{"$f":"VLOOKUP(F1003,[1]总表!$A$3:$AF$30000,32,FALSE)","v":"英语"},"77"]
[1002,"胥雅诗",20230603013611,36,"11",1782,{"$f":"VLOOKUP(F1004,[1]总表!$A$3:$AF$30000,31,FALSE)","v":"初中"},{"$f":"VLOOKUP(F1004,[1]总表!$A$3:$AF$30000,32,FALSE)","v":"英语"},"63"]
[1003,"雷慧",20230603013612,36,"12",1640,{"$f":"VLOOKUP(F1005,[1]总表!$A$3:$AF$30000,31,FALSE)","v":"初中"},{"$f":"VLOOKUP(F1005,[1]总表!$A$3:$AF$30000,32,FALSE)","v":"英语"},"66"]
[1004,"卢克琴",20230603013613,36,"13",1593,{"$f":"VLOOKUP(F1006,[1]总表!$A$3:$AF$30000,31,FALSE)","v":"初中"},{"$f":"VLOOKUP(F1006,[1]总表!$A$3:$AF$30000,32,FALSE)","v":"英语"},"62"]
[1005,"龙关花",20230603013614,36,"14",1692,{"$f":"VLOOKUP(F1007,[1]总表!$A$3:$AF$30000,31,FALSE)","v":"初中"},{"$f":"VLOOKUP(F1007,[1]总表!$A$3:$AF$30000,32,FALSE)","v":"英语"},"78.50"]
[1006,"晏红丽",20230603013615,36,"15",1589,{"$f":"VLOOKUP(F1008,[1]总表!$A$3:$AF$30000,31,FALSE)","v":"初中"},{"$f":"VLOOKUP(F1008,[1]总表!$A$3:$AF$30000,32,FALSE)","v":"英语"},"65"]
[1007,"石丽蓉",20230603013616,36,"16",1612,{"$f":"VLOOKUP(F1009,[1]总表!$A$3:$AF$30000,31,FALSE)","v":"初中"},{"$f":"VLOOKUP(F1009,[1]总表!$A$3:$AF$30000,32,FALSE)","v":"英语"},"55"]
[1008,"龙晗",20230603013617,36,"17",1663,{"$f":"VLOOKUP(F1010,[1]总表!$A$3:$AF$30000,31,FALSE)","v":"初中"},{"$f":"VLOOKUP(F1010,[1]总表!$A$3:$AF$30000,32,FALSE)","v":"英语"},"67"]
[1009,"杨再香",20230603013618,36,"18",1552,{"$f":"VLOOKUP(F1011,[1]总表!$A$3:$AF$30000,31,FALSE)","v":"初中"},{"$f":"VLOOKUP(F1011,[1]总表!$A$3:$AF$30000,32,FALSE)","v":"英语"},"50.50"]
[1010,"杨佩瑶",20230603013619,36,"19",1705,{"$f":"VLOOKUP(F1012,[1]总表!$A$3:$AF$30000,31,FALSE)","v":"初中"},{"$f":"VLOOKUP(F1012,[1]总表!$A$3:$AF$30000,32,FALSE)","v":"英语"},"64.50"]
[1011,"龙雨瑶",20230603013620,36,"20",1671,{"$f":"VLOOKUP(F1013,[1]总表!$A$3:$AF$30000,31,FALSE)","v":"初中"},{"$f":"VLOOKUP(F1013,[1]总表!$A$3:$AF$30000,32,FALSE)","v":"英语"},"54.50"]
[1012,"宋德娆",20230603013621,36,"21",1794,{"$f":"VLOOKUP(F1014,[1]总表!$A$3:$AF$30000,31,FALSE)","v":"初中"},{"$f":"VLOOKUP(F1014,[1]总表!$A$3:$AF$30000,32,FALSE)","v":"英语"},"63.50"]
[1013,"石琳敏",20230603013622,36,"22",1546,{"$f":"VLOOKUP(F1015,[1]总表!$A$3:$AF$30000,31,FALSE)","v":"初中"},{"$f":"VLOOKUP(F1015,[1]总表!$A$3:$AF$30000,32,FALSE)","v":"英语"},"66"]
[1014,"李雪琴",20230603013623,36,"23",1515,{"$f":"VLOOKUP(F1016,[1]总表!$A$3:$AF$30000,31,FALSE)","v":"初中"},{"$f":"VLOOKUP(F1016,[1]总表!$A$3:$AF$30000,32,FALSE)","v":"英语"},"76"]
[1015,"陈怡欣",20230603013624,36,"24",1776,{"$f":"VLOOKUP(F1017,[1]总表!$A$3:$AF$30000,31,FALSE)","v":"初中"},{"$f":"VLOOKUP(F1017,[1]总表!$A$3:$AF$30000,32,FALSE)","v":"英语"},"缺考"]
[1016,"李芳野",20230603013625,36,"25",1625,{"$f":"VLOOKUP(F1018,[1]总表!$A$3:$AF$30000,31,FALSE)","v":"初中"},{"$f":"VLOOKUP(F1018,[1]总表!$A$3:$AF$30000,32,FALSE)","v":"英语"},"46"]
[1017,"黄文丽",20230603013626,36,"26",1704,{"$f":"VLOOKUP(F1019,[1]总表!$A$3:$AF$30000,31,FALSE)","v":"初中"},{"$f":"VLOOKUP(F1019,[1]总表!$A$3:$AF$30000,32,FALSE)","v":"英语"},"64.50"]
[1018,"麻四妹",20230603013627,36,"27",1627,{"$f":"VLOOKUP(F1020,[1]总表!$A$3:$AF$30000,31,FALSE)","v":"初中"},{"$f":"VLOOKUP(F1020,[1]总表!$A$3:$AF$30000,32,FALSE)","v":"英语"},"53"]
[1019,"于操",20230603013628,36,"28",1575,{"$f":"VLOOKUP(F1021,[1]总表!$A$3:$AF$30000,31,FALSE)","v":"初中"},{"$f":"VLOOKUP(F1021,[1]总表!$A$3:$AF$30000,32,FALSE)","v":"英语"},"66.50"]
[1020,"唐清霖",20230603013629,36,"29",1806,{"$f":"VLOOKUP(F1022,[1]总表!$A$3:$AF$30000,31,FALSE)","v":"初中"},{"$f":"VLOOKUP(F1022,[1]总表!$A$3:$AF$30000,32,FALSE)","v":"英语"},"71"]
[1021,"曾珍",20230603013630,36,"30",1687,{"$f":"VLOOKUP(F1023,[1]总表!$A$3:$AF$30000,31,FALSE)","v":"初中"},{"$f":"VLOOKUP(F1023,[1]总表!$A$3:$AF$30000,32,FALSE)","v":"英语"},"58.50"]
[1022,"刘艳",20230603013701,37,"01",1752,{"$f":"VLOOKUP(F1024,[1]总表!$A$3:$AF$30000,31,FALSE)","v":"初中"},{"$f":"VLOOKUP(F1024,[1]总表!$A$3:$AF$30000,32,FALSE)","v":"英语"},"70.50"]
[1023,"高风节",20230603013702,37,"02",1553,{"$f":"VLOOKUP(F1025,[1]总表!$A$3:$AF$30000,31,FALSE)","v":"初中"},{"$f":"VLOOKUP(F1025,[1]总表!$A$3:$AF$30000,32,FALSE)","v":"英语"},"71"]
[1024,"彭敏",20230603013703,37,"03",1541,{"$f":"VLOOKUP(F1026,[1]总表!$A$3:$AF$30000,31,FALSE)","v":"初中"},{"$f":"VLOOKUP(F1026,[1]总表!$A$3:$AF$30000,32,FALSE)","v":"英语"},"54.50"]
[1025,"罗雪",20230603013704,37,"04",1662,{"$f":"VLOOKUP(F1027,[1]总表!$A$3:$AF$30000,31,FALSE)","v":"初中"},{"$f":"VLOOKUP(F1027,[1]总表!$A$3:$AF$30000,32,FALSE)","v":"英语"},"63.50"]
[1026,"吴小雯",20230603013801,38,"01",1797,{"$f":"VLOOKUP(F1028,[1]总表!$A$3:$AF$30000,31,FALSE)","v":"小学"},{"$f":"VLOOKUP(F1028,[1]总表!$A$3:$AF$30000,32,FALSE)","v":"英语"},"60.50"]
[1027,"舒婷",20230603013802,38,"02",1780,{"$f":"VLOOKUP(F1029,[1]总表!$A$3:$AF$30000,31,FALSE)","v":"小学"},{"$f":"VLOOKUP(F1029,[1]总表!$A$3:$AF$30000,32,FALSE)","v":"英语"},"缺考"]
[1028,"秦丹",20230603013803,38,"03",1597,{"$f":"VLOOKUP(F1030,[1]总表!$A$3:$AF$30000,31,FALSE)","v":"小学"},{"$f":"VLOOKUP(F1030,[1]总表!$A$3:$AF$30000,32,FALSE)","v":"英语"},"54"]
[1029,"郭亚慧",20230603013804,38,"04",1678,{"$f":"VLOOKUP(F1031,[1]总表!$A$3:$AF$30000,31,FALSE)","v":"小学"},{"$f":"VLOOKUP(F1031,[1]总表!$A$3:$AF$30000,32,FALSE)","v":"英语"},"56.50"]
[1030,"冉青青",20230603013805,38,"05",1664,{"$f":"VLOOKUP(F1032,[1]总表!$A$3:$AF$30000,31,FALSE)","v":"小学"},{"$f":"VLOOKUP(F1032,[1]总表!$A$3:$AF$30000,32,FALSE)","v":"英语"},"76"]
[1031,"邵明芬",20230603013806,38,"06",1653,{"$f":"VLOOKUP(F1033,[1]总表!$A$3:$AF$30000,31,FALSE)","v":"小学"},{"$f":"VLOOKUP(F1033,[1]总表!$A$3:$AF$30000,32,FALSE)","v":"英语"},"50.50"]
[1032,"王燕云",20230603013807,38,"07",1721,{"$f":"VLOOKUP(F1034,[1]总表!$A$3:$AF$30000,31,FALSE)","v":"小学"},{"$f":"VLOOKUP(F1034,[1]总表!$A$3:$AF$30000,32,FALSE)","v":"英语"},"47.50"]
[1033,"张思源",20230603013808,38,"08",1562,{"$f":"VLOOKUP(F1035,[1]总表!$A$3:$AF$30000,31,FALSE)","v":"小学"},{"$f":"VLOOKUP(F1035,[1]总表!$A$3:$AF$30000,32,FALSE)","v":"英语"},"60.50"]
[1034,"丁路",20230603013809,38,"09",1554,{"$f":"VLOOKUP(F1036,[1]总表!$A$3:$AF$30000,31,FALSE)","v":"小学"},{"$f":"VLOOKUP(F1036,[1]总表!$A$3:$AF$30000,32,FALSE)","v":"英语"},"68.50"]
[1035,"田素菊",20230603013810,38,"10",1633,{"$f":"VLOOKUP(F1037,[1]总表!$A$3:$AF$30000,31,FALSE)","v":"小学"},{"$f":"VLOOKUP(F1037,[1]总表!$A$3:$AF$30000,32,FALSE)","v":"英语"},"61.50"]
[1036,"孙叙美",20230603013811,38,"11",1536,{"$f":"VLOOKUP(F1038,[1]总表!$A$3:$AF$30000,31,FALSE)","v":"小学"},{"$f":"VLOOKUP(F1038,[1]总表!$A$3:$AF$30000,32,FALSE)","v":"英语"},"58.50"]
[1037,"龙小裙",20230603013812,38,"12",1761,{"$f":"VLOOKUP(F1039,[1]总表!$A$3:$AF$30000,31,FALSE)","v":"小学"},{"$f":"VLOOKUP(F1039,[1]总表!$A$3:$AF$30000,32,FALSE)","v":"英语"},"46.50"]
[1038,"姚艳飞",20230603013813,38,"13",1535,{"$f":"VLOOKUP(F1040,[1]总表!$A$3:$AF$30000,31,FALSE)","v":"小学"},{"$f":"VLOOKUP(F1040,[1]总表!$A$3:$AF$30000,32,FALSE)","v":"英语"},"47"]
[1039,"何松云",20230603013814,38,"14",1674,{"$f":"VLOOKUP(F1041,[1]总表!$A$3:$AF$30000,31,FALSE)","v":"小学"},{"$f":"VLOOKUP(F1041,[1]总表!$A$3:$AF$30000,32,FALSE)","v":"英语"},"52.50"]
[1040,"张仙",20230603013815,38,"15",1670,{"$f":"VLOOKUP(F1042,[1]总表!$A$3:$AF$30000,31,FALSE)","v":"小学"},{"$f":"VLOOKUP(F1042,[1]总表!$A$3:$AF$30000,32,FALSE)","v":"英语"},"56"]
[1041,"杨西",20230603013816,38,"16",1547,{"$f":"VLOOKUP(F1043,[1]总表!$A$3:$AF$30000,31,FALSE)","v":"小学"},{"$f":"VLOOKUP(F1043,[1]总表!$A$3:$AF$30000,32,FALSE)","v":"英语"},"47.50"]
[1042,"杨晶晶",20230603013817,38,"17",1532,{"$f":"VLOOKUP(F1044,[1]总表!$A$3:$AF$30000,31,FALSE)","v":"小学"},{"$f":"VLOOKUP(F1044,[1]总表!$A$3:$AF$30000,32,FALSE)","v":"英语"},"51"]
[1043,"毛秀婷",20230603013818,38,"18",1802,{"$f":"VLOOKUP(F1045,[1]总表!$A$3:$AF$30000,31,FALSE)","v":"小学"},{"$f":"VLOOKUP(F1045,[1]总表!$A$3:$AF$30000,32,FALSE)","v":"英语"},"70"]
[1044,"龙丹",20230603013819,38,"19",1584,{"$f":"VLOOKUP(F1046,[1]总表!$A$3:$AF$30000,31,FALSE)","v":"小学"},{"$f":"VLOOKUP(F1046,[1]总表!$A$3:$AF$30000,32,FALSE)","v":"英语"},"62"]
[1045,"李林芬",20230603013820,38,"20",1585,{"$f":"VLOOKUP(F1047,[1]总表!$A$3:$AF$30000,31,FALSE)","v":"小学"},{"$f":"VLOOKUP(F1047,[1]总表!$A$3:$AF$30000,32,FALSE)","v":"英语"},"67"]
[1046,"岑丽",20230603013821,38,"21",1637,{"$f":"VLOOKUP(F1048,[1]总表!$A$3:$AF$30000,31,FALSE)","v":"小学"},{"$f":"VLOOKUP(F1048,[1]总表!$A$3:$AF$30000,32,FALSE)","v":"英语"},"缺考"]
[1047,"段小停",20230603013822,38,"22",1626,{"$f":"VLOOKUP(F1049,[1]总表!$A$3:$AF$30000,31,FALSE)","v":"小学"},{"$f":"VLOOKUP(F1049,[1]总表!$A$3:$AF$30000,32,FALSE)","v":"英语"},"66"]
[1048,"陈碧",20230603013823,38,"23",1720,{"$f":"VLOOKUP(F1050,[1]总表!$A$3:$AF$30000,31,FALSE)","v":"小学"},{"$f":"VLOOKUP(F1050,[1]总表!$A$3:$AF$30000,32,FALSE)","v":"英语"},"56"]
[1049,"刘宇萌",20230603013824,38,"24",1601,{"$f":"VLOOKUP(F1051,[1]总表!$A$3:$AF$30000,31,FALSE)","v":"小学"},{"$f":"VLOOKUP(F1051,[1]总表!$A$3:$AF$30000,32,FALSE)","v":"英语"},"46"]
[1050,"张曼君",20230603013825,38,"25",1592,{"$f":"VLOOKUP(F1052,[1]总表!$A$3:$AF$30000,31,FALSE)","v":"小学"},{"$f":"VLOOKUP(F1052,[1]总表!$A$3:$AF$30000,32,FALSE)","v":"英语"},"71.50"]
[1051,"杨慧",20230603013826,38,"26",1756,{"$f":"VLOOKUP(F1053,[1]总表!$A$3:$AF$30000,31,FALSE)","v":"小学"},{"$f":"VLOOKUP(F1053,[1]总表!$A$3:$AF$30000,32,FALSE)","v":"英语"},"58.50"]
[1052,"周前丽",20230603013827,38,"27",1725,{"$f":"VLOOKUP(F1054,[1]总表!$A$3:$AF$30000,31,FALSE)","v":"小学"},{"$f":"VLOOKUP(F1054,[1]总表!$A$3:$AF$30000,32,FALSE)","v":"英语"},"69.50"]
[1053,"田利梅",20230603013828,38,"28",1700,{"$f":"VLOOKUP(F1055,[1]总表!$A$3:$AF$30000,31,FALSE)","v":"小学"},{"$f":"VLOOKUP(F1055,[1]总表!$A$3:$AF$30000,32,FALSE)","v":"英语"},"61.50"]
[1054,"彭婷婷",20230603013829,38,"29",1571,{"$f":"VLOOKUP(F1056,[1]总表!$A$3:$AF$30000,31,FALSE)","v":"小学"},{"$f":"VLOOKUP(F1056,[1]总表!$A$3:$AF$30000,32,FALSE)","v":"英语"},"66"]
[1055,"姚莹",20230603013830,38,"30",1557,{"$f":"VLOOKUP(F1057,[1]总表!$A$3:$AF$30000,31,FALSE)","v":"小学"},{"$f":"VLOOKUP(F1057,[1]总表!$A$3:$AF$30000,32,FALSE)","v":"英语"},"60.50"]
[1056,"杨蕾",20230603013901,39,"01",1545,{"$f":"VLOOKUP(F1058,[1]总表!$A$3:$AF$30000,31,FALSE)","v":"小学"},{"$f":"VLOOKUP(F1058,[1]总表!$A$3:$AF$30000,32,FALSE)","v":"英语"},"51.50"]
[1057,"龙霞",20230603013902,39,"02",1514,{"$f":"VLOOKUP(F1059,[1]总表!$A$3:$AF$30000,31,FALSE)","v":"小学"},{"$f":"VLOOKUP(F1059,[1]总表!$A$3:$AF$30000,32,FALSE)","v":"英语"},"54.50"]
[1058,"何婷婷",20230603013903,39,"03",1702,{"$f":"VLOOKUP(F1060,[1]总表!$A$3:$AF$30000,31,FALSE)","v":"小学"},{"$f":"VLOOKUP(F1060,[1]总表!$A$3:$AF$30000,32,FALSE)","v":"英语"},"46.50"]
[1059,"彭鑫",20230603013904,39,"04",1568,{"$f":"VLOOKUP(F1061,[1]总表!$A$3:$AF$30000,31,FALSE)","v":"小学"},{"$f":"VLOOKUP(F1061,[1]总表!$A$3:$AF$30000,32,FALSE)","v":"英语"},"53.50"]
[1060,"冉佳",20230603013905,39,"05",1599,{"$f":"VLOOKUP(F1062,[1]总表!$A$3:$AF$30000,31,FALSE)","v":"小学"},{"$f":"VLOOKUP(F1062,[1]总表!$A$3:$AF$30000,32,FALSE)","v":"英语"},"59"]
[1061,"田冬香",20230603013906,39,"06",1533,{"$f":"VLOOKUP(F1063,[1]总表!$A$3:$AF$30000,31,FALSE)","v":"小学"},{"$f":"VLOOKUP(F1063,[1]总表!$A$3:$AF$30000,32,FALSE)","v":"英语"},"69"]
[1062,"田莹莹",20230603013907,39,"07",1644,{"$f":"VLOOKUP(F1064,[1]总表!$A$3:$AF$30000,31,FALSE)","v":"小学"},{"$f":"VLOOKUP(F1064,[1]总表!$A$3:$AF$30000,32,FALSE)","v":"英语"},"54.50"]
[1063,"冉容",20230603013908,39,"08",1559,{"$f":"VLOOKUP(F1065,[1]总表!$A$3:$AF$30000,31,FALSE)","v":"小学"},{"$f":"VLOOKUP(F1065,[1]总表!$A$3:$AF$30000,32,FALSE)","v":"英语"},"59"]
[1064,"谭余",20230603013909,39,"09",1573,{"$f":"VLOOKUP(F1066,[1]总表!$A$3:$AF$30000,31,FALSE)","v":"小学"},{"$f":"VLOOKUP(F1066,[1]总表!$A$3:$AF$30000,32,FALSE)","v":"英语"},"60.50"]
[1065,"覃芬",20230603013910,39,"10",1521,{"$f":"VLOOKUP(F1067,[1]总表!$A$3:$AF$30000,31,FALSE)","v":"小学"},{"$f":"VLOOKUP(F1067,[1]总表!$A$3:$AF$30000,32,FALSE)","v":"英语"},"56.50"]
[1066,"简江霞",20230603013911,39,"11",1617,{"$f":"VLOOKUP(F1068,[1]总表!$A$3:$AF$30000,31,FALSE)","v":"小学"},{"$f":"VLOOKUP(F1068,[1]总表!$A$3:$AF$30000,32,FALSE)","v":"英语"},"58.50"]
[1067,"龙琳萌",20230603013912,39,"12",1659,{"$f":"VLOOKUP(F1069,[1]总表!$A$3:$AF$30000,31,FALSE)","v":"小学"},{"$f":"VLOOKUP(F1069,[1]总表!$A$3:$AF$30000,32,FALSE)","v":"英语"},"77.50"]
[1068,"黄姜燕",20230603013913,39,"13",1694,{"$f":"VLOOKUP(F1070,[1]总表!$A$3:$AF$30000,31,FALSE)","v":"小学"},{"$f":"VLOOKUP(F1070,[1]总表!$A$3:$AF$30000,32,FALSE)","v":"英语"},"47"]
[1069,"吴彤",20230603013914,39,"14",1790,{"$f":"VLOOKUP(F1071,[1]总表!$A$3:$AF$30000,31,FALSE)","v":"小学"},{"$f":"VLOOKUP(F1071,[1]总表!$A$3:$AF$30000,32,FALSE)","v":"英语"},"缺考"]
[1070,"赵津津",20230603013915,39,"15",1523,{"$f":"VLOOKUP(F1072,[1]总表!$A$3:$AF$30000,31,FALSE)","v":"小学"},{"$f":"VLOOKUP(F1072,[1]总表!$A$3:$AF$30000,32,FALSE)","v":"英语"},"63.50"]
[1071,"任倩倩",20230603013916,39,"16",1614,{"$f":"VLOOKUP(F1073,[1]总表!$A$3:$AF$30000,31,FALSE)","v":"小学"},{"$f":"VLOOKUP(F1073,[1]总表!$A$3:$AF$30000,32,FALSE)","v":"英语"},"54.50"]
[1072,"田丽娜",20230603013917,39,"17",1531,{"$f":"VLOOKUP(F1074,[1]总表!$A$3:$AF$30000,31,FALSE)","v":"小学"},{"$f":"VLOOKUP(F1074,[1]总表!$A$3:$AF$30000,32,FALSE)","v":"英语"},"60.50"]
[1073,"陈雪",20230603013918,39,"18",1763,{"$f":"VLOOKUP(F1075,[1]总表!$A$3:$AF$30000,31,FALSE)","v":"小学"},{"$f":"VLOOKUP(F1075,[1]总表!$A$3:$AF$30000,32,FALSE)","v":"英语"},"63"]
[1074,"欧琼阳",20230603013919,39,"19",1766,{"$f":"VLOOKUP(F1076,[1]总表!$A$3:$AF$30000,31,FALSE)","v":"小学"},{"$f":"VLOOKUP(F1076,[1]总表!$A$3:$AF$30000,32,FALSE)","v":"英语"},"缺考"]
[1075,"曹慧婷",20230603013920,39,"20",1619,{"$f":"VLOOKUP(F1077,[1]总表!$A$3:$AF$30000,31,FALSE)","v":"小学"},{"$f":"VLOOKUP(F1077,[1]总表!$A$3:$AF$30000,32,FALSE)","v":"英语"},"缺考"]
[1076,"谢亚丽",20230603013921,39,"21",1639,{"$f":"VLOOKUP(F1078,[1]总表!$A$3:$AF$30000,31,FALSE)","v":"小学"},{"$f":"VLOOKUP(F1078,[1]总表!$A$3:$AF$30000,32,FALSE)","v":"英语"},"66"]
[1077,"陈钥宇",20230603013922,39,"22",1679,{"$f":"VLOOKUP(F1079,[1]总表!$A$3:$AF$30000,31,FALSE)","v":"小学"},{"$f":"VLOOKUP(F1079,[1]总表!$A$3:$AF$30000,32,FALSE)","v":"英语"},"53.50"]
[1078,"欧席文",20230603013923,39,"23",1774,{"$f":"VLOOKUP(F1080,[1]总表!$A$3:$AF$30000,31,FALSE)","v":"小学"},{"$f":"VLOOKUP(F1080,[1]总表!$A$3:$AF$30000,32,FALSE)","v":"英语"},"75.50"]
[1079,"吴鲜美",20230603013924,39,"24",1591,{"$f":"VLOOKUP(F1081,[1]总表!$A$3:$AF$30000,31,FALSE)","v":"小学"},{"$f":"VLOOKUP(F1081,[1]总表!$A$3:$AF$30000,32,FALSE)","v":"英语"},"59.50"]
[1080,"向沁逸",20230603013925,39,"25",1527,{"$f":"VLOOKUP(F1082,[1]总表!$A$3:$AF$30000,31,FALSE)","v":"小学"},{"$f":"VLOOKUP(F1082,[1]总表!$A$3:$AF$30000,32,FALSE)","v":"英语"},"56.50"]
[1081,"王云迪",20230603013926,39,"26",1583,{"$f":"VLOOKUP(F1083,[1]总表!$A$3:$AF$30000,31,FALSE)","v":"小学"},{"$f":"VLOOKUP(F1083,[1]总表!$A$3:$AF$30000,32,FALSE)","v":"英语"},"69"]
[1082,"冉静",20230603013927,39,"27",1657,{"$f":"VLOOKUP(F1084,[1]总表!$A$3:$AF$30000,31,FALSE)","v":"小学"},{"$f":"VLOOKUP(F1084,[1]总表!$A$3:$AF$30000,32,FALSE)","v":"英语"},"71.50"]
[1083,"陈秒",20230603013928,39,"28",1715,{"$f":"VLOOKUP(F1085,[1]总表!$A$3:$AF$30000,31,FALSE)","v":"小学"},{"$f":"VLOOKUP(F1085,[1]总表!$A$3:$AF$30000,32,FALSE)","v":"英语"},"78"]
[1084,"李冰芯",20230603013929,39,"29",1646,{"$f":"VLOOKUP(F1086,[1]总表!$A$3:$AF$30000,31,FALSE)","v":"小学"},{"$f":"VLOOKUP(F1086,[1]总表!$A$3:$AF$30000,32,FALSE)","v":"英语"},"55.50"]
[1085,"潘莎莎",20230603013930,39,"30",1576,{"$f":"VLOOKUP(F1087,[1]总表!$A$3:$AF$30000,31,FALSE)","v":"小学"},{"$f":"VLOOKUP(F1087,[1]总表!$A$3:$AF$30000,32,FALSE)","v":"英语"},"74"]
[1086,"张萍",20230603014001,40,"01",1522,{"$f":"VLOOKUP(F1088,[1]总表!$A$3:$AF$30000,31,FALSE)","v":"小学"},{"$f":"VLOOKUP(F1088,[1]总表!$A$3:$AF$30000,32,FALSE)","v":"英语"},"64"]
[1087,"毛垣芳",20230603014002,40,"02",1696,{"$f":"VLOOKUP(F1089,[1]总表!$A$3:$AF$30000,31,FALSE)","v":"小学"},{"$f":"VLOOKUP(F1089,[1]总表!$A$3:$AF$30000,32,FALSE)","v":"英语"},"44"]
[1088,"龙英",20230603014003,40,"03",1540,{"$f":"VLOOKUP(F1090,[1]总表!$A$3:$AF$30000,31,FALSE)","v":"小学"},{"$f":"VLOOKUP(F1090,[1]总表!$A$3:$AF$30000,32,FALSE)","v":"英语"},"64.50"]
[1089,"石敏",20230603014004,40,"04",1655,{"$f":"VLOOKUP(F1091,[1]总表!$A$3:$AF$30000,31,FALSE)","v":"小学"},{"$f":"VLOOKUP(F1091,[1]总表!$A$3:$AF$30000,32,FALSE)","v":"英语"},"65.50"]
[1090,"王克树",20230603014005,40,"05",1548,{"$f":"VLOOKUP(F1092,[1]总表!$A$3:$AF$30000,31,FALSE)","v":"小学"},{"$f":"VLOOKUP(F1092,[1]总表!$A$3:$AF$30000,32,FALSE)","v":"英语"},"50.50"]
[1091,"龙松丽",20230603014006,40,"06",1539,{"$f":"VLOOKUP(F1093,[1]总表!$A$3:$AF$30000,31,FALSE)","v":"小学"},{"$f":"VLOOKUP(F1093,[1]总表!$A$3:$AF$30000,32,FALSE)","v":"英语"},"59"]
[1092,"罗蓉",20230603014007,40,"07",1779,{"$f":"VLOOKUP(F1094,[1]总表!$A$3:$AF$30000,31,FALSE)","v":"小学"},{"$f":"VLOOKUP(F1094,[1]总表!$A$3:$AF$30000,32,FALSE)","v":"英语"},"61"]
[1093,"石茜",20230603014008,40,"08",1755,{"$f":"VLOOKUP(F1095,[1]总表!$A$3:$AF$30000,31,FALSE)","v":"小学"},{"$f":"VLOOKUP(F1095,[1]总表!$A$3:$AF$30000,32,FALSE)","v":"英语"},"65.50"]
[1094,"何倩",20230603014009,40,"09",1676,{"$f":"VLOOKUP(F1096,[1]总表!$A$3:$AF$30000,31,FALSE)","v":"小学"},{"$f":"VLOOKUP(F1096,[1]总表!$A$3:$AF$30000,32,FALSE)","v":"英语"},"72"]
[1095,"龙杨佳佳",20230603014010,40,"10",1656,{"$f":"VLOOKUP(F1097,[1]总表!$A$3:$AF$30000,31,FALSE)","v":"小学"},{"$f":"VLOOKUP(F1097,[1]总表!$A$3:$AF$30000,32,FALSE)","v":"英语"},"51.50"]
[1096,"张双燕",20230603014011,40,"11",1524,{"$f":"VLOOKUP(F1098,[1]总表!$A$3:$AF$30000,31,FALSE)","v":"小学"},{"$f":"VLOOKUP(F1098,[1]总表!$A$3:$AF$30000,32,FALSE)","v":"英语"},"56.50"]
[1097,"石玉姣",20230603014012,40,"12",1518,{"$f":"VLOOKUP(F1099,[1]总表!$A$3:$AF$30000,31,FALSE)","v":"小学"},{"$f":"VLOOKUP(F1099,[1]总表!$A$3:$AF$30000,32,FALSE)","v":"英语"},"71.50"]
[1098,"舒通霞",20230603014013,40,"13",1570,{"$f":"VLOOKUP(F1100,[1]总表!$A$3:$AF$30000,31,FALSE)","v":"小学"},{"$f":"VLOOKUP(F1100,[1]总表!$A$3:$AF$30000,32,FALSE)","v":"英语"},"49.50"]
[1099,"朱贵梅",20230603014014,40,"14",1581,{"$f":"VLOOKUP(F1101,[1]总表!$A$3:$AF$30000,31,FALSE)","v":"小学"},{"$f":"VLOOKUP(F1101,[1]总表!$A$3:$AF$30000,32,FALSE)","v":"英语"},"62.50"]
[1100,"邹玉云",20230603014015,40,"15",1528,{"$f":"VLOOKUP(F1102,[1]总表!$A$3:$AF$30000,31,FALSE)","v":"小学"},{"$f":"VLOOKUP(F1102,[1]总表!$A$3:$AF$30000,32,FALSE)","v":"英语"},"51.50"]
[1101,"李敏",20230603014016,40,"16",1564,{"$f":"VLOOKUP(F1103,[1]总表!$A$3:$AF$30000,31,FALSE)","v":"小学"},{"$f":"VLOOKUP(F1103,[1]总表!$A$3:$AF$30000,32,FALSE)","v":"英语"},"56"]
[1102,"文莲",20230603014017,40,"17",1610,{"$f":"VLOOKUP(F1104,[1]总表!$A$3:$AF$30000,31,FALSE)","v":"小学"},{"$f":"VLOOKUP(F1104,[1]总表!$A$3:$AF$30000,32,FALSE)","v":"英语"},"67"]
[1103,"杨丽萍",20230603014018,40,"18",1602,{"$f":"VLOOKUP(F1105,[1]总表!$A$3:$AF$30000,31,FALSE)","v":"小学"},{"$f":"VLOOKUP(F1105,[1]总表!$A$3:$AF$30000,32,FALSE)","v":"英语"},"62.50"]
[1104,"吴春梅",20230603014019,40,"19",1792,{"$f":"VLOOKUP(F1106,[1]总表!$A$3:$AF$30000,31,FALSE)","v":"小学"},{"$f":"VLOOKUP(F1106,[1]总表!$A$3:$AF$30000,32,FALSE)","v":"英语"},"62.50"]
[1105,"闻朝莲",20230603014020,40,"20",1719,{"$f":"VLOOKUP(F1107,[1]总表!$A$3:$AF$30000,31,FALSE)","v":"小学"},{"$f":"VLOOKUP(F1107,[1]总表!$A$3:$AF$30000,32,FALSE)","v":"英语"},"63"]
[1106,"陈慧玲",20230603014021,40,"21",1718,{"$f":"VLOOKUP(F1108,[1]总表!$A$3:$AF$30000,31,FALSE)","v":"小学"},{"$f":"VLOOKUP(F1108,[1]总表!$A$3:$AF$30000,32,FALSE)","v":"英语"},"缺考"]
[1107,"谯雪芳",20230603014022,40,"22",1613,{"$f":"VLOOKUP(F1109,[1]总表!$A$3:$AF$30000,31,FALSE)","v":"小学"},{"$f":"VLOOKUP(F1109,[1]总表!$A$3:$AF$30000,32,FALSE)","v":"英语"},"56"]
[1108,"戴甜",20230603014023,40,"23",1677,{"$f":"VLOOKUP(F1110,[1]总表!$A$3:$AF$30000,31,FALSE)","v":"小学"},{"$f":"VLOOKUP(F1110,[1]总表!$A$3:$AF$30000,32,FALSE)","v":"英语"},"66.50"]
[1109,"安佳丽",20230603014024,40,"24",1680,{"$f":"VLOOKUP(F1111,[1]总表!$A$3:$AF$30000,31,FALSE)","v":"小学"},{"$f":"VLOOKUP(F1111,[1]总表!$A$3:$AF$30000,32,FALSE)","v":"英语"},"43.50"]
[1110,"张月芳",20230603014025,40,"25",1600,{"$f":"VLOOKUP(F1112,[1]总表!$A$3:$AF$30000,31,FALSE)","v":"小学"},{"$f":"VLOOKUP(F1112,[1]总表!$A$3:$AF$30000,32,FALSE)","v":"英语"},"58"]
[1111,"龙佳",20230603014026,40,"26",1574,{"$f":"VLOOKUP(F1113,[1]总表!$A$3:$AF$30000,31,FALSE)","v":"小学"},{"$f":"VLOOKUP(F1113,[1]总表!$A$3:$AF$30000,32,FALSE)","v":"英语"},"58.50"]
[1112,"张杨婷",20230603014027,40,"27",1781,{"$f":"VLOOKUP(F1114,[1]总表!$A$3:$AF$30000,31,FALSE)","v":"小学"},{"$f":"VLOOKUP(F1114,[1]总表!$A$3:$AF$30000,32,FALSE)","v":"英语"},"68"]
[1113,"吴吉芬",20230603014028,40,"28",1582,{"$f":"VLOOKUP(F1115,[1]总表!$A$3:$AF$30000,31,FALSE)","v":"小学"},{"$f":"VLOOKUP(F1115,[1]总表!$A$3:$AF$30000,32,FALSE)","v":"英语"},"73.50"]
[1114,"李微",20230603014029,40,"29",1727,{"$f":"VLOOKUP(F1116,[1]总表!$A$3:$AF$30000,31,FALSE)","v":"小学"},{"$f":"VLOOKUP(F1116,[1]总表!$A$3:$AF$30000,32,FALSE)","v":"英语"},"59"]
[1115,"朱旭",20230603014030,40,"30",1569,{"$f":"VLOOKUP(F1117,[1]总表!$A$3:$AF$30000,31,FALSE)","v":"小学"},{"$f":"VLOOKUP(F1117,[1]总表!$A$3:$AF$30000,32,FALSE)","v":"英语"},"缺考"]
[1116,"杨婷",20230603014101,41,"01",1550,{"$f":"VLOOKUP(F1118,[1]总表!$A$3:$AF$30000,31,FALSE)","v":"小学"},{"$f":"VLOOKUP(F1118,[1]总表!$A$3:$AF$30000,32,FALSE)","v":"英语"},"53"]
[1117,"石佳慧",20230603014102,41,"02",1611,{"$f":"VLOOKUP(F1119,[1]总表!$A$3:$AF$30000,31,FALSE)","v":"小学"},{"$f":"VLOOKUP(F1119,[1]总表!$A$3:$AF$30000,32,FALSE)","v":"英语"},"65"]
[1118,"石丽辰",20230603014103,41,"03",1684,{"$f":"VLOOKUP(F1120,[1]总表!$A$3:$AF$30000,31,FALSE)","v":"小学"},{"$f":"VLOOKUP(F1120,[1]总表!$A$3:$AF$30000,32,FALSE)","v":"英语"},"52.50"]
[1119,"滕玉彦",20230603014104,41,"04",1758,{"$f":"VLOOKUP(F1121,[1]总表!$A$3:$AF$30000,31,FALSE)","v":"小学"},{"$f":"VLOOKUP(F1121,[1]总表!$A$3:$AF$30000,32,FALSE)","v":"英语"},"63.50"]
[1120,"吴小琴",20230603014105,41,"05",1728,{"$f":"VLOOKUP(F1122,[1]总表!$A$3:$AF$30000,31,FALSE)","v":"小学"},{"$f":"VLOOKUP(F1122,[1]总表!$A$3:$AF$30000,32,FALSE)","v":"英语"},"70.50"]
[1121,"田晴",20230603014106,41,"06",1561,{"$f":"VLOOKUP(F1123,[1]总表!$A$3:$AF$30000,31,FALSE)","v":"小学"},{"$f":"VLOOKUP(F1123,[1]总表!$A$3:$AF$30000,32,FALSE)","v":"英语"},"64.50"]
[1122,"黄悦娟",20230603014107,41,"07",1810,{"$f":"VLOOKUP(F1124,[1]总表!$A$3:$AF$30000,31,FALSE)","v":"小学"},{"$f":"VLOOKUP(F1124,[1]总表!$A$3:$AF$30000,32,FALSE)","v":"英语"},"60"]
[1123,"熊敏",20230603014108,41,"08",1735,{"$f":"VLOOKUP(F1125,[1]总表!$A$3:$AF$30000,31,FALSE)","v":"小学"},{"$f":"VLOOKUP(F1125,[1]总表!$A$3:$AF$30000,32,FALSE)","v":"英语"},"71"]
[1124,"杨雪艳",20230603014109,41,"09",1631,{"$f":"VLOOKUP(F1126,[1]总表!$A$3:$AF$30000,31,FALSE)","v":"小学"},{"$f":"VLOOKUP(F1126,[1]总表!$A$3:$AF$30000,32,FALSE)","v":"英语"},"71.50"]
[1125,"马一丹",20230603014110,41,"10",1811,{"$f":"VLOOKUP(F1127,[1]总表!$A$3:$AF$30000,31,FALSE)","v":"小学"},{"$f":"VLOOKUP(F1127,[1]总表!$A$3:$AF$30000,32,FALSE)","v":"英语"},"66"]
[1126,"姜菁菁",20230603014111,41,"11",1620,{"$f":"VLOOKUP(F1128,[1]总表!$A$3:$AF$30000,31,FALSE)","v":"小学"},{"$f":"VLOOKUP(F1128,[1]总表!$A$3:$AF$30000,32,FALSE)","v":"英语"},"73.50"]
[1127,"张金凤",20230603014112,41,"12",1643,{"$f":"VLOOKUP(F1129,[1]总表!$A$3:$AF$30000,31,FALSE)","v":"小学"},{"$f":"VLOOKUP(F1129,[1]总表!$A$3:$AF$30000,32,FALSE)","v":"英语"},"缺考"]
[1128,"何海艳",20230603014113,41,"13",1555,{"$f":"VLOOKUP(F1130,[1]总表!$A$3:$AF$30000,31,FALSE)","v":"小学"},{"$f":"VLOOKUP(F1130,[1]总表!$A$3:$AF$30000,32,FALSE)","v":"英语"},"58"]
[1129,"隆秀蓉",20230603014114,41,"14",1796,{"$f":"VLOOKUP(F1131,[1]总表!$A$3:$AF$30000,31,FALSE)","v":"小学"},{"$f":"VLOOKUP(F1131,[1]总表!$A$3:$AF$30000,32,FALSE)","v":"英语"},"69.50"]
[1130,"韦兴莲",20230603014115,41,"15",1740,{"$f":"VLOOKUP(F1132,[1]总表!$A$3:$AF$30000,31,FALSE)","v":"小学"},{"$f":"VLOOKUP(F1132,[1]总表!$A$3:$AF$30000,32,FALSE)","v":"英语"},"49.50"]
[1131,"申桃香",20230603014116,41,"16",1649,{"$f":"VLOOKUP(F1133,[1]总表!$A$3:$AF$30000,31,FALSE)","v":"小学"},{"$f":"VLOOKUP(F1133,[1]总表!$A$3:$AF$30000,32,FALSE)","v":"英语"},"54"]
[1132,"罗玉红",20230603014117,41,"17",1578,{"$f":"VLOOKUP(F1134,[1]总表!$A$3:$AF$30000,31,FALSE)","v":"小学"},{"$f":"VLOOKUP(F1134,[1]总表!$A$3:$AF$30000,32,FALSE)","v":"英语"},"64.50"]
[1133,"陈嫔",20230603014118,41,"18",1629,{"$f":"VLOOKUP(F1135,[1]总表!$A$3:$AF$30000,31,FALSE)","v":"小学"},{"$f":"VLOOKUP(F1135,[1]总表!$A$3:$AF$30000,32,FALSE)","v":"英语"},"64.50"]
[1134,"杨红",20230603014119,41,"19",1773,{"$f":"VLOOKUP(F1136,[1]总表!$A$3:$AF$30000,31,FALSE)","v":"小学"},{"$f":"VLOOKUP(F1136,[1]总表!$A$3:$AF$30000,32,FALSE)","v":"英语"},"68"]
[1135,"李银霞",20230603014120,41,"20",1706,{"$f":"VLOOKUP(F1137,[1]总表!$A$3:$AF$30000,31,FALSE)","v":"小学"},{"$f":"VLOOKUP(F1137,[1]总表!$A$3:$AF$30000,32,FALSE)","v":"英语"},"65.50"]
[1136,"张圣容",20230603014121,41,"21",1641,{"$f":"VLOOKUP(F1138,[1]总表!$A$3:$AF$30000,31,FALSE)","v":"小学"},{"$f":"VLOOKUP(F1138,[1]总表!$A$3:$AF$30000,32,FALSE)","v":"英语"},"79"]
[1137,"许铱涵",20230603014122,41,"22",1724,{"$f":"VLOOKUP(F1139,[1]总表!$A$3:$AF$30000,31,FALSE)","v":"小学"},{"$f":"VLOOKUP(F1139,[1]总表!$A$3:$AF$30000,32,FALSE)","v":"英语"},"缺考"]
[1138,"王逍",20230603014123,41,"23",1651,{"$f":"VLOOKUP(F1140,[1]总表!$A$3:$AF$30000,31,FALSE)","v":"小学"},{"$f":"VLOOKUP(F1140,[1]总表!$A$3:$AF$30000,32,FALSE)","v":"英语"},"65"]
[1139,"方敏",20230603014124,41,"24",1516,{"$f":"VLOOKUP(F1141,[1]总表!$A$3:$AF$30000,31,FALSE)","v":"小学"},{"$f":"VLOOKUP(F1141,[1]总表!$A$3:$AF$30000,32,FALSE)","v":"英语"},"53.50"]
[1140,"李佳艺",20230603014125,41,"25",1622,{"$f":"VLOOKUP(F1142,[1]总表!$A$3:$AF$30000,31,FALSE)","v":"小学"},{"$f":"VLOOKUP(F1142,[1]总表!$A$3:$AF$30000,32,FALSE)","v":"英语"},"47.50"]
[1141,"吴三妹",20230603014126,41,"26",1661,{"$f":"VLOOKUP(F1143,[1]总表!$A$3:$AF$30000,31,FALSE)","v":"小学"},{"$f":"VLOOKUP(F1143,[1]总表!$A$3:$AF$30000,32,FALSE)","v":"英语"},"52"]
[1142,"伍文红",20230603014127,41,"27",1771,{"$f":"VLOOKUP(F1144,[1]总表!$A$3:$AF$30000,31,FALSE)","v":"小学"},{"$f":"VLOOKUP(F1144,[1]总表!$A$3:$AF$30000,32,FALSE)","v":"英语"},"76.50"]
[1143,"李玉琴",20230603014128,41,"28",1586,{"$f":"VLOOKUP(F1145,[1]总表!$A$3:$AF$30000,31,FALSE)","v":"小学"},{"$f":"VLOOKUP(F1145,[1]总表!$A$3:$AF$30000,32,FALSE)","v":"英语"},"76.50"]
[1144,"田彩艳",20230603014129,41,"29",1804,{"$f":"VLOOKUP(F1146,[1]总表!$A$3:$AF$30000,31,FALSE)","v":"小学"},{"$f":"VLOOKUP(F1146,[1]总表!$A$3:$AF$30000,32,FALSE)","v":"英语"},"71.50"]
[1145,"唐贵琴",20230603014130,41,"30",1615,{"$f":"VLOOKUP(F1147,[1]总表!$A$3:$AF$30000,31,FALSE)","v":"小学"},{"$f":"VLOOKUP(F1147,[1]总表!$A$3:$AF$30000,32,FALSE)","v":"英语"},"缺考"]
[1146,"徐飞凤",20230603014201,42,"01",1731,{"$f":"VLOOKUP(F1148,[1]总表!$A$3:$AF$30000,31,FALSE)","v":"小学"},{"$f":"VLOOKUP(F1148,[1]总表!$A$3:$AF$30000,32,FALSE)","v":"英语"},"57.50"]
[1147,"张雪艳",20230603014202,42,"02",1650,{"$f":"VLOOKUP(F1149,[1]总表!$A$3:$AF$30000,31,FALSE)","v":"小学"},{"$f":"VLOOKUP(F1149,[1]总表!$A$3:$AF$30000,32,FALSE)","v":"英语"},"70"]
[1148,"陈思",20230603014203,42,"03",1566,{"$f":"VLOOKUP(F1150,[1]总表!$A$3:$AF$30000,31,FALSE)","v":"小学"},{"$f":"VLOOKUP(F1150,[1]总表!$A$3:$AF$30000,32,FALSE)","v":"英语"},"64"]
[1149,"席飞",20230603014204,42,"04",1681,{"$f":"VLOOKUP(F1151,[1]总表!$A$3:$AF$30000,31,FALSE)","v":"小学"},{"$f":"VLOOKUP(F1151,[1]总表!$A$3:$AF$30000,32,FALSE)","v":"英语"},"59.50"]
[1150,"谢欣",20230603014205,42,"05",1690,{"$f":"VLOOKUP(F1152,[1]总表!$A$3:$AF$30000,31,FALSE)","v":"小学"},{"$f":"VLOOKUP(F1152,[1]总表!$A$3:$AF$30000,32,FALSE)","v":"英语"},"78"]
[1151,"黄吉威",20230603014206,42,"06",1534,{"$f":"VLOOKUP(F1153,[1]总表!$A$3:$AF$30000,31,FALSE)","v":"小学"},{"$f":"VLOOKUP(F1153,[1]总表!$A$3:$AF$30000,32,FALSE)","v":"英语"},"41"]
[1152,"殷灿",20230603014207,42,"07",1809,{"$f":"VLOOKUP(F1154,[1]总表!$A$3:$AF$30000,31,FALSE)","v":"小学"},{"$f":"VLOOKUP(F1154,[1]总表!$A$3:$AF$30000,32,FALSE)","v":"英语"},"53.50"]
[1153,"郎亚荣",20230603014208,42,"08",1714,{"$f":"VLOOKUP(F1155,[1]总表!$A$3:$AF$30000,31,FALSE)","v":"小学"},{"$f":"VLOOKUP(F1155,[1]总表!$A$3:$AF$30000,32,FALSE)","v":"英语"},"63"]
[1154,"李敏敏",20230603014209,42,"09",1665,{"$f":"VLOOKUP(F1156,[1]总表!$A$3:$AF$30000,31,FALSE)","v":"小学"},{"$f":"VLOOKUP(F1156,[1]总表!$A$3:$AF$30000,32,FALSE)","v":"英语"},"68.50"]
[1155,"黄晓萍",20230603014210,42,"10",1791,{"$f":"VLOOKUP(F1157,[1]总表!$A$3:$AF$30000,31,FALSE)","v":"小学"},{"$f":"VLOOKUP(F1157,[1]总表!$A$3:$AF$30000,32,FALSE)","v":"英语"},"61"]
[1156,"雷运运",20230603014211,42,"11",1808,{"$f":"VLOOKUP(F1158,[1]总表!$A$3:$AF$30000,31,FALSE)","v":"小学"},{"$f":"VLOOKUP(F1158,[1]总表!$A$3:$AF$30000,32,FALSE)","v":"英语"},"81.50"]
[1157,"田琪琪",20230603014212,42,"12",1638,{"$f":"VLOOKUP(F1159,[1]总表!$A$3:$AF$30000,31,FALSE)","v":"小学"},{"$f":"VLOOKUP(F1159,[1]总表!$A$3:$AF$30000,32,FALSE)","v":"英语"},"61.50"]
[1158,"周增琴",20230603014213,42,"13",1711,{"$f":"VLOOKUP(F1160,[1]总表!$A$3:$AF$30000,31,FALSE)","v":"小学"},{"$f":"VLOOKUP(F1160,[1]总表!$A$3:$AF$30000,32,FALSE)","v":"英语"},"62.50"]
[1159,"程仁莉",20230603014214,42,"14",1579,{"$f":"VLOOKUP(F1161,[1]总表!$A$3:$AF$30000,31,FALSE)","v":"小学"},{"$f":"VLOOKUP(F1161,[1]总表!$A$3:$AF$30000,32,FALSE)","v":"英语"},"49.50"]
[1160,"杨兵",20230603014215,42,"15",1567,{"$f":"VLOOKUP(F1162,[1]总表!$A$3:$AF$30000,31,FALSE)","v":"小学"},{"$f":"VLOOKUP(F1162,[1]总表!$A$3:$AF$30000,32,FALSE)","v":"英语"},"43.50"]
[1161,"刘梦薇",20230603014216,42,"16",1605,{"$f":"VLOOKUP(F1163,[1]总表!$A$3:$AF$30000,31,FALSE)","v":"小学"},{"$f":"VLOOKUP(F1163,[1]总表!$A$3:$AF$30000,32,FALSE)","v":"英语"},"72"]
[1162,"唐芬芬",20230603014301,43,"01",7,{"$f":"VLOOKUP(F1164,[1]总表!$A$3:$AF$30000,31,FALSE)","v":"初中"},{"$f":"VLOOKUP(F1164,[1]总表!$A$3:$AF$30000,32,FALSE)","v":"历史"},"49"]
[1163,"杨娟",20230603014302,43,"02",20,{"$f":"VLOOKUP(F1165,[1]总表!$A$3:$AF$30000,31,FALSE)","v":"初中"},{"$f":"VLOOKUP(F1165,[1]总表!$A$3:$AF$30000,32,FALSE)","v":"历史"},"48.50"]
[1164,"唐霞",20230603014303,43,"03",3,{"$f":"VLOOKUP(F1166,[1]总表!$A$3:$AF$30000,31,FALSE)","v":"初中"},{"$f":"VLOOKUP(F1166,[1]总表!$A$3:$AF$30000,32,FALSE)","v":"历史"},"48.50"]
[1165,"莫艳慧",20230603014304,43,"04",8,{"$f":"VLOOKUP(F1167,[1]总表!$A$3:$AF$30000,31,FALSE)","v":"初中"},{"$f":"VLOOKUP(F1167,[1]总表!$A$3:$AF$30000,32,FALSE)","v":"历史"},"60.50"]
[1166,"朱晴会",20230603014305,43,"05",37,{"$f":"VLOOKUP(F1168,[1]总表!$A$3:$AF$30000,31,FALSE)","v":"初中"},{"$f":"VLOOKUP(F1168,[1]总表!$A$3:$AF$30000,32,FALSE)","v":"历史"},"41"]
[1167,"田雪",20230603014306,43,"06",18,{"$f":"VLOOKUP(F1169,[1]总表!$A$3:$AF$30000,31,FALSE)","v":"初中"},{"$f":"VLOOKUP(F1169,[1]总表!$A$3:$AF$30000,32,FALSE)","v":"历史"},"68.50"]
[1168,"吴海英",20230603014307,43,"07",40,{"$f":"VLOOKUP(F1170,[1]总表!$A$3:$AF$30000,31,FALSE)","v":"初中"},{"$f":"VLOOKUP(F1170,[1]总表!$A$3:$AF$30000,32,FALSE)","v":"历史"},"44.50"]
[1169,"岳星",20230603014308,43,"08",23,{"$f":"VLOOKUP(F1171,[1]总表!$A$3:$AF$30000,31,FALSE)","v":"初中"},{"$f":"VLOOKUP(F1171,[1]总表!$A$3:$AF$30000,32,FALSE)","v":"历史"},"54"]
[1170,"龙思琪",20230603014309,43,"09",11,{"$f":"VLOOKUP(F1172,[1]总表!$A$3:$AF$30000,31,FALSE)","v":"初中"},{"$f":"VLOOKUP(F1172,[1]总表!$A$3:$AF$30000,32,FALSE)","v":"历史"},"65"]
[1171,"韦吉珍",20230603014310,43,"10",27,{"$f":"VLOOKUP(F1173,[1]总表!$A$3:$AF$30000,31,FALSE)","v":"初中"},{"$f":"VLOOKUP(F1173,[1]总表!$A$3:$AF$30000,32,FALSE)","v":"历史"},"43"]
[1172,"戴玲丽",20230603014311,43,"11",5,{"$f":"VLOOKUP(F1174,[1]总表!$A$3:$AF$30000,31,FALSE)","v":"初中"},{"$f":"VLOOKUP(F1174,[1]总表!$A$3:$AF$30000,32,FALSE)","v":"历史"},"50.50"]
[1173,"游严芳",20230603014312,43,"12",33,{"$f":"VLOOKUP(F1175,[1]总表!$A$3:$AF$30000,31,FALSE)","v":"初中"},{"$f":"VLOOKUP(F1175,[1]总表!$A$3:$AF$30000,32,FALSE)","v":"历史"},"54"]
[1174,"文美玲",20230603014313,43,"13",12,{"$f":"VLOOKUP(F1176,[1]总表!$A$3:$AF$30000,31,FALSE)","v":"初中"},{"$f":"VLOOKUP(F1176,[1]总表!$A$3:$AF$30000,32,FALSE)","v":"历史"},"47.50"]
[1175,"雷凤姣",20230603014314,43,"14",15,{"$f":"VLOOKUP(F1177,[1]总表!$A$3:$AF$30000,31,FALSE)","v":"初中"},{"$f":"VLOOKUP(F1177,[1]总表!$A$3:$AF$30000,32,FALSE)","v":"历史"},"52.50"]
[1176,"杨文芳",20230603014315,43,"15",28,{"$f":"VLOOKUP(F1178,[1]总表!$A$3:$AF$30000,31,FALSE)","v":"初中"},{"$f":"VLOOKUP(F1178,[1]总表!$A$3:$AF$30000,32,FALSE)","v":"历史"},"73"]
[1177,"沈玉群",20230603014316,43,"16",24,{"$f":"VLOOKUP(F1179,[1]总表!$A$3:$AF$30000,31,FALSE)","v":"初中"},{"$f":"VLOOKUP(F1179,[1]总表!$A$3:$AF$30000,32,FALSE)","v":"历史"},"54.50"]
[1178,"夏涛",20230603014317,43,"17",25,{"$f":"VLOOKUP(F1180,[1]总表!$A$3:$AF$30000,31,FALSE)","v":"初中"},{"$f":"VLOOKUP(F1180,[1]总表!$A$3:$AF$30000,32,FALSE)","v":"历史"},"64.50"]
[1179,"喻红林",20230603014318,43,"18",6,{"$f":"VLOOKUP(F1181,[1]总表!$A$3:$AF$30000,31,FALSE)","v":"初中"},{"$f":"VLOOKUP(F1181,[1]总表!$A$3:$AF$30000,32,FALSE)","v":"历史"},"49"]
[1180,"杨琴",20230603014319,43,"19",26,{"$f":"VLOOKUP(F1182,[1]总表!$A$3:$AF$30000,31,FALSE)","v":"初中"},{"$f":"VLOOKUP(F1182,[1]总表!$A$3:$AF$30000,32,FALSE)","v":"历史"},"61.50"]
[1181,"张杰",20230603014320,43,"20",21,{"$f":"VLOOKUP(F1183,[1]总表!$A$3:$AF$30000,31,FALSE)","v":"初中"},{"$f":"VLOOKUP(F1183,[1]总表!$A$3:$AF$30000,32,FALSE)","v":"历史"},"62.50"]
[1182,"莫晓芹",20230603014321,43,"21",10,{"$f":"VLOOKUP(F1184,[1]总表!$A$3:$AF$30000,31,FALSE)","v":"初中"},{"$f":"VLOOKUP(F1184,[1]总表!$A$3:$AF$30000,32,FALSE)","v":"历史"},"69"]
[1183,"王林超",20230603014322,43,"22",29,{"$f":"VLOOKUP(F1185,[1]总表!$A$3:$AF$30000,31,FALSE)","v":"初中"},{"$f":"VLOOKUP(F1185,[1]总表!$A$3:$AF$30000,32,FALSE)","v":"历史"},"缺考"]
[1184,"杨晴",20230603014323,43,"23",14,{"$f":"VLOOKUP(F1186,[1]总表!$A$3:$AF$30000,31,FALSE)","v":"初中"},{"$f":"VLOOKUP(F1186,[1]总表!$A$3:$AF$30000,32,FALSE)","v":"历史"},"60.50"]
[1185,"张慧",20230603014324,43,"24",41,{"$f":"VLOOKUP(F1187,[1]总表!$A$3:$AF$30000,31,FALSE)","v":"初中"},{"$f":"VLOOKUP(F1187,[1]总表!$A$3:$AF$30000,32,FALSE)","v":"历史"},"51.50"]
[1186,"饶小凤",20230603014325,43,"25",2,{"$f":"VLOOKUP(F1188,[1]总表!$A$3:$AF$30000,31,FALSE)","v":"初中"},{"$f":"VLOOKUP(F1188,[1]总表!$A$3:$AF$30000,32,FALSE)","v":"历史"},"64.50"]
[1187,"罗慧",20230603014326,43,"26",4,{"$f":"VLOOKUP(F1189,[1]总表!$A$3:$AF$30000,31,FALSE)","v":"初中"},{"$f":"VLOOKUP(F1189,[1]总表!$A$3:$AF$30000,32,FALSE)","v":"历史"},"78.50"]
[1188,"易飞璋",20230603014327,43,"27",1,{"$f":"VLOOKUP(F1190,[1]总表!$A$3:$AF$30000,31,FALSE)","v":"初中"},{"$f":"VLOOKUP(F1190,[1]总表!$A$3:$AF$30000,32,FALSE)","v":"历史"},"缺考"]
[1189,"龙秋欣",20230603014328,43,"28",16,{"$f":"VLOOKUP(F1191,[1]总表!$A$3:$AF$30000,31,FALSE)","v":"初中"},{"$f":"VLOOKUP(F1191,[1]总表!$A$3:$AF$30000,32,FALSE)","v":"历史"},"缺考"]
[1190,"龙众",20230603014329,43,"29",13,{"$f":"VLOOKUP(F1192,[1]总表!$A$3:$AF$30000,31,FALSE)","v":"初中"},{"$f":"VLOOKUP(F1192,[1]总表!$A$3:$AF$30000,32,FALSE)","v":"历史"},"71.50"]
[1191,"陈慧",20230603014330,43,"30",19,{"$f":"VLOOKUP(F1193,[1]总表!$A$3:$AF$30000,31,FALSE)","v":"初中"},{"$f":"VLOOKUP(F1193,[1]总表!$A$3:$AF$30000,32,FALSE)","v":"历史"},"58.50"]
[1192,"任冰玉",20230603014401,44,"01",17,{"$f":"VLOOKUP(F1194,[1]总表!$A$3:$AF$30000,31,FALSE)","v":"初中"},{"$f":"VLOOKUP(F1194,[1]总表!$A$3:$AF$30000,32,FALSE)","v":"历史"},"52.50"]
[1193,"杨雪",20230603014501,45,"01",118,{"$f":"VLOOKUP(F1195,[1]总表!$A$3:$AF$30000,31,FALSE)","v":"初中"},{"$f":"VLOOKUP(F1195,[1]总表!$A$3:$AF$30000,32,FALSE)","v":"生物"},"40"]
[1194,"龙长沙",20230603014502,45,"02",99,{"$f":"VLOOKUP(F1196,[1]总表!$A$3:$AF$30000,31,FALSE)","v":"初中"},{"$f":"VLOOKUP(F1196,[1]总表!$A$3:$AF$30000,32,FALSE)","v":"生物"},"47.50"]
[1195,"杜克芳",20230603014503,45,"03",105,{"$f":"VLOOKUP(F1197,[1]总表!$A$3:$AF$30000,31,FALSE)","v":"初中"},{"$f":"VLOOKUP(F1197,[1]总表!$A$3:$AF$30000,32,FALSE)","v":"生物"},"63"]
[1196,"田洋",20230603014504,45,"04",114,{"$f":"VLOOKUP(F1198,[1]总表!$A$3:$AF$30000,31,FALSE)","v":"初中"},{"$f":"VLOOKUP(F1198,[1]总表!$A$3:$AF$30000,32,FALSE)","v":"生物"},"41"]
[1197,"蔡晓燕",20230603014505,45,"05",134,{"$f":"VLOOKUP(F1199,[1]总表!$A$3:$AF$30000,31,FALSE)","v":"初中"},{"$f":"VLOOKUP(F1199,[1]总表!$A$3:$AF$30000,32,FALSE)","v":"生物"},"56.50"]
[1198,"李亚林",20230603014506,45,"06",116,{"$f":"VLOOKUP(F1200,[1]总表!$A$3:$AF$30000,31,FALSE)","v":"初中"},{"$f":"VLOOKUP(F1200,[1]总表!$A$3:$AF$30000,32,FALSE)","v":"生物"},"37"]
[1199,"杨纹",20230603014507,45,"07",128,{"$f":"VLOOKUP(F1201,[1]总表!$A$3:$AF$30000,31,FALSE)","v":"初中"},{"$f":"VLOOKUP(F1201,[1]总表!$A$3:$AF$30000,32,FALSE)","v":"生物"},"48"]
[1200,"李蓉",20230603014508,45,"08",106,{"$f":"VLOOKUP(F1202,[1]总表!$A$3:$AF$30000,31,FALSE)","v":"初中"},{"$f":"VLOOKUP(F1202,[1]总表!$A$3:$AF$30000,32,FALSE)","v":"生物"},"缺考"]
[1201,"刘倩",20230603014509,45,"09",103,{"$f":"VLOOKUP(F1203,[1]总表!$A$3:$AF$30000,31,FALSE)","v":"初中"},{"$f":"VLOOKUP(F1203,[1]总表!$A$3:$AF$30000,32,FALSE)","v":"生物"},"57.50"]
[1202,"陈亚群",20230603014510,45,"10",141,{"$f":"VLOOKUP(F1204,[1]总表!$A$3:$AF$30000,31,FALSE)","v":"初中"},{"$f":"VLOOKUP(F1204,[1]总表!$A$3:$AF$30000,32,FALSE)","v":"生物"},"48.50"]
[1203,"毛燕飞",20230603014511,45,"11",135,{"$f":"VLOOKUP(F1205,[1]总表!$A$3:$AF$30000,31,FALSE)","v":"初中"},{"$f":"VLOOKUP(F1205,[1]总表!$A$3:$AF$30000,32,FALSE)","v":"生物"},"65"]
[1204,"唐蕙",20230603014512,45,"12",145,{"$f":"VLOOKUP(F1206,[1]总表!$A$3:$AF$30000,31,FALSE)","v":"初中"},{"$f":"VLOOKUP(F1206,[1]总表!$A$3:$AF$30000,32,FALSE)","v":"生物"},"60"]
[1205,"杨金珍",20230603014513,45,"13",125,{"$f":"VLOOKUP(F1207,[1]总表!$A$3:$AF$30000,31,FALSE)","v":"初中"},{"$f":"VLOOKUP(F1207,[1]总表!$A$3:$AF$30000,32,FALSE)","v":"生物"},"46"]
[1206,"龙雨梅",20230603014514,45,"14",123,{"$f":"VLOOKUP(F1208,[1]总表!$A$3:$AF$30000,31,FALSE)","v":"初中"},{"$f":"VLOOKUP(F1208,[1]总表!$A$3:$AF$30000,32,FALSE)","v":"生物"},"57.50"]
[1207,"龙吉艳",20230603014515,45,"15",121,{"$f":"VLOOKUP(F1209,[1]总表!$A$3:$AF$30000,31,FALSE)","v":"初中"},{"$f":"VLOOKUP(F1209,[1]总表!$A$3:$AF$30000,32,FALSE)","v":"生物"},"48"]
[1208,"龙宁霞",20230603014516,45,"16",98,{"$f":"VLOOKUP(F1210,[1]总表!$A$3:$AF$30000,31,FALSE)","v":"初中"},{"$f":"VLOOKUP(F1210,[1]总表!$A$3:$AF$30000,32,FALSE)","v":"生物"},"44.50"]
[1209,"戴颖",20230603014517,45,"17",129,{"$f":"VLOOKUP(F1211,[1]总表!$A$3:$AF$30000,31,FALSE)","v":"初中"},{"$f":"VLOOKUP(F1211,[1]总表!$A$3:$AF$30000,32,FALSE)","v":"生物"},"51"]
[1210,"包红兆",20230603014518,45,"18",140,{"$f":"VLOOKUP(F1212,[1]总表!$A$3:$AF$30000,31,FALSE)","v":"初中"},{"$f":"VLOOKUP(F1212,[1]总表!$A$3:$AF$30000,32,FALSE)","v":"生物"},"47"]
[1211,"龙春梅",20230603014519,45,"19",102,{"$f":"VLOOKUP(F1213,[1]总表!$A$3:$AF$30000,31,FALSE)","v":"初中"},{"$f":"VLOOKUP(F1213,[1]总表!$A$3:$AF$30000,32,FALSE)","v":"生物"},"61.50"]
[1212,"石立群",20230603014520,45,"20",101,{"$f":"VLOOKUP(F1214,[1]总表!$A$3:$AF$30000,31,FALSE)","v":"初中"},{"$f":"VLOOKUP(F1214,[1]总表!$A$3:$AF$30000,32,FALSE)","v":"生物"},"58.50"]
[1213,"冉君仪",20230603014521,45,"21",122,{"$f":"VLOOKUP(F1215,[1]总表!$A$3:$AF$30000,31,FALSE)","v":"初中"},{"$f":"VLOOKUP(F1215,[1]总表!$A$3:$AF$30000,32,FALSE)","v":"生物"},"48.50"]
[1214,"罗俊琦",20230603014522,45,"22",107,{"$f":"VLOOKUP(F1216,[1]总表!$A$3:$AF$30000,31,FALSE)","v":"初中"},{"$f":"VLOOKUP(F1216,[1]总表!$A$3:$AF$30000,32,FALSE)","v":"生物"},"43.50"]
[1215,"龙长梅",20230603014523,45,"23",142,{"$f":"VLOOKUP(F1217,[1]总表!$A$3:$AF$30000,31,FALSE)","v":"初中"},{"$f":"VLOOKUP(F1217,[1]总表!$A$3:$AF$30000,32,FALSE)","v":"生物"},"63"]
[1216,"安洁洁",20230603014524,45,"24",95,{"$f":"VLOOKUP(F1218,[1]总表!$A$3:$AF$30000,31,FALSE)","v":"初中"},{"$f":"VLOOKUP(F1218,[1]总表!$A$3:$AF$30000,32,FALSE)","v":"生物"},"48.50"]
[1217,"舒林榕",20230603014525,45,"25",100,{"$f":"VLOOKUP(F1219,[1]总表!$A$3:$AF$30000,31,FALSE)","v":"初中"},{"$f":"VLOOKUP(F1219,[1]总表!$A$3:$AF$30000,32,FALSE)","v":"生物"},"54.50"]
[1218,"冉淋菲",20230603014526,45,"26",127,{"$f":"VLOOKUP(F1220,[1]总表!$A$3:$AF$30000,31,FALSE)","v":"初中"},{"$f":"VLOOKUP(F1220,[1]总表!$A$3:$AF$30000,32,FALSE)","v":"生物"},"47.50"]
[1219,"龙晓伍",20230603014527,45,"27",143,{"$f":"VLOOKUP(F1221,[1]总表!$A$3:$AF$30000,31,FALSE)","v":"初中"},{"$f":"VLOOKUP(F1221,[1]总表!$A$3:$AF$30000,32,FALSE)","v":"生物"},"51.50"]
[1220,"罗宁",20230603014528,45,"28",110,{"$f":"VLOOKUP(F1222,[1]总表!$A$3:$AF$30000,31,FALSE)","v":"初中"},{"$f":"VLOOKUP(F1222,[1]总表!$A$3:$AF$30000,32,FALSE)","v":"生物"},"40.50"]
[1221,"田旭",20230603014529,45,"29",124,{"$f":"VLOOKUP(F1223,[1]总表!$A$3:$AF$30000,31,FALSE)","v":"初中"},{"$f":"VLOOKUP(F1223,[1]总表!$A$3:$AF$30000,32,FALSE)","v":"生物"},"缺考"]
[1222,"罗利琴",20230603014530,45,"30",139,{"$f":"VLOOKUP(F1224,[1]总表!$A$3:$AF$30000,31,FALSE)","v":"初中"},{"$f":"VLOOKUP(F1224,[1]总表!$A$3:$AF$30000,32,FALSE)","v":"生物"},"44"]
[1223,"姜太兵",20230603014601,46,"01",147,{"$f":"VLOOKUP(F1225,[1]总表!$A$3:$AF$30000,31,FALSE)","v":"初中"},{"$f":"VLOOKUP(F1225,[1]总表!$A$3:$AF$30000,32,FALSE)","v":"生物"},"58.50"]
[1224,"龙枍岑",20230603014602,46,"02",119,{"$f":"VLOOKUP(F1226,[1]总表!$A$3:$AF$30000,31,FALSE)","v":"初中"},{"$f":"VLOOKUP(F1226,[1]总表!$A$3:$AF$30000,32,FALSE)","v":"生物"},"41.50"]
[1225,"冉家好",20230603014603,46,"03",149,{"$f":"VLOOKUP(F1227,[1]总表!$A$3:$AF$30000,31,FALSE)","v":"初中"},{"$f":"VLOOKUP(F1227,[1]总表!$A$3:$AF$30000,32,FALSE)","v":"生物"},"42.50"]
[1226,"周金芝",20230603014604,46,"04",138,{"$f":"VLOOKUP(F1228,[1]总表!$A$3:$AF$30000,31,FALSE)","v":"初中"},{"$f":"VLOOKUP(F1228,[1]总表!$A$3:$AF$30000,32,FALSE)","v":"生物"},"37.50"]
[1227,"杨沙",20230603014605,46,"05",144,{"$f":"VLOOKUP(F1229,[1]总表!$A$3:$AF$30000,31,FALSE)","v":"初中"},{"$f":"VLOOKUP(F1229,[1]总表!$A$3:$AF$30000,32,FALSE)","v":"生物"},"47.50"]
[1228,"向林",20230603014606,46,"06",104,{"$f":"VLOOKUP(F1230,[1]总表!$A$3:$AF$30000,31,FALSE)","v":"初中"},{"$f":"VLOOKUP(F1230,[1]总表!$A$3:$AF$30000,32,FALSE)","v":"生物"},"49.50"]
[1229,"吴燕群",20230603014607,46,"07",133,{"$f":"VLOOKUP(F1231,[1]总表!$A$3:$AF$30000,31,FALSE)","v":"初中"},{"$f":"VLOOKUP(F1231,[1]总表!$A$3:$AF$30000,32,FALSE)","v":"生物"},"47"]
[1230,"杨江山",20230603014608,46,"08",126,{"$f":"VLOOKUP(F1232,[1]总表!$A$3:$AF$30000,31,FALSE)","v":"初中"},{"$f":"VLOOKUP(F1232,[1]总表!$A$3:$AF$30000,32,FALSE)","v":"生物"},"46.50"]
[1231,"李利霞",20230603014609,46,"09",136,{"$f":"VLOOKUP(F1233,[1]总表!$A$3:$AF$30000,31,FALSE)","v":"初中"},{"$f":"VLOOKUP(F1233,[1]总表!$A$3:$AF$30000,32,FALSE)","v":"生物"},"67.50"]
[1232,"安红",20230603014610,46,"10",131,{"$f":"VLOOKUP(F1234,[1]总表!$A$3:$AF$30000,31,FALSE)","v":"初中"},{"$f":"VLOOKUP(F1234,[1]总表!$A$3:$AF$30000,32,FALSE)","v":"生物"},"41.50"]
[1233,"刘鑫",20230603014611,46,"11",146,{"$f":"VLOOKUP(F1235,[1]总表!$A$3:$AF$30000,31,FALSE)","v":"初中"},{"$f":"VLOOKUP(F1235,[1]总表!$A$3:$AF$30000,32,FALSE)","v":"生物"},"58.50"]
[1234,"吴天华",20230603014612,46,"12",117,{"$f":"VLOOKUP(F1236,[1]总表!$A$3:$AF$30000,31,FALSE)","v":"初中"},{"$f":"VLOOKUP(F1236,[1]总表!$A$3:$AF$30000,32,FALSE)","v":"生物"},"缺考"]
[1235,"梁飞",20230603014613,46,"13",113,{"$f":"VLOOKUP(F1237,[1]总表!$A$3:$AF$30000,31,FALSE)","v":"初中"},{"$f":"VLOOKUP(F1237,[1]总表!$A$3:$AF$30000,32,FALSE)","v":"生物"},"53.50"]
[1236,"刘义群",20230603014701,47,"01",1498,{"$f":"VLOOKUP(F1238,[1]总表!$A$3:$AF$30000,31,FALSE)","v":"初中"},{"$f":"VLOOKUP(F1238,[1]总表!$A$3:$AF$30000,32,FALSE)","v":"音乐"},"49.50"]
[1237,"陈杨",20230603014702,47,"02",1509,{"$f":"VLOOKUP(F1239,[1]总表!$A$3:$AF$30000,31,FALSE)","v":"初中"},{"$f":"VLOOKUP(F1239,[1]总表!$A$3:$AF$30000,32,FALSE)","v":"音乐"},"62"]
[1238,"龙杰",20230603014703,47,"03",1507,{"$f":"VLOOKUP(F1240,[1]总表!$A$3:$AF$30000,31,FALSE)","v":"初中"},{"$f":"VLOOKUP(F1240,[1]总表!$A$3:$AF$30000,32,FALSE)","v":"音乐"},"37"]
[1239,"吴正钊",20230603014704,47,"04",1497,{"$f":"VLOOKUP(F1241,[1]总表!$A$3:$AF$30000,31,FALSE)","v":"初中"},{"$f":"VLOOKUP(F1241,[1]总表!$A$3:$AF$30000,32,FALSE)","v":"音乐"},"66"]
[1240,"杨高红",20230603014705,47,"05",1502,{"$f":"VLOOKUP(F1242,[1]总表!$A$3:$AF$30000,31,FALSE)","v":"初中"},{"$f":"VLOOKUP(F1242,[1]总表!$A$3:$AF$30000,32,FALSE)","v":"音乐"},"64"]
[1241,"原沁仪",20230603014706,47,"06",1496,{"$f":"VLOOKUP(F1243,[1]总表!$A$3:$AF$30000,31,FALSE)","v":"初中"},{"$f":"VLOOKUP(F1243,[1]总表!$A$3:$AF$30000,32,FALSE)","v":"音乐"},"36.50"]
[1242,"喻江春",20230603014707,47,"07",1503,{"$f":"VLOOKUP(F1244,[1]总表!$A$3:$AF$30000,31,FALSE)","v":"初中"},{"$f":"VLOOKUP(F1244,[1]总表!$A$3:$AF$30000,32,FALSE)","v":"音乐"},"71.50"]
[1243,"杨玲",20230603014708,47,"08",1492,{"$f":"VLOOKUP(F1245,[1]总表!$A$3:$AF$30000,31,FALSE)","v":"初中"},{"$f":"VLOOKUP(F1245,[1]总表!$A$3:$AF$30000,32,FALSE)","v":"音乐"},"52"]
[1244,"杨蕾",20230603014709,47,"09",1499,{"$f":"VLOOKUP(F1246,[1]总表!$A$3:$AF$30000,31,FALSE)","v":"初中"},{"$f":"VLOOKUP(F1246,[1]总表!$A$3:$AF$30000,32,FALSE)","v":"音乐"},"67.50"]
[1245,"梁平",20230603014710,47,"10",1491,{"$f":"VLOOKUP(F1247,[1]总表!$A$3:$AF$30000,31,FALSE)","v":"初中"},{"$f":"VLOOKUP(F1247,[1]总表!$A$3:$AF$30000,32,FALSE)","v":"音乐"},"70"]
[1246,"吴江英",20230603014711,47,"11",1505,{"$f":"VLOOKUP(F1248,[1]总表!$A$3:$AF$30000,31,FALSE)","v":"初中"},{"$f":"VLOOKUP(F1248,[1]总表!$A$3:$AF$30000,32,FALSE)","v":"音乐"},"37"]
[1247,"常静",20230603014712,47,"12",1501,{"$f":"VLOOKUP(F1249,[1]总表!$A$3:$AF$30000,31,FALSE)","v":"初中"},{"$f":"VLOOKUP(F1249,[1]总表!$A$3:$AF$30000,32,FALSE)","v":"音乐"},"57"]
[1248,"罗子丹",20230603014713,47,"13",1512,{"$f":"VLOOKUP(F1250,[1]总表!$A$3:$AF$30000,31,FALSE)","v":"初中"},{"$f":"VLOOKUP(F1250,[1]总表!$A$3:$AF$30000,32,FALSE)","v":"音乐"},"64"]
[1249,"龙妍",20230603014714,47,"14",1513,{"$f":"VLOOKUP(F1251,[1]总表!$A$3:$AF$30000,31,FALSE)","v":"初中"},{"$f":"VLOOKUP(F1251,[1]总表!$A$3:$AF$30000,32,FALSE)","v":"音乐"},"51"]
[1250,"欧丽艳",20230603014715,47,"15",1493,{"$f":"VLOOKUP(F1252,[1]总表!$A$3:$AF$30000,31,FALSE)","v":"初中"},{"$f":"VLOOKUP(F1252,[1]总表!$A$3:$AF$30000,32,FALSE)","v":"音乐"},"62"]
[1251,"袁婷婷",20230603014716,47,"16",1508,{"$f":"VLOOKUP(F1253,[1]总表!$A$3:$AF$30000,31,FALSE)","v":"初中"},{"$f":"VLOOKUP(F1253,[1]总表!$A$3:$AF$30000,32,FALSE)","v":"音乐"},"63"]
[1252,"龙谋",20230603014717,47,"17",1494,{"$f":"VLOOKUP(F1254,[1]总表!$A$3:$AF$30000,31,FALSE)","v":"初中"},{"$f":"VLOOKUP(F1254,[1]总表!$A$3:$AF$30000,32,FALSE)","v":"音乐"},"48.50"]
[1253,"杨利秋",20230603014718,47,"18",1511,{"$f":"VLOOKUP(F1255,[1]总表!$A$3:$AF$30000,31,FALSE)","v":"初中"},{"$f":"VLOOKUP(F1255,[1]总表!$A$3:$AF$30000,32,FALSE)","v":"音乐"},"52.50"]
[1254,"覃运",20230603014719,47,"19",1510,{"$f":"VLOOKUP(F1256,[1]总表!$A$3:$AF$30000,31,FALSE)","v":"初中"},{"$f":"VLOOKUP(F1256,[1]总表!$A$3:$AF$30000,32,FALSE)","v":"音乐"},"43.50"]
[1255,"隆潘",20230603014720,47,"20",1500,{"$f":"VLOOKUP(F1257,[1]总表!$A$3:$AF$30000,31,FALSE)","v":"初中"},{"$f":"VLOOKUP(F1257,[1]总表!$A$3:$AF$30000,32,FALSE)","v":"音乐"},"64"]
[1256,"吴鹏伟",20230603014801,48,"01",53,{"$f":"VLOOKUP(F1258,[1]总表!$A$3:$AF$30000,31,FALSE)","v":"初中"},{"$f":"VLOOKUP(F1258,[1]总表!$A$3:$AF$30000,32,FALSE)","v":"美术"},"缺考"]
[1257,"宋永富",20230603014802,48,"02",74,{"$f":"VLOOKUP(F1259,[1]总表!$A$3:$AF$30000,31,FALSE)","v":"初中"},{"$f":"VLOOKUP(F1259,[1]总表!$A$3:$AF$30000,32,FALSE)","v":"美术"},"57"]
[1258,"谭雅靖",20230603014803,48,"03",54,{"$f":"VLOOKUP(F1260,[1]总表!$A$3:$AF$30000,31,FALSE)","v":"初中"},{"$f":"VLOOKUP(F1260,[1]总表!$A$3:$AF$30000,32,FALSE)","v":"美术"},"55.50"]
[1259,"龙群",20230603014804,48,"04",71,{"$f":"VLOOKUP(F1261,[1]总表!$A$3:$AF$30000,31,FALSE)","v":"初中"},{"$f":"VLOOKUP(F1261,[1]总表!$A$3:$AF$30000,32,FALSE)","v":"美术"},"66.50"]
[1260,"罗桂平",20230603014805,48,"05",62,{"$f":"VLOOKUP(F1262,[1]总表!$A$3:$AF$30000,31,FALSE)","v":"初中"},{"$f":"VLOOKUP(F1262,[1]总表!$A$3:$AF$30000,32,FALSE)","v":"美术"},"58.50"]
[1261,"石银霞",20230603014806,48,"06",69,{"$f":"VLOOKUP(F1263,[1]总表!$A$3:$AF$30000,31,FALSE)","v":"初中"},{"$f":"VLOOKUP(F1263,[1]总表!$A$3:$AF$30000,32,FALSE)","v":"美术"},"58.50"]
[1262,"陈江玲",20230603014807,48,"07",93,{"$f":"VLOOKUP(F1264,[1]总表!$A$3:$AF$30000,31,FALSE)","v":"初中"},{"$f":"VLOOKUP(F1264,[1]总表!$A$3:$AF$30000,32,FALSE)","v":"美术"},"59.50"]
[1263,"吴凤琴",20230603014808,48,"08",73,{"$f":"VLOOKUP(F1265,[1]总表!$A$3:$AF$30000,31,FALSE)","v":"初中"},{"$f":"VLOOKUP(F1265,[1]总表!$A$3:$AF$30000,32,FALSE)","v":"美术"},"61"]
[1264,"熊林",20230603014809,48,"09",78,{"$f":"VLOOKUP(F1266,[1]总表!$A$3:$AF$30000,31,FALSE)","v":"初中"},{"$f":"VLOOKUP(F1266,[1]总表!$A$3:$AF$30000,32,FALSE)","v":"美术"},"76.50"]
[1265,"韩琴",20230603014810,48,"10",92,{"$f":"VLOOKUP(F1267,[1]总表!$A$3:$AF$30000,31,FALSE)","v":"初中"},{"$f":"VLOOKUP(F1267,[1]总表!$A$3:$AF$30000,32,FALSE)","v":"美术"},"68.50"]
[1266,"麻嵋",20230603014811,48,"11",79,{"$f":"VLOOKUP(F1268,[1]总表!$A$3:$AF$30000,31,FALSE)","v":"初中"},{"$f":"VLOOKUP(F1268,[1]总表!$A$3:$AF$30000,32,FALSE)","v":"美术"},"52.50"]
[1267,"陈静",20230603014812,48,"12",88,{"$f":"VLOOKUP(F1269,[1]总表!$A$3:$AF$30000,31,FALSE)","v":"初中"},{"$f":"VLOOKUP(F1269,[1]总表!$A$3:$AF$30000,32,FALSE)","v":"美术"},"61"]
[1268,"张玲瑞",20230603014813,48,"13",46,{"$f":"VLOOKUP(F1270,[1]总表!$A$3:$AF$30000,31,FALSE)","v":"初中"},{"$f":"VLOOKUP(F1270,[1]总表!$A$3:$AF$30000,32,FALSE)","v":"美术"},"79"]
[1269,"印小燕",20230603014814,48,"14",70,{"$f":"VLOOKUP(F1271,[1]总表!$A$3:$AF$30000,31,FALSE)","v":"初中"},{"$f":"VLOOKUP(F1271,[1]总表!$A$3:$AF$30000,32,FALSE)","v":"美术"},"58"]
[1270,"田雪",20230603014815,48,"15",57,{"$f":"VLOOKUP(F1272,[1]总表!$A$3:$AF$30000,31,FALSE)","v":"初中"},{"$f":"VLOOKUP(F1272,[1]总表!$A$3:$AF$30000,32,FALSE)","v":"美术"},"41.50"]
[1271,"龙金丽",20230603014816,48,"16",65,{"$f":"VLOOKUP(F1273,[1]总表!$A$3:$AF$30000,31,FALSE)","v":"初中"},{"$f":"VLOOKUP(F1273,[1]总表!$A$3:$AF$30000,32,FALSE)","v":"美术"},"47"]
[1272,"龙孟贤",20230603014817,48,"17",48,{"$f":"VLOOKUP(F1274,[1]总表!$A$3:$AF$30000,31,FALSE)","v":"初中"},{"$f":"VLOOKUP(F1274,[1]总表!$A$3:$AF$30000,32,FALSE)","v":"美术"},"52"]
[1273,"王玲",20230603014818,48,"18",45,{"$f":"VLOOKUP(F1275,[1]总表!$A$3:$AF$30000,31,FALSE)","v":"初中"},{"$f":"VLOOKUP(F1275,[1]总表!$A$3:$AF$30000,32,FALSE)","v":"美术"},"47"]
[1274,"陈雪梅",20230603014819,48,"19",43,{"$f":"VLOOKUP(F1276,[1]总表!$A$3:$AF$30000,31,FALSE)","v":"初中"},{"$f":"VLOOKUP(F1276,[1]总表!$A$3:$AF$30000,32,FALSE)","v":"美术"},"53"]
[1275,"申新粤",20230603014820,48,"20",86,{"$f":"VLOOKUP(F1277,[1]总表!$A$3:$AF$30000,31,FALSE)","v":"初中"},{"$f":"VLOOKUP(F1277,[1]总表!$A$3:$AF$30000,32,FALSE)","v":"美术"},"56"]
[1276,"吴树英",20230603014821,48,"21",58,{"$f":"VLOOKUP(F1278,[1]总表!$A$3:$AF$30000,31,FALSE)","v":"初中"},{"$f":"VLOOKUP(F1278,[1]总表!$A$3:$AF$30000,32,FALSE)","v":"美术"},"49"]
[1277,"滕召千",20230603014822,48,"22",77,{"$f":"VLOOKUP(F1279,[1]总表!$A$3:$AF$30000,31,FALSE)","v":"初中"},{"$f":"VLOOKUP(F1279,[1]总表!$A$3:$AF$30000,32,FALSE)","v":"美术"},"58.50"]
[1278,"王修武",20230603014823,48,"23",82,{"$f":"VLOOKUP(F1280,[1]总表!$A$3:$AF$30000,31,FALSE)","v":"初中"},{"$f":"VLOOKUP(F1280,[1]总表!$A$3:$AF$30000,32,FALSE)","v":"美术"},"62"]
[1279,"杨光辉",20230603014824,48,"24",91,{"$f":"VLOOKUP(F1281,[1]总表!$A$3:$AF$30000,31,FALSE)","v":"初中"},{"$f":"VLOOKUP(F1281,[1]总表!$A$3:$AF$30000,32,FALSE)","v":"美术"},"56"]
[1280,"龙亚",20230603014825,48,"25",51,{"$f":"VLOOKUP(F1282,[1]总表!$A$3:$AF$30000,31,FALSE)","v":"初中"},{"$f":"VLOOKUP(F1282,[1]总表!$A$3:$AF$30000,32,FALSE)","v":"美术"},"64.50"]
[1281,"雷莉",20230603014826,48,"26",76,{"$f":"VLOOKUP(F1283,[1]总表!$A$3:$AF$30000,31,FALSE)","v":"初中"},{"$f":"VLOOKUP(F1283,[1]总表!$A$3:$AF$30000,32,FALSE)","v":"美术"},"66.50"]
[1282,"田汪平",20230603014827,48,"27",49,{"$f":"VLOOKUP(F1284,[1]总表!$A$3:$AF$30000,31,FALSE)","v":"初中"},{"$f":"VLOOKUP(F1284,[1]总表!$A$3:$AF$30000,32,FALSE)","v":"美术"},"42"]
[1283,"张丹",20230603014828,48,"28",50,{"$f":"VLOOKUP(F1285,[1]总表!$A$3:$AF$30000,31,FALSE)","v":"初中"},{"$f":"VLOOKUP(F1285,[1]总表!$A$3:$AF$30000,32,FALSE)","v":"美术"},"55"]
[1284,"石婷",20230603014829,48,"29",80,{"$f":"VLOOKUP(F1286,[1]总表!$A$3:$AF$30000,31,FALSE)","v":"初中"},{"$f":"VLOOKUP(F1286,[1]总表!$A$3:$AF$30000,32,FALSE)","v":"美术"},"57.50"]
[1285,"朱涛",20230603014830,48,"30",81,{"$f":"VLOOKUP(F1287,[1]总表!$A$3:$AF$30000,31,FALSE)","v":"初中"},{"$f":"VLOOKUP(F1287,[1]总表!$A$3:$AF$30000,32,FALSE)","v":"美术"},"41.50"]
[1286,"田红秀",20230603014901,49,"01",55,{"$f":"VLOOKUP(F1288,[1]总表!$A$3:$AF$30000,31,FALSE)","v":"初中"},{"$f":"VLOOKUP(F1288,[1]总表!$A$3:$AF$30000,32,FALSE)","v":"美术"},"57"]
[1287,"黄苹",20230603014902,49,"02",52,{"$f":"VLOOKUP(F1289,[1]总表!$A$3:$AF$30000,31,FALSE)","v":"初中"},{"$f":"VLOOKUP(F1289,[1]总表!$A$3:$AF$30000,32,FALSE)","v":"美术"},"54.50"]
[1288,"张琪",20230603014903,49,"03",85,{"$f":"VLOOKUP(F1290,[1]总表!$A$3:$AF$30000,31,FALSE)","v":"初中"},{"$f":"VLOOKUP(F1290,[1]总表!$A$3:$AF$30000,32,FALSE)","v":"美术"},"41"]
[1289,"唐金香",20230603014904,49,"04",47,{"$f":"VLOOKUP(F1291,[1]总表!$A$3:$AF$30000,31,FALSE)","v":"初中"},{"$f":"VLOOKUP(F1291,[1]总表!$A$3:$AF$30000,32,FALSE)","v":"美术"},"57"]
[1290,"龙颖林",20230603014905,49,"05",67,{"$f":"VLOOKUP(F1292,[1]总表!$A$3:$AF$30000,31,FALSE)","v":"初中"},{"$f":"VLOOKUP(F1292,[1]总表!$A$3:$AF$30000,32,FALSE)","v":"美术"},"49"]
[1291,"龙安国",20230603014906,49,"06",59,{"$f":"VLOOKUP(F1293,[1]总表!$A$3:$AF$30000,31,FALSE)","v":"初中"},{"$f":"VLOOKUP(F1293,[1]总表!$A$3:$AF$30000,32,FALSE)","v":"美术"},"50.50"]
[1292,"田丽娜",20230603014907,49,"07",61,{"$f":"VLOOKUP(F1294,[1]总表!$A$3:$AF$30000,31,FALSE)","v":"初中"},{"$f":"VLOOKUP(F1294,[1]总表!$A$3:$AF$30000,32,FALSE)","v":"美术"},"68.50"]
[1293,"吴玲",20230603014908,49,"08",63,{"$f":"VLOOKUP(F1295,[1]总表!$A$3:$AF$30000,31,FALSE)","v":"初中"},{"$f":"VLOOKUP(F1295,[1]总表!$A$3:$AF$30000,32,FALSE)","v":"美术"},"47.50"]
[1294,"龙鹏飞",20230603014909,49,"09",42,{"$f":"VLOOKUP(F1296,[1]总表!$A$3:$AF$30000,31,FALSE)","v":"初中"},{"$f":"VLOOKUP(F1296,[1]总表!$A$3:$AF$30000,32,FALSE)","v":"美术"},"52.50"]
[1295,"龙刚伟",20230603014910,49,"10",87,{"$f":"VLOOKUP(F1297,[1]总表!$A$3:$AF$30000,31,FALSE)","v":"初中"},{"$f":"VLOOKUP(F1297,[1]总表!$A$3:$AF$30000,32,FALSE)","v":"美术"},"61"]
[1296,"李志英",20230603014911,49,"11",83,{"$f":"VLOOKUP(F1298,[1]总表!$A$3:$AF$30000,31,FALSE)","v":"初中"},{"$f":"VLOOKUP(F1298,[1]总表!$A$3:$AF$30000,32,FALSE)","v":"美术"},"59.50"]
[1297,"杨雪芳",20230603014912,49,"12",56,{"$f":"VLOOKUP(F1299,[1]总表!$A$3:$AF$30000,31,FALSE)","v":"初中"},{"$f":"VLOOKUP(F1299,[1]总表!$A$3:$AF$30000,32,FALSE)","v":"美术"},"52.50"]
[1298,"龙倩",20230603014913,49,"13",64,{"$f":"VLOOKUP(F1300,[1]总表!$A$3:$AF$30000,31,FALSE)","v":"初中"},{"$f":"VLOOKUP(F1300,[1]总表!$A$3:$AF$30000,32,FALSE)","v":"美术"},"58.50"]
[1299,"敖蓉",20230603015001,50,"01",753,{"$f":"VLOOKUP(F1301,[1]总表!$A$3:$AF$30000,31,FALSE)","v":"幼儿园"},{"$f":"VLOOKUP(F1301,[1]总表!$A$3:$AF$30000,32,FALSE)","v":"学前教育"},"48.50"]
[1300,"吴双江",20230603015002,50,"02",773,{"$f":"VLOOKUP(F1302,[1]总表!$A$3:$AF$30000,31,FALSE)","v":"幼儿园"},{"$f":"VLOOKUP(F1302,[1]总表!$A$3:$AF$30000,32,FALSE)","v":"学前教育"},"59.50"]
[1301,"田珊珊",20230603015003,50,"03",1258,{"$f":"VLOOKUP(F1303,[1]总表!$A$3:$AF$30000,31,FALSE)","v":"幼儿园"},{"$f":"VLOOKUP(F1303,[1]总表!$A$3:$AF$30000,32,FALSE)","v":"学前教育"},"50.50"]
[1302,"李琴",20230603015004,50,"04",987,{"$f":"VLOOKUP(F1304,[1]总表!$A$3:$AF$30000,31,FALSE)","v":"幼儿园"},{"$f":"VLOOKUP(F1304,[1]总表!$A$3:$AF$30000,32,FALSE)","v":"学前教育"},"76.50"]
[1303,"肖杨",20230603015005,50,"05",1306,{"$f":"VLOOKUP(F1305,[1]总表!$A$3:$AF$30000,31,FALSE)","v":"幼儿园"},{"$f":"VLOOKUP(F1305,[1]总表!$A$3:$AF$30000,32,FALSE)","v":"学前教育"},"76.50"]
[1304,"邹吉弟",20230603015006,50,"06",1109,{"$f":"VLOOKUP(F1306,[1]总表!$A$3:$AF$30000,31,FALSE)","v":"幼儿园"},{"$f":"VLOOKUP(F1306,[1]总表!$A$3:$AF$30000,32,FALSE)","v":"学前教育"},"53.50"]
[1305,"李海兰",20230603015007,50,"07",1038,{"$f":"VLOOKUP(F1307,[1]总表!$A$3:$AF$30000,31,FALSE)","v":"幼儿园"},{"$f":"VLOOKUP(F1307,[1]总表!$A$3:$AF$30000,32,FALSE)","v":"学前教育"},"51.50"]
[1306,"龙金玉",20230603015008,50,"08",746,{"$f":"VLOOKUP(F1308,[1]总表!$A$3:$AF$30000,31,FALSE)","v":"幼儿园"},{"$f":"VLOOKUP(F1308,[1]总表!$A$3:$AF$30000,32,FALSE)","v":"学前教育"},"38.50"]
[1307,"肖丽芝",20230603015009,50,"09",1325,{"$f":"VLOOKUP(F1309,[1]总表!$A$3:$AF$30000,31,FALSE)","v":"幼儿园"},{"$f":"VLOOKUP(F1309,[1]总表!$A$3:$AF$30000,32,FALSE)","v":"学前教育"},"69.50"]
[1308,"麻丽",20230603015010,50,"10",1430,{"$f":"VLOOKUP(F1310,[1]总表!$A$3:$AF$30000,31,FALSE)","v":"幼儿园"},{"$f":"VLOOKUP(F1310,[1]总表!$A$3:$AF$30000,32,FALSE)","v":"学前教育"},"43"]
[1309,"徐怡婷",20230603015011,50,"11",742,{"$f":"VLOOKUP(F1311,[1]总表!$A$3:$AF$30000,31,FALSE)","v":"幼儿园"},{"$f":"VLOOKUP(F1311,[1]总表!$A$3:$AF$30000,32,FALSE)","v":"学前教育"},"37.50"]
[1310,"田诗",20230603015012,50,"12",1120,{"$f":"VLOOKUP(F1312,[1]总表!$A$3:$AF$30000,31,FALSE)","v":"幼儿园"},{"$f":"VLOOKUP(F1312,[1]总表!$A$3:$AF$30000,32,FALSE)","v":"学前教育"},"45"]
[1311,"龙水秀",20230603015013,50,"13",906,{"$f":"VLOOKUP(F1313,[1]总表!$A$3:$AF$30000,31,FALSE)","v":"幼儿园"},{"$f":"VLOOKUP(F1313,[1]总表!$A$3:$AF$30000,32,FALSE)","v":"学前教育"},"54.50"]
[1312,"李丽",20230603015014,50,"14",909,{"$f":"VLOOKUP(F1314,[1]总表!$A$3:$AF$30000,31,FALSE)","v":"幼儿园"},{"$f":"VLOOKUP(F1314,[1]总表!$A$3:$AF$30000,32,FALSE)","v":"学前教育"},"54.50"]
[1313,"陈莎莎",20230603015015,50,"15",791,{"$f":"VLOOKUP(F1315,[1]总表!$A$3:$AF$30000,31,FALSE)","v":"幼儿园"},{"$f":"VLOOKUP(F1315,[1]总表!$A$3:$AF$30000,32,FALSE)","v":"学前教育"},"67"]
[1314,"李贝",20230603015016,50,"16",955,{"$f":"VLOOKUP(F1316,[1]总表!$A$3:$AF$30000,31,FALSE)","v":"幼儿园"},{"$f":"VLOOKUP(F1316,[1]总表!$A$3:$AF$30000,32,FALSE)","v":"学前教育"},"57.50"]
[1315,"杨文艳",20230603015017,50,"17",796,{"$f":"VLOOKUP(F1317,[1]总表!$A$3:$AF$30000,31,FALSE)","v":"幼儿园"},{"$f":"VLOOKUP(F1317,[1]总表!$A$3:$AF$30000,32,FALSE)","v":"学前教育"},"50"]
[1316,"吴凡",20230603015018,50,"18",1388,{"$f":"VLOOKUP(F1318,[1]总表!$A$3:$AF$30000,31,FALSE)","v":"幼儿园"},{"$f":"VLOOKUP(F1318,[1]总表!$A$3:$AF$30000,32,FALSE)","v":"学前教育"},"40"]
[1317,"罗丽",20230603015019,50,"19",897,{"$f":"VLOOKUP(F1319,[1]总表!$A$3:$AF$30000,31,FALSE)","v":"幼儿园"},{"$f":"VLOOKUP(F1319,[1]总表!$A$3:$AF$30000,32,FALSE)","v":"学前教育"},"47"]
[1318,"吴小情",20230603015020,50,"20",1093,{"$f":"VLOOKUP(F1320,[1]总表!$A$3:$AF$30000,31,FALSE)","v":"幼儿园"},{"$f":"VLOOKUP(F1320,[1]总表!$A$3:$AF$30000,32,FALSE)","v":"学前教育"},"37.50"]
[1319,"石梅静",20230603015021,50,"21",1139,{"$f":"VLOOKUP(F1321,[1]总表!$A$3:$AF$30000,31,FALSE)","v":"幼儿园"},{"$f":"VLOOKUP(F1321,[1]总表!$A$3:$AF$30000,32,FALSE)","v":"学前教育"},"48"]
[1320,"杨锐",20230603015022,50,"22",761,{"$f":"VLOOKUP(F1322,[1]总表!$A$3:$AF$30000,31,FALSE)","v":"幼儿园"},{"$f":"VLOOKUP(F1322,[1]总表!$A$3:$AF$30000,32,FALSE)","v":"学前教育"},"77.50"]
[1321,"吴欢",20230603015023,50,"23",1296,{"$f":"VLOOKUP(F1323,[1]总表!$A$3:$AF$30000,31,FALSE)","v":"幼儿园"},{"$f":"VLOOKUP(F1323,[1]总表!$A$3:$AF$30000,32,FALSE)","v":"学前教育"},"45"]
[1322,"杨会",20230603015024,50,"24",941,{"$f":"VLOOKUP(F1324,[1]总表!$A$3:$AF$30000,31,FALSE)","v":"幼儿园"},{"$f":"VLOOKUP(F1324,[1]总表!$A$3:$AF$30000,32,FALSE)","v":"学前教育"},"36.50"]
[1323,"张敏",20230603015025,50,"25",1282,{"$f":"VLOOKUP(F1325,[1]总表!$A$3:$AF$30000,31,FALSE)","v":"幼儿园"},{"$f":"VLOOKUP(F1325,[1]总表!$A$3:$AF$30000,32,FALSE)","v":"学前教育"},"61"]
[1324,"欧银银",20230603015026,50,"26",1346,{"$f":"VLOOKUP(F1326,[1]总表!$A$3:$AF$30000,31,FALSE)","v":"幼儿园"},{"$f":"VLOOKUP(F1326,[1]总表!$A$3:$AF$30000,32,FALSE)","v":"学前教育"},"45"]
[1325,"龙丽",20230603015027,50,"27",1250,{"$f":"VLOOKUP(F1327,[1]总表!$A$3:$AF$30000,31,FALSE)","v":"幼儿园"},{"$f":"VLOOKUP(F1327,[1]总表!$A$3:$AF$30000,32,FALSE)","v":"学前教育"},"55.50"]
[1326,"龙佳怡",20230603015028,50,"28",1355,{"$f":"VLOOKUP(F1328,[1]总表!$A$3:$AF$30000,31,FALSE)","v":"幼儿园"},{"$f":"VLOOKUP(F1328,[1]总表!$A$3:$AF$30000,32,FALSE)","v":"学前教育"},"32.50"]
[1327,"冯意",20230603015029,50,"29",878,{"$f":"VLOOKUP(F1329,[1]总表!$A$3:$AF$30000,31,FALSE)","v":"幼儿园"},{"$f":"VLOOKUP(F1329,[1]总表!$A$3:$AF$30000,32,FALSE)","v":"学前教育"},"62.50"]
[1328,"杨张漫",20230603015030,50,"30",842,{"$f":"VLOOKUP(F1330,[1]总表!$A$3:$AF$30000,31,FALSE)","v":"幼儿园"},{"$f":"VLOOKUP(F1330,[1]总表!$A$3:$AF$30000,32,FALSE)","v":"学前教育"},"68"]
[1329,"戴凤文",20230603015101,51,"01",1259,{"$f":"VLOOKUP(F1331,[1]总表!$A$3:$AF$30000,31,FALSE)","v":"幼儿园"},{"$f":"VLOOKUP(F1331,[1]总表!$A$3:$AF$30000,32,FALSE)","v":"学前教育"},"79"]
[1330,"杨英",20230603015102,51,"02",856,{"$f":"VLOOKUP(F1332,[1]总表!$A$3:$AF$30000,31,FALSE)","v":"幼儿园"},{"$f":"VLOOKUP(F1332,[1]总表!$A$3:$AF$30000,32,FALSE)","v":"学前教育"},"64.50"]
[1331,"孙迪",20230603015103,51,"03",1104,{"$f":"VLOOKUP(F1333,[1]总表!$A$3:$AF$30000,31,FALSE)","v":"幼儿园"},{"$f":"VLOOKUP(F1333,[1]总表!$A$3:$AF$30000,32,FALSE)","v":"学前教育"},"36.50"]
[1332,"杨光静",20230603015104,51,"04",1012,{"$f":"VLOOKUP(F1334,[1]总表!$A$3:$AF$30000,31,FALSE)","v":"幼儿园"},{"$f":"VLOOKUP(F1334,[1]总表!$A$3:$AF$30000,32,FALSE)","v":"学前教育"},"50"]
[1333,"龙彩",20230603015105,51,"05",725,{"$f":"VLOOKUP(F1335,[1]总表!$A$3:$AF$30000,31,FALSE)","v":"幼儿园"},{"$f":"VLOOKUP(F1335,[1]总表!$A$3:$AF$30000,32,FALSE)","v":"学前教育"},"72"]
[1334,"简露芬",20230603015106,51,"06",968,{"$f":"VLOOKUP(F1336,[1]总表!$A$3:$AF$30000,31,FALSE)","v":"幼儿园"},{"$f":"VLOOKUP(F1336,[1]总表!$A$3:$AF$30000,32,FALSE)","v":"学前教育"},"46"]
[1335,"舒港",20230603015107,51,"07",1425,{"$f":"VLOOKUP(F1337,[1]总表!$A$3:$AF$30000,31,FALSE)","v":"幼儿园"},{"$f":"VLOOKUP(F1337,[1]总表!$A$3:$AF$30000,32,FALSE)","v":"学前教育"},"41"]
[1336,"曾舟舟",20230603015108,51,"08",1405,{"$f":"VLOOKUP(F1338,[1]总表!$A$3:$AF$30000,31,FALSE)","v":"幼儿园"},{"$f":"VLOOKUP(F1338,[1]总表!$A$3:$AF$30000,32,FALSE)","v":"学前教育"},"42"]
[1337,"陈勇芬",20230603015109,51,"09",935,{"$f":"VLOOKUP(F1339,[1]总表!$A$3:$AF$30000,31,FALSE)","v":"幼儿园"},{"$f":"VLOOKUP(F1339,[1]总表!$A$3:$AF$30000,32,FALSE)","v":"学前教育"},"60"]
[1338,"张黎",20230603015110,51,"10",1171,{"$f":"VLOOKUP(F1340,[1]总表!$A$3:$AF$30000,31,FALSE)","v":"幼儿园"},{"$f":"VLOOKUP(F1340,[1]总表!$A$3:$AF$30000,32,FALSE)","v":"学前教育"},"58"]
[1339,"李元吉",20230603015111,51,"11",754,{"$f":"VLOOKUP(F1341,[1]总表!$A$3:$AF$30000,31,FALSE)","v":"幼儿园"},{"$f":"VLOOKUP(F1341,[1]总表!$A$3:$AF$30000,32,FALSE)","v":"学前教育"},"61"]
[1340,"李燕芳",20230603015112,51,"12",1359,{"$f":"VLOOKUP(F1342,[1]总表!$A$3:$AF$30000,31,FALSE)","v":"幼儿园"},{"$f":"VLOOKUP(F1342,[1]总表!$A$3:$AF$30000,32,FALSE)","v":"学前教育"},"53"]
[1341,"龙艳梅",20230603015113,51,"13",1411,{"$f":"VLOOKUP(F1343,[1]总表!$A$3:$AF$30000,31,FALSE)","v":"幼儿园"},{"$f":"VLOOKUP(F1343,[1]总表!$A$3:$AF$30000,32,FALSE)","v":"学前教育"},"51"]
[1342,"颜学群",20230603015114,51,"14",1142,{"$f":"VLOOKUP(F1344,[1]总表!$A$3:$AF$30000,31,FALSE)","v":"幼儿园"},{"$f":"VLOOKUP(F1344,[1]总表!$A$3:$AF$30000,32,FALSE)","v":"学前教育"},"48.50"]
[1343,"张丹妮",20230603015115,51,"15",759,{"$f":"VLOOKUP(F1345,[1]总表!$A$3:$AF$30000,31,FALSE)","v":"幼儿园"},{"$f":"VLOOKUP(F1345,[1]总表!$A$3:$AF$30000,32,FALSE)","v":"学前教育"},"68"]
[1344,"陈丹",20230603015116,51,"16",1294,{"$f":"VLOOKUP(F1346,[1]总表!$A$3:$AF$30000,31,FALSE)","v":"幼儿园"},{"$f":"VLOOKUP(F1346,[1]总表!$A$3:$AF$30000,32,FALSE)","v":"学前教育"},"46.50"]
[1345,"冉佳",20230603015117,51,"17",1021,{"$f":"VLOOKUP(F1347,[1]总表!$A$3:$AF$30000,31,FALSE)","v":"幼儿园"},{"$f":"VLOOKUP(F1347,[1]总表!$A$3:$AF$30000,32,FALSE)","v":"学前教育"},"60"]
[1346,"吴甜林",20230603015118,51,"18",1444,{"$f":"VLOOKUP(F1348,[1]总表!$A$3:$AF$30000,31,FALSE)","v":"幼儿园"},{"$f":"VLOOKUP(F1348,[1]总表!$A$3:$AF$30000,32,FALSE)","v":"学前教育"},"60.50"]
[1347,"陈萍",20230603015119,51,"19",1351,{"$f":"VLOOKUP(F1349,[1]总表!$A$3:$AF$30000,31,FALSE)","v":"幼儿园"},{"$f":"VLOOKUP(F1349,[1]总表!$A$3:$AF$30000,32,FALSE)","v":"学前教育"},"51.50"]
[1348,"何慧",20230603015120,51,"20",814,{"$f":"VLOOKUP(F1350,[1]总表!$A$3:$AF$30000,31,FALSE)","v":"幼儿园"},{"$f":"VLOOKUP(F1350,[1]总表!$A$3:$AF$30000,32,FALSE)","v":"学前教育"},"49.50"]
[1349,"陈宁琴",20230603015121,51,"21",977,{"$f":"VLOOKUP(F1351,[1]总表!$A$3:$AF$30000,31,FALSE)","v":"幼儿园"},{"$f":"VLOOKUP(F1351,[1]总表!$A$3:$AF$30000,32,FALSE)","v":"学前教育"},"45"]
[1350,"龙海船",20230603015122,51,"22",1440,{"$f":"VLOOKUP(F1352,[1]总表!$A$3:$AF$30000,31,FALSE)","v":"幼儿园"},{"$f":"VLOOKUP(F1352,[1]总表!$A$3:$AF$30000,32,FALSE)","v":"学前教育"},"54.50"]
[1351,"任可",20230603015123,51,"23",1180,{"$f":"VLOOKUP(F1353,[1]总表!$A$3:$AF$30000,31,FALSE)","v":"幼儿园"},{"$f":"VLOOKUP(F1353,[1]总表!$A$3:$AF$30000,32,FALSE)","v":"学前教育"},"68.50"]
[1352,"李笑蓉",20230603015124,51,"24",1354,{"$f":"VLOOKUP(F1354,[1]总表!$A$3:$AF$30000,31,FALSE)","v":"幼儿园"},{"$f":"VLOOKUP(F1354,[1]总表!$A$3:$AF$30000,32,FALSE)","v":"学前教育"},"61"]
[1353,"冉西洋",20230603015125,51,"25",734,{"$f":"VLOOKUP(F1355,[1]总表!$A$3:$AF$30000,31,FALSE)","v":"幼儿园"},{"$f":"VLOOKUP(F1355,[1]总表!$A$3:$AF$30000,32,FALSE)","v":"学前教育"},"50.50"]
[1354,"杨梦会",20230603015126,51,"26",995,{"$f":"VLOOKUP(F1356,[1]总表!$A$3:$AF$30000,31,FALSE)","v":"幼儿园"},{"$f":"VLOOKUP(F1356,[1]总表!$A$3:$AF$30000,32,FALSE)","v":"学前教育"},"45.50"]
[1355,"胡海浪",20230603015127,51,"27",1450,{"$f":"VLOOKUP(F1357,[1]总表!$A$3:$AF$30000,31,FALSE)","v":"幼儿园"},{"$f":"VLOOKUP(F1357,[1]总表!$A$3:$AF$30000,32,FALSE)","v":"学前教育"},"48.50"]
[1356,"杨叶帆",20230603015128,51,"28",1322,{"$f":"VLOOKUP(F1358,[1]总表!$A$3:$AF$30000,31,FALSE)","v":"幼儿园"},{"$f":"VLOOKUP(F1358,[1]总表!$A$3:$AF$30000,32,FALSE)","v":"学前教育"},"40.50"]
[1357,"杨丹",20230603015129,51,"29",952,{"$f":"VLOOKUP(F1359,[1]总表!$A$3:$AF$30000,31,FALSE)","v":"幼儿园"},{"$f":"VLOOKUP(F1359,[1]总表!$A$3:$AF$30000,32,FALSE)","v":"学前教育"},"48"]
[1358,"龙佳珏",20230603015130,51,"30",1254,{"$f":"VLOOKUP(F1360,[1]总表!$A$3:$AF$30000,31,FALSE)","v":"幼儿园"},{"$f":"VLOOKUP(F1360,[1]总表!$A$3:$AF$30000,32,FALSE)","v":"学前教育"},"76"]
[1359,"麻红元",20230603015201,52,"01",849,{"$f":"VLOOKUP(F1361,[1]总表!$A$3:$AF$30000,31,FALSE)","v":"幼儿园"},{"$f":"VLOOKUP(F1361,[1]总表!$A$3:$AF$30000,32,FALSE)","v":"学前教育"},"54.50"]
[1360,"王小青",20230603015202,52,"02",1248,{"$f":"VLOOKUP(F1362,[1]总表!$A$3:$AF$30000,31,FALSE)","v":"幼儿园"},{"$f":"VLOOKUP(F1362,[1]总表!$A$3:$AF$30000,32,FALSE)","v":"学前教育"},"58.50"]
[1361,"刘见平",20230603015203,52,"03",1398,{"$f":"VLOOKUP(F1363,[1]总表!$A$3:$AF$30000,31,FALSE)","v":"幼儿园"},{"$f":"VLOOKUP(F1363,[1]总表!$A$3:$AF$30000,32,FALSE)","v":"学前教育"},"41.50"]
[1362,"印莉慧",20230603015204,52,"04",810,{"$f":"VLOOKUP(F1364,[1]总表!$A$3:$AF$30000,31,FALSE)","v":"幼儿园"},{"$f":"VLOOKUP(F1364,[1]总表!$A$3:$AF$30000,32,FALSE)","v":"学前教育"},"76"]
[1363,"姚露",20230603015205,52,"05",1054,{"$f":"VLOOKUP(F1365,[1]总表!$A$3:$AF$30000,31,FALSE)","v":"幼儿园"},{"$f":"VLOOKUP(F1365,[1]总表!$A$3:$AF$30000,32,FALSE)","v":"学前教育"},"71.50"]
[1364,"王艳",20230603015206,52,"06",1478,{"$f":"VLOOKUP(F1366,[1]总表!$A$3:$AF$30000,31,FALSE)","v":"幼儿园"},{"$f":"VLOOKUP(F1366,[1]总表!$A$3:$AF$30000,32,FALSE)","v":"学前教育"},"50.50"]
[1365,"何书凡",20230603015207,52,"07",779,{"$f":"VLOOKUP(F1367,[1]总表!$A$3:$AF$30000,31,FALSE)","v":"幼儿园"},{"$f":"VLOOKUP(F1367,[1]总表!$A$3:$AF$30000,32,FALSE)","v":"学前教育"},"71.50"]
[1366,"麻秀娟",20230603015208,52,"08",815,{"$f":"VLOOKUP(F1368,[1]总表!$A$3:$AF$30000,31,FALSE)","v":"幼儿园"},{"$f":"VLOOKUP(F1368,[1]总表!$A$3:$AF$30000,32,FALSE)","v":"学前教育"},"66"]
[1367,"罗千惠",20230603015209,52,"09",1229,{"$f":"VLOOKUP(F1369,[1]总表!$A$3:$AF$30000,31,FALSE)","v":"幼儿园"},{"$f":"VLOOKUP(F1369,[1]总表!$A$3:$AF$30000,32,FALSE)","v":"学前教育"},"48"]
[1368,"杨再琴",20230603015210,52,"10",1438,{"$f":"VLOOKUP(F1370,[1]总表!$A$3:$AF$30000,31,FALSE)","v":"幼儿园"},{"$f":"VLOOKUP(F1370,[1]总表!$A$3:$AF$30000,32,FALSE)","v":"学前教育"},"49"]
[1369,"龙甜群",20230603015211,52,"11",899,{"$f":"VLOOKUP(F1371,[1]总表!$A$3:$AF$30000,31,FALSE)","v":"幼儿园"},{"$f":"VLOOKUP(F1371,[1]总表!$A$3:$AF$30000,32,FALSE)","v":"学前教育"},"68"]
[1370,"曾雪玲",20230603015212,52,"12",1455,{"$f":"VLOOKUP(F1372,[1]总表!$A$3:$AF$30000,31,FALSE)","v":"幼儿园"},{"$f":"VLOOKUP(F1372,[1]总表!$A$3:$AF$30000,32,FALSE)","v":"学前教育"},"45"]
[1371,"刘习红",20230603015213,52,"13",1463,{"$f":"VLOOKUP(F1373,[1]总表!$A$3:$AF$30000,31,FALSE)","v":"幼儿园"},{"$f":"VLOOKUP(F1373,[1]总表!$A$3:$AF$30000,32,FALSE)","v":"学前教育"},"52"]
[1372,"王志莉",20230603015214,52,"14",812,{"$f":"VLOOKUP(F1374,[1]总表!$A$3:$AF$30000,31,FALSE)","v":"幼儿园"},{"$f":"VLOOKUP(F1374,[1]总表!$A$3:$AF$30000,32,FALSE)","v":"学前教育"},"73"]
[1373,"麻圆",20230603015215,52,"15",1009,{"$f":"VLOOKUP(F1375,[1]总表!$A$3:$AF$30000,31,FALSE)","v":"幼儿园"},{"$f":"VLOOKUP(F1375,[1]总表!$A$3:$AF$30000,32,FALSE)","v":"学前教育"},"50.50"]
[1374,"郎兴洁",20230603015216,52,"16",1103,{"$f":"VLOOKUP(F1376,[1]总表!$A$3:$AF$30000,31,FALSE)","v":"幼儿园"},{"$f":"VLOOKUP(F1376,[1]总表!$A$3:$AF$30000,32,FALSE)","v":"学前教育"},"52"]
[1375,"邹成丽",20230603015217,52,"17",1200,{"$f":"VLOOKUP(F1377,[1]总表!$A$3:$AF$30000,31,FALSE)","v":"幼儿园"},{"$f":"VLOOKUP(F1377,[1]总表!$A$3:$AF$30000,32,FALSE)","v":"学前教育"},"55.50"]
[1376,"石艳芬",20230603015218,52,"18",882,{"$f":"VLOOKUP(F1378,[1]总表!$A$3:$AF$30000,31,FALSE)","v":"幼儿园"},{"$f":"VLOOKUP(F1378,[1]总表!$A$3:$AF$30000,32,FALSE)","v":"学前教育"},"70"]
[1377,"雷茹意",20230603015219,52,"19",1373,{"$f":"VLOOKUP(F1379,[1]总表!$A$3:$AF$30000,31,FALSE)","v":"幼儿园"},{"$f":"VLOOKUP(F1379,[1]总表!$A$3:$AF$30000,32,FALSE)","v":"学前教育"},"45.50"]
[1378,"吴清清",20230603015220,52,"20",830,{"$f":"VLOOKUP(F1380,[1]总表!$A$3:$AF$30000,31,FALSE)","v":"幼儿园"},{"$f":"VLOOKUP(F1380,[1]总表!$A$3:$AF$30000,32,FALSE)","v":"学前教育"},"48.50"]
[1379,"龙丽",20230603015221,52,"21",1292,{"$f":"VLOOKUP(F1381,[1]总表!$A$3:$AF$30000,31,FALSE)","v":"幼儿园"},{"$f":"VLOOKUP(F1381,[1]总表!$A$3:$AF$30000,32,FALSE)","v":"学前教育"},"53"]
[1380,"余倩",20230603015222,52,"22",846,{"$f":"VLOOKUP(F1382,[1]总表!$A$3:$AF$30000,31,FALSE)","v":"幼儿园"},{"$f":"VLOOKUP(F1382,[1]总表!$A$3:$AF$30000,32,FALSE)","v":"学前教育"},"43.50"]
[1381,"谭雪艳",20230603015223,52,"23",924,{"$f":"VLOOKUP(F1383,[1]总表!$A$3:$AF$30000,31,FALSE)","v":"幼儿园"},{"$f":"VLOOKUP(F1383,[1]总表!$A$3:$AF$30000,32,FALSE)","v":"学前教育"},"72"]
[1382,"杨惠娣",20230603015224,52,"24",861,{"$f":"VLOOKUP(F1384,[1]总表!$A$3:$AF$30000,31,FALSE)","v":"幼儿园"},{"$f":"VLOOKUP(F1384,[1]总表!$A$3:$AF$30000,32,FALSE)","v":"学前教育"},"62.50"]
[1383,"陈烈芳",20230603015225,52,"25",1030,{"$f":"VLOOKUP(F1385,[1]总表!$A$3:$AF$30000,31,FALSE)","v":"幼儿园"},{"$f":"VLOOKUP(F1385,[1]总表!$A$3:$AF$30000,32,FALSE)","v":"学前教育"},"58.50"]
[1384,"高纯迪",20230603015226,52,"26",928,{"$f":"VLOOKUP(F1386,[1]总表!$A$3:$AF$30000,31,FALSE)","v":"幼儿园"},{"$f":"VLOOKUP(F1386,[1]总表!$A$3:$AF$30000,32,FALSE)","v":"学前教育"},"64.50"]
[1385,"龚明姣",20230603015227,52,"27",978,{"$f":"VLOOKUP(F1387,[1]总表!$A$3:$AF$30000,31,FALSE)","v":"幼儿园"},{"$f":"VLOOKUP(F1387,[1]总表!$A$3:$AF$30000,32,FALSE)","v":"学前教育"},"38"]
[1386,"唐秋苑",20230603015228,52,"28",1299,{"$f":"VLOOKUP(F1388,[1]总表!$A$3:$AF$30000,31,FALSE)","v":"幼儿园"},{"$f":"VLOOKUP(F1388,[1]总表!$A$3:$AF$30000,32,FALSE)","v":"学前教育"},"71"]
[1387,"秦江丽",20230603015229,52,"29",1069,{"$f":"VLOOKUP(F1389,[1]总表!$A$3:$AF$30000,31,FALSE)","v":"幼儿园"},{"$f":"VLOOKUP(F1389,[1]总表!$A$3:$AF$30000,32,FALSE)","v":"学前教育"},"73.50"]
[1388,"吴莉萍",20230603015230,52,"30",986,{"$f":"VLOOKUP(F1390,[1]总表!$A$3:$AF$30000,31,FALSE)","v":"幼儿园"},{"$f":"VLOOKUP(F1390,[1]总表!$A$3:$AF$30000,32,FALSE)","v":"学前教育"},"58"]
[1389,"龙漫园",20230603015301,53,"01",1156,{"$f":"VLOOKUP(F1391,[1]总表!$A$3:$AF$30000,31,FALSE)","v":"幼儿园"},{"$f":"VLOOKUP(F1391,[1]总表!$A$3:$AF$30000,32,FALSE)","v":"学前教育"},"42.50"]
[1390,"石永红",20230603015302,53,"02",820,{"$f":"VLOOKUP(F1392,[1]总表!$A$3:$AF$30000,31,FALSE)","v":"幼儿园"},{"$f":"VLOOKUP(F1392,[1]总表!$A$3:$AF$30000,32,FALSE)","v":"学前教育"},"79"]
[1391,"郝夏",20230603015303,53,"03",932,{"$f":"VLOOKUP(F1393,[1]总表!$A$3:$AF$30000,31,FALSE)","v":"幼儿园"},{"$f":"VLOOKUP(F1393,[1]总表!$A$3:$AF$30000,32,FALSE)","v":"学前教育"},"68"]
[1392,"王双",20230603015304,53,"04",1145,{"$f":"VLOOKUP(F1394,[1]总表!$A$3:$AF$30000,31,FALSE)","v":"幼儿园"},{"$f":"VLOOKUP(F1394,[1]总表!$A$3:$AF$30000,32,FALSE)","v":"学前教育"},"66"]
[1393,"冉静",20230603015305,53,"05",1035,{"$f":"VLOOKUP(F1395,[1]总表!$A$3:$AF$30000,31,FALSE)","v":"幼儿园"},{"$f":"VLOOKUP(F1395,[1]总表!$A$3:$AF$30000,32,FALSE)","v":"学前教育"},"29.50"]
[1394,"邓容平",20230603015306,53,"06",745,{"$f":"VLOOKUP(F1396,[1]总表!$A$3:$AF$30000,31,FALSE)","v":"幼儿园"},{"$f":"VLOOKUP(F1396,[1]总表!$A$3:$AF$30000,32,FALSE)","v":"学前教育"},"74"]
[1395,"赵庆敏",20230603015307,53,"07",925,{"$f":"VLOOKUP(F1397,[1]总表!$A$3:$AF$30000,31,FALSE)","v":"幼儿园"},{"$f":"VLOOKUP(F1397,[1]总表!$A$3:$AF$30000,32,FALSE)","v":"学前教育"},"51"]
[1396,"龙思思",20230603015308,53,"08",1033,{"$f":"VLOOKUP(F1398,[1]总表!$A$3:$AF$30000,31,FALSE)","v":"幼儿园"},{"$f":"VLOOKUP(F1398,[1]总表!$A$3:$AF$30000,32,FALSE)","v":"学前教育"},"82"]
[1397,"龙咪咪",20230603015309,53,"09",962,{"$f":"VLOOKUP(F1399,[1]总表!$A$3:$AF$30000,31,FALSE)","v":"幼儿园"},{"$f":"VLOOKUP(F1399,[1]总表!$A$3:$AF$30000,32,FALSE)","v":"学前教育"},"56"]
[1398,"石倩蓉",20230603015310,53,"10",1263,{"$f":"VLOOKUP(F1400,[1]总表!$A$3:$AF$30000,31,FALSE)","v":"幼儿园"},{"$f":"VLOOKUP(F1400,[1]总表!$A$3:$AF$30000,32,FALSE)","v":"学前教育"},"52"]
[1399,"龙秀兰",20230603015311,53,"11",1216,{"$f":"VLOOKUP(F1401,[1]总表!$A$3:$AF$30000,31,FALSE)","v":"幼儿园"},{"$f":"VLOOKUP(F1401,[1]总表!$A$3:$AF$30000,32,FALSE)","v":"学前教育"},"71.50"]
[1400,"戴青",20230603015312,53,"12",1189,{"$f":"VLOOKUP(F1402,[1]总表!$A$3:$AF$30000,31,FALSE)","v":"幼儿园"},{"$f":"VLOOKUP(F1402,[1]总表!$A$3:$AF$30000,32,FALSE)","v":"学前教育"},"35.50"]
[1401,"吴彤",20230603015313,53,"13",1160,{"$f":"VLOOKUP(F1403,[1]总表!$A$3:$AF$30000,31,FALSE)","v":"幼儿园"},{"$f":"VLOOKUP(F1403,[1]总表!$A$3:$AF$30000,32,FALSE)","v":"学前教育"},"55.50"]
[1402,"蒋家琳",20230603015314,53,"14",1310,{"$f":"VLOOKUP(F1404,[1]总表!$A$3:$AF$30000,31,FALSE)","v":"幼儿园"},{"$f":"VLOOKUP(F1404,[1]总表!$A$3:$AF$30000,32,FALSE)","v":"学前教育"},"46.50"]
[1403,"龙露",20230603015315,53,"15",1371,{"$f":"VLOOKUP(F1405,[1]总表!$A$3:$AF$30000,31,FALSE)","v":"幼儿园"},{"$f":"VLOOKUP(F1405,[1]总表!$A$3:$AF$30000,32,FALSE)","v":"学前教育"},"54.50"]
[1404,"向姣",20230603015316,53,"16",1434,{"$f":"VLOOKUP(F1406,[1]总表!$A$3:$AF$30000,31,FALSE)","v":"幼儿园"},{"$f":"VLOOKUP(F1406,[1]总表!$A$3:$AF$30000,32,FALSE)","v":"学前教育"},"36.50"]
[1405,"杨秋香",20230603015317,53,"17",859,{"$f":"VLOOKUP(F1407,[1]总表!$A$3:$AF$30000,31,FALSE)","v":"幼儿园"},{"$f":"VLOOKUP(F1407,[1]总表!$A$3:$AF$30000,32,FALSE)","v":"学前教育"},"69"]
[1406,"蒋婷婷",20230603015318,53,"18",829,{"$f":"VLOOKUP(F1408,[1]总表!$A$3:$AF$30000,31,FALSE)","v":"幼儿园"},{"$f":"VLOOKUP(F1408,[1]总表!$A$3:$AF$30000,32,FALSE)","v":"学前教育"},"41.50"]
[1407,"陈慧",20230603015319,53,"19",1076,{"$f":"VLOOKUP(F1409,[1]总表!$A$3:$AF$30000,31,FALSE)","v":"幼儿园"},{"$f":"VLOOKUP(F1409,[1]总表!$A$3:$AF$30000,32,FALSE)","v":"学前教育"},"37"]
[1408,"陈雪丽",20230603015320,53,"20",767,{"$f":"VLOOKUP(F1410,[1]总表!$A$3:$AF$30000,31,FALSE)","v":"幼儿园"},{"$f":"VLOOKUP(F1410,[1]总表!$A$3:$AF$30000,32,FALSE)","v":"学前教育"},"72"]
[1409,"代萍萍",20230603015321,53,"21",1331,{"$f":"VLOOKUP(F1411,[1]总表!$A$3:$AF$30000,31,FALSE)","v":"幼儿园"},{"$f":"VLOOKUP(F1411,[1]总表!$A$3:$AF$30000,32,FALSE)","v":"学前教育"},"45"]
[1410,"高克凤",20230603015322,53,"22",1213,{"$f":"VLOOKUP(F1412,[1]总表!$A$3:$AF$30000,31,FALSE)","v":"幼儿园"},{"$f":"VLOOKUP(F1412,[1]总表!$A$3:$AF$30000,32,FALSE)","v":"学前教育"},"78"]
[1411,"刘丹丹",20230603015323,53,"23",787,{"$f":"VLOOKUP(F1413,[1]总表!$A$3:$AF$30000,31,FALSE)","v":"幼儿园"},{"$f":"VLOOKUP(F1413,[1]总表!$A$3:$AF$30000,32,FALSE)","v":"学前教育"},"78.50"]
[1412,"唐红连",20230603015324,53,"24",1167,{"$f":"VLOOKUP(F1414,[1]总表!$A$3:$AF$30000,31,FALSE)","v":"幼儿园"},{"$f":"VLOOKUP(F1414,[1]总表!$A$3:$AF$30000,32,FALSE)","v":"学前教育"},"59"]
[1413,"任露慧",20230603015325,53,"25",1227,{"$f":"VLOOKUP(F1415,[1]总表!$A$3:$AF$30000,31,FALSE)","v":"幼儿园"},{"$f":"VLOOKUP(F1415,[1]总表!$A$3:$AF$30000,32,FALSE)","v":"学前教育"},"56.50"]
[1414,"罗一然",20230603015326,53,"26",898,{"$f":"VLOOKUP(F1416,[1]总表!$A$3:$AF$30000,31,FALSE)","v":"幼儿园"},{"$f":"VLOOKUP(F1416,[1]总表!$A$3:$AF$30000,32,FALSE)","v":"学前教育"},"41.50"]
[1415,"陈白凤",20230603015327,53,"27",1174,{"$f":"VLOOKUP(F1417,[1]总表!$A$3:$AF$30000,31,FALSE)","v":"幼儿园"},{"$f":"VLOOKUP(F1417,[1]总表!$A$3:$AF$30000,32,FALSE)","v":"学前教育"},"54"]
[1416,"邓丹丹",20230603015328,53,"28",1052,{"$f":"VLOOKUP(F1418,[1]总表!$A$3:$AF$30000,31,FALSE)","v":"幼儿园"},{"$f":"VLOOKUP(F1418,[1]总表!$A$3:$AF$30000,32,FALSE)","v":"学前教育"},"72.50"]
[1417,"杨芷若",20230603015329,53,"29",1062,{"$f":"VLOOKUP(F1419,[1]总表!$A$3:$AF$30000,31,FALSE)","v":"幼儿园"},{"$f":"VLOOKUP(F1419,[1]总表!$A$3:$AF$30000,32,FALSE)","v":"学前教育"},"63"]
[1418,"吴下雪",20230603015330,53,"30",884,{"$f":"VLOOKUP(F1420,[1]总表!$A$3:$AF$30000,31,FALSE)","v":"幼儿园"},{"$f":"VLOOKUP(F1420,[1]总表!$A$3:$AF$30000,32,FALSE)","v":"学前教育"},"62.50"]
[1419,"龙诗蕊",20230603015401,54,"01",756,{"$f":"VLOOKUP(F1421,[1]总表!$A$3:$AF$30000,31,FALSE)","v":"幼儿园"},{"$f":"VLOOKUP(F1421,[1]总表!$A$3:$AF$30000,32,FALSE)","v":"学前教育"},"47.50"]
[1420,"戴应富",20230603015402,54,"02",1269,{"$f":"VLOOKUP(F1422,[1]总表!$A$3:$AF$30000,31,FALSE)","v":"幼儿园"},{"$f":"VLOOKUP(F1422,[1]总表!$A$3:$AF$30000,32,FALSE)","v":"学前教育"},"42"]
[1421,"杨伟",20230603015403,54,"03",1460,{"$f":"VLOOKUP(F1423,[1]总表!$A$3:$AF$30000,31,FALSE)","v":"幼儿园"},{"$f":"VLOOKUP(F1423,[1]总表!$A$3:$AF$30000,32,FALSE)","v":"学前教育"},"37"]
[1422,"龙三女",20230603015404,54,"04",1210,{"$f":"VLOOKUP(F1424,[1]总表!$A$3:$AF$30000,31,FALSE)","v":"幼儿园"},{"$f":"VLOOKUP(F1424,[1]总表!$A$3:$AF$30000,32,FALSE)","v":"学前教育"},"76"]
[1423,"冉丹",20230603015405,54,"05",1348,{"$f":"VLOOKUP(F1425,[1]总表!$A$3:$AF$30000,31,FALSE)","v":"幼儿园"},{"$f":"VLOOKUP(F1425,[1]总表!$A$3:$AF$30000,32,FALSE)","v":"学前教育"},"52.50"]
[1424,"周松平",20230603015406,54,"06",1284,{"$f":"VLOOKUP(F1426,[1]总表!$A$3:$AF$30000,31,FALSE)","v":"幼儿园"},{"$f":"VLOOKUP(F1426,[1]总表!$A$3:$AF$30000,32,FALSE)","v":"学前教育"},"60.50"]
[1425,"易江会",20230603015407,54,"07",1471,{"$f":"VLOOKUP(F1427,[1]总表!$A$3:$AF$30000,31,FALSE)","v":"幼儿园"},{"$f":"VLOOKUP(F1427,[1]总表!$A$3:$AF$30000,32,FALSE)","v":"学前教育"},"43.50"]
[1426,"杨江艳",20230603015408,54,"08",991,{"$f":"VLOOKUP(F1428,[1]总表!$A$3:$AF$30000,31,FALSE)","v":"幼儿园"},{"$f":"VLOOKUP(F1428,[1]总表!$A$3:$AF$30000,32,FALSE)","v":"学前教育"},"40"]
[1427,"麻树梅",20230603015409,54,"09",784,{"$f":"VLOOKUP(F1429,[1]总表!$A$3:$AF$30000,31,FALSE)","v":"幼儿园"},{"$f":"VLOOKUP(F1429,[1]总表!$A$3:$AF$30000,32,FALSE)","v":"学前教育"},"62"]
[1428,"雷文华",20230603015410,54,"10",1112,{"$f":"VLOOKUP(F1430,[1]总表!$A$3:$AF$30000,31,FALSE)","v":"幼儿园"},{"$f":"VLOOKUP(F1430,[1]总表!$A$3:$AF$30000,32,FALSE)","v":"学前教育"},"47.50"]
[1429,"杨梅",20230603015411,54,"11",886,{"$f":"VLOOKUP(F1431,[1]总表!$A$3:$AF$30000,31,FALSE)","v":"幼儿园"},{"$f":"VLOOKUP(F1431,[1]总表!$A$3:$AF$30000,32,FALSE)","v":"学前教育"},"54.50"]
[1430,"汪艳平",20230603015412,54,"12",874,{"$f":"VLOOKUP(F1432,[1]总表!$A$3:$AF$30000,31,FALSE)","v":"幼儿园"},{"$f":"VLOOKUP(F1432,[1]总表!$A$3:$AF$30000,32,FALSE)","v":"学前教育"},"57.50"]
[1431,"熊红敏",20230603015413,54,"13",869,{"$f":"VLOOKUP(F1433,[1]总表!$A$3:$AF$30000,31,FALSE)","v":"幼儿园"},{"$f":"VLOOKUP(F1433,[1]总表!$A$3:$AF$30000,32,FALSE)","v":"学前教育"},"74"]
[1432,"龙燕",20230603015414,54,"14",780,{"$f":"VLOOKUP(F1434,[1]总表!$A$3:$AF$30000,31,FALSE)","v":"幼儿园"},{"$f":"VLOOKUP(F1434,[1]总表!$A$3:$AF$30000,32,FALSE)","v":"学前教育"},"60.50"]
[1433,"龙艳霞",20230603015415,54,"15",1431,{"$f":"VLOOKUP(F1435,[1]总表!$A$3:$AF$30000,31,FALSE)","v":"幼儿园"},{"$f":"VLOOKUP(F1435,[1]总表!$A$3:$AF$30000,32,FALSE)","v":"学前教育"},"58.50"]
[1434,"雷江艳",20230603015416,54,"16",889,{"$f":"VLOOKUP(F1436,[1]总表!$A$3:$AF$30000,31,FALSE)","v":"幼儿园"},{"$f":"VLOOKUP(F1436,[1]总表!$A$3:$AF$30000,32,FALSE)","v":"学前教育"},"57"]
[1435,"龙雪双",20230603015417,54,"17",769,{"$f":"VLOOKUP(F1437,[1]总表!$A$3:$AF$30000,31,FALSE)","v":"幼儿园"},{"$f":"VLOOKUP(F1437,[1]总表!$A$3:$AF$30000,32,FALSE)","v":"学前教育"},"73.50"]
[1436,"杨芳红",20230603015418,54,"18",1053,{"$f":"VLOOKUP(F1438,[1]总表!$A$3:$AF$30000,31,FALSE)","v":"幼儿园"},{"$f":"VLOOKUP(F1438,[1]总表!$A$3:$AF$30000,32,FALSE)","v":"学前教育"},"52"]
[1437,"吴明艳",20230603015419,54,"19",1241,{"$f":"VLOOKUP(F1439,[1]总表!$A$3:$AF$30000,31,FALSE)","v":"幼儿园"},{"$f":"VLOOKUP(F1439,[1]总表!$A$3:$AF$30000,32,FALSE)","v":"学前教育"},"75.50"]
[1438,"何东琼",20230603015420,54,"20",1327,{"$f":"VLOOKUP(F1440,[1]总表!$A$3:$AF$30000,31,FALSE)","v":"幼儿园"},{"$f":"VLOOKUP(F1440,[1]总表!$A$3:$AF$30000,32,FALSE)","v":"学前教育"},"77.50"]
[1439,"冉光梅",20230603015421,54,"21",1044,{"$f":"VLOOKUP(F1441,[1]总表!$A$3:$AF$30000,31,FALSE)","v":"幼儿园"},{"$f":"VLOOKUP(F1441,[1]总表!$A$3:$AF$30000,32,FALSE)","v":"学前教育"},"51"]
[1440,"黄明英",20230603015422,54,"22",1384,{"$f":"VLOOKUP(F1442,[1]总表!$A$3:$AF$30000,31,FALSE)","v":"幼儿园"},{"$f":"VLOOKUP(F1442,[1]总表!$A$3:$AF$30000,32,FALSE)","v":"学前教育"},"60.50"]
[1441,"石志芬",20230603015423,54,"23",729,{"$f":"VLOOKUP(F1443,[1]总表!$A$3:$AF$30000,31,FALSE)","v":"幼儿园"},{"$f":"VLOOKUP(F1443,[1]总表!$A$3:$AF$30000,32,FALSE)","v":"学前教育"},"76"]
[1442,"龙简",20230603015424,54,"24",740,{"$f":"VLOOKUP(F1444,[1]总表!$A$3:$AF$30000,31,FALSE)","v":"幼儿园"},{"$f":"VLOOKUP(F1444,[1]总表!$A$3:$AF$30000,32,FALSE)","v":"学前教育"},"52.50"]
[1443,"秦艳琴",20230603015425,54,"25",1098,{"$f":"VLOOKUP(F1445,[1]总表!$A$3:$AF$30000,31,FALSE)","v":"幼儿园"},{"$f":"VLOOKUP(F1445,[1]总表!$A$3:$AF$30000,32,FALSE)","v":"学前教育"},"39.50"]
[1444,"陈露",20230603015426,54,"26",1083,{"$f":"VLOOKUP(F1446,[1]总表!$A$3:$AF$30000,31,FALSE)","v":"幼儿园"},{"$f":"VLOOKUP(F1446,[1]总表!$A$3:$AF$30000,32,FALSE)","v":"学前教育"},"38"]
[1445,"尚丽娟",20230603015427,54,"27",1166,{"$f":"VLOOKUP(F1447,[1]总表!$A$3:$AF$30000,31,FALSE)","v":"幼儿园"},{"$f":"VLOOKUP(F1447,[1]总表!$A$3:$AF$30000,32,FALSE)","v":"学前教育"},"57"]
[1446,"梁英",20230603015428,54,"28",1126,{"$f":"VLOOKUP(F1448,[1]总表!$A$3:$AF$30000,31,FALSE)","v":"幼儿园"},{"$f":"VLOOKUP(F1448,[1]总表!$A$3:$AF$30000,32,FALSE)","v":"学前教育"},"74"]
[1447,"周文凤",20230603015429,54,"29",918,{"$f":"VLOOKUP(F1449,[1]总表!$A$3:$AF$30000,31,FALSE)","v":"幼儿园"},{"$f":"VLOOKUP(F1449,[1]总表!$A$3:$AF$30000,32,FALSE)","v":"学前教育"},"68"]
[1448,"龙树梅",20230603015430,54,"30",953,{"$f":"VLOOKUP(F1450,[1]总表!$A$3:$AF$30000,31,FALSE)","v":"幼儿园"},{"$f":"VLOOKUP(F1450,[1]总表!$A$3:$AF$30000,32,FALSE)","v":"学前教育"},"62"]
[1449,"张洁",20230603015501,55,"01",1108,{"$f":"VLOOKUP(F1451,[1]总表!$A$3:$AF$30000,31,FALSE)","v":"幼儿园"},{"$f":"VLOOKUP(F1451,[1]总表!$A$3:$AF$30000,32,FALSE)","v":"学前教育"},"46.50"]
[1450,"吴蜜",20230603015502,55,"02",1183,{"$f":"VLOOKUP(F1452,[1]总表!$A$3:$AF$30000,31,FALSE)","v":"幼儿园"},{"$f":"VLOOKUP(F1452,[1]总表!$A$3:$AF$30000,32,FALSE)","v":"学前教育"},"58"]
[1451,"冉海燕",20230603015503,55,"03",1309,{"$f":"VLOOKUP(F1453,[1]总表!$A$3:$AF$30000,31,FALSE)","v":"幼儿园"},{"$f":"VLOOKUP(F1453,[1]总表!$A$3:$AF$30000,32,FALSE)","v":"学前教育"},"45"]
[1452,"陈亚群",20230603015504,55,"04",1179,{"$f":"VLOOKUP(F1454,[1]总表!$A$3:$AF$30000,31,FALSE)","v":"幼儿园"},{"$f":"VLOOKUP(F1454,[1]总表!$A$3:$AF$30000,32,FALSE)","v":"学前教育"},"53"]
[1453,"李兰",20230603015505,55,"05",1080,{"$f":"VLOOKUP(F1455,[1]总表!$A$3:$AF$30000,31,FALSE)","v":"幼儿园"},{"$f":"VLOOKUP(F1455,[1]总表!$A$3:$AF$30000,32,FALSE)","v":"学前教育"},"45"]
[1454,"燕亚军",20230603015506,55,"06",999,{"$f":"VLOOKUP(F1456,[1]总表!$A$3:$AF$30000,31,FALSE)","v":"幼儿园"},{"$f":"VLOOKUP(F1456,[1]总表!$A$3:$AF$30000,32,FALSE)","v":"学前教育"},"39"]
[1455,"杨雪",20230603015507,55,"07",795,{"$f":"VLOOKUP(F1457,[1]总表!$A$3:$AF$30000,31,FALSE)","v":"幼儿园"},{"$f":"VLOOKUP(F1457,[1]总表!$A$3:$AF$30000,32,FALSE)","v":"学前教育"},"49.50"]
[1456,"吴剑逸",20230603015508,55,"08",1068,{"$f":"VLOOKUP(F1458,[1]总表!$A$3:$AF$30000,31,FALSE)","v":"幼儿园"},{"$f":"VLOOKUP(F1458,[1]总表!$A$3:$AF$30000,32,FALSE)","v":"学前教育"},"54"]
[1457,"舒姗",20230603015509,55,"09",1223,{"$f":"VLOOKUP(F1459,[1]总表!$A$3:$AF$30000,31,FALSE)","v":"幼儿园"},{"$f":"VLOOKUP(F1459,[1]总表!$A$3:$AF$30000,32,FALSE)","v":"学前教育"},"缺考"]
[1458,"徐俊",20230603015510,55,"10",939,{"$f":"VLOOKUP(F1460,[1]总表!$A$3:$AF$30000,31,FALSE)","v":"幼儿园"},{"$f":"VLOOKUP(F1460,[1]总表!$A$3:$AF$30000,32,FALSE)","v":"学前教育"},"35"]
[1459,"张美林",20230603015511,55,"11",1454,{"$f":"VLOOKUP(F1461,[1]总表!$A$3:$AF$30000,31,FALSE)","v":"幼儿园"},{"$f":"VLOOKUP(F1461,[1]总表!$A$3:$AF$30000,32,FALSE)","v":"学前教育"},"59"]
[1460,"孙琴雨",20230603015512,55,"12",1027,{"$f":"VLOOKUP(F1462,[1]总表!$A$3:$AF$30000,31,FALSE)","v":"幼儿园"},{"$f":"VLOOKUP(F1462,[1]总表!$A$3:$AF$30000,32,FALSE)","v":"学前教育"},"44"]
[1461,"唐姣",20230603015513,55,"13",885,{"$f":"VLOOKUP(F1463,[1]总表!$A$3:$AF$30000,31,FALSE)","v":"幼儿园"},{"$f":"VLOOKUP(F1463,[1]总表!$A$3:$AF$30000,32,FALSE)","v":"学前教育"},"66"]
[1462,"杨雪",20230603015514,55,"14",907,{"$f":"VLOOKUP(F1464,[1]总表!$A$3:$AF$30000,31,FALSE)","v":"幼儿园"},{"$f":"VLOOKUP(F1464,[1]总表!$A$3:$AF$30000,32,FALSE)","v":"学前教育"},"70"]
[1463,"田颖",20230603015515,55,"15",1288,{"$f":"VLOOKUP(F1465,[1]总表!$A$3:$AF$30000,31,FALSE)","v":"幼儿园"},{"$f":"VLOOKUP(F1465,[1]总表!$A$3:$AF$30000,32,FALSE)","v":"学前教育"},"43.50"]
[1464,"冉骞",20230603015516,55,"16",917,{"$f":"VLOOKUP(F1466,[1]总表!$A$3:$AF$30000,31,FALSE)","v":"幼儿园"},{"$f":"VLOOKUP(F1466,[1]总表!$A$3:$AF$30000,32,FALSE)","v":"学前教育"},"59"]
[1465,"田凤",20230603015517,55,"17",1336,{"$f":"VLOOKUP(F1467,[1]总表!$A$3:$AF$30000,31,FALSE)","v":"幼儿园"},{"$f":"VLOOKUP(F1467,[1]总表!$A$3:$AF$30000,32,FALSE)","v":"学前教育"},"48.50"]
[1466,"龙秀群",20230603015518,55,"18",1428,{"$f":"VLOOKUP(F1468,[1]总表!$A$3:$AF$30000,31,FALSE)","v":"幼儿园"},{"$f":"VLOOKUP(F1468,[1]总表!$A$3:$AF$30000,32,FALSE)","v":"学前教育"},"44"]
[1467,"董迪",20230603015519,55,"19",1224,{"$f":"VLOOKUP(F1469,[1]总表!$A$3:$AF$30000,31,FALSE)","v":"幼儿园"},{"$f":"VLOOKUP(F1469,[1]总表!$A$3:$AF$30000,32,FALSE)","v":"学前教育"},"72.50"]
[1468,"梁珊珊",20230603015520,55,"20",818,{"$f":"VLOOKUP(F1470,[1]总表!$A$3:$AF$30000,31,FALSE)","v":"幼儿园"},{"$f":"VLOOKUP(F1470,[1]总表!$A$3:$AF$30000,32,FALSE)","v":"学前教育"},"78"]
[1469,"李芳",20230603015521,55,"21",1041,{"$f":"VLOOKUP(F1471,[1]总表!$A$3:$AF$30000,31,FALSE)","v":"幼儿园"},{"$f":"VLOOKUP(F1471,[1]总表!$A$3:$AF$30000,32,FALSE)","v":"学前教育"},"47"]
[1470,"雷智芬",20230603015522,55,"22",1204,{"$f":"VLOOKUP(F1472,[1]总表!$A$3:$AF$30000,31,FALSE)","v":"幼儿园"},{"$f":"VLOOKUP(F1472,[1]总表!$A$3:$AF$30000,32,FALSE)","v":"学前教育"},"30.50"]
[1471,"向燃",20230603015523,55,"23",1079,{"$f":"VLOOKUP(F1473,[1]总表!$A$3:$AF$30000,31,FALSE)","v":"幼儿园"},{"$f":"VLOOKUP(F1473,[1]总表!$A$3:$AF$30000,32,FALSE)","v":"学前教育"},"53"]
[1472,"杨桂霞",20230603015524,55,"24",1238,{"$f":"VLOOKUP(F1474,[1]总表!$A$3:$AF$30000,31,FALSE)","v":"幼儿园"},{"$f":"VLOOKUP(F1474,[1]总表!$A$3:$AF$30000,32,FALSE)","v":"学前教育"},"63.50"]
[1473,"龙松萍",20230603015525,55,"25",963,{"$f":"VLOOKUP(F1475,[1]总表!$A$3:$AF$30000,31,FALSE)","v":"幼儿园"},{"$f":"VLOOKUP(F1475,[1]总表!$A$3:$AF$30000,32,FALSE)","v":"学前教育"},"63"]
[1474,"曾玲",20230603015526,55,"26",1199,{"$f":"VLOOKUP(F1476,[1]总表!$A$3:$AF$30000,31,FALSE)","v":"幼儿园"},{"$f":"VLOOKUP(F1476,[1]总表!$A$3:$AF$30000,32,FALSE)","v":"学前教育"},"55"]
[1475,"姚红苹",20230603015527,55,"27",944,{"$f":"VLOOKUP(F1477,[1]总表!$A$3:$AF$30000,31,FALSE)","v":"幼儿园"},{"$f":"VLOOKUP(F1477,[1]总表!$A$3:$AF$30000,32,FALSE)","v":"学前教育"},"42"]
[1476,"张阿希",20230603015528,55,"28",1149,{"$f":"VLOOKUP(F1478,[1]总表!$A$3:$AF$30000,31,FALSE)","v":"幼儿园"},{"$f":"VLOOKUP(F1478,[1]总表!$A$3:$AF$30000,32,FALSE)","v":"学前教育"},"30"]
[1477,"尚佳丽",20230603015529,55,"29",881,{"$f":"VLOOKUP(F1479,[1]总表!$A$3:$AF$30000,31,FALSE)","v":"幼儿园"},{"$f":"VLOOKUP(F1479,[1]总表!$A$3:$AF$30000,32,FALSE)","v":"学前教育"},"42"]
[1478,"杨欢",20230603015530,55,"30",1195,{"$f":"VLOOKUP(F1480,[1]总表!$A$3:$AF$30000,31,FALSE)","v":"幼儿园"},{"$f":"VLOOKUP(F1480,[1]总表!$A$3:$AF$30000,32,FALSE)","v":"学前教育"},"67.50"]
[1479,"冉粤施",20230603015601,56,"01",757,{"$f":"VLOOKUP(F1481,[1]总表!$A$3:$AF$30000,31,FALSE)","v":"幼儿园"},{"$f":"VLOOKUP(F1481,[1]总表!$A$3:$AF$30000,32,FALSE)","v":"学前教育"},"75"]
[1480,"罗莉",20230603015602,56,"02",841,{"$f":"VLOOKUP(F1482,[1]总表!$A$3:$AF$30000,31,FALSE)","v":"幼儿园"},{"$f":"VLOOKUP(F1482,[1]总表!$A$3:$AF$30000,32,FALSE)","v":"学前教育"},"67.50"]
[1481,"杨佳芳",20230603015603,56,"03",1247,{"$f":"VLOOKUP(F1483,[1]总表!$A$3:$AF$30000,31,FALSE)","v":"幼儿园"},{"$f":"VLOOKUP(F1483,[1]总表!$A$3:$AF$30000,32,FALSE)","v":"学前教育"},"缺考"]
[1482,"莫厢闻",20230603015604,56,"04",1321,{"$f":"VLOOKUP(F1484,[1]总表!$A$3:$AF$30000,31,FALSE)","v":"幼儿园"},{"$f":"VLOOKUP(F1484,[1]总表!$A$3:$AF$30000,32,FALSE)","v":"学前教育"},"46"]
[1483,"龙冬鲜",20230603015605,56,"05",1073,{"$f":"VLOOKUP(F1485,[1]总表!$A$3:$AF$30000,31,FALSE)","v":"幼儿园"},{"$f":"VLOOKUP(F1485,[1]总表!$A$3:$AF$30000,32,FALSE)","v":"学前教育"},"46.50"]
[1484,"王佳红",20230603015606,56,"06",1208,{"$f":"VLOOKUP(F1486,[1]总表!$A$3:$AF$30000,31,FALSE)","v":"幼儿园"},{"$f":"VLOOKUP(F1486,[1]总表!$A$3:$AF$30000,32,FALSE)","v":"学前教育"},"75"]
[1485,"彭真维",20230603015607,56,"07",993,{"$f":"VLOOKUP(F1487,[1]总表!$A$3:$AF$30000,31,FALSE)","v":"幼儿园"},{"$f":"VLOOKUP(F1487,[1]总表!$A$3:$AF$30000,32,FALSE)","v":"学前教育"},"47.50"]
[1486,"邹露珍",20230603015608,56,"08",794,{"$f":"VLOOKUP(F1488,[1]总表!$A$3:$AF$30000,31,FALSE)","v":"幼儿园"},{"$f":"VLOOKUP(F1488,[1]总表!$A$3:$AF$30000,32,FALSE)","v":"学前教育"},"61"]
[1487,"李秀雯",20230603015609,56,"09",876,{"$f":"VLOOKUP(F1489,[1]总表!$A$3:$AF$30000,31,FALSE)","v":"幼儿园"},{"$f":"VLOOKUP(F1489,[1]总表!$A$3:$AF$30000,32,FALSE)","v":"学前教育"},"62"]
[1488,"王娅敏",20230603015610,56,"10",1135,{"$f":"VLOOKUP(F1490,[1]总表!$A$3:$AF$30000,31,FALSE)","v":"幼儿园"},{"$f":"VLOOKUP(F1490,[1]总表!$A$3:$AF$30000,32,FALSE)","v":"学前教育"},"64.50"]
[1489,"吴茂姜",20230603015611,56,"11",817,{"$f":"VLOOKUP(F1491,[1]总表!$A$3:$AF$30000,31,FALSE)","v":"幼儿园"},{"$f":"VLOOKUP(F1491,[1]总表!$A$3:$AF$30000,32,FALSE)","v":"学前教育"},"51"]
[1490,"吴彩云",20230603015612,56,"12",774,{"$f":"VLOOKUP(F1492,[1]总表!$A$3:$AF$30000,31,FALSE)","v":"幼儿园"},{"$f":"VLOOKUP(F1492,[1]总表!$A$3:$AF$30000,32,FALSE)","v":"学前教育"},"68"]
[1491,"刘泓",20230603015613,56,"13",1416,{"$f":"VLOOKUP(F1493,[1]总表!$A$3:$AF$30000,31,FALSE)","v":"幼儿园"},{"$f":"VLOOKUP(F1493,[1]总表!$A$3:$AF$30000,32,FALSE)","v":"学前教育"},"52.50"]
[1492,"易松丽",20230603015614,56,"14",1459,{"$f":"VLOOKUP(F1494,[1]总表!$A$3:$AF$30000,31,FALSE)","v":"幼儿园"},{"$f":"VLOOKUP(F1494,[1]总表!$A$3:$AF$30000,32,FALSE)","v":"学前教育"},"47"]
[1493,"杨迅",20230603015615,56,"15",1222,{"$f":"VLOOKUP(F1495,[1]总表!$A$3:$AF$30000,31,FALSE)","v":"幼儿园"},{"$f":"VLOOKUP(F1495,[1]总表!$A$3:$AF$30000,32,FALSE)","v":"学前教育"},"55.50"]
[1494,"石林伟",20230603015616,56,"16",1401,{"$f":"VLOOKUP(F1496,[1]总表!$A$3:$AF$30000,31,FALSE)","v":"幼儿园"},{"$f":"VLOOKUP(F1496,[1]总表!$A$3:$AF$30000,32,FALSE)","v":"学前教育"},"39.50"]
[1495,"龙念",20230603015617,56,"17",1141,{"$f":"VLOOKUP(F1497,[1]总表!$A$3:$AF$30000,31,FALSE)","v":"幼儿园"},{"$f":"VLOOKUP(F1497,[1]总表!$A$3:$AF$30000,32,FALSE)","v":"学前教育"},"缺考"]
[1496,"段海平",20230603015618,56,"18",894,{"$f":"VLOOKUP(F1498,[1]总表!$A$3:$AF$30000,31,FALSE)","v":"幼儿园"},{"$f":"VLOOKUP(F1498,[1]总表!$A$3:$AF$30000,32,FALSE)","v":"学前教育"},"59"]
[1497,"杨婕",20230603015619,56,"19",1407,{"$f":"VLOOKUP(F1499,[1]总表!$A$3:$AF$30000,31,FALSE)","v":"幼儿园"},{"$f":"VLOOKUP(F1499,[1]总表!$A$3:$AF$30000,32,FALSE)","v":"学前教育"},"49"]
[1498,"张红艳",20230603015620,56,"20",1024,{"$f":"VLOOKUP(F1500,[1]总表!$A$3:$AF$30000,31,FALSE)","v":"幼儿园"},{"$f":"VLOOKUP(F1500,[1]总表!$A$3:$AF$30000,32,FALSE)","v":"学前教育"},"53.50"]
[1499,"徐淋艳",20230603015621,56,"21",1101,{"$f":"VLOOKUP(F1501,[1]总表!$A$3:$AF$30000,31,FALSE)","v":"幼儿园"},{"$f":"VLOOKUP(F1501,[1]总表!$A$3:$AF$30000,32,FALSE)","v":"学前教育"},"58"]
[1500,"田蓉丽",20230603015622,56,"22",1153,{"$f":"VLOOKUP(F1502,[1]总表!$A$3:$AF$30000,31,FALSE)","v":"幼儿园"},{"$f":"VLOOKUP(F1502,[1]总表!$A$3:$AF$30000,32,FALSE)","v":"学前教育"},"72"]
[1501,"骆莉莎",20230603015623,56,"23",915,{"$f":"VLOOKUP(F1503,[1]总表!$A$3:$AF$30000,31,FALSE)","v":"幼儿园"},{"$f":"VLOOKUP(F1503,[1]总表!$A$3:$AF$30000,32,FALSE)","v":"学前教育"},"57"]
[1502,"高霞",20230603015624,56,"24",1151,{"$f":"VLOOKUP(F1504,[1]总表!$A$3:$AF$30000,31,FALSE)","v":"幼儿园"},{"$f":"VLOOKUP(F1504,[1]总表!$A$3:$AF$30000,32,FALSE)","v":"学前教育"},"59"]
[1503,"秦静",20230603015625,56,"25",1469,{"$f":"VLOOKUP(F1505,[1]总表!$A$3:$AF$30000,31,FALSE)","v":"幼儿园"},{"$f":"VLOOKUP(F1505,[1]总表!$A$3:$AF$30000,32,FALSE)","v":"学前教育"},"42.50"]
[1504,"杨艳芳",20230603015626,56,"26",1025,{"$f":"VLOOKUP(F1506,[1]总表!$A$3:$AF$30000,31,FALSE)","v":"幼儿园"},{"$f":"VLOOKUP(F1506,[1]总表!$A$3:$AF$30000,32,FALSE)","v":"学前教育"},"71.50"]
[1505,"安小芳",20230603015627,56,"27",832,{"$f":"VLOOKUP(F1507,[1]总表!$A$3:$AF$30000,31,FALSE)","v":"幼儿园"},{"$f":"VLOOKUP(F1507,[1]总表!$A$3:$AF$30000,32,FALSE)","v":"学前教育"},"54.50"]
[1506,"何政芬",20230603015628,56,"28",911,{"$f":"VLOOKUP(F1508,[1]总表!$A$3:$AF$30000,31,FALSE)","v":"幼儿园"},{"$f":"VLOOKUP(F1508,[1]总表!$A$3:$AF$30000,32,FALSE)","v":"学前教育"},"35"]
[1507,"成融",20230603015629,56,"29",1252,{"$f":"VLOOKUP(F1509,[1]总表!$A$3:$AF$30000,31,FALSE)","v":"幼儿园"},{"$f":"VLOOKUP(F1509,[1]总表!$A$3:$AF$30000,32,FALSE)","v":"学前教育"},"79.50"]
[1508,"龙秀英",20230603015630,56,"30",1242,{"$f":"VLOOKUP(F1510,[1]总表!$A$3:$AF$30000,31,FALSE)","v":"幼儿园"},{"$f":"VLOOKUP(F1510,[1]总表!$A$3:$AF$30000,32,FALSE)","v":"学前教育"},"60.50"]
[1509,"冉秀华",20230603015701,57,"01",1049,{"$f":"VLOOKUP(F1511,[1]总表!$A$3:$AF$30000,31,FALSE)","v":"幼儿园"},{"$f":"VLOOKUP(F1511,[1]总表!$A$3:$AF$30000,32,FALSE)","v":"学前教育"},"46"]
[1510,"杨林英",20230603015702,57,"02",1234,{"$f":"VLOOKUP(F1512,[1]总表!$A$3:$AF$30000,31,FALSE)","v":"幼儿园"},{"$f":"VLOOKUP(F1512,[1]总表!$A$3:$AF$30000,32,FALSE)","v":"学前教育"},"48.50"]
[1511,"王会前",20230603015703,57,"03",910,{"$f":"VLOOKUP(F1513,[1]总表!$A$3:$AF$30000,31,FALSE)","v":"幼儿园"},{"$f":"VLOOKUP(F1513,[1]总表!$A$3:$AF$30000,32,FALSE)","v":"学前教育"},"49.50"]
[1512,"吴晓青",20230603015704,57,"04",914,{"$f":"VLOOKUP(F1514,[1]总表!$A$3:$AF$30000,31,FALSE)","v":"幼儿园"},{"$f":"VLOOKUP(F1514,[1]总表!$A$3:$AF$30000,32,FALSE)","v":"学前教育"},"60"]
[1513,"龙方丽",20230603015705,57,"05",1058,{"$f":"VLOOKUP(F1515,[1]总表!$A$3:$AF$30000,31,FALSE)","v":"幼儿园"},{"$f":"VLOOKUP(F1515,[1]总表!$A$3:$AF$30000,32,FALSE)","v":"学前教育"},"45.50"]
[1514,"吴艳春",20230603015706,57,"06",1295,{"$f":"VLOOKUP(F1516,[1]总表!$A$3:$AF$30000,31,FALSE)","v":"幼儿园"},{"$f":"VLOOKUP(F1516,[1]总表!$A$3:$AF$30000,32,FALSE)","v":"学前教育"},"57.50"]
[1515,"滕召芝",20230603015707,57,"07",1138,{"$f":"VLOOKUP(F1517,[1]总表!$A$3:$AF$30000,31,FALSE)","v":"幼儿园"},{"$f":"VLOOKUP(F1517,[1]总表!$A$3:$AF$30000,32,FALSE)","v":"学前教育"},"39.50"]
[1516,"杨菲玲",20230603015708,57,"08",1228,{"$f":"VLOOKUP(F1518,[1]总表!$A$3:$AF$30000,31,FALSE)","v":"幼儿园"},{"$f":"VLOOKUP(F1518,[1]总表!$A$3:$AF$30000,32,FALSE)","v":"学前教育"},"37.50"]
[1517,"曾华",20230603015709,57,"09",1236,{"$f":"VLOOKUP(F1519,[1]总表!$A$3:$AF$30000,31,FALSE)","v":"幼儿园"},{"$f":"VLOOKUP(F1519,[1]总表!$A$3:$AF$30000,32,FALSE)","v":"学前教育"},"55"]
[1518,"李琴龙",20230603015710,57,"10",1088,{"$f":"VLOOKUP(F1520,[1]总表!$A$3:$AF$30000,31,FALSE)","v":"幼儿园"},{"$f":"VLOOKUP(F1520,[1]总表!$A$3:$AF$30000,32,FALSE)","v":"学前教育"},"68"]
[1519,"王佳玲",20230603015711,57,"11",1039,{"$f":"VLOOKUP(F1521,[1]总表!$A$3:$AF$30000,31,FALSE)","v":"幼儿园"},{"$f":"VLOOKUP(F1521,[1]总表!$A$3:$AF$30000,32,FALSE)","v":"学前教育"},"46"]
[1520,"田红娥",20230603015712,57,"12",1094,{"$f":"VLOOKUP(F1522,[1]总表!$A$3:$AF$30000,31,FALSE)","v":"幼儿园"},{"$f":"VLOOKUP(F1522,[1]总表!$A$3:$AF$30000,32,FALSE)","v":"学前教育"},"41"]
[1521,"王琼芳",20230603015713,57,"13",1482,{"$f":"VLOOKUP(F1523,[1]总表!$A$3:$AF$30000,31,FALSE)","v":"幼儿园"},{"$f":"VLOOKUP(F1523,[1]总表!$A$3:$AF$30000,32,FALSE)","v":"学前教育"},"43.50"]
[1522,"刘雪慧",20230603015714,57,"14",1370,{"$f":"VLOOKUP(F1524,[1]总表!$A$3:$AF$30000,31,FALSE)","v":"幼儿园"},{"$f":"VLOOKUP(F1524,[1]总表!$A$3:$AF$30000,32,FALSE)","v":"学前教育"},"45"]
[1523,"杨茹萍",20230603015715,57,"15",850,{"$f":"VLOOKUP(F1525,[1]总表!$A$3:$AF$30000,31,FALSE)","v":"幼儿园"},{"$f":"VLOOKUP(F1525,[1]总表!$A$3:$AF$30000,32,FALSE)","v":"学前教育"},"70.50"]
[1524,"胡沙沙",20230603015716,57,"16",1107,{"$f":"VLOOKUP(F1526,[1]总表!$A$3:$AF$30000,31,FALSE)","v":"幼儿园"},{"$f":"VLOOKUP(F1526,[1]总表!$A$3:$AF$30000,32,FALSE)","v":"学前教育"},"50.50"]
[1525,"肖松林",20230603015717,57,"17",809,{"$f":"VLOOKUP(F1527,[1]总表!$A$3:$AF$30000,31,FALSE)","v":"幼儿园"},{"$f":"VLOOKUP(F1527,[1]总表!$A$3:$AF$30000,32,FALSE)","v":"学前教育"},"49.50"]
[1526,"龙周平",20230603015718,57,"18",994,{"$f":"VLOOKUP(F1528,[1]总表!$A$3:$AF$30000,31,FALSE)","v":"幼儿园"},{"$f":"VLOOKUP(F1528,[1]总表!$A$3:$AF$30000,32,FALSE)","v":"学前教育"},"55"]
[1527,"罗三琴",20230603015719,57,"19",1415,{"$f":"VLOOKUP(F1529,[1]总表!$A$3:$AF$30000,31,FALSE)","v":"幼儿园"},{"$f":"VLOOKUP(F1529,[1]总表!$A$3:$AF$30000,32,FALSE)","v":"学前教育"},"35"]
[1528,"夏红",20230603015720,57,"20",929,{"$f":"VLOOKUP(F1530,[1]总表!$A$3:$AF$30000,31,FALSE)","v":"幼儿园"},{"$f":"VLOOKUP(F1530,[1]总表!$A$3:$AF$30000,32,FALSE)","v":"学前教育"},"51"]
[1529,"刘丽",20230603015721,57,"21",1307,{"$f":"VLOOKUP(F1531,[1]总表!$A$3:$AF$30000,31,FALSE)","v":"幼儿园"},{"$f":"VLOOKUP(F1531,[1]总表!$A$3:$AF$30000,32,FALSE)","v":"学前教育"},"75.50"]
[1530,"高华玲",20230603015722,57,"22",1173,{"$f":"VLOOKUP(F1532,[1]总表!$A$3:$AF$30000,31,FALSE)","v":"幼儿园"},{"$f":"VLOOKUP(F1532,[1]总表!$A$3:$AF$30000,32,FALSE)","v":"学前教育"},"71"]
[1531,"谌美林",20230603015723,57,"23",1326,{"$f":"VLOOKUP(F1533,[1]总表!$A$3:$AF$30000,31,FALSE)","v":"幼儿园"},{"$f":"VLOOKUP(F1533,[1]总表!$A$3:$AF$30000,32,FALSE)","v":"学前教育"},"56.50"]
[1532,"龙天娥",20230603015724,57,"24",937,{"$f":"VLOOKUP(F1534,[1]总表!$A$3:$AF$30000,31,FALSE)","v":"幼儿园"},{"$f":"VLOOKUP(F1534,[1]总表!$A$3:$AF$30000,32,FALSE)","v":"学前教育"},"57.50"]
[1533,"李欢",20230603015725,57,"25",1146,{"$f":"VLOOKUP(F1535,[1]总表!$A$3:$AF$30000,31,FALSE)","v":"幼儿园"},{"$f":"VLOOKUP(F1535,[1]总表!$A$3:$AF$30000,32,FALSE)","v":"学前教育"},"49.50"]
[1534,"盈艳",20230603015726,57,"26",1193,{"$f":"VLOOKUP(F1536,[1]总表!$A$3:$AF$30000,31,FALSE)","v":"幼儿园"},{"$f":"VLOOKUP(F1536,[1]总表!$A$3:$AF$30000,32,FALSE)","v":"学前教育"},"34.50"]
[1535,"杨旖旎",20230603015727,57,"27",1396,{"$f":"VLOOKUP(F1537,[1]总表!$A$3:$AF$30000,31,FALSE)","v":"幼儿园"},{"$f":"VLOOKUP(F1537,[1]总表!$A$3:$AF$30000,32,FALSE)","v":"学前教育"},"36.50"]
[1536,"曾慧",20230603015728,57,"28",1293,{"$f":"VLOOKUP(F1538,[1]总表!$A$3:$AF$30000,31,FALSE)","v":"幼儿园"},{"$f":"VLOOKUP(F1538,[1]总表!$A$3:$AF$30000,32,FALSE)","v":"学前教育"},"73"]
[1537,"胡茂英",20230603015729,57,"29",1358,{"$f":"VLOOKUP(F1539,[1]总表!$A$3:$AF$30000,31,FALSE)","v":"幼儿园"},{"$f":"VLOOKUP(F1539,[1]总表!$A$3:$AF$30000,32,FALSE)","v":"学前教育"},"43.50"]
[1538,"吴艳",20230603015730,57,"30",901,{"$f":"VLOOKUP(F1540,[1]总表!$A$3:$AF$30000,31,FALSE)","v":"幼儿园"},{"$f":"VLOOKUP(F1540,[1]总表!$A$3:$AF$30000,32,FALSE)","v":"学前教育"},"64.50"]
[1539,"龙映逸",20230603015801,58,"01",1184,{"$f":"VLOOKUP(F1541,[1]总表!$A$3:$AF$30000,31,FALSE)","v":"幼儿园"},{"$f":"VLOOKUP(F1541,[1]总表!$A$3:$AF$30000,32,FALSE)","v":"学前教育"},"45.50"]
[1540,"龙爱菊",20230603015802,58,"02",1105,{"$f":"VLOOKUP(F1542,[1]总表!$A$3:$AF$30000,31,FALSE)","v":"幼儿园"},{"$f":"VLOOKUP(F1542,[1]总表!$A$3:$AF$30000,32,FALSE)","v":"学前教育"},"28"]
[1541,"孙元碧",20230603015803,58,"03",1427,{"$f":"VLOOKUP(F1543,[1]总表!$A$3:$AF$30000,31,FALSE)","v":"幼儿园"},{"$f":"VLOOKUP(F1543,[1]总表!$A$3:$AF$30000,32,FALSE)","v":"学前教育"},"61.50"]
[1542,"殷明珠",20230603015804,58,"04",1075,{"$f":"VLOOKUP(F1544,[1]总表!$A$3:$AF$30000,31,FALSE)","v":"幼儿园"},{"$f":"VLOOKUP(F1544,[1]总表!$A$3:$AF$30000,32,FALSE)","v":"学前教育"},"57"]
[1543,"石红丽",20230603015805,58,"05",895,{"$f":"VLOOKUP(F1545,[1]总表!$A$3:$AF$30000,31,FALSE)","v":"幼儿园"},{"$f":"VLOOKUP(F1545,[1]总表!$A$3:$AF$30000,32,FALSE)","v":"学前教育"},"43"]
[1544,"舒戴勤",20230603015806,58,"06",867,{"$f":"VLOOKUP(F1546,[1]总表!$A$3:$AF$30000,31,FALSE)","v":"幼儿园"},{"$f":"VLOOKUP(F1546,[1]总表!$A$3:$AF$30000,32,FALSE)","v":"学前教育"},"42"]
[1545,"王丽",20230603015807,58,"07",976,{"$f":"VLOOKUP(F1547,[1]总表!$A$3:$AF$30000,31,FALSE)","v":"幼儿园"},{"$f":"VLOOKUP(F1547,[1]总表!$A$3:$AF$30000,32,FALSE)","v":"学前教育"},"48"]
[1546,"黄娟",20230603015808,58,"08",1387,{"$f":"VLOOKUP(F1548,[1]总表!$A$3:$AF$30000,31,FALSE)","v":"幼儿园"},{"$f":"VLOOKUP(F1548,[1]总表!$A$3:$AF$30000,32,FALSE)","v":"学前教育"},"64.50"]
[1547,"任芳",20230603015809,58,"09",1115,{"$f":"VLOOKUP(F1549,[1]总表!$A$3:$AF$30000,31,FALSE)","v":"幼儿园"},{"$f":"VLOOKUP(F1549,[1]总表!$A$3:$AF$30000,32,FALSE)","v":"学前教育"},"48.50"]
[1548,"曾艳玲",20230603015810,58,"10",836,{"$f":"VLOOKUP(F1550,[1]总表!$A$3:$AF$30000,31,FALSE)","v":"幼儿园"},{"$f":"VLOOKUP(F1550,[1]总表!$A$3:$AF$30000,32,FALSE)","v":"学前教育"},"79.50"]
[1549,"梁艳云",20230603015811,58,"11",801,{"$f":"VLOOKUP(F1551,[1]总表!$A$3:$AF$30000,31,FALSE)","v":"幼儿园"},{"$f":"VLOOKUP(F1551,[1]总表!$A$3:$AF$30000,32,FALSE)","v":"学前教育"},"68.50"]
[1550,"龙金亚",20230603015812,58,"12",1341,{"$f":"VLOOKUP(F1552,[1]总表!$A$3:$AF$30000,31,FALSE)","v":"幼儿园"},{"$f":"VLOOKUP(F1552,[1]总表!$A$3:$AF$30000,32,FALSE)","v":"学前教育"},"42"]
[1551,"杨小艳",20230603015813,58,"13",921,{"$f":"VLOOKUP(F1553,[1]总表!$A$3:$AF$30000,31,FALSE)","v":"幼儿园"},{"$f":"VLOOKUP(F1553,[1]总表!$A$3:$AF$30000,32,FALSE)","v":"学前教育"},"68.50"]
[1552,"杨谢谢",20230603015814,58,"14",854,{"$f":"VLOOKUP(F1554,[1]总表!$A$3:$AF$30000,31,FALSE)","v":"幼儿园"},{"$f":"VLOOKUP(F1554,[1]总表!$A$3:$AF$30000,32,FALSE)","v":"学前教育"},"50.50"]
[1553,"田遵艳",20230603015815,58,"15",798,{"$f":"VLOOKUP(F1555,[1]总表!$A$3:$AF$30000,31,FALSE)","v":"幼儿园"},{"$f":"VLOOKUP(F1555,[1]总表!$A$3:$AF$30000,32,FALSE)","v":"学前教育"},"66.50"]
[1554,"刘贵平",20230603015816,58,"16",973,{"$f":"VLOOKUP(F1556,[1]总表!$A$3:$AF$30000,31,FALSE)","v":"幼儿园"},{"$f":"VLOOKUP(F1556,[1]总表!$A$3:$AF$30000,32,FALSE)","v":"学前教育"},"43"]
[1555,"姚熙",20230603015817,58,"17",1316,{"$f":"VLOOKUP(F1557,[1]总表!$A$3:$AF$30000,31,FALSE)","v":"幼儿园"},{"$f":"VLOOKUP(F1557,[1]总表!$A$3:$AF$30000,32,FALSE)","v":"学前教育"},"47"]
[1556,"杨美玲",20230603015818,58,"18",1347,{"$f":"VLOOKUP(F1558,[1]总表!$A$3:$AF$30000,31,FALSE)","v":"幼儿园"},{"$f":"VLOOKUP(F1558,[1]总表!$A$3:$AF$30000,32,FALSE)","v":"学前教育"},"70"]
[1557,"龙亚",20230603015819,58,"19",1391,{"$f":"VLOOKUP(F1559,[1]总表!$A$3:$AF$30000,31,FALSE)","v":"幼儿园"},{"$f":"VLOOKUP(F1559,[1]总表!$A$3:$AF$30000,32,FALSE)","v":"学前教育"},"37.50"]
[1558,"龙一君",20230603015820,58,"20",1374,{"$f":"VLOOKUP(F1560,[1]总表!$A$3:$AF$30000,31,FALSE)","v":"幼儿园"},{"$f":"VLOOKUP(F1560,[1]总表!$A$3:$AF$30000,32,FALSE)","v":"学前教育"},"43"]
[1559,"田选碧",20230603015821,58,"21",1192,{"$f":"VLOOKUP(F1561,[1]总表!$A$3:$AF$30000,31,FALSE)","v":"幼儿园"},{"$f":"VLOOKUP(F1561,[1]总表!$A$3:$AF$30000,32,FALSE)","v":"学前教育"},"73.50"]
[1560,"黄嘉欣",20230603015822,58,"22",1356,{"$f":"VLOOKUP(F1562,[1]总表!$A$3:$AF$30000,31,FALSE)","v":"幼儿园"},{"$f":"VLOOKUP(F1562,[1]总表!$A$3:$AF$30000,32,FALSE)","v":"学前教育"},"40"]
[1561,"龙红霞",20230603015823,58,"23",1315,{"$f":"VLOOKUP(F1563,[1]总表!$A$3:$AF$30000,31,FALSE)","v":"幼儿园"},{"$f":"VLOOKUP(F1563,[1]总表!$A$3:$AF$30000,32,FALSE)","v":"学前教育"},"37"]
[1562,"喻芳",20230603015824,58,"24",1339,{"$f":"VLOOKUP(F1564,[1]总表!$A$3:$AF$30000,31,FALSE)","v":"幼儿园"},{"$f":"VLOOKUP(F1564,[1]总表!$A$3:$AF$30000,32,FALSE)","v":"学前教育"},"54.50"]
[1563,"杨念",20230603015825,58,"25",764,{"$f":"VLOOKUP(F1565,[1]总表!$A$3:$AF$30000,31,FALSE)","v":"幼儿园"},{"$f":"VLOOKUP(F1565,[1]总表!$A$3:$AF$30000,32,FALSE)","v":"学前教育"},"67"]
[1564,"张芳芳",20230603015826,58,"26",1215,{"$f":"VLOOKUP(F1566,[1]总表!$A$3:$AF$30000,31,FALSE)","v":"幼儿园"},{"$f":"VLOOKUP(F1566,[1]总表!$A$3:$AF$30000,32,FALSE)","v":"学前教育"},"67.50"]
[1565,"杨倩",20230603015827,58,"27",997,{"$f":"VLOOKUP(F1567,[1]总表!$A$3:$AF$30000,31,FALSE)","v":"幼儿园"},{"$f":"VLOOKUP(F1567,[1]总表!$A$3:$AF$30000,32,FALSE)","v":"学前教育"},"56"]
[1566,"何晓娟",20230603015828,58,"28",823,{"$f":"VLOOKUP(F1568,[1]总表!$A$3:$AF$30000,31,FALSE)","v":"幼儿园"},{"$f":"VLOOKUP(F1568,[1]总表!$A$3:$AF$30000,32,FALSE)","v":"学前教育"},"42.50"]
[1567,"张美",20230603015829,58,"29",1110,{"$f":"VLOOKUP(F1569,[1]总表!$A$3:$AF$30000,31,FALSE)","v":"幼儿园"},{"$f":"VLOOKUP(F1569,[1]总表!$A$3:$AF$30000,32,FALSE)","v":"学前教育"},"44"]
[1568,"麻元珠",20230603015830,58,"30",954,{"$f":"VLOOKUP(F1570,[1]总表!$A$3:$AF$30000,31,FALSE)","v":"幼儿园"},{"$f":"VLOOKUP(F1570,[1]总表!$A$3:$AF$30000,32,FALSE)","v":"学前教育"},"79.50"]
[1569,"邓小迪",20230603015901,59,"01",1003,{"$f":"VLOOKUP(F1571,[1]总表!$A$3:$AF$30000,31,FALSE)","v":"幼儿园"},{"$f":"VLOOKUP(F1571,[1]总表!$A$3:$AF$30000,32,FALSE)","v":"学前教育"},"43"]
[1570,"代江艳",20230603015902,59,"02",1470,{"$f":"VLOOKUP(F1572,[1]总表!$A$3:$AF$30000,31,FALSE)","v":"幼儿园"},{"$f":"VLOOKUP(F1572,[1]总表!$A$3:$AF$30000,32,FALSE)","v":"学前教育"},"52.50"]
[1571,"杨叶",20230603015903,59,"03",877,{"$f":"VLOOKUP(F1573,[1]总表!$A$3:$AF$30000,31,FALSE)","v":"幼儿园"},{"$f":"VLOOKUP(F1573,[1]总表!$A$3:$AF$30000,32,FALSE)","v":"学前教育"},"56"]
[1572,"周雪珍",20230603015904,59,"04",1106,{"$f":"VLOOKUP(F1574,[1]总表!$A$3:$AF$30000,31,FALSE)","v":"幼儿园"},{"$f":"VLOOKUP(F1574,[1]总表!$A$3:$AF$30000,32,FALSE)","v":"学前教育"},"50"]
[1573,"张丽英",20230603015905,59,"05",1286,{"$f":"VLOOKUP(F1575,[1]总表!$A$3:$AF$30000,31,FALSE)","v":"幼儿园"},{"$f":"VLOOKUP(F1575,[1]总表!$A$3:$AF$30000,32,FALSE)","v":"学前教育"},"44"]
[1574,"戴婷",20230603015906,59,"06",793,{"$f":"VLOOKUP(F1576,[1]总表!$A$3:$AF$30000,31,FALSE)","v":"幼儿园"},{"$f":"VLOOKUP(F1576,[1]总表!$A$3:$AF$30000,32,FALSE)","v":"学前教育"},"47"]
[1575,"田落",20230603015907,59,"07",1262,{"$f":"VLOOKUP(F1577,[1]总表!$A$3:$AF$30000,31,FALSE)","v":"幼儿园"},{"$f":"VLOOKUP(F1577,[1]总表!$A$3:$AF$30000,32,FALSE)","v":"学前教育"},"52.50"]
[1576,"冉琴琴",20230603015908,59,"08",1231,{"$f":"VLOOKUP(F1578,[1]总表!$A$3:$AF$30000,31,FALSE)","v":"幼儿园"},{"$f":"VLOOKUP(F1578,[1]总表!$A$3:$AF$30000,32,FALSE)","v":"学前教育"},"76"]
[1577,"任贵华",20230603015909,59,"09",1129,{"$f":"VLOOKUP(F1579,[1]总表!$A$3:$AF$30000,31,FALSE)","v":"幼儿园"},{"$f":"VLOOKUP(F1579,[1]总表!$A$3:$AF$30000,32,FALSE)","v":"学前教育"},"42"]
[1578,"喻欢欢",20230603015910,59,"10",891,{"$f":"VLOOKUP(F1580,[1]总表!$A$3:$AF$30000,31,FALSE)","v":"幼儿园"},{"$f":"VLOOKUP(F1580,[1]总表!$A$3:$AF$30000,32,FALSE)","v":"学前教育"},"63"]
[1579,"杨玲",20230603015911,59,"11",739,{"$f":"VLOOKUP(F1581,[1]总表!$A$3:$AF$30000,31,FALSE)","v":"幼儿园"},{"$f":"VLOOKUP(F1581,[1]总表!$A$3:$AF$30000,32,FALSE)","v":"学前教育"},"62.50"]
[1580,"李腾兰",20230603015912,59,"12",1136,{"$f":"VLOOKUP(F1582,[1]总表!$A$3:$AF$30000,31,FALSE)","v":"幼儿园"},{"$f":"VLOOKUP(F1582,[1]总表!$A$3:$AF$30000,32,FALSE)","v":"学前教育"},"47"]
[1581,"孙莉媛",20230603015913,59,"13",855,{"$f":"VLOOKUP(F1583,[1]总表!$A$3:$AF$30000,31,FALSE)","v":"幼儿园"},{"$f":"VLOOKUP(F1583,[1]总表!$A$3:$AF$30000,32,FALSE)","v":"学前教育"},"40"]
[1582,"张永凤",20230603015914,59,"14",741,{"$f":"VLOOKUP(F1584,[1]总表!$A$3:$AF$30000,31,FALSE)","v":"幼儿园"},{"$f":"VLOOKUP(F1584,[1]总表!$A$3:$AF$30000,32,FALSE)","v":"学前教育"},"74"]
[1583,"任璐",20230603015915,59,"15",1400,{"$f":"VLOOKUP(F1585,[1]总表!$A$3:$AF$30000,31,FALSE)","v":"幼儿园"},{"$f":"VLOOKUP(F1585,[1]总表!$A$3:$AF$30000,32,FALSE)","v":"学前教育"},"38.50"]
[1584,"杨怡",20230603015916,59,"16",1395,{"$f":"VLOOKUP(F1586,[1]总表!$A$3:$AF$30000,31,FALSE)","v":"幼儿园"},{"$f":"VLOOKUP(F1586,[1]总表!$A$3:$AF$30000,32,FALSE)","v":"学前教育"},"44.50"]
[1585,"龙银莎",20230603015917,59,"17",1051,{"$f":"VLOOKUP(F1587,[1]总表!$A$3:$AF$30000,31,FALSE)","v":"幼儿园"},{"$f":"VLOOKUP(F1587,[1]总表!$A$3:$AF$30000,32,FALSE)","v":"学前教育"},"77.50"]
[1586,"黄冬群",20230603015918,59,"18",1402,{"$f":"VLOOKUP(F1588,[1]总表!$A$3:$AF$30000,31,FALSE)","v":"幼儿园"},{"$f":"VLOOKUP(F1588,[1]总表!$A$3:$AF$30000,32,FALSE)","v":"学前教育"},"53"]
[1587,"杨文文",20230603015919,59,"19",1178,{"$f":"VLOOKUP(F1589,[1]总表!$A$3:$AF$30000,31,FALSE)","v":"幼儿园"},{"$f":"VLOOKUP(F1589,[1]总表!$A$3:$AF$30000,32,FALSE)","v":"学前教育"},"72"]
[1588,"冉秀华",20230603015920,59,"20",1116,{"$f":"VLOOKUP(F1590,[1]总表!$A$3:$AF$30000,31,FALSE)","v":"幼儿园"},{"$f":"VLOOKUP(F1590,[1]总表!$A$3:$AF$30000,32,FALSE)","v":"学前教育"},"32"]
[1589,"吴琼",20230603015921,59,"21",858,{"$f":"VLOOKUP(F1591,[1]总表!$A$3:$AF$30000,31,FALSE)","v":"幼儿园"},{"$f":"VLOOKUP(F1591,[1]总表!$A$3:$AF$30000,32,FALSE)","v":"学前教育"},"65.50"]
[1590,"杨雨霏",20230603015922,59,"22",736,{"$f":"VLOOKUP(F1592,[1]总表!$A$3:$AF$30000,31,FALSE)","v":"幼儿园"},{"$f":"VLOOKUP(F1592,[1]总表!$A$3:$AF$30000,32,FALSE)","v":"学前教育"},"67.50"]
[1591,"徐海苗",20230603015923,59,"23",1176,{"$f":"VLOOKUP(F1593,[1]总表!$A$3:$AF$30000,31,FALSE)","v":"幼儿园"},{"$f":"VLOOKUP(F1593,[1]总表!$A$3:$AF$30000,32,FALSE)","v":"学前教育"},"56.50"]
[1592,"田金竹",20230603015924,59,"24",990,{"$f":"VLOOKUP(F1594,[1]总表!$A$3:$AF$30000,31,FALSE)","v":"幼儿园"},{"$f":"VLOOKUP(F1594,[1]总表!$A$3:$AF$30000,32,FALSE)","v":"学前教育"},"69.50"]
[1593,"杨正芳",20230603015925,59,"25",948,{"$f":"VLOOKUP(F1595,[1]总表!$A$3:$AF$30000,31,FALSE)","v":"幼儿园"},{"$f":"VLOOKUP(F1595,[1]总表!$A$3:$AF$30000,32,FALSE)","v":"学前教育"},"41"]
[1594,"彭凯妹",20230603015926,59,"26",1186,{"$f":"VLOOKUP(F1596,[1]总表!$A$3:$AF$30000,31,FALSE)","v":"幼儿园"},{"$f":"VLOOKUP(F1596,[1]总表!$A$3:$AF$30000,32,FALSE)","v":"学前教育"},"35.50"]
[1595,"杨文妮",20230603015927,59,"27",777,{"$f":"VLOOKUP(F1597,[1]总表!$A$3:$AF$30000,31,FALSE)","v":"幼儿园"},{"$f":"VLOOKUP(F1597,[1]总表!$A$3:$AF$30000,32,FALSE)","v":"学前教育"},"68.50"]
[1596,"陈立娜",20230603015928,59,"28",1232,{"$f":"VLOOKUP(F1598,[1]总表!$A$3:$AF$30000,31,FALSE)","v":"幼儿园"},{"$f":"VLOOKUP(F1598,[1]总表!$A$3:$AF$30000,32,FALSE)","v":"学前教育"},"47"]
[1597,"廖文易",20230603015929,59,"29",1281,{"$f":"VLOOKUP(F1599,[1]总表!$A$3:$AF$30000,31,FALSE)","v":"幼儿园"},{"$f":"VLOOKUP(F1599,[1]总表!$A$3:$AF$30000,32,FALSE)","v":"学前教育"},"51"]
[1598,"龙梅",20230603015930,59,"30",1367,{"$f":"VLOOKUP(F1600,[1]总表!$A$3:$AF$30000,31,FALSE)","v":"幼儿园"},{"$f":"VLOOKUP(F1600,[1]总表!$A$3:$AF$30000,32,FALSE)","v":"学前教育"},"52.50"]
[1599,"肖沙沙",20230603016001,60,"01",950,{"$f":"VLOOKUP(F1601,[1]总表!$A$3:$AF$30000,31,FALSE)","v":"幼儿园"},{"$f":"VLOOKUP(F1601,[1]总表!$A$3:$AF$30000,32,FALSE)","v":"学前教育"},"41"]
[1600,"郑琴芬",20230603016002,60,"02",1133,{"$f":"VLOOKUP(F1602,[1]总表!$A$3:$AF$30000,31,FALSE)","v":"幼儿园"},{"$f":"VLOOKUP(F1602,[1]总表!$A$3:$AF$30000,32,FALSE)","v":"学前教育"},"47.50"]
[1601,"田红艳",20230603016003,60,"03",800,{"$f":"VLOOKUP(F1603,[1]总表!$A$3:$AF$30000,31,FALSE)","v":"幼儿园"},{"$f":"VLOOKUP(F1603,[1]总表!$A$3:$AF$30000,32,FALSE)","v":"学前教育"},"76"]
[1602,"梁勤",20230603016004,60,"04",848,{"$f":"VLOOKUP(F1604,[1]总表!$A$3:$AF$30000,31,FALSE)","v":"幼儿园"},{"$f":"VLOOKUP(F1604,[1]总表!$A$3:$AF$30000,32,FALSE)","v":"学前教育"},"54"]
[1603,"杨思涛",20230603016005,60,"05",1382,{"$f":"VLOOKUP(F1605,[1]总表!$A$3:$AF$30000,31,FALSE)","v":"幼儿园"},{"$f":"VLOOKUP(F1605,[1]总表!$A$3:$AF$30000,32,FALSE)","v":"学前教育"},"46"]
[1604,"唐铃英",20230603016006,60,"06",735,{"$f":"VLOOKUP(F1606,[1]总表!$A$3:$AF$30000,31,FALSE)","v":"幼儿园"},{"$f":"VLOOKUP(F1606,[1]总表!$A$3:$AF$30000,32,FALSE)","v":"学前教育"},"53"]
[1605,"杨林浪",20230603016007,60,"07",1225,{"$f":"VLOOKUP(F1607,[1]总表!$A$3:$AF$30000,31,FALSE)","v":"幼儿园"},{"$f":"VLOOKUP(F1607,[1]总表!$A$3:$AF$30000,32,FALSE)","v":"学前教育"},"70.50"]
[1606,"谯雨",20230603016008,60,"08",1028,{"$f":"VLOOKUP(F1608,[1]总表!$A$3:$AF$30000,31,FALSE)","v":"幼儿园"},{"$f":"VLOOKUP(F1608,[1]总表!$A$3:$AF$30000,32,FALSE)","v":"学前教育"},"69"]
[1607,"刘蓉",20230603016009,60,"09",1243,{"$f":"VLOOKUP(F1609,[1]总表!$A$3:$AF$30000,31,FALSE)","v":"幼儿园"},{"$f":"VLOOKUP(F1609,[1]总表!$A$3:$AF$30000,32,FALSE)","v":"学前教育"},"75.50"]
[1608,"戴文林",20230603016010,60,"10",892,{"$f":"VLOOKUP(F1610,[1]总表!$A$3:$AF$30000,31,FALSE)","v":"幼儿园"},{"$f":"VLOOKUP(F1610,[1]总表!$A$3:$AF$30000,32,FALSE)","v":"学前教育"},"65"]
[1609,"陈晓慧",20230603016011,60,"11",1091,{"$f":"VLOOKUP(F1611,[1]总表!$A$3:$AF$30000,31,FALSE)","v":"幼儿园"},{"$f":"VLOOKUP(F1611,[1]总表!$A$3:$AF$30000,32,FALSE)","v":"学前教育"},"43"]
[1610,"熊艳阳",20230603016012,60,"12",1043,{"$f":"VLOOKUP(F1612,[1]总表!$A$3:$AF$30000,31,FALSE)","v":"幼儿园"},{"$f":"VLOOKUP(F1612,[1]总表!$A$3:$AF$30000,32,FALSE)","v":"学前教育"},"53.50"]
[1611,"梁丹",20230603016013,60,"13",1205,{"$f":"VLOOKUP(F1613,[1]总表!$A$3:$AF$30000,31,FALSE)","v":"幼儿园"},{"$f":"VLOOKUP(F1613,[1]总表!$A$3:$AF$30000,32,FALSE)","v":"学前教育"},"67.50"]
[1612,"吴双",20230603016014,60,"14",1394,{"$f":"VLOOKUP(F1614,[1]总表!$A$3:$AF$30000,31,FALSE)","v":"幼儿园"},{"$f":"VLOOKUP(F1614,[1]总表!$A$3:$AF$30000,32,FALSE)","v":"学前教育"},"58"]
[1613,"龙美",20230603016015,60,"15",1206,{"$f":"VLOOKUP(F1615,[1]总表!$A$3:$AF$30000,31,FALSE)","v":"幼儿园"},{"$f":"VLOOKUP(F1615,[1]总表!$A$3:$AF$30000,32,FALSE)","v":"学前教育"},"74"]
[1614,"杨少敏",20230603016016,60,"16",1432,{"$f":"VLOOKUP(F1616,[1]总表!$A$3:$AF$30000,31,FALSE)","v":"幼儿园"},{"$f":"VLOOKUP(F1616,[1]总表!$A$3:$AF$30000,32,FALSE)","v":"学前教育"},"39"]
[1615,"唐碧园",20230603016017,60,"17",864,{"$f":"VLOOKUP(F1617,[1]总表!$A$3:$AF$30000,31,FALSE)","v":"幼儿园"},{"$f":"VLOOKUP(F1617,[1]总表!$A$3:$AF$30000,32,FALSE)","v":"学前教育"},"52.50"]
[1616,"吴莲慧",20230603016018,60,"18",1218,{"$f":"VLOOKUP(F1618,[1]总表!$A$3:$AF$30000,31,FALSE)","v":"幼儿园"},{"$f":"VLOOKUP(F1618,[1]总表!$A$3:$AF$30000,32,FALSE)","v":"学前教育"},"71.50"]
[1617,"龙怡",20230603016019,60,"19",1364,{"$f":"VLOOKUP(F1619,[1]总表!$A$3:$AF$30000,31,FALSE)","v":"幼儿园"},{"$f":"VLOOKUP(F1619,[1]总表!$A$3:$AF$30000,32,FALSE)","v":"学前教育"},"28.50"]
[1618,"龙丽美",20230603016020,60,"20",1059,{"$f":"VLOOKUP(F1620,[1]总表!$A$3:$AF$30000,31,FALSE)","v":"幼儿园"},{"$f":"VLOOKUP(F1620,[1]总表!$A$3:$AF$30000,32,FALSE)","v":"学前教育"},"40.50"]
[1619,"戴倩",20230603016021,60,"21",1333,{"$f":"VLOOKUP(F1621,[1]总表!$A$3:$AF$30000,31,FALSE)","v":"幼儿园"},{"$f":"VLOOKUP(F1621,[1]总表!$A$3:$AF$30000,32,FALSE)","v":"学前教育"},"35"]
[1620,"杨小平",20230603016022,60,"22",998,{"$f":"VLOOKUP(F1622,[1]总表!$A$3:$AF$30000,31,FALSE)","v":"幼儿园"},{"$f":"VLOOKUP(F1622,[1]总表!$A$3:$AF$30000,32,FALSE)","v":"学前教育"},"71.50"]
[1621,"彭丹丹",20230603016023,60,"23",1190,{"$f":"VLOOKUP(F1623,[1]总表!$A$3:$AF$30000,31,FALSE)","v":"幼儿园"},{"$f":"VLOOKUP(F1623,[1]总表!$A$3:$AF$30000,32,FALSE)","v":"学前教育"},"63.50"]
[1622,"杨丽虹",20230603016024,60,"24",1122,{"$f":"VLOOKUP(F1624,[1]总表!$A$3:$AF$30000,31,FALSE)","v":"幼儿园"},{"$f":"VLOOKUP(F1624,[1]总表!$A$3:$AF$30000,32,FALSE)","v":"学前教育"},"43"]
[1623,"罗林艺",20230603016025,60,"25",783,{"$f":"VLOOKUP(F1625,[1]总表!$A$3:$AF$30000,31,FALSE)","v":"幼儿园"},{"$f":"VLOOKUP(F1625,[1]总表!$A$3:$AF$30000,32,FALSE)","v":"学前教育"},"56"]
[1624,"王娟",20230603016026,60,"26",1084,{"$f":"VLOOKUP(F1626,[1]总表!$A$3:$AF$30000,31,FALSE)","v":"幼儿园"},{"$f":"VLOOKUP(F1626,[1]总表!$A$3:$AF$30000,32,FALSE)","v":"学前教育"},"74.50"]
[1625,"李明香",20230603016027,60,"27",1311,{"$f":"VLOOKUP(F1627,[1]总表!$A$3:$AF$30000,31,FALSE)","v":"幼儿园"},{"$f":"VLOOKUP(F1627,[1]总表!$A$3:$AF$30000,32,FALSE)","v":"学前教育"},"62"]
[1626,"麻溪芝",20230603016028,60,"28",1452,{"$f":"VLOOKUP(F1628,[1]总表!$A$3:$AF$30000,31,FALSE)","v":"幼儿园"},{"$f":"VLOOKUP(F1628,[1]总表!$A$3:$AF$30000,32,FALSE)","v":"学前教育"},"43.50"]
[1627,"刘嘉",20230603016029,60,"29",908,{"$f":"VLOOKUP(F1629,[1]总表!$A$3:$AF$30000,31,FALSE)","v":"幼儿园"},{"$f":"VLOOKUP(F1629,[1]总表!$A$3:$AF$30000,32,FALSE)","v":"学前教育"},"39"]
[1628,"杨吉",20230603016030,60,"30",972,{"$f":"VLOOKUP(F1630,[1]总表!$A$3:$AF$30000,31,FALSE)","v":"幼儿园"},{"$f":"VLOOKUP(F1630,[1]总表!$A$3:$AF$30000,32,FALSE)","v":"学前教育"},"66.50"]
[1629,"唐林翠",20230603016101,61,"01",852,{"$f":"VLOOKUP(F1631,[1]总表!$A$3:$AF$30000,31,FALSE)","v":"幼儿园"},{"$f":"VLOOKUP(F1631,[1]总表!$A$3:$AF$30000,32,FALSE)","v":"学前教育"},"50.50"]
[1630,"龙树花",20230603016102,61,"02",834,{"$f":"VLOOKUP(F1632,[1]总表!$A$3:$AF$30000,31,FALSE)","v":"幼儿园"},{"$f":"VLOOKUP(F1632,[1]总表!$A$3:$AF$30000,32,FALSE)","v":"学前教育"},"52.50"]
[1631,"杨正佳",20230603016103,61,"03",789,{"$f":"VLOOKUP(F1633,[1]总表!$A$3:$AF$30000,31,FALSE)","v":"幼儿园"},{"$f":"VLOOKUP(F1633,[1]总表!$A$3:$AF$30000,32,FALSE)","v":"学前教育"},"76"]
[1632,"吴小青",20230603016104,61,"04",1377,{"$f":"VLOOKUP(F1634,[1]总表!$A$3:$AF$30000,31,FALSE)","v":"幼儿园"},{"$f":"VLOOKUP(F1634,[1]总表!$A$3:$AF$30000,32,FALSE)","v":"学前教育"},"53.50"]
[1633,"胡艳飞",20230603016105,61,"05",785,{"$f":"VLOOKUP(F1635,[1]总表!$A$3:$AF$30000,31,FALSE)","v":"幼儿园"},{"$f":"VLOOKUP(F1635,[1]总表!$A$3:$AF$30000,32,FALSE)","v":"学前教育"},"62"]
[1634,"龙泉卫",20230603016106,61,"06",1490,{"$f":"VLOOKUP(F1636,[1]总表!$A$3:$AF$30000,31,FALSE)","v":"幼儿园"},{"$f":"VLOOKUP(F1636,[1]总表!$A$3:$AF$30000,32,FALSE)","v":"学前教育"},"39.50"]
[1635,"冉凤",20230603016107,61,"07",865,{"$f":"VLOOKUP(F1637,[1]总表!$A$3:$AF$30000,31,FALSE)","v":"幼儿园"},{"$f":"VLOOKUP(F1637,[1]总表!$A$3:$AF$30000,32,FALSE)","v":"学前教育"},"63.50"]
[1636,"张佳妍",20230603016108,61,"08",797,{"$f":"VLOOKUP(F1638,[1]总表!$A$3:$AF$30000,31,FALSE)","v":"幼儿园"},{"$f":"VLOOKUP(F1638,[1]总表!$A$3:$AF$30000,32,FALSE)","v":"学前教育"},"78.50"]
[1637,"戴秋萍",20230603016109,61,"09",1055,{"$f":"VLOOKUP(F1639,[1]总表!$A$3:$AF$30000,31,FALSE)","v":"幼儿园"},{"$f":"VLOOKUP(F1639,[1]总表!$A$3:$AF$30000,32,FALSE)","v":"学前教育"},"45.50"]
[1638,"肖益君",20230603016110,61,"10",733,{"$f":"VLOOKUP(F1640,[1]总表!$A$3:$AF$30000,31,FALSE)","v":"幼儿园"},{"$f":"VLOOKUP(F1640,[1]总表!$A$3:$AF$30000,32,FALSE)","v":"学前教育"},"68.50"]
[1639,"李智慧",20230603016111,61,"11",755,{"$f":"VLOOKUP(F1641,[1]总表!$A$3:$AF$30000,31,FALSE)","v":"幼儿园"},{"$f":"VLOOKUP(F1641,[1]总表!$A$3:$AF$30000,32,FALSE)","v":"学前教育"},"49"]
[1640,"龙胜桃",20230603016112,61,"12",770,{"$f":"VLOOKUP(F1642,[1]总表!$A$3:$AF$30000,31,FALSE)","v":"幼儿园"},{"$f":"VLOOKUP(F1642,[1]总表!$A$3:$AF$30000,32,FALSE)","v":"学前教育"},"35.50"]
[1641,"刘春江",20230603016113,61,"13",946,{"$f":"VLOOKUP(F1643,[1]总表!$A$3:$AF$30000,31,FALSE)","v":"幼儿园"},{"$f":"VLOOKUP(F1643,[1]总表!$A$3:$AF$30000,32,FALSE)","v":"学前教育"},"61.50"]
[1642,"龙娟",20230603016114,61,"14",838,{"$f":"VLOOKUP(F1644,[1]总表!$A$3:$AF$30000,31,FALSE)","v":"幼儿园"},{"$f":"VLOOKUP(F1644,[1]总表!$A$3:$AF$30000,32,FALSE)","v":"学前教育"},"57.50"]
[1643,"吴艳梅",20230603016115,61,"15",857,{"$f":"VLOOKUP(F1645,[1]总表!$A$3:$AF$30000,31,FALSE)","v":"幼儿园"},{"$f":"VLOOKUP(F1645,[1]总表!$A$3:$AF$30000,32,FALSE)","v":"学前教育"},"60.50"]
[1644,"杨雪梅",20230603016116,61,"16",896,{"$f":"VLOOKUP(F1646,[1]总表!$A$3:$AF$30000,31,FALSE)","v":"幼儿园"},{"$f":"VLOOKUP(F1646,[1]总表!$A$3:$AF$30000,32,FALSE)","v":"学前教育"},"53"]
[1645,"欧梨芳",20230603016117,61,"17",1300,{"$f":"VLOOKUP(F1647,[1]总表!$A$3:$AF$30000,31,FALSE)","v":"幼儿园"},{"$f":"VLOOKUP(F1647,[1]总表!$A$3:$AF$30000,32,FALSE)","v":"学前教育"},"71"]
[1646,"杨文平",20230603016118,61,"18",1131,{"$f":"VLOOKUP(F1648,[1]总表!$A$3:$AF$30000,31,FALSE)","v":"幼儿园"},{"$f":"VLOOKUP(F1648,[1]总表!$A$3:$AF$30000,32,FALSE)","v":"学前教育"},"62.50"]
[1647,"龙彩虹",20230603016119,61,"19",981,{"$f":"VLOOKUP(F1649,[1]总表!$A$3:$AF$30000,31,FALSE)","v":"幼儿园"},{"$f":"VLOOKUP(F1649,[1]总表!$A$3:$AF$30000,32,FALSE)","v":"学前教育"},"71"]
[1648,"冉念",20230603016120,61,"20",1380,{"$f":"VLOOKUP(F1650,[1]总表!$A$3:$AF$30000,31,FALSE)","v":"幼儿园"},{"$f":"VLOOKUP(F1650,[1]总表!$A$3:$AF$30000,32,FALSE)","v":"学前教育"},"45.50"]
[1649,"龙代姣",20230603016121,61,"21",1154,{"$f":"VLOOKUP(F1651,[1]总表!$A$3:$AF$30000,31,FALSE)","v":"幼儿园"},{"$f":"VLOOKUP(F1651,[1]总表!$A$3:$AF$30000,32,FALSE)","v":"学前教育"},"71"]
[1650,"龙再花",20230603016122,61,"22",1175,{"$f":"VLOOKUP(F1652,[1]总表!$A$3:$AF$30000,31,FALSE)","v":"幼儿园"},{"$f":"VLOOKUP(F1652,[1]总表!$A$3:$AF$30000,32,FALSE)","v":"学前教育"},"50.50"]
[1651,"李小玲",20230603016123,61,"23",1077,{"$f":"VLOOKUP(F1653,[1]总表!$A$3:$AF$30000,31,FALSE)","v":"幼儿园"},{"$f":"VLOOKUP(F1653,[1]总表!$A$3:$AF$30000,32,FALSE)","v":"学前教育"},"47"]
[1652,"张琴",20230603016124,61,"24",847,{"$f":"VLOOKUP(F1654,[1]总表!$A$3:$AF$30000,31,FALSE)","v":"幼儿园"},{"$f":"VLOOKUP(F1654,[1]总表!$A$3:$AF$30000,32,FALSE)","v":"学前教育"},"62.50"]
[1653,"文灿",20230603016125,61,"25",1016,{"$f":"VLOOKUP(F1655,[1]总表!$A$3:$AF$30000,31,FALSE)","v":"幼儿园"},{"$f":"VLOOKUP(F1655,[1]总表!$A$3:$AF$30000,32,FALSE)","v":"学前教育"},"74.50"]
[1654,"吴伯利",20230603016126,61,"26",1217,{"$f":"VLOOKUP(F1656,[1]总表!$A$3:$AF$30000,31,FALSE)","v":"幼儿园"},{"$f":"VLOOKUP(F1656,[1]总表!$A$3:$AF$30000,32,FALSE)","v":"学前教育"},"51"]
[1655,"龙燕兰",20230603016127,61,"27",1352,{"$f":"VLOOKUP(F1657,[1]总表!$A$3:$AF$30000,31,FALSE)","v":"幼儿园"},{"$f":"VLOOKUP(F1657,[1]总表!$A$3:$AF$30000,32,FALSE)","v":"学前教育"},"66.50"]
[1656,"邓兴",20230603016128,61,"28",1287,{"$f":"VLOOKUP(F1658,[1]总表!$A$3:$AF$30000,31,FALSE)","v":"幼儿园"},{"$f":"VLOOKUP(F1658,[1]总表!$A$3:$AF$30000,32,FALSE)","v":"学前教育"},"41.50"]
[1657,"袁玉兰",20230603016129,61,"29",1004,{"$f":"VLOOKUP(F1659,[1]总表!$A$3:$AF$30000,31,FALSE)","v":"幼儿园"},{"$f":"VLOOKUP(F1659,[1]总表!$A$3:$AF$30000,32,FALSE)","v":"学前教育"},"60.50"]
[1658,"李维",20230603016130,61,"30",1275,{"$f":"VLOOKUP(F1660,[1]总表!$A$3:$AF$30000,31,FALSE)","v":"幼儿园"},{"$f":"VLOOKUP(F1660,[1]总表!$A$3:$AF$30000,32,FALSE)","v":"学前教育"},"52"]
[1659,"田郑雪",20230603016201,62,"01",751,{"$f":"VLOOKUP(F1661,[1]总表!$A$3:$AF$30000,31,FALSE)","v":"幼儿园"},{"$f":"VLOOKUP(F1661,[1]总表!$A$3:$AF$30000,32,FALSE)","v":"学前教育"},"70"]
[1660,"田旭莉",20230603016202,62,"02",1410,{"$f":"VLOOKUP(F1662,[1]总表!$A$3:$AF$30000,31,FALSE)","v":"幼儿园"},{"$f":"VLOOKUP(F1662,[1]总表!$A$3:$AF$30000,32,FALSE)","v":"学前教育"},"45.50"]
[1661,"雷慧",20230603016203,62,"03",1277,{"$f":"VLOOKUP(F1663,[1]总表!$A$3:$AF$30000,31,FALSE)","v":"幼儿园"},{"$f":"VLOOKUP(F1663,[1]总表!$A$3:$AF$30000,32,FALSE)","v":"学前教育"},"67.50"]
[1662,"付芳",20230603016204,62,"04",1078,{"$f":"VLOOKUP(F1664,[1]总表!$A$3:$AF$30000,31,FALSE)","v":"幼儿园"},{"$f":"VLOOKUP(F1664,[1]总表!$A$3:$AF$30000,32,FALSE)","v":"学前教育"},"61.50"]
[1663,"伍海燕",20230603016205,62,"05",1023,{"$f":"VLOOKUP(F1665,[1]总表!$A$3:$AF$30000,31,FALSE)","v":"幼儿园"},{"$f":"VLOOKUP(F1665,[1]总表!$A$3:$AF$30000,32,FALSE)","v":"学前教育"},"47"]
[1664,"麻加华",20230603016206,62,"06",1390,{"$f":"VLOOKUP(F1666,[1]总表!$A$3:$AF$30000,31,FALSE)","v":"幼儿园"},{"$f":"VLOOKUP(F1666,[1]总表!$A$3:$AF$30000,32,FALSE)","v":"学前教育"},"72.50"]
[1665,"龙丽",20230603016207,62,"07",1317,{"$f":"VLOOKUP(F1667,[1]总表!$A$3:$AF$30000,31,FALSE)","v":"幼儿园"},{"$f":"VLOOKUP(F1667,[1]总表!$A$3:$AF$30000,32,FALSE)","v":"学前教育"},"68"]
[1666,"谢清清",20230603016208,62,"08",1422,{"$f":"VLOOKUP(F1668,[1]总表!$A$3:$AF$30000,31,FALSE)","v":"幼儿园"},{"$f":"VLOOKUP(F1668,[1]总表!$A$3:$AF$30000,32,FALSE)","v":"学前教育"},"45"]
[1667,"龙春吉",20230603016209,62,"09",913,{"$f":"VLOOKUP(F1669,[1]总表!$A$3:$AF$30000,31,FALSE)","v":"幼儿园"},{"$f":"VLOOKUP(F1669,[1]总表!$A$3:$AF$30000,32,FALSE)","v":"学前教育"},"79"]
[1668,"胡炎萍",20230603016210,62,"10",1162,{"$f":"VLOOKUP(F1670,[1]总表!$A$3:$AF$30000,31,FALSE)","v":"幼儿园"},{"$f":"VLOOKUP(F1670,[1]总表!$A$3:$AF$30000,32,FALSE)","v":"学前教育"},"54.50"]
[1669,"李华兰",20230603016211,62,"11",1212,{"$f":"VLOOKUP(F1671,[1]总表!$A$3:$AF$30000,31,FALSE)","v":"幼儿园"},{"$f":"VLOOKUP(F1671,[1]总表!$A$3:$AF$30000,32,FALSE)","v":"学前教育"},"72"]
[1670,"姚佳熙",20230603016212,62,"12",772,{"$f":"VLOOKUP(F1672,[1]总表!$A$3:$AF$30000,31,FALSE)","v":"幼儿园"},{"$f":"VLOOKUP(F1672,[1]总表!$A$3:$AF$30000,32,FALSE)","v":"学前教育"},"40.50"]
[1671,"龙秀兰",20230603016213,62,"13",1239,{"$f":"VLOOKUP(F1673,[1]总表!$A$3:$AF$30000,31,FALSE)","v":"幼儿园"},{"$f":"VLOOKUP(F1673,[1]总表!$A$3:$AF$30000,32,FALSE)","v":"学前教育"},"40"]
[1672,"黎政芬",20230603016214,62,"14",1298,{"$f":"VLOOKUP(F1674,[1]总表!$A$3:$AF$30000,31,FALSE)","v":"幼儿园"},{"$f":"VLOOKUP(F1674,[1]总表!$A$3:$AF$30000,32,FALSE)","v":"学前教育"},"32"]
[1673,"吴笛",20230603016215,62,"15",845,{"$f":"VLOOKUP(F1675,[1]总表!$A$3:$AF$30000,31,FALSE)","v":"幼儿园"},{"$f":"VLOOKUP(F1675,[1]总表!$A$3:$AF$30000,32,FALSE)","v":"学前教育"},"43.50"]
[1674,"江雪芬",20230603016216,62,"16",1050,{"$f":"VLOOKUP(F1676,[1]总表!$A$3:$AF$30000,31,FALSE)","v":"幼儿园"},{"$f":"VLOOKUP(F1676,[1]总表!$A$3:$AF$30000,32,FALSE)","v":"学前教育"},"62"]
[1675,"田小艳",20230603016217,62,"17",1188,{"$f":"VLOOKUP(F1677,[1]总表!$A$3:$AF$30000,31,FALSE)","v":"幼儿园"},{"$f":"VLOOKUP(F1677,[1]总表!$A$3:$AF$30000,32,FALSE)","v":"学前教育"},"41.50"]
[1676,"石立",20230603016218,62,"18",1397,{"$f":"VLOOKUP(F1678,[1]总表!$A$3:$AF$30000,31,FALSE)","v":"幼儿园"},{"$f":"VLOOKUP(F1678,[1]总表!$A$3:$AF$30000,32,FALSE)","v":"学前教育"},"43"]
[1677,"杨琴",20230603016219,62,"19",776,{"$f":"VLOOKUP(F1679,[1]总表!$A$3:$AF$30000,31,FALSE)","v":"幼儿园"},{"$f":"VLOOKUP(F1679,[1]总表!$A$3:$AF$30000,32,FALSE)","v":"学前教育"},"48.50"]
[1678,"叶亚玲",20230603016220,62,"20",760,{"$f":"VLOOKUP(F1680,[1]总表!$A$3:$AF$30000,31,FALSE)","v":"幼儿园"},{"$f":"VLOOKUP(F1680,[1]总表!$A$3:$AF$30000,32,FALSE)","v":"学前教育"},"69.50"]
[1679,"杨英",20230603016221,62,"21",1226,{"$f":"VLOOKUP(F1681,[1]总表!$A$3:$AF$30000,31,FALSE)","v":"幼儿园"},{"$f":"VLOOKUP(F1681,[1]总表!$A$3:$AF$30000,32,FALSE)","v":"学前教育"},"52.50"]
[1680,"龙小群",20230603016222,62,"22",826,{"$f":"VLOOKUP(F1682,[1]总表!$A$3:$AF$30000,31,FALSE)","v":"幼儿园"},{"$f":"VLOOKUP(F1682,[1]总表!$A$3:$AF$30000,32,FALSE)","v":"学前教育"},"61.50"]
[1681,"石丽琴",20230603016223,62,"23",1266,{"$f":"VLOOKUP(F1683,[1]总表!$A$3:$AF$30000,31,FALSE)","v":"幼儿园"},{"$f":"VLOOKUP(F1683,[1]总表!$A$3:$AF$30000,32,FALSE)","v":"学前教育"},"73"]
[1682,"吴亚英",20230603016224,62,"24",1350,{"$f":"VLOOKUP(F1684,[1]总表!$A$3:$AF$30000,31,FALSE)","v":"幼儿园"},{"$f":"VLOOKUP(F1684,[1]总表!$A$3:$AF$30000,32,FALSE)","v":"学前教育"},"66.50"]
[1683,"吴红卫",20230603016225,62,"25",1313,{"$f":"VLOOKUP(F1685,[1]总表!$A$3:$AF$30000,31,FALSE)","v":"幼儿园"},{"$f":"VLOOKUP(F1685,[1]总表!$A$3:$AF$30000,32,FALSE)","v":"学前教育"},"66"]
[1684,"任倩倩",20230603016226,62,"26",853,{"$f":"VLOOKUP(F1686,[1]总表!$A$3:$AF$30000,31,FALSE)","v":"幼儿园"},{"$f":"VLOOKUP(F1686,[1]总表!$A$3:$AF$30000,32,FALSE)","v":"学前教育"},"36.50"]
[1685,"严红艳",20230603016227,62,"27",1318,{"$f":"VLOOKUP(F1687,[1]总表!$A$3:$AF$30000,31,FALSE)","v":"幼儿园"},{"$f":"VLOOKUP(F1687,[1]总表!$A$3:$AF$30000,32,FALSE)","v":"学前教育"},"71"]
[1686,"莫文睿",20230603016228,62,"28",778,{"$f":"VLOOKUP(F1688,[1]总表!$A$3:$AF$30000,31,FALSE)","v":"幼儿园"},{"$f":"VLOOKUP(F1688,[1]总表!$A$3:$AF$30000,32,FALSE)","v":"学前教育"},"57"]
[1687,"吴倩",20230603016229,62,"29",1314,{"$f":"VLOOKUP(F1689,[1]总表!$A$3:$AF$30000,31,FALSE)","v":"幼儿园"},{"$f":"VLOOKUP(F1689,[1]总表!$A$3:$AF$30000,32,FALSE)","v":"学前教育"},"79"]
[1688,"吴文慧",20230603016230,62,"30",835,{"$f":"VLOOKUP(F1690,[1]总表!$A$3:$AF$30000,31,FALSE)","v":"幼儿园"},{"$f":"VLOOKUP(F1690,[1]总表!$A$3:$AF$30000,32,FALSE)","v":"学前教育"},"47.50"]
[1689,"廖元元",20230603016301,63,"01",749,{"$f":"VLOOKUP(F1691,[1]总表!$A$3:$AF$30000,31,FALSE)","v":"幼儿园"},{"$f":"VLOOKUP(F1691,[1]总表!$A$3:$AF$30000,32,FALSE)","v":"学前教育"},"69.50"]
[1690,"吴红芳",20230603016302,63,"02",1305,{"$f":"VLOOKUP(F1692,[1]总表!$A$3:$AF$30000,31,FALSE)","v":"幼儿园"},{"$f":"VLOOKUP(F1692,[1]总表!$A$3:$AF$30000,32,FALSE)","v":"学前教育"},"49.50"]
[1691,"黄成美",20230603016303,63,"03",1114,{"$f":"VLOOKUP(F1693,[1]总表!$A$3:$AF$30000,31,FALSE)","v":"幼儿园"},{"$f":"VLOOKUP(F1693,[1]总表!$A$3:$AF$30000,32,FALSE)","v":"学前教育"},"44"]
[1692,"冉慧",20230603016304,63,"04",949,{"$f":"VLOOKUP(F1694,[1]总表!$A$3:$AF$30000,31,FALSE)","v":"幼儿园"},{"$f":"VLOOKUP(F1694,[1]总表!$A$3:$AF$30000,32,FALSE)","v":"学前教育"},"70.50"]
[1693,"龙晓",20230603016305,63,"05",1006,{"$f":"VLOOKUP(F1695,[1]总表!$A$3:$AF$30000,31,FALSE)","v":"幼儿园"},{"$f":"VLOOKUP(F1695,[1]总表!$A$3:$AF$30000,32,FALSE)","v":"学前教育"},"83"]
[1694,"杨冰杰",20230603016306,63,"06",1475,{"$f":"VLOOKUP(F1696,[1]总表!$A$3:$AF$30000,31,FALSE)","v":"幼儿园"},{"$f":"VLOOKUP(F1696,[1]总表!$A$3:$AF$30000,32,FALSE)","v":"学前教育"},"49"]
[1695,"龙燕",20230603016307,63,"07",1165,{"$f":"VLOOKUP(F1697,[1]总表!$A$3:$AF$30000,31,FALSE)","v":"幼儿园"},{"$f":"VLOOKUP(F1697,[1]总表!$A$3:$AF$30000,32,FALSE)","v":"学前教育"},"77.50"]
[1696,"李先燕",20230603016308,63,"08",989,{"$f":"VLOOKUP(F1698,[1]总表!$A$3:$AF$30000,31,FALSE)","v":"幼儿园"},{"$f":"VLOOKUP(F1698,[1]总表!$A$3:$AF$30000,32,FALSE)","v":"学前教育"},"46"]
[1697,"欧菊秀",20230603016309,63,"09",1191,{"$f":"VLOOKUP(F1699,[1]总表!$A$3:$AF$30000,31,FALSE)","v":"幼儿园"},{"$f":"VLOOKUP(F1699,[1]总表!$A$3:$AF$30000,32,FALSE)","v":"学前教育"},"52.50"]
[1698,"石雯祎",20230603016310,63,"10",1221,{"$f":"VLOOKUP(F1700,[1]总表!$A$3:$AF$30000,31,FALSE)","v":"幼儿园"},{"$f":"VLOOKUP(F1700,[1]总表!$A$3:$AF$30000,32,FALSE)","v":"学前教育"},"51"]
[1699,"杨娟",20230603016311,63,"11",984,{"$f":"VLOOKUP(F1701,[1]总表!$A$3:$AF$30000,31,FALSE)","v":"幼儿园"},{"$f":"VLOOKUP(F1701,[1]总表!$A$3:$AF$30000,32,FALSE)","v":"学前教育"},"41.50"]
[1700,"杨情",20230603016312,63,"12",1168,{"$f":"VLOOKUP(F1702,[1]总表!$A$3:$AF$30000,31,FALSE)","v":"幼儿园"},{"$f":"VLOOKUP(F1702,[1]总表!$A$3:$AF$30000,32,FALSE)","v":"学前教育"},"70.50"]
[1701,"余佳丽",20230603016313,63,"13",863,{"$f":"VLOOKUP(F1703,[1]总表!$A$3:$AF$30000,31,FALSE)","v":"幼儿园"},{"$f":"VLOOKUP(F1703,[1]总表!$A$3:$AF$30000,32,FALSE)","v":"学前教育"},"56.50"]
[1702,"郭雅柔",20230603016314,63,"14",804,{"$f":"VLOOKUP(F1704,[1]总表!$A$3:$AF$30000,31,FALSE)","v":"幼儿园"},{"$f":"VLOOKUP(F1704,[1]总表!$A$3:$AF$30000,32,FALSE)","v":"学前教育"},"61"]
[1703,"廖柳芳",20230603016315,63,"15",1357,{"$f":"VLOOKUP(F1705,[1]总表!$A$3:$AF$30000,31,FALSE)","v":"幼儿园"},{"$f":"VLOOKUP(F1705,[1]总表!$A$3:$AF$30000,32,FALSE)","v":"学前教育"},"50.50"]
[1704,"龙嫒",20230603016316,63,"16",1198,{"$f":"VLOOKUP(F1706,[1]总表!$A$3:$AF$30000,31,FALSE)","v":"幼儿园"},{"$f":"VLOOKUP(F1706,[1]总表!$A$3:$AF$30000,32,FALSE)","v":"学前教育"},"62"]
[1705,"康福田",20230603016317,63,"17",1089,{"$f":"VLOOKUP(F1707,[1]总表!$A$3:$AF$30000,31,FALSE)","v":"幼儿园"},{"$f":"VLOOKUP(F1707,[1]总表!$A$3:$AF$30000,32,FALSE)","v":"学前教育"},"52.50"]
[1706,"杨雨萍",20230603016318,63,"18",883,{"$f":"VLOOKUP(F1708,[1]总表!$A$3:$AF$30000,31,FALSE)","v":"幼儿园"},{"$f":"VLOOKUP(F1708,[1]总表!$A$3:$AF$30000,32,FALSE)","v":"学前教育"},"47"]
[1707,"张洋环",20230603016319,63,"19",866,{"$f":"VLOOKUP(F1709,[1]总表!$A$3:$AF$30000,31,FALSE)","v":"幼儿园"},{"$f":"VLOOKUP(F1709,[1]总表!$A$3:$AF$30000,32,FALSE)","v":"学前教育"},"66.50"]
[1708,"余韩英",20230603016320,63,"20",980,{"$f":"VLOOKUP(F1710,[1]总表!$A$3:$AF$30000,31,FALSE)","v":"幼儿园"},{"$f":"VLOOKUP(F1710,[1]总表!$A$3:$AF$30000,32,FALSE)","v":"学前教育"},"50"]
[1709,"刘玲伟",20230603016321,63,"21",872,{"$f":"VLOOKUP(F1711,[1]总表!$A$3:$AF$30000,31,FALSE)","v":"幼儿园"},{"$f":"VLOOKUP(F1711,[1]总表!$A$3:$AF$30000,32,FALSE)","v":"学前教育"},"65"]
[1710,"麻钧然",20230603016322,63,"22",969,{"$f":"VLOOKUP(F1712,[1]总表!$A$3:$AF$30000,31,FALSE)","v":"幼儿园"},{"$f":"VLOOKUP(F1712,[1]总表!$A$3:$AF$30000,32,FALSE)","v":"学前教育"},"64.50"]
[1711,"白娟",20230603016323,63,"23",1304,{"$f":"VLOOKUP(F1713,[1]总表!$A$3:$AF$30000,31,FALSE)","v":"幼儿园"},{"$f":"VLOOKUP(F1713,[1]总表!$A$3:$AF$30000,32,FALSE)","v":"学前教育"},"41.50"]
[1712,"邓红玲",20230603016324,63,"24",1265,{"$f":"VLOOKUP(F1714,[1]总表!$A$3:$AF$30000,31,FALSE)","v":"幼儿园"},{"$f":"VLOOKUP(F1714,[1]总表!$A$3:$AF$30000,32,FALSE)","v":"学前教育"},"42"]
[1713,"石振风",20230603016325,63,"25",766,{"$f":"VLOOKUP(F1715,[1]总表!$A$3:$AF$30000,31,FALSE)","v":"幼儿园"},{"$f":"VLOOKUP(F1715,[1]总表!$A$3:$AF$30000,32,FALSE)","v":"学前教育"},"44.50"]
[1714,"刘克珍",20230603016326,63,"26",833,{"$f":"VLOOKUP(F1716,[1]总表!$A$3:$AF$30000,31,FALSE)","v":"幼儿园"},{"$f":"VLOOKUP(F1716,[1]总表!$A$3:$AF$30000,32,FALSE)","v":"学前教育"},"72"]
[1715,"杨灵星",20230603016327,63,"27",919,{"$f":"VLOOKUP(F1717,[1]总表!$A$3:$AF$30000,31,FALSE)","v":"幼儿园"},{"$f":"VLOOKUP(F1717,[1]总表!$A$3:$AF$30000,32,FALSE)","v":"学前教育"},"44.50"]
[1716,"张精松",20230603016328,63,"28",1029,{"$f":"VLOOKUP(F1718,[1]总表!$A$3:$AF$30000,31,FALSE)","v":"幼儿园"},{"$f":"VLOOKUP(F1718,[1]总表!$A$3:$AF$30000,32,FALSE)","v":"学前教育"},"49"]
[1717,"龙红翠",20230603016329,63,"29",1220,{"$f":"VLOOKUP(F1719,[1]总表!$A$3:$AF$30000,31,FALSE)","v":"幼儿园"},{"$f":"VLOOKUP(F1719,[1]总表!$A$3:$AF$30000,32,FALSE)","v":"学前教育"},"21"]
[1718,"陆莉红",20230603016330,63,"30",1203,{"$f":"VLOOKUP(F1720,[1]总表!$A$3:$AF$30000,31,FALSE)","v":"幼儿园"},{"$f":"VLOOKUP(F1720,[1]总表!$A$3:$AF$30000,32,FALSE)","v":"学前教育"},"64"]
[1719,"冉江薇",20230603016401,64,"01",1337,{"$f":"VLOOKUP(F1721,[1]总表!$A$3:$AF$30000,31,FALSE)","v":"幼儿园"},{"$f":"VLOOKUP(F1721,[1]总表!$A$3:$AF$30000,32,FALSE)","v":"学前教育"},"46.50"]
[1720,"杨雪婷",20230603016402,64,"02",1362,{"$f":"VLOOKUP(F1722,[1]总表!$A$3:$AF$30000,31,FALSE)","v":"幼儿园"},{"$f":"VLOOKUP(F1722,[1]总表!$A$3:$AF$30000,32,FALSE)","v":"学前教育"},"44.50"]
[1721,"石婧",20230603016403,64,"03",1018,{"$f":"VLOOKUP(F1723,[1]总表!$A$3:$AF$30000,31,FALSE)","v":"幼儿园"},{"$f":"VLOOKUP(F1723,[1]总表!$A$3:$AF$30000,32,FALSE)","v":"学前教育"},"51.50"]
[1722,"余芸",20230603016404,64,"04",916,{"$f":"VLOOKUP(F1724,[1]总表!$A$3:$AF$30000,31,FALSE)","v":"幼儿园"},{"$f":"VLOOKUP(F1724,[1]总表!$A$3:$AF$30000,32,FALSE)","v":"学前教育"},"52.50"]
[1723,"田婧",20230603016405,64,"05",958,{"$f":"VLOOKUP(F1725,[1]总表!$A$3:$AF$30000,31,FALSE)","v":"幼儿园"},{"$f":"VLOOKUP(F1725,[1]总表!$A$3:$AF$30000,32,FALSE)","v":"学前教育"},"58.50"]
[1724,"雷文慧",20230603016406,64,"06",1036,{"$f":"VLOOKUP(F1726,[1]总表!$A$3:$AF$30000,31,FALSE)","v":"幼儿园"},{"$f":"VLOOKUP(F1726,[1]总表!$A$3:$AF$30000,32,FALSE)","v":"学前教育"},"50"]
[1725,"龙月茹",20230603016407,64,"07",1113,{"$f":"VLOOKUP(F1727,[1]总表!$A$3:$AF$30000,31,FALSE)","v":"幼儿园"},{"$f":"VLOOKUP(F1727,[1]总表!$A$3:$AF$30000,32,FALSE)","v":"学前教育"},"58"]
[1726,"叶家",20230603016408,64,"08",763,{"$f":"VLOOKUP(F1728,[1]总表!$A$3:$AF$30000,31,FALSE)","v":"幼儿园"},{"$f":"VLOOKUP(F1728,[1]总表!$A$3:$AF$30000,32,FALSE)","v":"学前教育"},"65"]
[1727,"龙观芬",20230603016409,64,"09",1408,{"$f":"VLOOKUP(F1729,[1]总表!$A$3:$AF$30000,31,FALSE)","v":"幼儿园"},{"$f":"VLOOKUP(F1729,[1]总表!$A$3:$AF$30000,32,FALSE)","v":"学前教育"},"63.50"]
[1728,"戴雨迪",20230603016410,64,"10",1378,{"$f":"VLOOKUP(F1730,[1]总表!$A$3:$AF$30000,31,FALSE)","v":"幼儿园"},{"$f":"VLOOKUP(F1730,[1]总表!$A$3:$AF$30000,32,FALSE)","v":"学前教育"},"75"]
[1729,"龙弟先",20230603016411,64,"11",988,{"$f":"VLOOKUP(F1731,[1]总表!$A$3:$AF$30000,31,FALSE)","v":"幼儿园"},{"$f":"VLOOKUP(F1731,[1]总表!$A$3:$AF$30000,32,FALSE)","v":"学前教育"},"39.50"]
[1730,"杨江英",20230603016412,64,"12",1134,{"$f":"VLOOKUP(F1732,[1]总表!$A$3:$AF$30000,31,FALSE)","v":"幼儿园"},{"$f":"VLOOKUP(F1732,[1]总表!$A$3:$AF$30000,32,FALSE)","v":"学前教育"},"40"]
[1731,"龙燕梅",20230603016413,64,"13",726,{"$f":"VLOOKUP(F1733,[1]总表!$A$3:$AF$30000,31,FALSE)","v":"幼儿园"},{"$f":"VLOOKUP(F1733,[1]总表!$A$3:$AF$30000,32,FALSE)","v":"学前教育"},"66.50"]
[1732,"冉凤琴",20230603016414,64,"14",933,{"$f":"VLOOKUP(F1734,[1]总表!$A$3:$AF$30000,31,FALSE)","v":"幼儿园"},{"$f":"VLOOKUP(F1734,[1]总表!$A$3:$AF$30000,32,FALSE)","v":"学前教育"},"50"]
[1733,"曹倩",20230603016415,64,"15",893,{"$f":"VLOOKUP(F1735,[1]总表!$A$3:$AF$30000,31,FALSE)","v":"幼儿园"},{"$f":"VLOOKUP(F1735,[1]总表!$A$3:$AF$30000,32,FALSE)","v":"学前教育"},"34.50"]
[1734,"杨娜",20230603016416,64,"16",1007,{"$f":"VLOOKUP(F1736,[1]总表!$A$3:$AF$30000,31,FALSE)","v":"幼儿园"},{"$f":"VLOOKUP(F1736,[1]总表!$A$3:$AF$30000,32,FALSE)","v":"学前教育"},"69.50"]
[1735,"张群娣",20230603016417,64,"17",824,{"$f":"VLOOKUP(F1737,[1]总表!$A$3:$AF$30000,31,FALSE)","v":"幼儿园"},{"$f":"VLOOKUP(F1737,[1]总表!$A$3:$AF$30000,32,FALSE)","v":"学前教育"},"80.50"]
[1736,"龙琴英",20230603016418,64,"18",971,{"$f":"VLOOKUP(F1738,[1]总表!$A$3:$AF$30000,31,FALSE)","v":"幼儿园"},{"$f":"VLOOKUP(F1738,[1]总表!$A$3:$AF$30000,32,FALSE)","v":"学前教育"},"58.50"]
[1737,"李小芳",20230603016419,64,"19",775,{"$f":"VLOOKUP(F1739,[1]总表!$A$3:$AF$30000,31,FALSE)","v":"幼儿园"},{"$f":"VLOOKUP(F1739,[1]总表!$A$3:$AF$30000,32,FALSE)","v":"学前教育"},"76.50"]
[1738,"唐芬",20230603016420,64,"20",992,{"$f":"VLOOKUP(F1740,[1]总表!$A$3:$AF$30000,31,FALSE)","v":"幼儿园"},{"$f":"VLOOKUP(F1740,[1]总表!$A$3:$AF$30000,32,FALSE)","v":"学前教育"},"76"]
[1739,"雷航",20230603016421,64,"21",1424,{"$f":"VLOOKUP(F1741,[1]总表!$A$3:$AF$30000,31,FALSE)","v":"幼儿园"},{"$f":"VLOOKUP(F1741,[1]总表!$A$3:$AF$30000,32,FALSE)","v":"学前教育"},"49.50"]
[1740,"殷丹",20230603016422,64,"22",1344,{"$f":"VLOOKUP(F1742,[1]总表!$A$3:$AF$30000,31,FALSE)","v":"幼儿园"},{"$f":"VLOOKUP(F1742,[1]总表!$A$3:$AF$30000,32,FALSE)","v":"学前教育"},"41.50"]
[1741,"杨素群",20230603016423,64,"23",1008,{"$f":"VLOOKUP(F1743,[1]总表!$A$3:$AF$30000,31,FALSE)","v":"幼儿园"},{"$f":"VLOOKUP(F1743,[1]总表!$A$3:$AF$30000,32,FALSE)","v":"学前教育"},"65.50"]
[1742,"田妮",20230603016424,64,"24",1484,{"$f":"VLOOKUP(F1744,[1]总表!$A$3:$AF$30000,31,FALSE)","v":"幼儿园"},{"$f":"VLOOKUP(F1744,[1]总表!$A$3:$AF$30000,32,FALSE)","v":"学前教育"},"36"]
[1743,"吴江",20230603016425,64,"25",1335,{"$f":"VLOOKUP(F1745,[1]总表!$A$3:$AF$30000,31,FALSE)","v":"幼儿园"},{"$f":"VLOOKUP(F1745,[1]总表!$A$3:$AF$30000,32,FALSE)","v":"学前教育"},"44.50"]
[1744,"邱琴荣",20230603016426,64,"26",1340,{"$f":"VLOOKUP(F1746,[1]总表!$A$3:$AF$30000,31,FALSE)","v":"幼儿园"},{"$f":"VLOOKUP(F1746,[1]总表!$A$3:$AF$30000,32,FALSE)","v":"学前教育"},"46.50"]
[1745,"龙玉兰",20230603016427,64,"27",966,{"$f":"VLOOKUP(F1747,[1]总表!$A$3:$AF$30000,31,FALSE)","v":"幼儿园"},{"$f":"VLOOKUP(F1747,[1]总表!$A$3:$AF$30000,32,FALSE)","v":"学前教育"},"68"]
[1746,"韩慧芳",20230603016428,64,"28",1143,{"$f":"VLOOKUP(F1748,[1]总表!$A$3:$AF$30000,31,FALSE)","v":"幼儿园"},{"$f":"VLOOKUP(F1748,[1]总表!$A$3:$AF$30000,32,FALSE)","v":"学前教育"},"缺考"]
[1747,"郑翠立",20230603016429,64,"29",1127,{"$f":"VLOOKUP(F1749,[1]总表!$A$3:$AF$30000,31,FALSE)","v":"幼儿园"},{"$f":"VLOOKUP(F1749,[1]总表!$A$3:$AF$30000,32,FALSE)","v":"学前教育"},"64"]
[1748,"田小妹",20230603016430,64,"30",957,{"$f":"VLOOKUP(F1750,[1]总表!$A$3:$AF$30000,31,FALSE)","v":"幼儿园"},{"$f":"VLOOKUP(F1750,[1]总表!$A$3:$AF$30000,32,FALSE)","v":"学前教育"},"51.50"]
[1749,"邓文琴",20230603016501,65,"01",964,{"$f":"VLOOKUP(F1751,[1]总表!$A$3:$AF$30000,31,FALSE)","v":"幼儿园"},{"$f":"VLOOKUP(F1751,[1]总表!$A$3:$AF$30000,32,FALSE)","v":"学前教育"},"39.50"]
[1750,"毛玲媚",20230603016502,65,"02",1237,{"$f":"VLOOKUP(F1752,[1]总表!$A$3:$AF$30000,31,FALSE)","v":"幼儿园"},{"$f":"VLOOKUP(F1752,[1]总表!$A$3:$AF$30000,32,FALSE)","v":"学前教育"},"55.50"]
[1751,"冉丹",20230603016503,65,"03",1365,{"$f":"VLOOKUP(F1753,[1]总表!$A$3:$AF$30000,31,FALSE)","v":"幼儿园"},{"$f":"VLOOKUP(F1753,[1]总表!$A$3:$AF$30000,32,FALSE)","v":"学前教育"},"53"]
[1752,"杨艳",20230603016504,65,"04",1462,{"$f":"VLOOKUP(F1754,[1]总表!$A$3:$AF$30000,31,FALSE)","v":"幼儿园"},{"$f":"VLOOKUP(F1754,[1]总表!$A$3:$AF$30000,32,FALSE)","v":"学前教育"},"50"]
[1753,"龙艳",20230603016505,65,"05",975,{"$f":"VLOOKUP(F1755,[1]总表!$A$3:$AF$30000,31,FALSE)","v":"幼儿园"},{"$f":"VLOOKUP(F1755,[1]总表!$A$3:$AF$30000,32,FALSE)","v":"学前教育"},"47"]
[1754,"赖楚懿",20230603016506,65,"06",902,{"$f":"VLOOKUP(F1756,[1]总表!$A$3:$AF$30000,31,FALSE)","v":"幼儿园"},{"$f":"VLOOKUP(F1756,[1]总表!$A$3:$AF$30000,32,FALSE)","v":"学前教育"},"55"]
[1755,"龙水菊",20230603016507,65,"07",871,{"$f":"VLOOKUP(F1757,[1]总表!$A$3:$AF$30000,31,FALSE)","v":"幼儿园"},{"$f":"VLOOKUP(F1757,[1]总表!$A$3:$AF$30000,32,FALSE)","v":"学前教育"},"73"]
[1756,"龙箫",20230603016508,65,"08",1426,{"$f":"VLOOKUP(F1758,[1]总表!$A$3:$AF$30000,31,FALSE)","v":"幼儿园"},{"$f":"VLOOKUP(F1758,[1]总表!$A$3:$AF$30000,32,FALSE)","v":"学前教育"},"49"]
[1757,"曾桂芳",20230603016509,65,"09",890,{"$f":"VLOOKUP(F1759,[1]总表!$A$3:$AF$30000,31,FALSE)","v":"幼儿园"},{"$f":"VLOOKUP(F1759,[1]总表!$A$3:$AF$30000,32,FALSE)","v":"学前教育"},"57"]
[1758,"李吉",20230603016510,65,"10",1255,{"$f":"VLOOKUP(F1760,[1]总表!$A$3:$AF$30000,31,FALSE)","v":"幼儿园"},{"$f":"VLOOKUP(F1760,[1]总表!$A$3:$AF$30000,32,FALSE)","v":"学前教育"},"53.50"]
[1759,"何岳梅",20230603016511,65,"11",1163,{"$f":"VLOOKUP(F1761,[1]总表!$A$3:$AF$30000,31,FALSE)","v":"幼儿园"},{"$f":"VLOOKUP(F1761,[1]总表!$A$3:$AF$30000,32,FALSE)","v":"学前教育"},"42"]
[1760,"黄念",20230603016512,65,"12",1445,{"$f":"VLOOKUP(F1762,[1]总表!$A$3:$AF$30000,31,FALSE)","v":"幼儿园"},{"$f":"VLOOKUP(F1762,[1]总表!$A$3:$AF$30000,32,FALSE)","v":"学前教育"},"51"]
[1761,"姚见平",20230603016513,65,"13",1065,{"$f":"VLOOKUP(F1763,[1]总表!$A$3:$AF$30000,31,FALSE)","v":"幼儿园"},{"$f":"VLOOKUP(F1763,[1]总表!$A$3:$AF$30000,32,FALSE)","v":"学前教育"},"56.50"]
[1762,"龙佳佳",20230603016514,65,"14",1119,{"$f":"VLOOKUP(F1764,[1]总表!$A$3:$AF$30000,31,FALSE)","v":"幼儿园"},{"$f":"VLOOKUP(F1764,[1]总表!$A$3:$AF$30000,32,FALSE)","v":"学前教育"},"52"]
[1763,"麻永祥",20230603016515,65,"15",1214,{"$f":"VLOOKUP(F1765,[1]总表!$A$3:$AF$30000,31,FALSE)","v":"幼儿园"},{"$f":"VLOOKUP(F1765,[1]总表!$A$3:$AF$30000,32,FALSE)","v":"学前教育"},"60"]
[1764,"冉丽",20230603016516,65,"16",1267,{"$f":"VLOOKUP(F1766,[1]总表!$A$3:$AF$30000,31,FALSE)","v":"幼儿园"},{"$f":"VLOOKUP(F1766,[1]总表!$A$3:$AF$30000,32,FALSE)","v":"学前教育"},"58.50"]
[1765,"吴琴姣",20230603016517,65,"17",816,{"$f":"VLOOKUP(F1767,[1]总表!$A$3:$AF$30000,31,FALSE)","v":"幼儿园"},{"$f":"VLOOKUP(F1767,[1]总表!$A$3:$AF$30000,32,FALSE)","v":"学前教育"},"74.50"]
[1766,"宋雪梅",20230603016518,65,"18",828,{"$f":"VLOOKUP(F1768,[1]总表!$A$3:$AF$30000,31,FALSE)","v":"幼儿园"},{"$f":"VLOOKUP(F1768,[1]总表!$A$3:$AF$30000,32,FALSE)","v":"学前教育"},"68"]
[1767,"杨永芳",20230603016519,65,"19",1022,{"$f":"VLOOKUP(F1769,[1]总表!$A$3:$AF$30000,31,FALSE)","v":"幼儿园"},{"$f":"VLOOKUP(F1769,[1]总表!$A$3:$AF$30000,32,FALSE)","v":"学前教育"},"58"]
[1768,"何菲",20230603016520,65,"20",1090,{"$f":"VLOOKUP(F1770,[1]总表!$A$3:$AF$30000,31,FALSE)","v":"幼儿园"},{"$f":"VLOOKUP(F1770,[1]总表!$A$3:$AF$30000,32,FALSE)","v":"学前教育"},"52"]
[1769,"戴丽萍",20230603016521,65,"21",1034,{"$f":"VLOOKUP(F1771,[1]总表!$A$3:$AF$30000,31,FALSE)","v":"幼儿园"},{"$f":"VLOOKUP(F1771,[1]总表!$A$3:$AF$30000,32,FALSE)","v":"学前教育"},"59.50"]
[1770,"田淋露",20230603016522,65,"22",1211,{"$f":"VLOOKUP(F1772,[1]总表!$A$3:$AF$30000,31,FALSE)","v":"幼儿园"},{"$f":"VLOOKUP(F1772,[1]总表!$A$3:$AF$30000,32,FALSE)","v":"学前教育"},"36.50"]
[1771,"杨洋",20230603016523,65,"23",1240,{"$f":"VLOOKUP(F1773,[1]总表!$A$3:$AF$30000,31,FALSE)","v":"幼儿园"},{"$f":"VLOOKUP(F1773,[1]总表!$A$3:$AF$30000,32,FALSE)","v":"学前教育"},"44"]
[1772,"石利周",20230603016524,65,"24",1019,{"$f":"VLOOKUP(F1774,[1]总表!$A$3:$AF$30000,31,FALSE)","v":"幼儿园"},{"$f":"VLOOKUP(F1774,[1]总表!$A$3:$AF$30000,32,FALSE)","v":"学前教育"},"46.50"]
[1773,"张慧",20230603016525,65,"25",840,{"$f":"VLOOKUP(F1775,[1]总表!$A$3:$AF$30000,31,FALSE)","v":"幼儿园"},{"$f":"VLOOKUP(F1775,[1]总表!$A$3:$AF$30000,32,FALSE)","v":"学前教育"},"43.50"]
[1774,"田青",20230603016526,65,"26",1261,{"$f":"VLOOKUP(F1776,[1]总表!$A$3:$AF$30000,31,FALSE)","v":"幼儿园"},{"$f":"VLOOKUP(F1776,[1]总表!$A$3:$AF$30000,32,FALSE)","v":"学前教育"},"43"]
[1775,"龙露茜",20230603016527,65,"27",1005,{"$f":"VLOOKUP(F1777,[1]总表!$A$3:$AF$30000,31,FALSE)","v":"幼儿园"},{"$f":"VLOOKUP(F1777,[1]总表!$A$3:$AF$30000,32,FALSE)","v":"学前教育"},"52.50"]
[1776,"龙英菊",20230603016528,65,"28",1342,{"$f":"VLOOKUP(F1778,[1]总表!$A$3:$AF$30000,31,FALSE)","v":"幼儿园"},{"$f":"VLOOKUP(F1778,[1]总表!$A$3:$AF$30000,32,FALSE)","v":"学前教育"},"67"]
[1777,"杨柳",20230603016529,65,"29",1421,{"$f":"VLOOKUP(F1779,[1]总表!$A$3:$AF$30000,31,FALSE)","v":"幼儿园"},{"$f":"VLOOKUP(F1779,[1]总表!$A$3:$AF$30000,32,FALSE)","v":"学前教育"},"48"]
[1778,"杨进",20230603016530,65,"30",1437,{"$f":"VLOOKUP(F1780,[1]总表!$A$3:$AF$30000,31,FALSE)","v":"幼儿园"},{"$f":"VLOOKUP(F1780,[1]总表!$A$3:$AF$30000,32,FALSE)","v":"学前教育"},"47.50"]
[1779,"黄琳",20230603016601,66,"01",738,{"$f":"VLOOKUP(F1781,[1]总表!$A$3:$AF$30000,31,FALSE)","v":"幼儿园"},{"$f":"VLOOKUP(F1781,[1]总表!$A$3:$AF$30000,32,FALSE)","v":"学前教育"},"52.50"]
[1780,"龙雪靖",20230603016602,66,"02",1150,{"$f":"VLOOKUP(F1782,[1]总表!$A$3:$AF$30000,31,FALSE)","v":"幼儿园"},{"$f":"VLOOKUP(F1782,[1]总表!$A$3:$AF$30000,32,FALSE)","v":"学前教育"},"54"]
[1781,"杨露",20230603016603,66,"03",744,{"$f":"VLOOKUP(F1783,[1]总表!$A$3:$AF$30000,31,FALSE)","v":"幼儿园"},{"$f":"VLOOKUP(F1783,[1]总表!$A$3:$AF$30000,32,FALSE)","v":"学前教育"},"78"]
[1782,"何琴霞",20230603016604,66,"04",1386,{"$f":"VLOOKUP(F1784,[1]总表!$A$3:$AF$30000,31,FALSE)","v":"幼儿园"},{"$f":"VLOOKUP(F1784,[1]总表!$A$3:$AF$30000,32,FALSE)","v":"学前教育"},"53.50"]
[1783,"陈贵平",20230603016605,66,"05",727,{"$f":"VLOOKUP(F1785,[1]总表!$A$3:$AF$30000,31,FALSE)","v":"幼儿园"},{"$f":"VLOOKUP(F1785,[1]总表!$A$3:$AF$30000,32,FALSE)","v":"学前教育"},"73"]
[1784,"吴艳",20230603016606,66,"06",1338,{"$f":"VLOOKUP(F1786,[1]总表!$A$3:$AF$30000,31,FALSE)","v":"幼儿园"},{"$f":"VLOOKUP(F1786,[1]总表!$A$3:$AF$30000,32,FALSE)","v":"学前教育"},"51"]
[1785,"杨武静",20230603016607,66,"07",1181,{"$f":"VLOOKUP(F1787,[1]总表!$A$3:$AF$30000,31,FALSE)","v":"幼儿园"},{"$f":"VLOOKUP(F1787,[1]总表!$A$3:$AF$30000,32,FALSE)","v":"学前教育"},"48"]
[1786,"杨小雨",20230603016608,66,"08",959,{"$f":"VLOOKUP(F1788,[1]总表!$A$3:$AF$30000,31,FALSE)","v":"幼儿园"},{"$f":"VLOOKUP(F1788,[1]总表!$A$3:$AF$30000,32,FALSE)","v":"学前教育"},"62.50"]
[1787,"余松平",20230603016609,66,"09",1392,{"$f":"VLOOKUP(F1789,[1]总表!$A$3:$AF$30000,31,FALSE)","v":"幼儿园"},{"$f":"VLOOKUP(F1789,[1]总表!$A$3:$AF$30000,32,FALSE)","v":"学前教育"},"36"]
[1788,"莫祥花",20230603016610,66,"10",1343,{"$f":"VLOOKUP(F1790,[1]总表!$A$3:$AF$30000,31,FALSE)","v":"幼儿园"},{"$f":"VLOOKUP(F1790,[1]总表!$A$3:$AF$30000,32,FALSE)","v":"学前教育"},"16"]
[1789,"冉玉叶",20230603016611,66,"11",903,{"$f":"VLOOKUP(F1791,[1]总表!$A$3:$AF$30000,31,FALSE)","v":"幼儿园"},{"$f":"VLOOKUP(F1791,[1]总表!$A$3:$AF$30000,32,FALSE)","v":"学前教育"},"39.50"]
[1790,"李光辉",20230603016612,66,"12",1389,{"$f":"VLOOKUP(F1792,[1]总表!$A$3:$AF$30000,31,FALSE)","v":"幼儿园"},{"$f":"VLOOKUP(F1792,[1]总表!$A$3:$AF$30000,32,FALSE)","v":"学前教育"},"44"]
[1791,"周林青",20230603016613,66,"13",1246,{"$f":"VLOOKUP(F1793,[1]总表!$A$3:$AF$30000,31,FALSE)","v":"幼儿园"},{"$f":"VLOOKUP(F1793,[1]总表!$A$3:$AF$30000,32,FALSE)","v":"学前教育"},"69.50"]
[1792,"唐珍艳",20230603016614,66,"14",1289,{"$f":"VLOOKUP(F1794,[1]总表!$A$3:$AF$30000,31,FALSE)","v":"幼儿园"},{"$f":"VLOOKUP(F1794,[1]总表!$A$3:$AF$30000,32,FALSE)","v":"学前教育"},"52"]
[1793,"周松琴",20230603016615,66,"15",1303,{"$f":"VLOOKUP(F1795,[1]总表!$A$3:$AF$30000,31,FALSE)","v":"幼儿园"},{"$f":"VLOOKUP(F1795,[1]总表!$A$3:$AF$30000,32,FALSE)","v":"学前教育"},"47"]
[1794,"吴婵雪琪",20230603016616,66,"16",1152,{"$f":"VLOOKUP(F1796,[1]总表!$A$3:$AF$30000,31,FALSE)","v":"幼儿园"},{"$f":"VLOOKUP(F1796,[1]总表!$A$3:$AF$30000,32,FALSE)","v":"学前教育"},"缺考"]
[1795,"江玉慈",20230603016617,66,"17",748,{"$f":"VLOOKUP(F1797,[1]总表!$A$3:$AF$30000,31,FALSE)","v":"幼儿园"},{"$f":"VLOOKUP(F1797,[1]总表!$A$3:$AF$30000,32,FALSE)","v":"学前教育"},"54"]
[1796,"石杨柳",20230603016618,66,"18",985,{"$f":"VLOOKUP(F1798,[1]总表!$A$3:$AF$30000,31,FALSE)","v":"幼儿园"},{"$f":"VLOOKUP(F1798,[1]总表!$A$3:$AF$30000,32,FALSE)","v":"学前教育"},"59.50"]
[1797,"田家颂",20230603016619,66,"19",1323,{"$f":"VLOOKUP(F1799,[1]总表!$A$3:$AF$30000,31,FALSE)","v":"幼儿园"},{"$f":"VLOOKUP(F1799,[1]总表!$A$3:$AF$30000,32,FALSE)","v":"学前教育"},"71"]
[1798,"白雪",20230603016620,66,"20",1017,{"$f":"VLOOKUP(F1800,[1]总表!$A$3:$AF$30000,31,FALSE)","v":"幼儿园"},{"$f":"VLOOKUP(F1800,[1]总表!$A$3:$AF$30000,32,FALSE)","v":"学前教育"},"50"]
[1799,"魏永红",20230603016621,66,"21",936,{"$f":"VLOOKUP(F1801,[1]总表!$A$3:$AF$30000,31,FALSE)","v":"幼儿园"},{"$f":"VLOOKUP(F1801,[1]总表!$A$3:$AF$30000,32,FALSE)","v":"学前教育"},"55"]
[1800,"杨艳华",20230603016622,66,"22",860,{"$f":"VLOOKUP(F1802,[1]总表!$A$3:$AF$30000,31,FALSE)","v":"幼儿园"},{"$f":"VLOOKUP(F1802,[1]总表!$A$3:$AF$30000,32,FALSE)","v":"学前教育"},"66"]
[1801,"吴婷",20230603016623,66,"23",887,{"$f":"VLOOKUP(F1803,[1]总表!$A$3:$AF$30000,31,FALSE)","v":"幼儿园"},{"$f":"VLOOKUP(F1803,[1]总表!$A$3:$AF$30000,32,FALSE)","v":"学前教育"},"43.50"]
[1802,"何银二",20230603016624,66,"24",1274,{"$f":"VLOOKUP(F1804,[1]总表!$A$3:$AF$30000,31,FALSE)","v":"幼儿园"},{"$f":"VLOOKUP(F1804,[1]总表!$A$3:$AF$30000,32,FALSE)","v":"学前教育"},"42.50"]
[1803,"周念",20230603016625,66,"25",1042,{"$f":"VLOOKUP(F1805,[1]总表!$A$3:$AF$30000,31,FALSE)","v":"幼儿园"},{"$f":"VLOOKUP(F1805,[1]总表!$A$3:$AF$30000,32,FALSE)","v":"学前教育"},"50"]
[1804,"杨雪",20230603016626,66,"26",1074,{"$f":"VLOOKUP(F1806,[1]总表!$A$3:$AF$30000,31,FALSE)","v":"幼儿园"},{"$f":"VLOOKUP(F1806,[1]总表!$A$3:$AF$30000,32,FALSE)","v":"学前教育"},"53"]
[1805,"郭琪璐",20230603016627,66,"27",1330,{"$f":"VLOOKUP(F1807,[1]总表!$A$3:$AF$30000,31,FALSE)","v":"幼儿园"},{"$f":"VLOOKUP(F1807,[1]总表!$A$3:$AF$30000,32,FALSE)","v":"学前教育"},"41.50"]
[1806,"龙雪",20230603016628,66,"28",1020,{"$f":"VLOOKUP(F1808,[1]总表!$A$3:$AF$30000,31,FALSE)","v":"幼儿园"},{"$f":"VLOOKUP(F1808,[1]总表!$A$3:$AF$30000,32,FALSE)","v":"学前教育"},"48"]
[1807,"石碧珍",20230603016629,66,"29",1061,{"$f":"VLOOKUP(F1809,[1]总表!$A$3:$AF$30000,31,FALSE)","v":"幼儿园"},{"$f":"VLOOKUP(F1809,[1]总表!$A$3:$AF$30000,32,FALSE)","v":"学前教育"},"57.50"]
[1808,"孙舒惠",20230603016630,66,"30",768,{"$f":"VLOOKUP(F1810,[1]总表!$A$3:$AF$30000,31,FALSE)","v":"幼儿园"},{"$f":"VLOOKUP(F1810,[1]总表!$A$3:$AF$30000,32,FALSE)","v":"学前教育"},"53"]
[1809,"杨艳巡",20230603016701,67,"01",805,{"$f":"VLOOKUP(F1811,[1]总表!$A$3:$AF$30000,31,FALSE)","v":"幼儿园"},{"$f":"VLOOKUP(F1811,[1]总表!$A$3:$AF$30000,32,FALSE)","v":"学前教育"},"71"]
[1810,"杨小妹",20230603016702,67,"02",732,{"$f":"VLOOKUP(F1812,[1]总表!$A$3:$AF$30000,31,FALSE)","v":"幼儿园"},{"$f":"VLOOKUP(F1812,[1]总表!$A$3:$AF$30000,32,FALSE)","v":"学前教育"},"69.50"]
[1811,"龙姣姣",20230603016703,67,"03",765,{"$f":"VLOOKUP(F1813,[1]总表!$A$3:$AF$30000,31,FALSE)","v":"幼儿园"},{"$f":"VLOOKUP(F1813,[1]总表!$A$3:$AF$30000,32,FALSE)","v":"学前教育"},"75.50"]
[1812,"雷飘",20230603016704,67,"04",1399,{"$f":"VLOOKUP(F1814,[1]总表!$A$3:$AF$30000,31,FALSE)","v":"幼儿园"},{"$f":"VLOOKUP(F1814,[1]总表!$A$3:$AF$30000,32,FALSE)","v":"学前教育"},"46"]
[1813,"何秀丽",20230603016705,67,"05",1369,{"$f":"VLOOKUP(F1815,[1]总表!$A$3:$AF$30000,31,FALSE)","v":"幼儿园"},{"$f":"VLOOKUP(F1815,[1]总表!$A$3:$AF$30000,32,FALSE)","v":"学前教育"},"37.50"]
[1814,"龙东燕",20230603016706,67,"06",922,{"$f":"VLOOKUP(F1816,[1]总表!$A$3:$AF$30000,31,FALSE)","v":"幼儿园"},{"$f":"VLOOKUP(F1816,[1]总表!$A$3:$AF$30000,32,FALSE)","v":"学前教育"},"39"]
[1815,"吴秋秋",20230603016707,67,"07",1481,{"$f":"VLOOKUP(F1817,[1]总表!$A$3:$AF$30000,31,FALSE)","v":"幼儿园"},{"$f":"VLOOKUP(F1817,[1]总表!$A$3:$AF$30000,32,FALSE)","v":"学前教育"},"32.50"]
[1816,"孙国慧",20230603016708,67,"08",825,{"$f":"VLOOKUP(F1818,[1]总表!$A$3:$AF$30000,31,FALSE)","v":"幼儿园"},{"$f":"VLOOKUP(F1818,[1]总表!$A$3:$AF$30000,32,FALSE)","v":"学前教育"},"86"]
[1817,"舒靖雯",20230603016709,67,"09",1046,{"$f":"VLOOKUP(F1819,[1]总表!$A$3:$AF$30000,31,FALSE)","v":"幼儿园"},{"$f":"VLOOKUP(F1819,[1]总表!$A$3:$AF$30000,32,FALSE)","v":"学前教育"},"42.50"]
[1818,"蒋露",20230603016710,67,"10",974,{"$f":"VLOOKUP(F1820,[1]总表!$A$3:$AF$30000,31,FALSE)","v":"幼儿园"},{"$f":"VLOOKUP(F1820,[1]总表!$A$3:$AF$30000,32,FALSE)","v":"学前教育"},"38.50"]
[1819,"刘晓慧",20230603016711,67,"11",803,{"$f":"VLOOKUP(F1821,[1]总表!$A$3:$AF$30000,31,FALSE)","v":"幼儿园"},{"$f":"VLOOKUP(F1821,[1]总表!$A$3:$AF$30000,32,FALSE)","v":"学前教育"},"75"]
[1820,"杨晓兰",20230603016712,67,"12",1291,{"$f":"VLOOKUP(F1822,[1]总表!$A$3:$AF$30000,31,FALSE)","v":"幼儿园"},{"$f":"VLOOKUP(F1822,[1]总表!$A$3:$AF$30000,32,FALSE)","v":"学前教育"},"61"]
[1821,"杨羽",20230603016713,67,"13",1413,{"$f":"VLOOKUP(F1823,[1]总表!$A$3:$AF$30000,31,FALSE)","v":"幼儿园"},{"$f":"VLOOKUP(F1823,[1]总表!$A$3:$AF$30000,32,FALSE)","v":"学前教育"},"60.50"]
[1822,"李岳婵",20230603016714,67,"14",837,{"$f":"VLOOKUP(F1824,[1]总表!$A$3:$AF$30000,31,FALSE)","v":"幼儿园"},{"$f":"VLOOKUP(F1824,[1]总表!$A$3:$AF$30000,32,FALSE)","v":"学前教育"},"54.50"]
[1823,"刘丽丽",20230603016715,67,"15",851,{"$f":"VLOOKUP(F1825,[1]总表!$A$3:$AF$30000,31,FALSE)","v":"幼儿园"},{"$f":"VLOOKUP(F1825,[1]总表!$A$3:$AF$30000,32,FALSE)","v":"学前教育"},"68"]
[1824,"张艳艳",20230603016716,67,"16",1013,{"$f":"VLOOKUP(F1826,[1]总表!$A$3:$AF$30000,31,FALSE)","v":"幼儿园"},{"$f":"VLOOKUP(F1826,[1]总表!$A$3:$AF$30000,32,FALSE)","v":"学前教育"},"46"]
[1825,"杨雪",20230603016717,67,"17",1111,{"$f":"VLOOKUP(F1827,[1]总表!$A$3:$AF$30000,31,FALSE)","v":"幼儿园"},{"$f":"VLOOKUP(F1827,[1]总表!$A$3:$AF$30000,32,FALSE)","v":"学前教育"},"66.50"]
[1826,"李倩",20230603016718,67,"18",996,{"$f":"VLOOKUP(F1828,[1]总表!$A$3:$AF$30000,31,FALSE)","v":"幼儿园"},{"$f":"VLOOKUP(F1828,[1]总表!$A$3:$AF$30000,32,FALSE)","v":"学前教育"},"63.50"]
[1827,"龙冬莲",20230603016719,67,"19",786,{"$f":"VLOOKUP(F1829,[1]总表!$A$3:$AF$30000,31,FALSE)","v":"幼儿园"},{"$f":"VLOOKUP(F1829,[1]总表!$A$3:$AF$30000,32,FALSE)","v":"学前教育"},"76.50"]
[1828,"雷元凤",20230603016720,67,"20",1117,{"$f":"VLOOKUP(F1830,[1]总表!$A$3:$AF$30000,31,FALSE)","v":"幼儿园"},{"$f":"VLOOKUP(F1830,[1]总表!$A$3:$AF$30000,32,FALSE)","v":"学前教育"},"63"]
[1829,"喻丫丫",20230603016721,67,"21",1118,{"$f":"VLOOKUP(F1831,[1]总表!$A$3:$AF$30000,31,FALSE)","v":"幼儿园"},{"$f":"VLOOKUP(F1831,[1]总表!$A$3:$AF$30000,32,FALSE)","v":"学前教育"},"48.50"]
[1830,"欧海霞",20230603016722,67,"22",782,{"$f":"VLOOKUP(F1832,[1]总表!$A$3:$AF$30000,31,FALSE)","v":"幼儿园"},{"$f":"VLOOKUP(F1832,[1]总表!$A$3:$AF$30000,32,FALSE)","v":"学前教育"},"37.50"]
[1831,"朱婷婷",20230603016723,67,"23",1235,{"$f":"VLOOKUP(F1833,[1]总表!$A$3:$AF$30000,31,FALSE)","v":"幼儿园"},{"$f":"VLOOKUP(F1833,[1]总表!$A$3:$AF$30000,32,FALSE)","v":"学前教育"},"53"]
[1832,"吴楠",20230603016724,67,"24",1280,{"$f":"VLOOKUP(F1834,[1]总表!$A$3:$AF$30000,31,FALSE)","v":"幼儿园"},{"$f":"VLOOKUP(F1834,[1]总表!$A$3:$AF$30000,32,FALSE)","v":"学前教育"},"47.50"]
[1833,"雷丝",20230603016725,67,"25",827,{"$f":"VLOOKUP(F1835,[1]总表!$A$3:$AF$30000,31,FALSE)","v":"幼儿园"},{"$f":"VLOOKUP(F1835,[1]总表!$A$3:$AF$30000,32,FALSE)","v":"学前教育"},"67.50"]
[1834,"吴亚男",20230603016726,67,"26",1285,{"$f":"VLOOKUP(F1836,[1]总表!$A$3:$AF$30000,31,FALSE)","v":"幼儿园"},{"$f":"VLOOKUP(F1836,[1]总表!$A$3:$AF$30000,32,FALSE)","v":"学前教育"},"61.50"]
[1835,"龙梓晴",20230603016727,67,"27",970,{"$f":"VLOOKUP(F1837,[1]总表!$A$3:$AF$30000,31,FALSE)","v":"幼儿园"},{"$f":"VLOOKUP(F1837,[1]总表!$A$3:$AF$30000,32,FALSE)","v":"学前教育"},"43"]
[1836,"张馨月",20230603016728,67,"28",730,{"$f":"VLOOKUP(F1838,[1]总表!$A$3:$AF$30000,31,FALSE)","v":"幼儿园"},{"$f":"VLOOKUP(F1838,[1]总表!$A$3:$AF$30000,32,FALSE)","v":"学前教育"},"77.50"]
[1837,"田慧",20230603016729,67,"29",945,{"$f":"VLOOKUP(F1839,[1]总表!$A$3:$AF$30000,31,FALSE)","v":"幼儿园"},{"$f":"VLOOKUP(F1839,[1]总表!$A$3:$AF$30000,32,FALSE)","v":"学前教育"},"41.50"]
[1838,"冉琴芳",20230603016730,67,"30",1177,{"$f":"VLOOKUP(F1840,[1]总表!$A$3:$AF$30000,31,FALSE)","v":"幼儿园"},{"$f":"VLOOKUP(F1840,[1]总表!$A$3:$AF$30000,32,FALSE)","v":"学前教育"},"69"]
[1839,"段昕",20230603016801,68,"01",1056,{"$f":"VLOOKUP(F1841,[1]总表!$A$3:$AF$30000,31,FALSE)","v":"幼儿园"},{"$f":"VLOOKUP(F1841,[1]总表!$A$3:$AF$30000,32,FALSE)","v":"学前教育"},"53.50"]
[1840,"阙琳丽",20230603016802,68,"02",940,{"$f":"VLOOKUP(F1842,[1]总表!$A$3:$AF$30000,31,FALSE)","v":"幼儿园"},{"$f":"VLOOKUP(F1842,[1]总表!$A$3:$AF$30000,32,FALSE)","v":"学前教育"},"50"]
[1841,"王信",20230603016803,68,"03",1328,{"$f":"VLOOKUP(F1843,[1]总表!$A$3:$AF$30000,31,FALSE)","v":"幼儿园"},{"$f":"VLOOKUP(F1843,[1]总表!$A$3:$AF$30000,32,FALSE)","v":"学前教育"},"44"]
[1842,"张燕",20230603016804,68,"04",1443,{"$f":"VLOOKUP(F1844,[1]总表!$A$3:$AF$30000,31,FALSE)","v":"幼儿园"},{"$f":"VLOOKUP(F1844,[1]总表!$A$3:$AF$30000,32,FALSE)","v":"学前教育"},"32"]
[1843,"黄艳冰",20230603016805,68,"05",743,{"$f":"VLOOKUP(F1845,[1]总表!$A$3:$AF$30000,31,FALSE)","v":"幼儿园"},{"$f":"VLOOKUP(F1845,[1]总表!$A$3:$AF$30000,32,FALSE)","v":"学前教育"},"46.50"]
[1844,"邓文雯",20230603016806,68,"06",724,{"$f":"VLOOKUP(F1846,[1]总表!$A$3:$AF$30000,31,FALSE)","v":"幼儿园"},{"$f":"VLOOKUP(F1846,[1]总表!$A$3:$AF$30000,32,FALSE)","v":"学前教育"},"44.50"]
[1845,"吴小琴",20230603016807,68,"07",1435,{"$f":"VLOOKUP(F1847,[1]总表!$A$3:$AF$30000,31,FALSE)","v":"幼儿园"},{"$f":"VLOOKUP(F1847,[1]总表!$A$3:$AF$30000,32,FALSE)","v":"学前教育"},"38"]
[1846,"欧阳翠",20230603016808,68,"08",813,{"$f":"VLOOKUP(F1848,[1]总表!$A$3:$AF$30000,31,FALSE)","v":"幼儿园"},{"$f":"VLOOKUP(F1848,[1]总表!$A$3:$AF$30000,32,FALSE)","v":"学前教育"},"45"]
[1847,"龙万英",20230603016809,68,"09",799,{"$f":"VLOOKUP(F1849,[1]总表!$A$3:$AF$30000,31,FALSE)","v":"幼儿园"},{"$f":"VLOOKUP(F1849,[1]总表!$A$3:$AF$30000,32,FALSE)","v":"学前教育"},"65"]
[1848,"龙晓红",20230603016810,68,"10",880,{"$f":"VLOOKUP(F1850,[1]总表!$A$3:$AF$30000,31,FALSE)","v":"幼儿园"},{"$f":"VLOOKUP(F1850,[1]总表!$A$3:$AF$30000,32,FALSE)","v":"学前教育"},"68"]
[1849,"刘妹",20230603016811,68,"11",1477,{"$f":"VLOOKUP(F1851,[1]总表!$A$3:$AF$30000,31,FALSE)","v":"幼儿园"},{"$f":"VLOOKUP(F1851,[1]总表!$A$3:$AF$30000,32,FALSE)","v":"学前教育"},"49.50"]
[1850,"戴雪",20230603016812,68,"12",1257,{"$f":"VLOOKUP(F1852,[1]总表!$A$3:$AF$30000,31,FALSE)","v":"幼儿园"},{"$f":"VLOOKUP(F1852,[1]总表!$A$3:$AF$30000,32,FALSE)","v":"学前教育"},"44.50"]
[1851,"易柏敏",20230603016813,68,"13",888,{"$f":"VLOOKUP(F1853,[1]总表!$A$3:$AF$30000,31,FALSE)","v":"幼儿园"},{"$f":"VLOOKUP(F1853,[1]总表!$A$3:$AF$30000,32,FALSE)","v":"学前教育"},"68"]
[1852,"杨云燕",20230603016814,68,"14",1060,{"$f":"VLOOKUP(F1854,[1]总表!$A$3:$AF$30000,31,FALSE)","v":"幼儿园"},{"$f":"VLOOKUP(F1854,[1]总表!$A$3:$AF$30000,32,FALSE)","v":"学前教育"},"64.50"]
[1853,"陶婷婷",20230603016815,68,"15",806,{"$f":"VLOOKUP(F1855,[1]总表!$A$3:$AF$30000,31,FALSE)","v":"幼儿园"},{"$f":"VLOOKUP(F1855,[1]总表!$A$3:$AF$30000,32,FALSE)","v":"学前教育"},"77"]
[1854,"陆玲",20230603016816,68,"16",960,{"$f":"VLOOKUP(F1856,[1]总表!$A$3:$AF$30000,31,FALSE)","v":"幼儿园"},{"$f":"VLOOKUP(F1856,[1]总表!$A$3:$AF$30000,32,FALSE)","v":"学前教育"},"46.50"]
[1855,"龙再竹",20230603016817,68,"17",1161,{"$f":"VLOOKUP(F1857,[1]总表!$A$3:$AF$30000,31,FALSE)","v":"幼儿园"},{"$f":"VLOOKUP(F1857,[1]总表!$A$3:$AF$30000,32,FALSE)","v":"学前教育"},"44"]
[1856,"龙晓琴",20230603016818,68,"18",781,{"$f":"VLOOKUP(F1858,[1]总表!$A$3:$AF$30000,31,FALSE)","v":"幼儿园"},{"$f":"VLOOKUP(F1858,[1]总表!$A$3:$AF$30000,32,FALSE)","v":"学前教育"},"38"]
[1857,"吴玉芳",20230603016819,68,"19",1451,{"$f":"VLOOKUP(F1859,[1]总表!$A$3:$AF$30000,31,FALSE)","v":"幼儿园"},{"$f":"VLOOKUP(F1859,[1]总表!$A$3:$AF$30000,32,FALSE)","v":"学前教育"},"36"]
[1858,"杨娜菲",20230603016820,68,"20",1233,{"$f":"VLOOKUP(F1860,[1]总表!$A$3:$AF$30000,31,FALSE)","v":"幼儿园"},{"$f":"VLOOKUP(F1860,[1]总表!$A$3:$AF$30000,32,FALSE)","v":"学前教育"},"64"]
[1859,"陈影",20230603016821,68,"21",1276,{"$f":"VLOOKUP(F1861,[1]总表!$A$3:$AF$30000,31,FALSE)","v":"幼儿园"},{"$f":"VLOOKUP(F1861,[1]总表!$A$3:$AF$30000,32,FALSE)","v":"学前教育"},"63"]
[1860,"龙霞",20230603016822,68,"22",1064,{"$f":"VLOOKUP(F1862,[1]总表!$A$3:$AF$30000,31,FALSE)","v":"幼儿园"},{"$f":"VLOOKUP(F1862,[1]总表!$A$3:$AF$30000,32,FALSE)","v":"学前教育"},"74"]
[1861,"喻国羽",20230603016823,68,"23",1461,{"$f":"VLOOKUP(F1863,[1]总表!$A$3:$AF$30000,31,FALSE)","v":"幼儿园"},{"$f":"VLOOKUP(F1863,[1]总表!$A$3:$AF$30000,32,FALSE)","v":"学前教育"},"33"]
[1862,"王丽",20230603016824,68,"24",1360,{"$f":"VLOOKUP(F1864,[1]总表!$A$3:$AF$30000,31,FALSE)","v":"幼儿园"},{"$f":"VLOOKUP(F1864,[1]总表!$A$3:$AF$30000,32,FALSE)","v":"学前教育"},"71"]
[1863,"万红敏",20230603016825,68,"25",1290,{"$f":"VLOOKUP(F1865,[1]总表!$A$3:$AF$30000,31,FALSE)","v":"幼儿园"},{"$f":"VLOOKUP(F1865,[1]总表!$A$3:$AF$30000,32,FALSE)","v":"学前教育"},"75"]
[1864,"杨思",20230603016826,68,"26",904,{"$f":"VLOOKUP(F1866,[1]总表!$A$3:$AF$30000,31,FALSE)","v":"幼儿园"},{"$f":"VLOOKUP(F1866,[1]总表!$A$3:$AF$30000,32,FALSE)","v":"学前教育"},"33.50"]
[1865,"龙湘明",20230603016827,68,"27",1446,{"$f":"VLOOKUP(F1867,[1]总表!$A$3:$AF$30000,31,FALSE)","v":"幼儿园"},{"$f":"VLOOKUP(F1867,[1]总表!$A$3:$AF$30000,32,FALSE)","v":"学前教育"},"缺考"]
[1866,"田美玲",20230603016828,68,"28",1032,{"$f":"VLOOKUP(F1868,[1]总表!$A$3:$AF$30000,31,FALSE)","v":"幼儿园"},{"$f":"VLOOKUP(F1868,[1]总表!$A$3:$AF$30000,32,FALSE)","v":"学前教育"},"74.50"]
[1867,"刘亚琴",20230603016829,68,"29",1353,{"$f":"VLOOKUP(F1869,[1]总表!$A$3:$AF$30000,31,FALSE)","v":"幼儿园"},{"$f":"VLOOKUP(F1869,[1]总表!$A$3:$AF$30000,32,FALSE)","v":"学前教育"},"47.50"]
[1868,"吴佳俊",20230603016830,68,"30",1320,{"$f":"VLOOKUP(F1870,[1]总表!$A$3:$AF$30000,31,FALSE)","v":"幼儿园"},{"$f":"VLOOKUP(F1870,[1]总表!$A$3:$AF$30000,32,FALSE)","v":"学前教育"},"43.50"]
[1869,"孙思琪",20230603016901,69,"01",982,{"$f":"VLOOKUP(F1871,[1]总表!$A$3:$AF$30000,31,FALSE)","v":"幼儿园"},{"$f":"VLOOKUP(F1871,[1]总表!$A$3:$AF$30000,32,FALSE)","v":"学前教育"},"41"]
[1870,"邓艳",20230603016902,69,"02",728,{"$f":"VLOOKUP(F1872,[1]总表!$A$3:$AF$30000,31,FALSE)","v":"幼儿园"},{"$f":"VLOOKUP(F1872,[1]总表!$A$3:$AF$30000,32,FALSE)","v":"学前教育"},"48.50"]
[1871,"杨娜",20230603016903,69,"03",1194,{"$f":"VLOOKUP(F1873,[1]总表!$A$3:$AF$30000,31,FALSE)","v":"幼儿园"},{"$f":"VLOOKUP(F1873,[1]总表!$A$3:$AF$30000,32,FALSE)","v":"学前教育"},"61.50"]
[1872,"田喜兰",20230603016904,69,"04",747,{"$f":"VLOOKUP(F1874,[1]总表!$A$3:$AF$30000,31,FALSE)","v":"幼儿园"},{"$f":"VLOOKUP(F1874,[1]总表!$A$3:$AF$30000,32,FALSE)","v":"学前教育"},"79.50"]
[1873,"石珍碧",20230603016905,69,"05",875,{"$f":"VLOOKUP(F1875,[1]总表!$A$3:$AF$30000,31,FALSE)","v":"幼儿园"},{"$f":"VLOOKUP(F1875,[1]总表!$A$3:$AF$30000,32,FALSE)","v":"学前教育"},"69.50"]
[1874,"石文锡",20230603016906,69,"06",1209,{"$f":"VLOOKUP(F1876,[1]总表!$A$3:$AF$30000,31,FALSE)","v":"幼儿园"},{"$f":"VLOOKUP(F1876,[1]总表!$A$3:$AF$30000,32,FALSE)","v":"学前教育"},"75.50"]
[1875,"龙珠",20230603016907,69,"07",839,{"$f":"VLOOKUP(F1877,[1]总表!$A$3:$AF$30000,31,FALSE)","v":"幼儿园"},{"$f":"VLOOKUP(F1877,[1]总表!$A$3:$AF$30000,32,FALSE)","v":"学前教育"},"78"]
[1876,"杨嫡",20230603016908,69,"08",1031,{"$f":"VLOOKUP(F1878,[1]总表!$A$3:$AF$30000,31,FALSE)","v":"幼儿园"},{"$f":"VLOOKUP(F1878,[1]总表!$A$3:$AF$30000,32,FALSE)","v":"学前教育"},"57"]
[1877,"张文钗",20230603016909,69,"09",750,{"$f":"VLOOKUP(F1879,[1]总表!$A$3:$AF$30000,31,FALSE)","v":"幼儿园"},{"$f":"VLOOKUP(F1879,[1]总表!$A$3:$AF$30000,32,FALSE)","v":"学前教育"},"76.50"]
[1878,"石瑶瑶",20230603016910,69,"10",1447,{"$f":"VLOOKUP(F1880,[1]总表!$A$3:$AF$30000,31,FALSE)","v":"幼儿园"},{"$f":"VLOOKUP(F1880,[1]总表!$A$3:$AF$30000,32,FALSE)","v":"学前教育"},"57"]
[1879,"谭洁",20230603016911,69,"11",926,{"$f":"VLOOKUP(F1881,[1]总表!$A$3:$AF$30000,31,FALSE)","v":"幼儿园"},{"$f":"VLOOKUP(F1881,[1]总表!$A$3:$AF$30000,32,FALSE)","v":"学前教育"},"51"]
[1880,"杨群",20230603016912,69,"12",1381,{"$f":"VLOOKUP(F1882,[1]总表!$A$3:$AF$30000,31,FALSE)","v":"幼儿园"},{"$f":"VLOOKUP(F1882,[1]总表!$A$3:$AF$30000,32,FALSE)","v":"学前教育"},"40.50"]
[1881,"杨娟",20230603016913,69,"13",1279,{"$f":"VLOOKUP(F1883,[1]总表!$A$3:$AF$30000,31,FALSE)","v":"幼儿园"},{"$f":"VLOOKUP(F1883,[1]总表!$A$3:$AF$30000,32,FALSE)","v":"学前教育"},"61.50"]
[1882,"梁月亮",20230603016914,69,"14",762,{"$f":"VLOOKUP(F1884,[1]总表!$A$3:$AF$30000,31,FALSE)","v":"幼儿园"},{"$f":"VLOOKUP(F1884,[1]总表!$A$3:$AF$30000,32,FALSE)","v":"学前教育"},"70.50"]
[1883,"廖露华",20230603016915,69,"15",1376,{"$f":"VLOOKUP(F1885,[1]总表!$A$3:$AF$30000,31,FALSE)","v":"幼儿园"},{"$f":"VLOOKUP(F1885,[1]总表!$A$3:$AF$30000,32,FALSE)","v":"学前教育"},"48.50"]
[1884,"石玉珍",20230603016916,69,"16",1187,{"$f":"VLOOKUP(F1886,[1]总表!$A$3:$AF$30000,31,FALSE)","v":"幼儿园"},{"$f":"VLOOKUP(F1886,[1]总表!$A$3:$AF$30000,32,FALSE)","v":"学前教育"},"65.50"]
[1885,"黄明丽",20230603016917,69,"17",844,{"$f":"VLOOKUP(F1887,[1]总表!$A$3:$AF$30000,31,FALSE)","v":"幼儿园"},{"$f":"VLOOKUP(F1887,[1]总表!$A$3:$AF$30000,32,FALSE)","v":"学前教育"},"45"]
[1886,"罗雪",20230603016918,69,"18",1067,{"$f":"VLOOKUP(F1888,[1]总表!$A$3:$AF$30000,31,FALSE)","v":"幼儿园"},{"$f":"VLOOKUP(F1888,[1]总表!$A$3:$AF$30000,32,FALSE)","v":"学前教育"},"47.50"]
[1887,"甘沙沙",20230603016919,69,"19",1278,{"$f":"VLOOKUP(F1889,[1]总表!$A$3:$AF$30000,31,FALSE)","v":"幼儿园"},{"$f":"VLOOKUP(F1889,[1]总表!$A$3:$AF$30000,32,FALSE)","v":"学前教育"},"43.50"]
[1888,"罗雅鑫",20230603016920,69,"20",1197,{"$f":"VLOOKUP(F1890,[1]总表!$A$3:$AF$30000,31,FALSE)","v":"幼儿园"},{"$f":"VLOOKUP(F1890,[1]总表!$A$3:$AF$30000,32,FALSE)","v":"学前教育"},"79"]
[1889,"石昭萍",20230603016921,69,"21",938,{"$f":"VLOOKUP(F1891,[1]总表!$A$3:$AF$30000,31,FALSE)","v":"幼儿园"},{"$f":"VLOOKUP(F1891,[1]总表!$A$3:$AF$30000,32,FALSE)","v":"学前教育"},"75.50"]
[1890,"刘翠",20230603016922,69,"22",1319,{"$f":"VLOOKUP(F1892,[1]总表!$A$3:$AF$30000,31,FALSE)","v":"幼儿园"},{"$f":"VLOOKUP(F1892,[1]总表!$A$3:$AF$30000,32,FALSE)","v":"学前教育"},"58.50"]
[1891,"张小琼",20230603016923,69,"23",802,{"$f":"VLOOKUP(F1893,[1]总表!$A$3:$AF$30000,31,FALSE)","v":"幼儿园"},{"$f":"VLOOKUP(F1893,[1]总表!$A$3:$AF$30000,32,FALSE)","v":"学前教育"},"60.50"]
[1892,"龙秋菊",20230603016924,69,"24",1457,{"$f":"VLOOKUP(F1894,[1]总表!$A$3:$AF$30000,31,FALSE)","v":"幼儿园"},{"$f":"VLOOKUP(F1894,[1]总表!$A$3:$AF$30000,32,FALSE)","v":"学前教育"},"47"]
[1893,"王云秀",20230603016925,69,"25",1002,{"$f":"VLOOKUP(F1895,[1]总表!$A$3:$AF$30000,31,FALSE)","v":"幼儿园"},{"$f":"VLOOKUP(F1895,[1]总表!$A$3:$AF$30000,32,FALSE)","v":"学前教育"},"65"]
[1894,"李一琳",20230603016926,69,"26",1251,{"$f":"VLOOKUP(F1896,[1]总表!$A$3:$AF$30000,31,FALSE)","v":"幼儿园"},{"$f":"VLOOKUP(F1896,[1]总表!$A$3:$AF$30000,32,FALSE)","v":"学前教育"},"72"]
[1895,"唐红平",20230603016927,69,"27",1439,{"$f":"VLOOKUP(F1897,[1]总表!$A$3:$AF$30000,31,FALSE)","v":"幼儿园"},{"$f":"VLOOKUP(F1897,[1]总表!$A$3:$AF$30000,32,FALSE)","v":"学前教育"},"59.50"]
[1896,"杨爱珍",20230603016928,69,"28",1207,{"$f":"VLOOKUP(F1898,[1]总表!$A$3:$AF$30000,31,FALSE)","v":"幼儿园"},{"$f":"VLOOKUP(F1898,[1]总表!$A$3:$AF$30000,32,FALSE)","v":"学前教育"},"41"]
[1897,"陈刚",20230603016929,69,"29",1086,{"$f":"VLOOKUP(F1899,[1]总表!$A$3:$AF$30000,31,FALSE)","v":"幼儿园"},{"$f":"VLOOKUP(F1899,[1]总表!$A$3:$AF$30000,32,FALSE)","v":"学前教育"},"45.50"]
[1898,"吴海婷",20230603016930,69,"30",1270,{"$f":"VLOOKUP(F1900,[1]总表!$A$3:$AF$30000,31,FALSE)","v":"幼儿园"},{"$f":"VLOOKUP(F1900,[1]总表!$A$3:$AF$30000,32,FALSE)","v":"学前教育"},"64.50"]
[1899,"黄金玉",20230603017001,70,"01",1329,{"$f":"VLOOKUP(F1901,[1]总表!$A$3:$AF$30000,31,FALSE)","v":"幼儿园"},{"$f":"VLOOKUP(F1901,[1]总表!$A$3:$AF$30000,32,FALSE)","v":"学前教育"},"73"]
[1900,"蒋婷婷",20230603017002,70,"02",1349,{"$f":"VLOOKUP(F1902,[1]总表!$A$3:$AF$30000,31,FALSE)","v":"幼儿园"},{"$f":"VLOOKUP(F1902,[1]总表!$A$3:$AF$30000,32,FALSE)","v":"学前教育"},"54.50"]
[1901,"曹露",20230603017003,70,"03",808,{"$f":"VLOOKUP(F1903,[1]总表!$A$3:$AF$30000,31,FALSE)","v":"幼儿园"},{"$f":"VLOOKUP(F1903,[1]总表!$A$3:$AF$30000,32,FALSE)","v":"学前教育"},"49"]
[1902,"姚馨怡",20230603017004,70,"04",1170,{"$f":"VLOOKUP(F1904,[1]总表!$A$3:$AF$30000,31,FALSE)","v":"幼儿园"},{"$f":"VLOOKUP(F1904,[1]总表!$A$3:$AF$30000,32,FALSE)","v":"学前教育"},"33"]
[1903,"周跃芳",20230603017005,70,"05",1273,{"$f":"VLOOKUP(F1905,[1]总表!$A$3:$AF$30000,31,FALSE)","v":"幼儿园"},{"$f":"VLOOKUP(F1905,[1]总表!$A$3:$AF$30000,32,FALSE)","v":"学前教育"},"43"]
[1904,"吴秀英",20230603017006,70,"06",1099,{"$f":"VLOOKUP(F1906,[1]总表!$A$3:$AF$30000,31,FALSE)","v":"幼儿园"},{"$f":"VLOOKUP(F1906,[1]总表!$A$3:$AF$30000,32,FALSE)","v":"学前教育"},"75.50"]
[1905,"余佳丽",20230603017007,70,"07",900,{"$f":"VLOOKUP(F1907,[1]总表!$A$3:$AF$30000,31,FALSE)","v":"幼儿园"},{"$f":"VLOOKUP(F1907,[1]总表!$A$3:$AF$30000,32,FALSE)","v":"学前教育"},"24"]
[1906,"陈菊园",20230603017008,70,"08",1467,{"$f":"VLOOKUP(F1908,[1]总表!$A$3:$AF$30000,31,FALSE)","v":"幼儿园"},{"$f":"VLOOKUP(F1908,[1]总表!$A$3:$AF$30000,32,FALSE)","v":"学前教育"},"38.50"]
[1907,"麻丽琴",20230603017009,70,"09",965,{"$f":"VLOOKUP(F1909,[1]总表!$A$3:$AF$30000,31,FALSE)","v":"幼儿园"},{"$f":"VLOOKUP(F1909,[1]总表!$A$3:$AF$30000,32,FALSE)","v":"学前教育"},"66.50"]
[1908,"代平芬",20230603017010,70,"10",1361,{"$f":"VLOOKUP(F1910,[1]总表!$A$3:$AF$30000,31,FALSE)","v":"幼儿园"},{"$f":"VLOOKUP(F1910,[1]总表!$A$3:$AF$30000,32,FALSE)","v":"学前教育"},"65.50"]
[1909,"周清芬",20230603017011,70,"11",1253,{"$f":"VLOOKUP(F1911,[1]总表!$A$3:$AF$30000,31,FALSE)","v":"幼儿园"},{"$f":"VLOOKUP(F1911,[1]总表!$A$3:$AF$30000,32,FALSE)","v":"学前教育"},"51.50"]
[1910,"杨小月",20230603017012,70,"12",1045,{"$f":"VLOOKUP(F1912,[1]总表!$A$3:$AF$30000,31,FALSE)","v":"幼儿园"},{"$f":"VLOOKUP(F1912,[1]总表!$A$3:$AF$30000,32,FALSE)","v":"学前教育"},"59.50"]
[1911,"张蓉",20230603017013,70,"13",951,{"$f":"VLOOKUP(F1913,[1]总表!$A$3:$AF$30000,31,FALSE)","v":"幼儿园"},{"$f":"VLOOKUP(F1913,[1]总表!$A$3:$AF$30000,32,FALSE)","v":"学前教育"},"41.50"]
[1912,"吴雪冰",20230603017014,70,"14",1137,{"$f":"VLOOKUP(F1914,[1]总表!$A$3:$AF$30000,31,FALSE)","v":"幼儿园"},{"$f":"VLOOKUP(F1914,[1]总表!$A$3:$AF$30000,32,FALSE)","v":"学前教育"},"52.50"]
[1913,"陈玲",20230603017015,70,"15",1420,{"$f":"VLOOKUP(F1915,[1]总表!$A$3:$AF$30000,31,FALSE)","v":"幼儿园"},{"$f":"VLOOKUP(F1915,[1]总表!$A$3:$AF$30000,32,FALSE)","v":"学前教育"},"51.50"]
[1914,"石启玲",20230603017016,70,"16",1102,{"$f":"VLOOKUP(F1916,[1]总表!$A$3:$AF$30000,31,FALSE)","v":"幼儿园"},{"$f":"VLOOKUP(F1916,[1]总表!$A$3:$AF$30000,32,FALSE)","v":"学前教育"},"52.50"]
[1915,"田玉娟",20230603017017,70,"17",1271,{"$f":"VLOOKUP(F1917,[1]总表!$A$3:$AF$30000,31,FALSE)","v":"幼儿园"},{"$f":"VLOOKUP(F1917,[1]总表!$A$3:$AF$30000,32,FALSE)","v":"学前教育"},"43.50"]
[1916,"杨海燕",20230603017018,70,"18",1403,{"$f":"VLOOKUP(F1918,[1]总表!$A$3:$AF$30000,31,FALSE)","v":"幼儿园"},{"$f":"VLOOKUP(F1918,[1]总表!$A$3:$AF$30000,32,FALSE)","v":"学前教育"},"42"]
[1917,"龙视丹",20230603017019,70,"19",811,{"$f":"VLOOKUP(F1919,[1]总表!$A$3:$AF$30000,31,FALSE)","v":"幼儿园"},{"$f":"VLOOKUP(F1919,[1]总表!$A$3:$AF$30000,32,FALSE)","v":"学前教育"},"49"]
[1918,"杨亦勰",20230603017020,70,"20",930,{"$f":"VLOOKUP(F1920,[1]总表!$A$3:$AF$30000,31,FALSE)","v":"幼儿园"},{"$f":"VLOOKUP(F1920,[1]总表!$A$3:$AF$30000,32,FALSE)","v":"学前教育"},"45"]
[1919,"孙思",20230603017021,70,"21",758,{"$f":"VLOOKUP(F1921,[1]总表!$A$3:$AF$30000,31,FALSE)","v":"幼儿园"},{"$f":"VLOOKUP(F1921,[1]总表!$A$3:$AF$30000,32,FALSE)","v":"学前教育"},"73.50"]
[1920,"谢秀飞",20230603017022,70,"22",792,{"$f":"VLOOKUP(F1922,[1]总表!$A$3:$AF$30000,31,FALSE)","v":"幼儿园"},{"$f":"VLOOKUP(F1922,[1]总表!$A$3:$AF$30000,32,FALSE)","v":"学前教育"},"62"]
[1921,"彭琴芬",20230603017023,70,"23",1037,{"$f":"VLOOKUP(F1923,[1]总表!$A$3:$AF$30000,31,FALSE)","v":"幼儿园"},{"$f":"VLOOKUP(F1923,[1]总表!$A$3:$AF$30000,32,FALSE)","v":"学前教育"},"53.50"]
[1922,"黄爱玲",20230603017024,70,"24",737,{"$f":"VLOOKUP(F1924,[1]总表!$A$3:$AF$30000,31,FALSE)","v":"幼儿园"},{"$f":"VLOOKUP(F1924,[1]总表!$A$3:$AF$30000,32,FALSE)","v":"学前教育"},"67"]
[1923,"黄晓倩",20230603017025,70,"25",1264,{"$f":"VLOOKUP(F1925,[1]总表!$A$3:$AF$30000,31,FALSE)","v":"幼儿园"},{"$f":"VLOOKUP(F1925,[1]总表!$A$3:$AF$30000,32,FALSE)","v":"学前教育"},"56"]
[1924,"石玉红",20230603017026,70,"26",873,{"$f":"VLOOKUP(F1926,[1]总表!$A$3:$AF$30000,31,FALSE)","v":"幼儿园"},{"$f":"VLOOKUP(F1926,[1]总表!$A$3:$AF$30000,32,FALSE)","v":"学前教育"},"73"]
[1925,"尚杨敏",20230603017027,70,"27",983,{"$f":"VLOOKUP(F1927,[1]总表!$A$3:$AF$30000,31,FALSE)","v":"幼儿园"},{"$f":"VLOOKUP(F1927,[1]总表!$A$3:$AF$30000,32,FALSE)","v":"学前教育"},"50.50"]
[1926,"冉明玲",20230603017028,70,"28",947,{"$f":"VLOOKUP(F1928,[1]总表!$A$3:$AF$30000,31,FALSE)","v":"幼儿园"},{"$f":"VLOOKUP(F1928,[1]总表!$A$3:$AF$30000,32,FALSE)","v":"学前教育"},"46.50"]
[1927,"吴丹",20230603017029,70,"29",1312,{"$f":"VLOOKUP(F1929,[1]总表!$A$3:$AF$30000,31,FALSE)","v":"幼儿园"},{"$f":"VLOOKUP(F1929,[1]总表!$A$3:$AF$30000,32,FALSE)","v":"学前教育"},"46"]
[1928,"黎秀红",20230603017030,70,"30",819,{"$f":"VLOOKUP(F1930,[1]总表!$A$3:$AF$30000,31,FALSE)","v":"幼儿园"},{"$f":"VLOOKUP(F1930,[1]总表!$A$3:$AF$30000,32,FALSE)","v":"学前教育"},"72"]
[1929,"杨丹",20230603017101,71,"01",1324,{"$f":"VLOOKUP(F1931,[1]总表!$A$3:$AF$30000,31,FALSE)","v":"幼儿园"},{"$f":"VLOOKUP(F1931,[1]总表!$A$3:$AF$30000,32,FALSE)","v":"学前教育"},"28.50"]
[1930,"冯红红",20230603017102,71,"02",790,{"$f":"VLOOKUP(F1932,[1]总表!$A$3:$AF$30000,31,FALSE)","v":"幼儿园"},{"$f":"VLOOKUP(F1932,[1]总表!$A$3:$AF$30000,32,FALSE)","v":"学前教育"},"66"]
[1931,"麻丽蓉",20230603017103,71,"03",1048,{"$f":"VLOOKUP(F1933,[1]总表!$A$3:$AF$30000,31,FALSE)","v":"幼儿园"},{"$f":"VLOOKUP(F1933,[1]总表!$A$3:$AF$30000,32,FALSE)","v":"学前教育"},"77.50"]

{"sheet":"Sheet3","index":1,"n_rows":0,"n_cols":0,"rows_kept":0}