{"text_format":"3","workbook":"xlsx","n_sheets":1,"sheets":["Sheet1"],"not_rendered":{"external_links":1},"read":"whole","date_system":"1900"}

{"sheet":"Sheet1","index":0,"n_rows":44,"n_cols":13,"rows_kept":44,"merged":[[0,0,0,12]]}
["贵阳市综合行政执法局2024年公开招聘局属事业单位工作人员专业测试成绩及进入面试环节人员名单"]
["序号","姓名","准考证号","单位","报考岗位及代码","笔试成绩","笔试成绩（百分制）","笔试成绩30%","专业测试成绩","专业测试成绩40%","笔试、专业测试成绩","笔试、专业测试排名","是否进入下一轮"]
[1,"王昌会","1152010200104","贵阳市环境卫生管理服务中心","01专业技术岗位",198,{"v":66,"d":"66.00"},{"v":19.8,"d":"19.80"},"89",35.6,55.4,1,"是"]
[2," 阚成燕","1152010200716","贵阳市环境卫生管理服务中心","01专业技术岗位",171,{"v":57,"d":"57.00"},{"v":17.1,"d":"17.10"},89,35.6,52.7,2,"是"]
[3,"夏思艺","1152010201006","贵阳市环境卫生管理服务中心","01专业技术岗位",182.5,60.83,18.25,"86",34.4,52.65,3,"是"]
[4,"曹憶连","1152010201823","贵阳市环境卫生管理服务中心","01专业技术岗位",174.5,58.17,17.45,86,34.4,51.85,4,"否"]
[5,"宋媛","1152010200128","贵阳市环境卫生管理服务中心","01专业技术岗位",203,67.67,{"v":20.3,"d":"20.30"},"77",30.8,51.1,5,"否"]
[6,"张蕾","1152010201324","贵阳市环境卫生管理服务中心","01专业技术岗位",183,{"v":61,"d":"61.00"},{"v":18.3,"d":"18.30"},"78",31.2,49.5,6,"否"]
[7,"候立兵","1152010201621","贵阳市环境卫生管理服务中心","01专业技术岗位",180.5,60.17,18.05,"67",26.8,44.85,7,"否"]
[8,"董敏","1152010201301","贵阳市环境卫生管理服务中心","01专业技术岗位",190,63.33,{"v":19,"d":"19.00"},"64",25.6,44.6,8,"否"]
[9,"李馨月","1152010202209","贵阳市环境卫生管理服务中心","01专业技术岗位",185,61.67,{"v":18.5,"d":"18.50"},"55",22,40.5,9,"否"]
[10,"韩沂男","1152010200624","贵阳市环境卫生管理服务中心","01专业技术岗位",205.5,{"v":68.5,"d":"68.50"},20.55," 缺考","缺考","20.55",10,"否"]
[]
[1,{"$f":"[1]Sheet1!B3","v":"杨路宁"},{"$f":"[1]Sheet1!C3","v":"1152010200907"},{"$f":"[1]Sheet1!D3","v":"贵阳市城市绿化服务中心"},"01专业技术岗位",{"v":213,"d":"213.00"},{"v":71,"d":"71.00"},{"v":21.3,"d":"21.30"},{"v":86,"d":"86.00"},{"v":34.4,"d":"34.40"},{"v":55.7,"d":"55.70"},"1",{"$f":"[1]Sheet1!M3","v":"是"}]
[2,{"$f":"[1]Sheet1!B4","v":"刘妍"},{"$f":"[1]Sheet1!C4","v":"1152010200430"},{"$f":"[1]Sheet1!D4","v":"贵阳市城市绿化服务中心"},"01专业技术岗位",{"v":217,"d":"217.00"},{"v":72.3333333333333,"d":"72.33"},{"v":21.7,"d":"21.70"},{"v":75,"d":"75.00"},{"v":30,"d":"30.00"},{"v":51.7,"d":"51.70"},"2",{"$f":"[1]Sheet1!M4","v":"是"}]
[3,{"$f":"[1]Sheet1!B5","v":"严欣"},{"$f":"[1]Sheet1!C5","v":"1152010200612"},{"$f":"[1]Sheet1!D5","v":"贵阳市城市绿化服务中心"},"01专业技术岗位",{"v":172,"d":"172.00"},{"v":57.3333333333333,"d":"57.33"},{"v":17.2,"d":"17.20"},{"v":86,"d":"86.00"},{"v":34.4,"d":"34.40"},{"v":51.6,"d":"51.60"},3,{"$f":"[1]Sheet1!M5","v":"是"}]
[4,{"$f":"[1]Sheet1!B6","v":"黎童"},{"$f":"[1]Sheet1!C6","v":"1152010201426"},{"$f":"[1]Sheet1!D6","v":"贵阳市城市绿化服务中心"},"01专业技术岗位",{"v":178,"d":"178.00"},{"v":59.3333333333333,"d":"59.33"},{"v":17.8,"d":"17.80"},{"v":81,"d":"81.00"},{"v":32.4,"d":"32.40"},{"v":50.2,"d":"50.20"},4,{"$f":"[1]Sheet1!M6","v":"否"}]
[5,{"$f":"[1]Sheet1!B7","v":"谢美璇"},{"$f":"[1]Sheet1!C7","v":"1152010201028"},{"$f":"[1]Sheet1!D7","v":"贵阳市城市绿化服务中心"},"01专业技术岗位",{"v":179,"d":"179.00"},{"v":59.6666666666667,"d":"59.67"},{"v":17.9,"d":"17.90"},{"v":80,"d":"80.00"},{"v":32,"d":"32.00"},{"v":49.9,"d":"49.90"},5,{"$f":"[1]Sheet1!M7","v":"否"}]
[6,{"$f":"[1]Sheet1!B8","v":"刘秋伶"},{"$f":"[1]Sheet1!C8","v":"1152010200620"},{"$f":"[1]Sheet1!D8","v":"贵阳市城市绿化服务中心"},"01专业技术岗位",{"v":197.5,"d":"197.50"},{"v":65.8333333333333,"d":"65.83"},19.75,{"v":67,"d":"67.00"},{"v":26.8,"d":"26.80"},46.55,6,{"$f":"[1]Sheet1!M8","v":"否"}]
[7,{"$f":"[1]Sheet1!B9","v":"李效坤"},{"$f":"[1]Sheet1!C9","v":"1152010201227"},{"$f":"[1]Sheet1!D9","v":"贵阳市城市绿化服务中心"},"01专业技术岗位",{"v":191.5,"d":"191.50"},{"v":63.8333333333333,"d":"63.83"},19.15,{"v":68,"d":"68.00"},{"v":27.2,"d":"27.20"},46.35,7,{"$f":"[1]Sheet1!M9","v":"否"}]
[8,{"$f":"[1]Sheet1!B10","v":"于子涵"},{"$f":"[1]Sheet1!C10","v":"1152010201326"},{"$f":"[1]Sheet1!D10","v":"贵阳市城市绿化服务中心"},"01专业技术岗位",{"v":177.5,"d":"177.50"},{"v":59.1666666666667,"d":"59.17"},17.75,{"v":63,"d":"63.00"},{"v":25.2,"d":"25.20"},42.95,8,{"$f":"[1]Sheet1!M10","v":"否"}]
[9,{"$f":"[1]Sheet1!B11","v":"魏康月"},{"$f":"[1]Sheet1!C11","v":"1152010200110"},{"$f":"[1]Sheet1!D11","v":"贵阳市城市绿化服务中心"},"01专业技术岗位",{"v":172,"d":"172.00"},{"v":57.3333333333333,"d":"57.33"},{"v":17.2,"d":"17.20"}," 缺考"," 缺考",{"v":17.2,"d":"17.20"},9,{"$f":"[1]Sheet1!M11","v":"否"}]
[10,{"$f":"[1]Sheet1!B12","v":"谭臣竹"},{"$f":"[1]Sheet1!C12","v":"1152010201419"},{"$f":"[1]Sheet1!D12","v":"贵阳市城市绿化服务中心"},"01专业技术岗位",{"v":167,"d":"167.00"},{"v":55.6666666666667,"d":"55.67"},{"v":16.7,"d":"16.70"}," 缺考"," 缺考",{"v":16.7,"d":"16.70"},10,{"$f":"[1]Sheet1!M12","v":"否"}]
[]
[1,"李志成","1152010202130","贵阳市市政工程服务中心","01专业技术岗位",190,{"$f":"SUM(F25/3)","v":{"v":63.333333333333336,"d":"63.33"}},{"v":19,"d":"19.00"},{"v":76,"d":"76.00"},{"v":30.4,"d":"30.40"},{"v":49.4,"d":"49.40"},1,"是"]
[2,"艾益合","1152010201212","贵阳市市政工程服务中心","01专业技术岗位",196,{"v":65.33333333333333,"d":"65.33"},{"v":19.6,"d":"19.60"},{"v":69,"d":"69.00"},{"v":27.6,"d":"27.60"},{"v":47.2,"d":"47.20"},2,"是"]
[3,"张砚墨","1152010201411","贵阳市市政工程服务中心","01专业技术岗位",179,{"v":59.666666666666664,"d":"59.67"},{"v":17.9,"d":"17.90"},{"v":62,"d":"62.00"},{"v":24.8,"d":"24.80"},{"v":42.7,"d":"42.70"},3,"是"]
[4,"杨冲","1152010200513","贵阳市市政工程服务中心","01专业技术岗位",158.5,{"v":52.833333333333336,"d":"52.83"},15.85,{"v":66,"d":"66.00"},{"v":26.4,"d":"26.40"},42.25,"4","否"]
[5,"邓亮亮","1152010200921","贵阳市市政工程服务中心","01专业技术岗位",162.5,{"v":54.166666666666664,"d":"54.17"},16.25,{"v":63,"d":"63.00"},{"v":25.2,"d":"25.20"},41.45,5,"否"]
[6,"田清云","1152010200303","贵阳市市政工程服务中心","01专业技术岗位",171.5,{"v":57.166666666666664,"d":"57.17"},17.15,{"v":60,"d":"60.00"},{"v":24,"d":"24.00"},41.15,6,"否"]
[7,"付涛涛","1152010201019","贵阳市市政工程服务中心","01专业技术岗位",170.5,{"v":56.833333333333336,"d":"56.83"},17.05,{"v":50,"d":"50.00"},{"v":20,"d":"20.00"},37.05,7,"否"]
[8,"周宏政","1152010202212","贵阳市市政工程服务中心","01专业技术岗位",204.5,{"v":68.16666666666667,"d":"68.17"},20.45," 缺考"," 缺考",20.45,"8","否"]
[9,"陈俊廷","1152010200806","贵阳市市政工程服务中心","01专业技术岗位",194,{"v":64.66666666666667,"d":"64.67"},{"v":19.4,"d":"19.40"}," 缺考"," 缺考",{"v":19.4,"d":"19.40"},9,"否"]
[10,"雷伟东","1152010201703","贵阳市市政工程服务中心","01专业技术岗位",154.5,{"v":51.5,"d":"51.50"},15.45," 缺考"," 缺考",15.45,"10","否"]
[11,"陈准","1152010200902","贵阳市市政工程服务中心","02专业技术岗位",186.5,{"v":62.166666666666664,"d":"62.17"},18.65,{"v":82,"d":"82.00"},{"v":32.8,"d":"32.80"},51.45,1,"是"]
[12,"冉栩金","1152010201622","贵阳市市政工程服务中心","02专业技术岗位",178.5,{"v":59.5,"d":"59.50"},17.85,{"v":66,"d":"66.00"},{"v":26.4,"d":"26.40"},44.25,"2","是"]
[13,"龙涛","1152010202014","贵阳市市政工程服务中心","02专业技术岗位",153.5,{"v":51.166666666666664,"d":"51.17"},15.35,{"v":66,"d":"66.00"},{"v":26.4,"d":"26.40"},41.75,"3","是"]
[14,"罗小进","1152010200103","贵阳市市政工程服务中心","02专业技术岗位",156.5,{"v":52.166666666666664,"d":"52.17"},15.65,{"v":55,"d":"55.00"},{"v":22,"d":"22.00"},37.65,"4","否"]
[15,"李浩涵","1152010201503","贵阳市市政工程服务中心","02专业技术岗位",160,{"v":53.333333333333336,"d":"53.33"},{"v":16,"d":"16.00"},{"v":51,"d":"51.00"},{"v":20.4,"d":"20.40"},{"v":36.4,"d":"36.40"},5,"否"]
[16,"冯乐昱","1152010201221","贵阳市市政工程服务中心","02专业技术岗位",186,{"v":62,"d":"62.00"},{"v":18.6,"d":"18.60"},{"v":43,"d":"43.00"},{"v":17.2,"d":"17.20"},{"v":35.8,"d":"35.80"},6,"否"]
[17,"吴晚竹","1152010200822","贵阳市市政工程服务中心","02专业技术岗位",157,{"v":52.333333333333336,"d":"52.33"},{"v":15.7,"d":"15.70"},{"v":50,"d":"50.00"},{"v":20,"d":"20.00"},{"v":35.7,"d":"35.70"},"7","否"]
[18,"郑国栋","1152010200408","贵阳市市政工程服务中心","02专业技术岗位",157,{"v":52.333333333333336,"d":"52.33"},{"v":15.7,"d":"15.70"},{"v":40,"d":"40.00"},{"v":16,"d":"16.00"},{"v":31.7,"d":"31.70"},"8","否"]
[19,"王叶辉","1152010200416","贵阳市市政工程服务中心","02专业技术岗位",187,{"v":62.333333333333336,"d":"62.33"},{"v":18.7,"d":"18.70"}," 缺考"," 缺考",{"v":18.7,"d":"18.70"},9,"否"]
[20,"黄祥亚","1152010200402","贵阳市市政工程服务中心","02专业技术岗位",146,{"v":48.666666666666664,"d":"48.67"},{"v":14.6,"d":"14.60"}," 缺考"," 缺考",{"v":14.6,"d":"14.60"},10,"否"]