{"text_format":"3","workbook":"xlsx","n_sheets":1,"sheets":["Sheet1"],"not_rendered":{"external_links":1,"defined_names":2},"read":"whole","date_system":"1900"}

{"sheet":"Sheet1","index":0,"n_rows":63,"n_cols":12,"rows_kept":63,"merged":[[0,0,0,11]]}
["望谟县公安局2024年公开招聘警务辅助人员成绩公示"]
["序号","姓名","性别","报考职位","职位代码","笔试成绩","加分","笔试总成绩","面试成绩","总成绩","排名","体能是否合格"]
["1","辜金枚","女","拘留所（文职）","01",{"$f":"VLOOKUP(B3,[1]Sheet1!$B$3:$G$3000,6,FALSE)","v":"71"},{"$f":"VLOOKUP(B3,[1]Sheet1!$B$3:$H$3000,7,FALSE)","v":0},{"$f":"F3+G3","v":71},82.3,{"$f":"(H3+I3)/2","v":76.65},1,"合格"]
["2","蔡学巧","女","拘留所（文职）","01",{"$f":"VLOOKUP(B4,[1]Sheet1!$B$3:$G$3000,6,FALSE)","v":"62"},{"$f":"VLOOKUP(B4,[1]Sheet1!$B$3:$H$3000,7,FALSE)","v":0},{"$f":"F4+G4","v":62},83.3,{"$f":"(H4+I4)/2","v":72.65},2,"合格"]
["3","黄乾","男","禁毒办辅警（文职）","02",{"$f":"VLOOKUP(B5,[1]Sheet1!$B$3:$G$3000,6,FALSE)","v":"64"},{"$f":"VLOOKUP(B5,[1]Sheet1!$B$3:$H$3000,7,FALSE)","v":0},{"$f":"F5+G5","v":64},60.6,{"$f":"(H5+I5)/2","v":62.3},1,"合格"]
["4","杨秀春","男","禁毒办辅警","04",{"$f":"VLOOKUP(B6,[1]Sheet1!$B$3:$G$3000,6,FALSE)","v":"69"},{"$f":"VLOOKUP(B6,[1]Sheet1!$B$3:$H$3000,7,FALSE)","v":0},{"$f":"F6+G6","v":69},73,{"$f":"(H6+I6)/2","v":71},1,"合格"]
["5","杨小腊","女","刑侦大队辅警","06",{"$f":"VLOOKUP(B7,[1]Sheet1!$B$3:$G$3000,6,FALSE)","v":"74"},{"$f":"VLOOKUP(B7,[1]Sheet1!$B$3:$H$3000,7,FALSE)","v":0},{"$f":"F7+G7","v":74},80,{"$f":"(H7+I7)/2","v":77},1,"合格"]
["6","刘丽","女","刑侦大队辅警","06",{"$f":"VLOOKUP(B8,[1]Sheet1!$B$3:$G$3000,6,FALSE)","v":"67"},{"$f":"VLOOKUP(B8,[1]Sheet1!$B$3:$H$3000,7,FALSE)","v":0},{"$f":"F8+G8","v":67},79.3,{"$f":"(H8+I8)/2","v":73.15},2,"合格"]
["7","沈真龙","男","刑侦大队","07",{"$f":"VLOOKUP(B9,[1]Sheet1!$B$3:$G$3000,6,FALSE)","v":"73"},{"$f":"VLOOKUP(B9,[1]Sheet1!$B$3:$H$3000,7,FALSE)","v":5},{"$f":"F9+G9","v":78},82.3,{"$f":"(H9+I9)/2","v":80.15},1,"合格"]
["8","王涛","男","刑侦大队","07",{"$f":"VLOOKUP(B10,[1]Sheet1!$B$3:$G$3000,6,FALSE)","v":"76"},{"$f":"VLOOKUP(B10,[1]Sheet1!$B$3:$H$3000,7,FALSE)","v":0},{"$f":"F10+G10","v":76},78,{"$f":"(H10+I10)/2","v":77},2,"合格"]
["9","卢虹羽","男","刑侦大队","07",{"$f":"VLOOKUP(B11,[1]Sheet1!$B$3:$G$3000,6,FALSE)","v":"65"},{"$f":"VLOOKUP(B11,[1]Sheet1!$B$3:$H$3000,7,FALSE)","v":0},{"$f":"F11+G11","v":65},81,{"$f":"(H11+I11)/2","v":73},3,"合格"]
["10","黄光伟","男","特（巡）警大队","08",{"$f":"VLOOKUP(B12,[1]Sheet1!$B$3:$G$3000,6,FALSE)","v":"61"},{"$f":"VLOOKUP(B12,[1]Sheet1!$B$3:$H$3000,7,FALSE)","v":0},{"$f":"F12+G12","v":61},65.33,{"$f":"(H12+I12)/2","v":63.165},3,"合格"]
["11","晏海兵","男","特（巡）警大队","08",{"$f":"VLOOKUP(B13,[1]Sheet1!$B$3:$G$3000,6,FALSE)","v":"55"},{"$f":"VLOOKUP(B13,[1]Sheet1!$B$3:$H$3000,7,FALSE)","v":0},{"$f":"F13+G13","v":55},64.67,{"$f":"(H13+I13)/2","v":59.835},4,"合格"]
["12","李鹏","男","特（巡）警大队","08",{"$f":"VLOOKUP(B14,[1]Sheet1!$B$3:$G$3000,6,FALSE)","v":"75"},{"$f":"VLOOKUP(B14,[1]Sheet1!$B$3:$H$3000,7,FALSE)","v":0},{"$f":"F14+G14","v":75},79.67,{"$f":"(H14+I14)/2","v":77.335},1,"合格"]
["13","班声亮","男","特（巡）警大队","08",{"$f":"VLOOKUP(B15,[1]Sheet1!$B$3:$G$3000,6,FALSE)","v":"34"},{"$f":"VLOOKUP(B15,[1]Sheet1!$B$3:$H$3000,7,FALSE)","v":0},{"$f":"F15+G15","v":34},64.33,{"$f":"(H15+I15)/2","v":49.165},7,"合格"]
["14","简滴涛","男","特（巡）警大队","08",{"$f":"VLOOKUP(B16,[1]Sheet1!$B$3:$G$3000,6,FALSE)","v":"55"},{"$f":"VLOOKUP(B16,[1]Sheet1!$B$3:$H$3000,7,FALSE)","v":0},{"$f":"F16+G16","v":55},60.33,{"$f":"(H16+I16)/2","v":57.665},5,"合格"]
["15","曾宇翔","男","特（巡）警大队","08",{"$f":"VLOOKUP(B17,[1]Sheet1!$B$3:$G$3000,6,FALSE)","v":"44"},{"$f":"VLOOKUP(B17,[1]Sheet1!$B$3:$H$3000,7,FALSE)","v":0},{"$f":"F17+G17","v":44},68.67,{"$f":"(H17+I17)/2","v":56.335},6,"合格"]
["16","蒋大伟","男","特（巡）警大队","08",{"$f":"VLOOKUP(B18,[1]Sheet1!$B$3:$G$3000,6,FALSE)","v":"63"},{"$f":"VLOOKUP(B18,[1]Sheet1!$B$3:$H$3000,7,FALSE)","v":0},{"$f":"F18+G18","v":63},75,{"$f":"(H18+I18)/2","v":69},2,"合格"]
["17","杨通科","男","特（巡）警大队","08",{"$f":"VLOOKUP(B19,[1]Sheet1!$B$3:$G$3000,6,FALSE)","v":"45"},{"$f":"VLOOKUP(B19,[1]Sheet1!$B$3:$H$3000,7,FALSE)","v":0},{"$f":"F19+G19","v":45},60.67,{"$f":"(H19+I19)/2","v":52.835},4,"合格"]
["18","王浪","男","督查大队","09",{"$f":"VLOOKUP(B20,[1]Sheet1!$B$3:$G$3000,6,FALSE)","v":"66"},{"$f":"VLOOKUP(B20,[1]Sheet1!$B$3:$H$3000,7,FALSE)","v":0},{"$f":"F20+G20","v":66},64.33,{"$f":"(H20+I20)/2","v":65.165},2,"合格"]
["19","陈平富","女","督查大队","09",{"$f":"VLOOKUP(B21,[1]Sheet1!$B$3:$G$3000,6,FALSE)","v":"66"},{"$f":"VLOOKUP(B21,[1]Sheet1!$B$3:$H$3000,7,FALSE)","v":0},{"$f":"F21+G21","v":66},70.33,{"$f":"(H21+I21)/2","v":68.165},1,"合格"]
["20","贝永通","男","石屯派出所","11",{"$f":"VLOOKUP(B22,[1]Sheet1!$B$3:$G$3000,6,FALSE)","v":"58"},{"$f":"VLOOKUP(B22,[1]Sheet1!$B$3:$H$3000,7,FALSE)","v":0},{"$f":"F22+G22","v":58},73.3,{"$f":"(H22+I22)/2","v":65.65},2,"合格"]
["21","贝启高","男","石屯派出所","11",{"$f":"VLOOKUP(B23,[1]Sheet1!$B$3:$G$3000,6,FALSE)","v":"62"},{"$f":"VLOOKUP(B23,[1]Sheet1!$B$3:$H$3000,7,FALSE)","v":0},{"$f":"F23+G23","v":62},77,{"$f":"(H23+I23)/2","v":69.5},1,"合格"]
["22","黄伟","男","石屯派出所","11",{"$f":"VLOOKUP(B24,[1]Sheet1!$B$3:$G$3000,6,FALSE)","v":"59"},{"$f":"VLOOKUP(B24,[1]Sheet1!$B$3:$H$3000,7,FALSE)","v":0},{"$f":"F24+G24","v":59},80,{"$f":"(H24+I24)/2","v":69.5},1,"合格"]
["23","熊杰","男","郊纳中心派出所辅警","12",{"$f":"VLOOKUP(B25,[1]Sheet1!$B$3:$G$3000,6,FALSE)","v":"62"},{"$f":"VLOOKUP(B25,[1]Sheet1!$B$3:$H$3000,7,FALSE)","v":0},{"$f":"F25+G25","v":62},80.3,{"$f":"(H25+I25)/2","v":71.15},1,"合格"]
["24","韦章漫","女","郊纳中心派出所辅警","12",{"$f":"VLOOKUP(B26,[1]Sheet1!$B$3:$G$3000,6,FALSE)","v":"69"},{"$f":"VLOOKUP(B26,[1]Sheet1!$B$3:$H$3000,7,FALSE)","v":0},{"$f":"F26+G26","v":69},62,{"$f":"(H26+I26)/2","v":65.5},2,"合格"]
["25","何贵愁","女","乐元派出所","13",{"$f":"VLOOKUP(B27,[1]Sheet1!$B$3:$G$3000,6,FALSE)","v":"63"},{"$f":"VLOOKUP(B27,[1]Sheet1!$B$3:$H$3000,7,FALSE)","v":0},{"$f":"F27+G27","v":63},82.33,{"$f":"(H27+I27)/2","v":72.665},2,"合格"]
["26","班堂","男","乐元派出所","13",{"$f":"VLOOKUP(B28,[1]Sheet1!$B$3:$G$3000,6,FALSE)","v":"54"},{"$f":"VLOOKUP(B28,[1]Sheet1!$B$3:$H$3000,7,FALSE)","v":0},{"$f":"F28+G28","v":54},82,{"$f":"(H28+I28)/2","v":68},3,"合格"]
["27","王光亚","男","乐元派出所","13",{"$f":"VLOOKUP(B29,[1]Sheet1!$B$3:$G$3000,6,FALSE)","v":"69"},{"$f":"VLOOKUP(B29,[1]Sheet1!$B$3:$H$3000,7,FALSE)","v":0},{"$f":"F29+G29","v":69},85.67,{"$f":"(H29+I29)/2","v":77.335},1,"合格"]
["28","杨成美","女","乐元派出所","13",{"$f":"VLOOKUP(B30,[1]Sheet1!$B$3:$G$3000,6,FALSE)","v":"50"},{"$f":"VLOOKUP(B30,[1]Sheet1!$B$3:$H$3000,7,FALSE)","v":0},{"$f":"F30+G30","v":50},75.33,{"$f":"(H30+I30)/2","v":62.665},4,"合格"]
["29","廖国影","女","乐元派出所","13",{"$f":"VLOOKUP(B31,[1]Sheet1!$B$3:$G$3000,6,FALSE)","v":"40"},{"$f":"VLOOKUP(B31,[1]Sheet1!$B$3:$H$3000,7,FALSE)","v":0},{"$f":"F31+G31","v":40},74.67,{"$f":"(H31+I31)/2","v":57.335},5,"合格"]
["30","王波","男","打易派出所辅警","14",{"$f":"VLOOKUP(B32,[1]Sheet1!$B$3:$G$3000,6,FALSE)","v":"60"},{"$f":"VLOOKUP(B32,[1]Sheet1!$B$3:$H$3000,7,FALSE)","v":0},{"$f":"F32+G32","v":60},73,{"$f":"(H32+I32)/2","v":66.5},1,"合格"]
["31","韦玫","女","桑郎派出所","19",{"$f":"VLOOKUP(B33,[1]Sheet1!$B$3:$G$3000,6,FALSE)","v":"69"},{"$f":"VLOOKUP(B33,[1]Sheet1!$B$3:$H$3000,7,FALSE)","v":0},{"$f":"F33+G33","v":69},89.33,{"$f":"(H33+I33)/2","v":79.165},1,"合格"]
["32","黄小兰","女","桑郎派出所","19",{"$f":"VLOOKUP(B34,[1]Sheet1!$B$3:$G$3000,6,FALSE)","v":"60"},{"$f":"VLOOKUP(B34,[1]Sheet1!$B$3:$H$3000,7,FALSE)","v":0},{"$f":"F34+G34","v":60},81.67,{"$f":"(H34+I34)/2","v":70.835},2,"合格"]
["33","黄婷婷","女","桑郎派出所","19",{"$f":"VLOOKUP(B35,[1]Sheet1!$B$3:$G$3000,6,FALSE)","v":"60"},{"$f":"VLOOKUP(B35,[1]Sheet1!$B$3:$H$3000,7,FALSE)","v":0},{"$f":"F35+G35","v":60},75.33,{"$f":"(H35+I35)/2","v":67.665},3,"合格"]
["34","王金洪","男","新屯派出所","22",{"$f":"VLOOKUP(B36,[1]Sheet1!$B$3:$G$3000,6,FALSE)","v":"45"},{"$f":"VLOOKUP(B36,[1]Sheet1!$B$3:$H$3000,7,FALSE)","v":0},{"$f":"F36+G36","v":45},84,{"$f":"(H36+I36)/2","v":64.5},1,"合格"]
["35","黄家召","女","王母中心派出所","24",{"$f":"VLOOKUP(B37,[1]Sheet1!$B$3:$G$3000,6,FALSE)","v":"78"},{"$f":"VLOOKUP(B37,[1]Sheet1!$B$3:$H$3000,7,FALSE)","v":0},{"$f":"F37+G37","v":78},70.66,{"$f":"(H37+I37)/2","v":74.33},1,"合格"]
["36","陆天辉","女","王母中心派出所","24",{"$f":"VLOOKUP(B38,[1]Sheet1!$B$3:$G$3000,6,FALSE)","v":"68"},{"$f":"VLOOKUP(B38,[1]Sheet1!$B$3:$H$3000,7,FALSE)","v":0},{"$f":"F38+G38","v":68},64.33,{"$f":"(H38+I38)/2","v":66.165},2,"合格"]
["37","蒋涵宇","男","王母中心派出所","25",{"$f":"VLOOKUP(B39,[1]Sheet1!$B$3:$G$3000,6,FALSE)","v":"60"},{"$f":"VLOOKUP(B39,[1]Sheet1!$B$3:$H$3000,7,FALSE)","v":5},{"$f":"F39+G39","v":65},72,{"$f":"(H39+I39)/2","v":68.5},4,"合格"]
["38","罗冬祥","男","王母中心派出所","25",{"$f":"VLOOKUP(B40,[1]Sheet1!$B$3:$G$3000,6,FALSE)","v":"65"},{"$f":"VLOOKUP(B40,[1]Sheet1!$B$3:$H$3000,7,FALSE)","v":0},{"$f":"F40+G40","v":65},71.66,{"$f":"(H40+I40)/2","v":68.33},5,"合格"]
["39","王波","男","王母中心派出所","25",63,null,63,69,66,7,"合格"]
["40","刘蒙恩","男","王母中心派出所","25",{"$f":"VLOOKUP(B42,[1]Sheet1!$B$3:$G$3000,6,FALSE)","v":"55"},{"$f":"VLOOKUP(B42,[1]Sheet1!$B$3:$H$3000,7,FALSE)","v":0},{"$f":"F42+G42","v":55},73,{"$f":"(H42+I42)/2","v":64},10,"合格"]
["41","杨超","男","王母中心派出所","25",{"$f":"VLOOKUP(B43,[1]Sheet1!$B$3:$G$3000,6,FALSE)","v":"72"},{"$f":"VLOOKUP(B43,[1]Sheet1!$B$3:$H$3000,7,FALSE)","v":0},{"$f":"F43+G43","v":72},70.66,{"$f":"(H43+I43)/2","v":71.33},2,"合格"]
["42","赵大贵","男","王母中心派出所","25",{"$f":"VLOOKUP(B44,[1]Sheet1!$B$3:$G$3000,6,FALSE)","v":"57"},{"$f":"VLOOKUP(B44,[1]Sheet1!$B$3:$H$3000,7,FALSE)","v":0},{"$f":"F44+G44","v":57},67,{"$f":"(H44+I44)/2","v":62},13,"合格"]
["43","罗永学","男","王母中心派出所","25",{"$f":"VLOOKUP(B45,[1]Sheet1!$B$3:$G$3000,6,FALSE)","v":"61"},{"$f":"VLOOKUP(B45,[1]Sheet1!$B$3:$H$3000,7,FALSE)","v":0},{"$f":"F45+G45","v":61},71.66,{"$f":"(H45+I45)/2","v":66.33},6,"合格"]
["44","程国","男","王母中心派出所","25",{"$f":"VLOOKUP(B46,[1]Sheet1!$B$3:$G$3000,6,FALSE)","v":"63"},{"$f":"VLOOKUP(B46,[1]Sheet1!$B$3:$H$3000,7,FALSE)","v":0},{"$f":"F46+G46","v":63},68.66,{"$f":"(H46+I46)/2","v":65.83},8,"合格"]
["45","罗纲","男","王母中心派出所","25",{"$f":"VLOOKUP(B47,[1]Sheet1!$B$3:$G$3000,6,FALSE)","v":"53"},{"$f":"VLOOKUP(B47,[1]Sheet1!$B$3:$H$3000,7,FALSE)","v":0},{"$f":"F47+G47","v":53},63.66,{"$f":"(H47+I47)/2","v":58.33},14,"合格"]
["46","曾仲","男","王母中心派出所","25",{"$f":"VLOOKUP(B48,[1]Sheet1!$B$3:$G$3000,6,FALSE)","v":"58"},{"$f":"VLOOKUP(B48,[1]Sheet1!$B$3:$H$3000,7,FALSE)","v":0},{"$f":"F48+G48","v":58},69.66,{"$f":"(H48+I48)/2","v":63.83},11,"合格"]
["47","谢健海","男","王母中心派出所","25",{"$f":"VLOOKUP(B49,[1]Sheet1!$B$3:$G$3000,6,FALSE)","v":"59"},{"$f":"VLOOKUP(B49,[1]Sheet1!$B$3:$H$3000,7,FALSE)","v":0},{"$f":"F49+G49","v":59},69.66,{"$f":"(H49+I49)/2","v":64.33},9,"合格"]
["48","岳奎","男","王母中心派出所","25",{"$f":"VLOOKUP(B50,[1]Sheet1!$B$3:$G$3000,6,FALSE)","v":"72"},{"$f":"VLOOKUP(B50,[1]Sheet1!$B$3:$H$3000,7,FALSE)","v":0},{"$f":"F50+G50","v":72},77.66,{"$f":"(H50+I50)/2","v":74.83},1,"合格"]
["49","罗国智","男","王母中心派出所","25",{"$f":"VLOOKUP(B51,[1]Sheet1!$B$3:$G$3000,6,FALSE)","v":"69"},{"$f":"VLOOKUP(B51,[1]Sheet1!$B$3:$H$3000,7,FALSE)","v":0},{"$f":"F51+G51","v":69},72,{"$f":"(H51+I51)/2","v":70.5},3,"合格"]
["50","曾兴礼","男","王母中心派出所","25",{"$f":"VLOOKUP(B52,[1]Sheet1!$B$3:$G$3000,6,FALSE)","v":"49"},{"$f":"VLOOKUP(B52,[1]Sheet1!$B$3:$H$3000,7,FALSE)","v":0},{"$f":"F52+G52","v":49},62.66,{"$f":"(H52+I52)/2","v":55.83},15,"合格"]
["51","苏家学","男","王母中心派出所","25",{"$f":"VLOOKUP(B53,[1]Sheet1!$B$3:$G$3000,6,FALSE)","v":"56"},{"$f":"VLOOKUP(B53,[1]Sheet1!$B$3:$H$3000,7,FALSE)","v":0},{"$f":"F53+G53","v":56},69.66,{"$f":"(H53+I53)/2","v":62.83},12,"合格"]
["52","王广","男","边饶派出所","26",{"$f":"VLOOKUP(B54,[1]Sheet1!$B$3:$G$3000,6,FALSE)","v":"63"},{"$f":"VLOOKUP(B54,[1]Sheet1!$B$3:$H$3000,7,FALSE)","v":0},{"$f":"F54+G54","v":63},82,{"$f":"(H54+I54)/2","v":72.5},1,"合格"]
["53","黄杰","男","蔗香派出所","27",{"$f":"VLOOKUP(B55,[1]Sheet1!$B$3:$G$3000,6,FALSE)","v":"77"},{"$f":"VLOOKUP(B55,[1]Sheet1!$B$3:$H$3000,7,FALSE)","v":0},{"$f":"F55+G55","v":77},77.67,{"$f":"(H55+I55)/2","v":77.335},1,"合格"]
["54","唐德锦","男","交通警察大队","28",{"$f":"VLOOKUP(B56,[1]Sheet1!$B$3:$G$3000,6,FALSE)","v":"64"},{"$f":"VLOOKUP(B56,[1]Sheet1!$B$3:$H$3000,7,FALSE)","v":0},{"$f":"F56+G56","v":64},66.67,{"$f":"(H56+I56)/2","v":65.335},2,"合格"]
["55","韦帮利","男","交通警察大队","28",{"$f":"VLOOKUP(B57,[1]Sheet1!$B$3:$G$3000,6,FALSE)","v":"69"},{"$f":"VLOOKUP(B57,[1]Sheet1!$B$3:$H$3000,7,FALSE)","v":0},{"$f":"F57+G57","v":69},70,{"$f":"(H57+I57)/2","v":69.5},1,"合格"]
["56","王秋霖","男","交通警察大队","28",{"$f":"VLOOKUP(B58,[1]Sheet1!$B$3:$G$3000,6,FALSE)","v":"64"},{"$f":"VLOOKUP(B58,[1]Sheet1!$B$3:$H$3000,7,FALSE)","v":0},{"$f":"F58+G58","v":64},66,{"$f":"(H58+I58)/2","v":65},3,"合格"]
["57","黄龙","男","高速交警","33",{"$f":"VLOOKUP(B59,[1]Sheet1!$B$3:$G$3000,6,FALSE)","v":"73"},{"$f":"VLOOKUP(B59,[1]Sheet1!$B$3:$H$3000,7,FALSE)","v":5},{"$f":"F59+G59","v":78},85,{"$f":"(H59+I59)/2","v":81.5},2,"合格"]
["58","王友","男","高速交警","33",{"$f":"VLOOKUP(B60,[1]Sheet1!$B$3:$G$3000,6,FALSE)","v":"69"},{"$f":"VLOOKUP(B60,[1]Sheet1!$B$3:$H$3000,7,FALSE)","v":0},{"$f":"F60+G60","v":69},87,{"$f":"(H60+I60)/2","v":78},3,"合格"]
["59","安春秋","男","高速交警","33",{"$f":"VLOOKUP(B61,[1]Sheet1!$B$3:$G$3000,6,FALSE)","v":"76"},{"$f":"VLOOKUP(B61,[1]Sheet1!$B$3:$H$3000,7,FALSE)","v":5},{"$f":"F61+G61","v":81},82.33,{"$f":"(H61+I61)/2","v":81.665},1,"合格"]
[]
[{"$nulls":8}," "]