{"text_format":"3","workbook":"xlsx","n_sheets":1,"sheets":["花名册"],"not_rendered":{"external_links":3,"defined_names":16},"read":"whole","date_system":"1900"}

{"sheet":"花名册","index":0,"n_rows":22,"n_cols":12,"rows_kept":22,"merged":[[1,0,1,11]]}
["附件"]
["织金县2021年秋季乡镇事业单位公开招聘应征入伍大学毕业生退役后拟聘用人员名单"]
["序号","姓名","性别","学历","准考证号","笔试成绩","是否进入面试","面试序号","面试成绩","总成绩","是否服役期满","拟聘用单位"]
[1,"卢斌斌","男","专科",{"$f":"VLOOKUP(B4,[3]Sheet2!$B:$C,2,FALSE)","v":"20210550109"},{"$f":"VLOOKUP(E4,[3]Sheet2!$C:$L,3,FALSE)","v":{"v":82,"d":"82.00"}},"是",{"$f":"VLOOKUP(E4,[3]Sheet2!$C:$L,5,FALSE)","v":5},{"$f":"VLOOKUP(E4,[3]Sheet2!$C:$L,6,FALSE)","v":{"v":81.8,"d":"81.80"}},{"$f":"VLOOKUP(E4,[3]Sheet2!$C:$L,10,FALSE)","v":65.52},"是","织金县阿弓镇林业环保站"]
[2,"王云","男","专科",{"$f":"VLOOKUP(B5,[3]Sheet2!$B:$C,2,FALSE)","v":"20210550116"},{"$f":"VLOOKUP(E5,[3]Sheet2!$C:$L,3,FALSE)","v":{"v":80,"d":"80.00"}},"是",{"$f":"VLOOKUP(E5,[3]Sheet2!$C:$L,5,FALSE)","v":51},{"$f":"VLOOKUP(E5,[3]Sheet2!$C:$L,6,FALSE)","v":{"v":79.8,"d":"79.80"}},{"$f":"VLOOKUP(E5,[3]Sheet2!$C:$L,10,FALSE)","v":63.92},"是","织金县大平乡农业服务中心"]
[3,"吴佳宸","男","大学",{"$f":"VLOOKUP(B6,[3]Sheet2!$B:$C,2,FALSE)","v":"20210550131"},{"$f":"VLOOKUP(E6,[3]Sheet2!$C:$L,3,FALSE)","v":{"v":97,"d":"97.00"}},"是",{"$f":"VLOOKUP(E6,[3]Sheet2!$C:$L,5,FALSE)","v":57},{"$f":"VLOOKUP(E6,[3]Sheet2!$C:$L,6,FALSE)","v":{"v":81.4,"d":"81.40"}},{"$f":"VLOOKUP(E6,[3]Sheet2!$C:$L,10,FALSE)","v":71.36},"是","织金县官寨乡村镇规划建设站"]
[4,"何明杰","男","大学",{"$f":"VLOOKUP(B7,[3]Sheet2!$B:$C,2,FALSE)","v":"20210550233"},{"$f":"VLOOKUP(E7,[3]Sheet2!$C:$L,3,FALSE)","v":{"v":98,"d":"98.00"}},"是",{"$f":"VLOOKUP(E7,[3]Sheet2!$C:$L,5,FALSE)","v":56},{"$f":"VLOOKUP(E7,[3]Sheet2!$C:$L,6,FALSE)","v":{"v":81.8,"d":"81.80"}},{"$f":"VLOOKUP(E7,[3]Sheet2!$C:$L,10,FALSE)","v":71.92},"是","织金县桂果镇人力资源和杜会保障服务中心"]
[5,"王福超","男","专科",{"$f":"VLOOKUP(B8,[3]Sheet2!$B:$C,2,FALSE)","v":"20210550215"},{"$f":"VLOOKUP(E8,[3]Sheet2!$C:$L,3,FALSE)","v":{"v":86,"d":"86.00"}},"是",{"$f":"VLOOKUP(E8,[3]Sheet2!$C:$L,5,FALSE)","v":30},{"$f":"VLOOKUP(E8,[3]Sheet2!$C:$L,6,FALSE)","v":{"v":77.2,"d":"77.20"}},{"$f":"VLOOKUP(E8,[3]Sheet2!$C:$L,10,FALSE)","v":65.28},"是","织金县黑土镇乡村振兴服务中心"]
[6,"黄元健","男","大学",{"$f":"VLOOKUP(B9,[3]Sheet2!$B:$C,2,FALSE)","v":"20210550206"},{"$f":"VLOOKUP(E9,[3]Sheet2!$C:$L,3,FALSE)","v":{"v":90.5,"d":"90.50"}},"是",{"$f":"VLOOKUP(E9,[3]Sheet2!$C:$L,5,FALSE)","v":14},{"$f":"VLOOKUP(E9,[3]Sheet2!$C:$L,6,FALSE)","v":{"v":83.2,"d":"83.20"}},{"$f":"VLOOKUP(E9,[3]Sheet2!$C:$L,10,FALSE)","v":69.48},"是","织金县化起镇人力资源和社会保障服务中心"]
[7,"卢瑶","男","大学",{"$f":"VLOOKUP(B10,[3]Sheet2!$B:$C,2,FALSE)","v":"20210550213"},{"$f":"VLOOKUP(E10,[3]Sheet2!$C:$L,3,FALSE)","v":{"v":90.5,"d":"90.50"}},"是",{"$f":"VLOOKUP(E10,[3]Sheet2!$C:$L,5,FALSE)","v":16},{"$f":"VLOOKUP(E10,[3]Sheet2!$C:$L,6,FALSE)","v":{"v":80.2,"d":"80.20"}},{"$f":"VLOOKUP(E10,[3]Sheet2!$C:$L,10,FALSE)","v":68.28},"是","织金县鸡场乡村镇规划建设站"]
[8,"曹发勇","男","大学",{"$f":"VLOOKUP(B11,[3]Sheet2!$B:$C,2,FALSE)","v":"20210550121"},{"$f":"VLOOKUP(E11,[3]Sheet2!$C:$L,3,FALSE)","v":{"v":87,"d":"87.00"}},"是",{"$f":"VLOOKUP(E11,[3]Sheet2!$C:$L,5,FALSE)","v":45},{"$f":"VLOOKUP(E11,[3]Sheet2!$C:$L,6,FALSE)","v":{"v":72.6,"d":"72.60"}},{"$f":"VLOOKUP(E11,[3]Sheet2!$C:$L,10,FALSE)","v":63.84},"是","织金县鸡场乡农业服务中心"]
[9,"彭忠荣","男","大学",{"$f":"VLOOKUP(B12,[3]Sheet2!$B:$C,2,FALSE)","v":"20210550228"},{"$f":"VLOOKUP(E12,[3]Sheet2!$C:$L,3,FALSE)","v":{"v":95,"d":"95.00"}},"是",{"$f":"VLOOKUP(E12,[3]Sheet2!$C:$L,5,FALSE)","v":18},{"$f":"VLOOKUP(E12,[3]Sheet2!$C:$L,6,FALSE)","v":{"v":75.8,"d":"75.80"}},{"$f":"VLOOKUP(E12,[3]Sheet2!$C:$L,10,FALSE)","v":68.32},"是","织金县金龙乡农业服务中心"]
[10,"邓坤","男","专科",{"$f":"VLOOKUP(B13,[3]Sheet2!$B:$C,2,FALSE)","v":"20210550115"},{"$f":"VLOOKUP(E13,[3]Sheet2!$C:$L,3,FALSE)","v":{"v":82,"d":"82.00"}},"是",{"$f":"VLOOKUP(E13,[3]Sheet2!$C:$L,5,FALSE)","v":23},{"$f":"VLOOKUP(E13,[3]Sheet2!$C:$L,6,FALSE)","v":{"v":79.8,"d":"79.80"}},{"$f":"VLOOKUP(E13,[3]Sheet2!$C:$L,10,FALSE)","v":64.72},"是","织金县龙场镇乡村振兴服务中心"]
[11,"陈波","男","大学",{"$f":"VLOOKUP(B14,[3]Sheet2!$B:$C,2,FALSE)","v":"20210550128"},{"$f":"VLOOKUP(E14,[3]Sheet2!$C:$L,3,FALSE)","v":{"v":95,"d":"95.00"}},"是",{"$f":"VLOOKUP(E14,[3]Sheet2!$C:$L,5,FALSE)","v":6},{"$f":"VLOOKUP(E14,[3]Sheet2!$C:$L,6,FALSE)","v":{"v":78.8,"d":"78.80"}},{"$f":"VLOOKUP(E14,[3]Sheet2!$C:$L,10,FALSE)","v":69.52},"是","织金县猫场镇乡村振兴服务中心"]
[12,"范涛","男","专科",{"$f":"VLOOKUP(B15,[3]Sheet2!$B:$C,2,FALSE)","v":"20210550126"},{"$f":"VLOOKUP(E15,[3]Sheet2!$C:$L,3,FALSE)","v":{"v":90,"d":"90.00"}},"是",{"$f":"VLOOKUP(E15,[3]Sheet2!$C:$L,5,FALSE)","v":47},{"$f":"VLOOKUP(E15,[3]Sheet2!$C:$L,6,FALSE)","v":{"v":79.2,"d":"79.20"}},{"$f":"VLOOKUP(E15,[3]Sheet2!$C:$L,10,FALSE)","v":67.68},"是","织金县纳雍乡农业服务中心"]
[13,"余登志","男","大学",{"$f":"VLOOKUP(B16,[3]Sheet2!$B:$C,2,FALSE)","v":"20210550210"},{"$f":"VLOOKUP(E16,[3]Sheet2!$C:$L,3,FALSE)","v":{"v":83,"d":"83.00"}},"是",{"$f":"VLOOKUP(E16,[3]Sheet2!$C:$L,5,FALSE)","v":39},{"$f":"VLOOKUP(E16,[3]Sheet2!$C:$L,6,FALSE)","v":{"v":82.6,"d":"82.60"}},{"$f":"VLOOKUP(E16,[3]Sheet2!$C:$L,10,FALSE)","v":66.24},"是","织金县上坪寨乡农业服务中心"]
[14,"王林","男","专科",{"$f":"VLOOKUP(B17,[3]Sheet2!$B:$C,2,FALSE)","v":"20210550114"},{"$f":"VLOOKUP(E17,[3]Sheet2!$C:$L,3,FALSE)","v":{"v":88,"d":"88.00"}},"是",{"$f":"VLOOKUP(E17,[3]Sheet2!$C:$L,5,FALSE)","v":54},{"$f":"VLOOKUP(E17,[3]Sheet2!$C:$L,6,FALSE)","v":{"v":76.8,"d":"76.80"}},{"$f":"VLOOKUP(E17,[3]Sheet2!$C:$L,10,FALSE)","v":65.92},"是","织金县少普镇乡村振兴服务中心"]
[15,"张鹏","男","大学",{"$f":"VLOOKUP(B18,[3]Sheet2!$B:$C,2,FALSE)","v":"20210550203"},{"$f":"VLOOKUP(E18,[3]Sheet2!$C:$L,3,FALSE)","v":{"v":93.5,"d":"93.50"}},"是",{"$f":"VLOOKUP(E18,[3]Sheet2!$C:$L,5,FALSE)","v":35},{"$f":"VLOOKUP(E18,[3]Sheet2!$C:$L,6,FALSE)","v":{"v":74.8,"d":"74.80"}},{"$f":"VLOOKUP(E18,[3]Sheet2!$C:$L,10,FALSE)","v":67.32},"是","织金县少普镇农业服务中心"]
[16,"张祥","男","大学",{"$f":"VLOOKUP(B19,[3]Sheet2!$B:$C,2,FALSE)","v":"20210550120"},{"$f":"VLOOKUP(E19,[3]Sheet2!$C:$L,3,FALSE)","v":{"v":84.5,"d":"84.50"}},"是",{"$f":"VLOOKUP(E19,[3]Sheet2!$C:$L,5,FALSE)","v":50},{"$f":"VLOOKUP(E19,[3]Sheet2!$C:$L,6,FALSE)","v":{"v":84.4,"d":"84.40"}},{"$f":"VLOOKUP(E19,[3]Sheet2!$C:$L,10,FALSE)","v":67.56},"是","织金县实兴乡乡村振兴服务中心"]
[17,"杨健","男","大学",{"$f":"VLOOKUP(B20,[3]Sheet2!$B:$C,2,FALSE)","v":"20210550226"},{"$f":"VLOOKUP(E20,[3]Sheet2!$C:$L,3,FALSE)","v":{"v":104,"d":"104.00"}},"是",{"$f":"VLOOKUP(E20,[3]Sheet2!$C:$L,5,FALSE)","v":15},{"$f":"VLOOKUP(E20,[3]Sheet2!$C:$L,6,FALSE)","v":{"v":83,"d":"83.00"}},{"$f":"VLOOKUP(E20,[3]Sheet2!$C:$L,10,FALSE)","v":{"v":74.8,"d":"74.80"}},"是","织金县能家场镇农业服务中心"]
[18,"刘昶余","男","专科",{"$f":"VLOOKUP(B21,[3]Sheet2!$B:$C,2,FALSE)","v":"20210550219"},{"$f":"VLOOKUP(E21,[3]Sheet2!$C:$L,3,FALSE)","v":{"v":111.5,"d":"111.50"}},"是",{"$f":"VLOOKUP(E21,[3]Sheet2!$C:$L,5,FALSE)","v":2},{"$f":"VLOOKUP(E21,[3]Sheet2!$C:$L,6,FALSE)","v":{"v":80.8,"d":"80.80"}},{"$f":"VLOOKUP(E21,[3]Sheet2!$C:$L,10,FALSE)","v":76.92},"是","织金县以那镇农业服务中心"]
[19,"王玄武","男","大学",{"$f":"VLOOKUP(B22,[3]Sheet2!$B:$C,2,FALSE)","v":"20210550119"},{"$f":"VLOOKUP(E22,[3]Sheet2!$C:$L,3,FALSE)","v":{"v":96,"d":"96.00"}},"是",{"$f":"VLOOKUP(E22,[3]Sheet2!$C:$L,5,FALSE)","v":53},{"$f":"VLOOKUP(E22,[3]Sheet2!$C:$L,6,FALSE)","v":{"v":73.6,"d":"73.60"}},{"$f":"VLOOKUP(E22,[3]Sheet2!$C:$L,10,FALSE)","v":67.84},"是","织金县中寨镇农业服务中心"]