{"text_format":"3","workbook":"xlsx","n_sheets":1,"sheets":["总表"],"not_rendered":{"external_links":1,"defined_names":1},"read":"whole","date_system":"1900"}

{"sheet":"总表","index":0,"n_rows":203,"n_cols":11,"rows_kept":203,"merged":[[0,0,0,9]]}
["兴义市公安局2023年公开招聘警务辅助人员成绩登记表（总表）"]
["姓名","性别","身份证号","准考证号","笔试成绩","加分","面试成绩","总成绩","体能测评","是否进入体检环节"]
["匡波","男","522323****9116","FJ2023010236",{"$f":"INDEX([1]总表!$I:$I,MATCH(D3,[1]总表!$F:$F,0))","v":{"v":70,"d":"70.00"}},{"$f":"INDEX([1]总表!$J:$J,MATCH(D3,[1]总表!$F:$F,0))","v":{"v":0,"d":"0.00"}},74,{"$f":"(E3+F3+G3)/2","v":{"v":72,"d":"72.00"}},"合格","是"]
["罗晓贵","男","522324****563X","FJ2023010300",{"$f":"INDEX([1]总表!$I:$I,MATCH(D4,[1]总表!$F:$F,0))","v":{"v":65,"d":"65.00"}},{"$f":"INDEX([1]总表!$J:$J,MATCH(D4,[1]总表!$F:$F,0))","v":{"v":2,"d":"2.00"}},81.33,{"$f":"(E4+F4+G4)/2","v":{"v":74.165,"d":"74.17"}},"合格","是"]
["黄茂楠","男","522323****4411","FJ2023010127",{"$f":"INDEX([1]总表!$I:$I,MATCH(D5,[1]总表!$F:$F,0))","v":{"v":65,"d":"65.00"}},{"$f":"INDEX([1]总表!$J:$J,MATCH(D5,[1]总表!$F:$F,0))","v":{"v":0,"d":"0.00"}},69,{"v":67,"d":"67.00"},"不合格","否"]
["李荣胜","男","522324****1212","FJ2023010424",{"$f":"INDEX([1]总表!$I:$I,MATCH(D6,[1]总表!$F:$F,0))","v":{"v":61,"d":"61.00"}},{"$f":"INDEX([1]总表!$J:$J,MATCH(D6,[1]总表!$F:$F,0))","v":{"v":2,"d":"2.00"}},82,{"v":72.5,"d":"72.50"},"不合格","否"]
["李安","男","522324****4818","FJ2023010439",{"$f":"INDEX([1]总表!$I:$I,MATCH(D7,[1]总表!$F:$F,0))","v":{"v":60.5,"d":"60.50"}},{"$f":"INDEX([1]总表!$J:$J,MATCH(D7,[1]总表!$F:$F,0))","v":{"v":2,"d":"2.00"}},82.33,{"v":72.415,"d":"72.42"},"合格","是"]
["曹徐","男","522321****0416","FJ2023010043",{"$f":"INDEX([1]总表!$I:$I,MATCH(D8,[1]总表!$F:$F,0))","v":{"v":57.5,"d":"57.50"}},{"$f":"INDEX([1]总表!$J:$J,MATCH(D8,[1]总表!$F:$F,0))","v":{"v":0,"d":"0.00"}},86.33,{"v":71.915,"d":"71.92"},"合格","是"]
["吴富兴","男","522321****4932","FJ2023010203",{"$f":"INDEX([1]总表!$I:$I,MATCH(D9,[1]总表!$F:$F,0))","v":{"v":56.5,"d":"56.50"}},{"$f":"INDEX([1]总表!$J:$J,MATCH(D9,[1]总表!$F:$F,0))","v":{"v":0,"d":"0.00"}},78.67,{"v":67.585,"d":"67.59"},"不合格","否"]
["魏有都","男","522321****0614","FJ2023010616",{"$f":"INDEX([1]总表!$I:$I,MATCH(D10,[1]总表!$F:$F,0))","v":{"v":56,"d":"56.00"}},{"$f":"INDEX([1]总表!$J:$J,MATCH(D10,[1]总表!$F:$F,0))","v":{"v":0,"d":"0.00"}},74.3,65.15,"合格","是","          "]
["王定魁","男","522321****1216","FJ2023010726",{"$f":"INDEX([1]总表!$I:$I,MATCH(D11,[1]总表!$F:$F,0))","v":{"v":52.5,"d":"52.50"}},{"$f":"INDEX([1]总表!$J:$J,MATCH(D11,[1]总表!$F:$F,0))","v":{"v":2,"d":"2.00"}},69.67,{"v":62.085,"d":"62.09"},"合格","是"]
["龙双州","男","522324****5616","FJ2023010456",{"$f":"INDEX([1]总表!$I:$I,MATCH(D12,[1]总表!$F:$F,0))","v":{"v":52,"d":"52.00"}},{"$f":"INDEX([1]总表!$J:$J,MATCH(D12,[1]总表!$F:$F,0))","v":{"v":2,"d":"2.00"}},48.33,{"v":51.165,"d":"51.17"},"不合格","否"]
["杨梓","男","522321****0616","FJ2023010458",{"$f":"INDEX([1]总表!$I:$I,MATCH(D13,[1]总表!$F:$F,0))","v":{"v":51.5,"d":"51.50"}},{"$f":"INDEX([1]总表!$J:$J,MATCH(D13,[1]总表!$F:$F,0))","v":{"v":2,"d":"2.00"}},76.67,{"v":65.085,"d":"65.09"},"不合格","否"]
["林泽洲","男","522527****0839","FJ2023010022",{"$f":"INDEX([1]总表!$I:$I,MATCH(D14,[1]总表!$F:$F,0))","v":{"v":53,"d":"53.00"}},{"$f":"INDEX([1]总表!$J:$J,MATCH(D14,[1]总表!$F:$F,0))","v":{"v":0,"d":"0.00"}},89.67,{"v":71.335,"d":"71.34"},"合格","是"]
["龙志胜","男","522324****5614","FJ2023010201",{"$f":"INDEX([1]总表!$I:$I,MATCH(D15,[1]总表!$F:$F,0))","v":{"v":51,"d":"51.00"}},{"$f":"INDEX([1]总表!$J:$J,MATCH(D15,[1]总表!$F:$F,0))","v":{"v":2,"d":"2.00"}},87.67,{"v":70.335,"d":"70.34"},"合格","是"]
["周再勋","男","522322****2414","FJ2023010294",{"$f":"INDEX([1]总表!$I:$I,MATCH(D16,[1]总表!$F:$F,0))","v":{"v":51,"d":"51.00"}},{"$f":"INDEX([1]总表!$J:$J,MATCH(D16,[1]总表!$F:$F,0))","v":{"v":2,"d":"2.00"}},66.67,{"v":59.835,"d":"59.84"},"不合格","否"]
["龙双江","男","522324****5616","FJ2023010453",{"$f":"INDEX([1]总表!$I:$I,MATCH(D17,[1]总表!$F:$F,0))","v":{"v":51,"d":"51.00"}},{"$f":"INDEX([1]总表!$J:$J,MATCH(D17,[1]总表!$F:$F,0))","v":{"v":2,"d":"2.00"}},49.67,{"v":51.335,"d":"51.34"},"不合格","否"]
["秦玮","男","522323****6254","FJ2023010143",{"$f":"INDEX([1]总表!$I:$I,MATCH(D18,[1]总表!$F:$F,0))","v":{"v":52,"d":"52.00"}},{"$f":"INDEX([1]总表!$J:$J,MATCH(D18,[1]总表!$F:$F,0))","v":{"v":0,"d":"0.00"}},83.33,{"v":67.665,"d":"67.67"},"不合格","否"]
["查翔浩","男","522321****043X","FJ2023010347",{"$f":"INDEX([1]总表!$I:$I,MATCH(D19,[1]总表!$F:$F,0))","v":{"v":49.5,"d":"49.50"}},{"$f":"INDEX([1]总表!$J:$J,MATCH(D19,[1]总表!$F:$F,0))","v":{"v":2,"d":"2.00"}},0,25.75,"不合格","否"]
["张斐","男","522326****0011","FJ2023010545",{"$f":"INDEX([1]总表!$I:$I,MATCH(D20,[1]总表!$F:$F,0))","v":{"v":51,"d":"51.00"}},{"$f":"INDEX([1]总表!$J:$J,MATCH(D20,[1]总表!$F:$F,0))","v":{"v":0,"d":"0.00"}},43.67,{"v":47.335,"d":"47.34"},"不合格","否"]
["吴际","男","520221****3015","FJ2023010309",{"$f":"INDEX([1]总表!$I:$I,MATCH(D21,[1]总表!$F:$F,0))","v":{"v":48.5,"d":"48.50"}},{"$f":"INDEX([1]总表!$J:$J,MATCH(D21,[1]总表!$F:$F,0))","v":{"v":2,"d":"2.00"}},82.33,{"v":66.415,"d":"66.42"},"合格","是"]
["韦鹏","男","522327****1215","FJ2023010400",{"$f":"INDEX([1]总表!$I:$I,MATCH(D22,[1]总表!$F:$F,0))","v":{"v":50.5,"d":"50.50"}},{"$f":"INDEX([1]总表!$J:$J,MATCH(D22,[1]总表!$F:$F,0))","v":{"v":0,"d":"0.00"}},58,54.25,"不合格","否"]
["李玉锋","男","522327****1853","FJ2023010465",{"$f":"INDEX([1]总表!$I:$I,MATCH(D23,[1]总表!$F:$F,0))","v":{"v":48.5,"d":"48.50"}},{"$f":"INDEX([1]总表!$J:$J,MATCH(D23,[1]总表!$F:$F,0))","v":{"v":2,"d":"2.00"}},52.33,{"v":51.415,"d":"51.42"},"不合格","否"]
["胡兴鹏","男","522321****0432","FJ2023010301",{"$f":"INDEX([1]总表!$I:$I,MATCH(D24,[1]总表!$F:$F,0))","v":{"v":50,"d":"50.00"}},{"$f":"INDEX([1]总表!$J:$J,MATCH(D24,[1]总表!$F:$F,0))","v":{"v":0,"d":"0.00"}},55,{"v":52.5,"d":"52.50"},"不合格","否"]
["罗贞发","男","522328****5711","FJ2023010478",{"$f":"INDEX([1]总表!$I:$I,MATCH(D25,[1]总表!$F:$F,0))","v":{"v":47.5,"d":"47.50"}},{"$f":"INDEX([1]总表!$J:$J,MATCH(D25,[1]总表!$F:$F,0))","v":{"v":2,"d":"2.00"}},59,54.25,"不合格","否"]
["王浩懿","男","522321****0430","FJ2023010694",{"$f":"INDEX([1]总表!$I:$I,MATCH(D26,[1]总表!$F:$F,0))","v":{"v":49.5,"d":"49.50"}},{"$f":"INDEX([1]总表!$J:$J,MATCH(D26,[1]总表!$F:$F,0))","v":{"v":0,"d":"0.00"}},62.67,{"v":56.085,"d":"56.09"},"不合格","否"]
["胡景忠","男","522324****5871","FJ2023010389",{"$f":"INDEX([1]总表!$I:$I,MATCH(D27,[1]总表!$F:$F,0))","v":{"v":47,"d":"47.00"}},{"$f":"INDEX([1]总表!$J:$J,MATCH(D27,[1]总表!$F:$F,0))","v":{"v":2,"d":"2.00"}},16,{"v":32.5,"d":"32.50"},"不合格","否"]
["邹启松","男","522321****1257","FJ2023010353",{"$f":"INDEX([1]总表!$I:$I,MATCH(D28,[1]总表!$F:$F,0))","v":{"v":48.5,"d":"48.50"}},{"$f":"INDEX([1]总表!$J:$J,MATCH(D28,[1]总表!$F:$F,0))","v":{"v":0,"d":"0.00"}},48.33,{"v":48.415,"d":"48.42"},"不合格","否"]
["张玉龙","男","522322****2050","FJ2023010319",{"$f":"INDEX([1]总表!$I:$I,MATCH(D29,[1]总表!$F:$F,0))","v":{"v":46.5,"d":"46.50"}},{"$f":"INDEX([1]总表!$J:$J,MATCH(D29,[1]总表!$F:$F,0))","v":{"v":2,"d":"2.00"}},0,24.25,"不合格","否"]
["史贤波","男","522321****2516","FJ2023010635",{"$f":"INDEX([1]总表!$I:$I,MATCH(D30,[1]总表!$F:$F,0))","v":{"v":48,"d":"48.00"}},{"$f":"INDEX([1]总表!$J:$J,MATCH(D30,[1]总表!$F:$F,0))","v":{"v":0,"d":"0.00"}},78,{"v":63,"d":"63.00"},"合格","是"]
["冯信","男","522323****3837","FJ2023010435",{"$f":"INDEX([1]总表!$I:$I,MATCH(D31,[1]总表!$F:$F,0))","v":{"v":45,"d":"45.00"}},{"$f":"INDEX([1]总表!$J:$J,MATCH(D31,[1]总表!$F:$F,0))","v":{"v":2,"d":"2.00"}},77,{"v":62,"d":"62.00"},"不合格","否"]
["廖程贵","男","522323****1317","FJ2023010073",{"$f":"INDEX([1]总表!$I:$I,MATCH(D32,[1]总表!$F:$F,0))","v":{"v":44.5,"d":"44.50"}},{"$f":"INDEX([1]总表!$J:$J,MATCH(D32,[1]总表!$F:$F,0))","v":{"v":2,"d":"2.00"}},72,59.25,"不合格","否"]
["马勋康","男","522427****4454","FJ2023010167",{"$f":"INDEX([1]总表!$I:$I,MATCH(D33,[1]总表!$F:$F,0))","v":{"v":44.5,"d":"44.50"}},{"$f":"INDEX([1]总表!$J:$J,MATCH(D33,[1]总表!$F:$F,0))","v":{"v":2,"d":"2.00"}},58,52.25,"不合格","否"]
["李秀发","男","522325****1653","FJ2023010156",{"$f":"INDEX([1]总表!$I:$I,MATCH(D34,[1]总表!$F:$F,0))","v":{"v":67,"d":"67.00"}},{"$f":"INDEX([1]总表!$J:$J,MATCH(D34,[1]总表!$F:$F,0))","v":{"v":0,"d":"0.00"}},86,{"v":76.5,"d":"76.50"},"不合格","否"]
["赵文广","男","520202****6353","FJ2023010034",{"$f":"INDEX([1]总表!$I:$I,MATCH(D35,[1]总表!$F:$F,0))","v":{"v":62.5,"d":"62.50"}},{"$f":"INDEX([1]总表!$J:$J,MATCH(D35,[1]总表!$F:$F,0))","v":{"v":0,"d":"0.00"}},89.33,{"v":75.915,"d":"75.92"},"合格","是"]
["罗壮","男","522323****8115","FJ2023010468",{"$f":"INDEX([1]总表!$I:$I,MATCH(D36,[1]总表!$F:$F,0))","v":{"v":62.5,"d":"62.50"}},{"$f":"INDEX([1]总表!$J:$J,MATCH(D36,[1]总表!$F:$F,0))","v":{"v":0,"d":"0.00"}},85.33,{"$f":"(E36+F36+G36)/2","v":{"v":73.915,"d":"73.92"}},"不合格","否"]
["卢加龙","男","522327****1433","FJ2023010204",{"$f":"INDEX([1]总表!$I:$I,MATCH(D37,[1]总表!$F:$F,0))","v":{"v":58.5,"d":"58.50"}},{"$f":"INDEX([1]总表!$J:$J,MATCH(D37,[1]总表!$F:$F,0))","v":{"v":2,"d":"2.00"}},75.66,68.08,"不合格","否"]
["余亮","男","522321****4916","FJ2023010305",{"$f":"INDEX([1]总表!$I:$I,MATCH(D38,[1]总表!$F:$F,0))","v":{"v":58,"d":"58.00"}},{"$f":"INDEX([1]总表!$J:$J,MATCH(D38,[1]总表!$F:$F,0))","v":{"v":2,"d":"2.00"}},81.66,70.83,"不合格","否"]
["谭云泷","男","522321****0414","FJ2023010463",{"$f":"INDEX([1]总表!$I:$I,MATCH(D39,[1]总表!$F:$F,0))","v":{"v":59.5,"d":"59.50"}},{"$f":"INDEX([1]总表!$J:$J,MATCH(D39,[1]总表!$F:$F,0))","v":{"v":0,"d":"0.00"}},81.33,{"v":70.415,"d":"70.42"},"合格","是"]
["赵未","男","522322****2314","FJ2023010500",{"$f":"INDEX([1]总表!$I:$I,MATCH(D40,[1]总表!$F:$F,0))","v":{"v":57,"d":"57.00"}},{"$f":"INDEX([1]总表!$J:$J,MATCH(D40,[1]总表!$F:$F,0))","v":{"v":2,"d":"2.00"}},87.66,73.33,"合格","是"]
["黄尚星","男","522321****1256","FJ2023010379",{"$f":"INDEX([1]总表!$I:$I,MATCH(D41,[1]总表!$F:$F,0))","v":{"v":58.5,"d":"58.50"}},{"$f":"INDEX([1]总表!$J:$J,MATCH(D41,[1]总表!$F:$F,0))","v":{"v":0,"d":"0.00"}},80.66,69.58,"不合格","否"]
["龚卫川","男","522126****0037","FJ2023010615",{"$f":"INDEX([1]总表!$I:$I,MATCH(D42,[1]总表!$F:$F,0))","v":{"v":56.5,"d":"56.50"}},{"$f":"INDEX([1]总表!$J:$J,MATCH(D42,[1]总表!$F:$F,0))","v":{"v":2,"d":"2.00"}},71.33,{"v":64.915,"d":"64.92"},"不合格","否"]
["何人均","男","522328****1237","FJ2023010286",{"$f":"INDEX([1]总表!$I:$I,MATCH(D43,[1]总表!$F:$F,0))","v":{"v":56,"d":"56.00"}},{"$f":"INDEX([1]总表!$J:$J,MATCH(D43,[1]总表!$F:$F,0))","v":{"v":2,"d":"2.00"}},70.66,64.33,"不合格","否"]
["唐守江","男","520202****7714","FJ2023010485",{"$f":"INDEX([1]总表!$I:$I,MATCH(D44,[1]总表!$F:$F,0))","v":{"v":58,"d":"58.00"}},{"$f":"INDEX([1]总表!$J:$J,MATCH(D44,[1]总表!$F:$F,0))","v":{"v":0,"d":"0.00"}},74,{"v":66,"d":"66.00"},"不合格","否"]
["罗元宇","男","522321****7617","FJ2023010242",{"$f":"INDEX([1]总表!$I:$I,MATCH(D45,[1]总表!$F:$F,0))","v":{"v":57.5,"d":"57.50"}},{"$f":"INDEX([1]总表!$J:$J,MATCH(D45,[1]总表!$F:$F,0))","v":{"v":0,"d":"0.00"}},77.66,67.58,"合格","是"]
["姜辉","男","522427****207X","FJ2023010631",{"$f":"INDEX([1]总表!$I:$I,MATCH(D46,[1]总表!$F:$F,0))","v":{"v":57.5,"d":"57.50"}},{"$f":"INDEX([1]总表!$J:$J,MATCH(D46,[1]总表!$F:$F,0))","v":{"v":0,"d":"0.00"}},0,28.75,"不合格","否"]
["邓嵩淞","男","522324****5212","FJ2023010512",{"$f":"INDEX([1]总表!$I:$I,MATCH(D47,[1]总表!$F:$F,0))","v":{"v":55,"d":"55.00"}},{"$f":"INDEX([1]总表!$J:$J,MATCH(D47,[1]总表!$F:$F,0))","v":{"v":2,"d":"2.00"}},88.33,{"v":72.665,"d":"72.67"},"合格","是"]
["陈恒","男","522321****023X","FJ2023010157",{"$f":"INDEX([1]总表!$I:$I,MATCH(D48,[1]总表!$F:$F,0))","v":{"v":54.5,"d":"54.50"}},{"$f":"INDEX([1]总表!$J:$J,MATCH(D48,[1]总表!$F:$F,0))","v":{"v":2,"d":"2.00"}},60,58.25,"不合格","否"]
["周华应","男","522321****1913","FJ2023010381",{"$f":"INDEX([1]总表!$I:$I,MATCH(D49,[1]总表!$F:$F,0))","v":{"v":56.5,"d":"56.50"}},{"$f":"INDEX([1]总表!$J:$J,MATCH(D49,[1]总表!$F:$F,0))","v":{"v":0,"d":"0.00"}},0,28.25,"不合格","否"]
["普德勇","男","522328****5717","FJ2023010223",{"$f":"INDEX([1]总表!$I:$I,MATCH(D50,[1]总表!$F:$F,0))","v":{"v":54,"d":"54.00"}},{"$f":"INDEX([1]总表!$J:$J,MATCH(D50,[1]总表!$F:$F,0))","v":{"v":2,"d":"2.00"}},75.66,65.83,"合格","是"]
["李万茂","男","522328****6119","FJ2023010487",{"$f":"INDEX([1]总表!$I:$I,MATCH(D51,[1]总表!$F:$F,0))","v":{"v":54,"d":"54.00"}},{"$f":"INDEX([1]总表!$J:$J,MATCH(D51,[1]总表!$F:$F,0))","v":{"v":2,"d":"2.00"}},74.66,65.33,"合格","是"]
["杨翔","男","522324****2852","FJ2023010617",{"$f":"INDEX([1]总表!$I:$I,MATCH(D52,[1]总表!$F:$F,0))","v":{"v":54,"d":"54.00"}},{"$f":"INDEX([1]总表!$J:$J,MATCH(D52,[1]总表!$F:$F,0))","v":{"v":2,"d":"2.00"}},72.33,{"v":64.165,"d":"64.17"},"不合格","否"]
["邓志","男","522324****5213","FJ2023010503",{"$f":"INDEX([1]总表!$I:$I,MATCH(D53,[1]总表!$F:$F,0))","v":{"v":53.5,"d":"53.50"}},{"$f":"INDEX([1]总表!$J:$J,MATCH(D53,[1]总表!$F:$F,0))","v":{"v":2,"d":"2.00"}},64.66,60.08,"不合格","否"]
["张浩","男","522323****6219","FJ2023010640",{"$f":"INDEX([1]总表!$I:$I,MATCH(D54,[1]总表!$F:$F,0))","v":{"v":53.5,"d":"53.50"}},{"$f":"INDEX([1]总表!$J:$J,MATCH(D54,[1]总表!$F:$F,0))","v":{"v":2,"d":"2.00"}},72.33,{"v":63.915,"d":"63.92"},"不合格","否"]
["刘志国","男","522324****561X","FJ2023010731",{"$f":"INDEX([1]总表!$I:$I,MATCH(D55,[1]总表!$F:$F,0))","v":{"v":53.5,"d":"53.50"}},{"$f":"INDEX([1]总表!$J:$J,MATCH(D55,[1]总表!$F:$F,0))","v":{"v":2,"d":"2.00"}},65.33,{"v":60.415,"d":"60.42"},"不合格","否"]
["王伟","男","522323****6231","FJ2023010118",{"$f":"INDEX([1]总表!$I:$I,MATCH(D56,[1]总表!$F:$F,0))","v":{"v":52.5,"d":"52.50"}},{"$f":"INDEX([1]总表!$J:$J,MATCH(D56,[1]总表!$F:$F,0))","v":{"v":2,"d":"2.00"}},53.33,{"v":53.915,"d":"53.92"},"不合格","否"]
["杨鸿","男","522328****0451","FJ2023010048",{"$f":"INDEX([1]总表!$I:$I,MATCH(D57,[1]总表!$F:$F,0))","v":{"v":54,"d":"54.00"}},{"$f":"INDEX([1]总表!$J:$J,MATCH(D57,[1]总表!$F:$F,0))","v":{"v":0,"d":"0.00"}},77.66,65.83,"不合格","否"]
["张毅","男","520202****3655","FJ2023010278",{"$f":"INDEX([1]总表!$I:$I,MATCH(D58,[1]总表!$F:$F,0))","v":{"v":36,"d":"36.00"}},{"$f":"INDEX([1]总表!$J:$J,MATCH(D58,[1]总表!$F:$F,0))","v":{"v":0,"d":"0.00"}},82,{"v":59,"d":"59.00"},"合格","是"]
["贝永双","男","522326****1411","FJ2023010457",{"$f":"INDEX([1]总表!$I:$I,MATCH(D59,[1]总表!$F:$F,0))","v":{"v":50,"d":"50.00"}},{"$f":"INDEX([1]总表!$J:$J,MATCH(D59,[1]总表!$F:$F,0))","v":{"v":2,"d":"2.00"}},78.33,{"v":65.165,"d":"65.17"},"不合格","否"]
["胡玉伟","男","520202****9119","FJ2023010647",{"$f":"INDEX([1]总表!$I:$I,MATCH(D60,[1]总表!$F:$F,0))","v":{"v":52,"d":"52.00"}},{"$f":"INDEX([1]总表!$J:$J,MATCH(D60,[1]总表!$F:$F,0))","v":{"v":0,"d":"0.00"}},75,{"v":63.5,"d":"63.50"},"不合格","否"]
["杨西","男","522323****9112","FJ2023010721",{"$f":"INDEX([1]总表!$I:$I,MATCH(D61,[1]总表!$F:$F,0))","v":{"v":52,"d":"52.00"}},{"$f":"INDEX([1]总表!$J:$J,MATCH(D61,[1]总表!$F:$F,0))","v":{"v":0,"d":"0.00"}},0,{"v":26,"d":"26.00"},"不合格","否"]
["符思金","男","522328****0813","FJ2023010524",{"$f":"INDEX([1]总表!$I:$I,MATCH(D62,[1]总表!$F:$F,0))","v":{"v":51.5,"d":"51.50"}},{"$f":"INDEX([1]总表!$J:$J,MATCH(D62,[1]总表!$F:$F,0))","v":{"v":0,"d":"0.00"}},0,25.75,"不合格","否"]
["晏旭","男","520202****7917","FJ2023010649",{"$f":"INDEX([1]总表!$I:$I,MATCH(D63,[1]总表!$F:$F,0))","v":{"v":49.5,"d":"49.50"}},{"$f":"INDEX([1]总表!$J:$J,MATCH(D63,[1]总表!$F:$F,0))","v":{"v":2,"d":"2.00"}},68,59.75,"不合格","否"]
["周彪","男","522321****4312","FJ2023010406",{"$f":"INDEX([1]总表!$I:$I,MATCH(D64,[1]总表!$F:$F,0))","v":{"v":65.5,"d":"65.50"}},{"$f":"INDEX([1]总表!$J:$J,MATCH(D64,[1]总表!$F:$F,0))","v":{"v":0,"d":"0.00"}},79,72.25,"不合格","否"]
["韦国章","男","522321****3719","FJ2023010425",{"$f":"INDEX([1]总表!$I:$I,MATCH(D65,[1]总表!$F:$F,0))","v":{"v":62.5,"d":"62.50"}},{"$f":"INDEX([1]总表!$J:$J,MATCH(D65,[1]总表!$F:$F,0))","v":{"v":2,"d":"2.00"}},74.33,{"v":69.415,"d":"69.42"},"不合格","否"]
["姜辅民","男","522322****2438","FJ2023010589",{"$f":"INDEX([1]总表!$I:$I,MATCH(D66,[1]总表!$F:$F,0))","v":{"v":59.5,"d":"59.50"}},{"$f":"INDEX([1]总表!$J:$J,MATCH(D66,[1]总表!$F:$F,0))","v":{"v":2,"d":"2.00"}},75.33,{"v":68.415,"d":"68.42"},"合格","是"]
["李佳","男","522321****0418","FJ2023010408",{"$f":"INDEX([1]总表!$I:$I,MATCH(D67,[1]总表!$F:$F,0))","v":{"v":59,"d":"59.00"}},{"$f":"INDEX([1]总表!$J:$J,MATCH(D67,[1]总表!$F:$F,0))","v":{"v":0,"d":"0.00"}},85.67,{"v":72.335,"d":"72.34"},"不合格","否"]
["陶佳静","男","522323****0053","FJ2023010420",{"$f":"INDEX([1]总表!$I:$I,MATCH(D68,[1]总表!$F:$F,0))","v":{"v":57.5,"d":"57.50"}},{"$f":"INDEX([1]总表!$J:$J,MATCH(D68,[1]总表!$F:$F,0))","v":{"v":0,"d":"0.00"}},75.33,{"$f":"(E68+F68+G68)/2","v":{"v":66.415,"d":"66.42"}},"不合格","否"]
["韦林坪","男","522321****3413","FJ2023010575",{"$f":"INDEX([1]总表!$I:$I,MATCH(D69,[1]总表!$F:$F,0))","v":{"v":54.5,"d":"54.50"}},{"$f":"INDEX([1]总表!$J:$J,MATCH(D69,[1]总表!$F:$F,0))","v":{"v":2,"d":"2.00"}},67.33,{"v":61.915,"d":"61.92"},"不合格","否"]
["龚磊","男","522322****9810","FJ2023010419",{"$f":"INDEX([1]总表!$I:$I,MATCH(D70,[1]总表!$F:$F,0))","v":{"v":55,"d":"55.00"}},{"$f":"INDEX([1]总表!$J:$J,MATCH(D70,[1]总表!$F:$F,0))","v":{"v":0,"d":"0.00"}},67.33,{"v":61.165,"d":"61.17"},"合格","是"]
["杜银金","男","522322****5032","FJ2023010483",{"$f":"INDEX([1]总表!$I:$I,MATCH(D71,[1]总表!$F:$F,0))","v":{"v":54,"d":"54.00"}},{"$f":"INDEX([1]总表!$J:$J,MATCH(D71,[1]总表!$F:$F,0))","v":{"v":0,"d":"0.00"}},58.67,{"v":56.335,"d":"56.34"},"不合格","否"]
["向海豹","男","522324****0838","FJ2023010567",{"$f":"INDEX([1]总表!$I:$I,MATCH(D72,[1]总表!$F:$F,0))","v":{"v":54,"d":"54.00"}},{"$f":"INDEX([1]总表!$J:$J,MATCH(D72,[1]总表!$F:$F,0))","v":{"v":0,"d":"0.00"}},74,{"v":64,"d":"64.00"},"不合格","否"]
["贺尔鑫","男","522321****4938","FJ2023010343",{"$f":"INDEX([1]总表!$I:$I,MATCH(D73,[1]总表!$F:$F,0))","v":{"v":51,"d":"51.00"}},{"$f":"INDEX([1]总表!$J:$J,MATCH(D73,[1]总表!$F:$F,0))","v":{"v":2,"d":"2.00"}},76.67,{"v":64.835,"d":"64.84"},"合格","是"]
["杨小庄","男","522326****3016","FJ2023010414",{"$f":"INDEX([1]总表!$I:$I,MATCH(D74,[1]总表!$F:$F,0))","v":{"v":53,"d":"53.00"}},{"$f":"INDEX([1]总表!$J:$J,MATCH(D74,[1]总表!$F:$F,0))","v":{"v":0,"d":"0.00"}},57,{"v":55,"d":"55.00"},"不合格","否"]
["王雄","男","522323****3031","FJ2023010695",{"$f":"INDEX([1]总表!$I:$I,MATCH(D75,[1]总表!$F:$F,0))","v":{"v":53,"d":"53.00"}},{"$f":"INDEX([1]总表!$J:$J,MATCH(D75,[1]总表!$F:$F,0))","v":{"v":0,"d":"0.00"}},79.67,{"v":66.335,"d":"66.34"},"不合格","否"]
["王功曌","男","522328****0438","FJ2023010429",{"$f":"INDEX([1]总表!$I:$I,MATCH(D76,[1]总表!$F:$F,0))","v":{"v":50,"d":"50.00"}},{"$f":"INDEX([1]总表!$J:$J,MATCH(D76,[1]总表!$F:$F,0))","v":{"v":2,"d":"2.00"}},70,{"v":61,"d":"61.00"},"不合格","否"]
["何帅发","男","520221****3013","FJ2023010311",{"$f":"INDEX([1]总表!$I:$I,MATCH(D77,[1]总表!$F:$F,0))","v":{"v":51,"d":"51.00"}},{"$f":"INDEX([1]总表!$J:$J,MATCH(D77,[1]总表!$F:$F,0))","v":{"v":0,"d":"0.00"}},86.67,{"v":68.835,"d":"68.84"},"不合格","否"]
["李跃波","男","522322****103X","FJ2023010619",{"$f":"INDEX([1]总表!$I:$I,MATCH(D78,[1]总表!$F:$F,0))","v":{"v":49.5,"d":"49.50"}},{"$f":"INDEX([1]总表!$J:$J,MATCH(D78,[1]总表!$F:$F,0))","v":{"v":0,"d":"0.00"}},74.67,{"v":62.085,"d":"62.09"},"不合格","否"]
["王雪茂","男","522326****1216","FJ2023010529",{"$f":"INDEX([1]总表!$I:$I,MATCH(D79,[1]总表!$F:$F,0))","v":{"v":46.5,"d":"46.50"}},{"$f":"INDEX([1]总表!$J:$J,MATCH(D79,[1]总表!$F:$F,0))","v":{"v":2,"d":"2.00"}},0,24.25,"不合格","否"]
["黎昆明","男","522323****5414","FJ2023010581",{"$f":"INDEX([1]总表!$I:$I,MATCH(D80,[1]总表!$F:$F,0))","v":{"v":48.5,"d":"48.50"}},{"$f":"INDEX([1]总表!$J:$J,MATCH(D80,[1]总表!$F:$F,0))","v":{"v":0,"d":"0.00"}},0,24.25,"不合格","否"]
["张安儒","男","522601****0016","FJ2023010476",{"$f":"INDEX([1]总表!$I:$I,MATCH(D81,[1]总表!$F:$F,0))","v":{"v":47,"d":"47.00"}},{"$f":"INDEX([1]总表!$J:$J,MATCH(D81,[1]总表!$F:$F,0))","v":{"v":0,"d":"0.00"}},73.33,{"v":60.165,"d":"60.17"},"不合格","否"]
["谭书鹏","男","522321****1614","FJ2023010519",{"$f":"INDEX([1]总表!$I:$I,MATCH(D82,[1]总表!$F:$F,0))","v":{"v":46,"d":"46.00"}},{"$f":"INDEX([1]总表!$J:$J,MATCH(D82,[1]总表!$F:$F,0))","v":{"v":0,"d":"0.00"}},60,{"v":53,"d":"53.00"},"合格","是"]
["王枝程","男","520201****2814","FJ2023010382",{"$f":"INDEX([1]总表!$I:$I,MATCH(D83,[1]总表!$F:$F,0))","v":{"v":45,"d":"45.00"}},{"$f":"INDEX([1]总表!$J:$J,MATCH(D83,[1]总表!$F:$F,0))","v":{"v":0,"d":"0.00"}},73.33,{"v":59.165,"d":"59.17"},"不合格","否"]
["路建","女","520202****7924","FJ2023010117",{"$f":"INDEX([1]总表!$I:$I,MATCH(D84,[1]总表!$F:$F,0))","v":{"v":68,"d":"68.00"}},{"$f":"INDEX([1]总表!$J:$J,MATCH(D84,[1]总表!$F:$F,0))","v":{"v":2,"d":"2.00"}},66,{"v":68,"d":"68.00"},"合格","是"]
["郎崑","男","522321****5818","FJ2023010561",{"$f":"INDEX([1]总表!$I:$I,MATCH(D85,[1]总表!$F:$F,0))","v":{"v":67.5,"d":"67.50"}},{"$f":"INDEX([1]总表!$J:$J,MATCH(D85,[1]总表!$F:$F,0))","v":{"v":2,"d":"2.00"}},82.67,{"v":76.085,"d":"76.09"},"不合格","否"]
["韦钦卿","男","522324****4814","FJ2023010339",{"$f":"INDEX([1]总表!$I:$I,MATCH(D86,[1]总表!$F:$F,0))","v":{"v":66.5,"d":"66.50"}},{"$f":"INDEX([1]总表!$J:$J,MATCH(D86,[1]总表!$F:$F,0))","v":{"v":2,"d":"2.00"}},77,72.75,"不合格","否"]
["张正菊","女","522325****4027","FJ2023010611",{"$f":"INDEX([1]总表!$I:$I,MATCH(D87,[1]总表!$F:$F,0))","v":{"v":68.5,"d":"68.50"}},{"$f":"INDEX([1]总表!$J:$J,MATCH(D87,[1]总表!$F:$F,0))","v":{"v":0,"d":"0.00"}},0,34.25,"不合格","否"]
["蒋璇","女","522323****0025","FJ2023010031",{"$f":"INDEX([1]总表!$I:$I,MATCH(D88,[1]总表!$F:$F,0))","v":{"v":67.5,"d":"67.50"}},{"$f":"INDEX([1]总表!$J:$J,MATCH(D88,[1]总表!$F:$F,0))","v":{"v":0,"d":"0.00"}},79.33,{"v":73.415,"d":"73.42"},"合格","是"]
["汪艳","女","522323****6287","FJ2023010161",{"$f":"INDEX([1]总表!$I:$I,MATCH(D89,[1]总表!$F:$F,0))","v":{"v":67.5,"d":"67.50"}},{"$f":"INDEX([1]总表!$J:$J,MATCH(D89,[1]总表!$F:$F,0))","v":{"v":0,"d":"0.00"}},87,77.25,"合格","是"]
["王佳","女","522322****1622","FJ2023010593",{"$f":"INDEX([1]总表!$I:$I,MATCH(D90,[1]总表!$F:$F,0))","v":{"v":67.5,"d":"67.50"}},{"$f":"INDEX([1]总表!$J:$J,MATCH(D90,[1]总表!$F:$F,0))","v":{"v":0,"d":"0.00"}},85.33,{"v":76.415,"d":"76.42"},"合格","是"]
["罗苹","女","522321****0423","FJ2023010172",{"$f":"INDEX([1]总表!$I:$I,MATCH(D91,[1]总表!$F:$F,0))","v":{"v":67,"d":"67.00"}},{"$f":"INDEX([1]总表!$J:$J,MATCH(D91,[1]总表!$F:$F,0))","v":{"v":0,"d":"0.00"}},75,{"v":71,"d":"71.00"},"不合格","否"]
["唐博雅","女","522321****022X","FJ2023010245",{"$f":"INDEX([1]总表!$I:$I,MATCH(D92,[1]总表!$F:$F,0))","v":{"v":66,"d":"66.00"}},{"$f":"INDEX([1]总表!$J:$J,MATCH(D92,[1]总表!$F:$F,0))","v":{"v":0,"d":"0.00"}},83.67,{"v":74.835,"d":"74.84"},"不合格","否"]
["彭忍","女","532225****1142","FJ2023010676",{"$f":"INDEX([1]总表!$I:$I,MATCH(D93,[1]总表!$F:$F,0))","v":{"v":66,"d":"66.00"}},{"$f":"INDEX([1]总表!$J:$J,MATCH(D93,[1]总表!$F:$F,0))","v":{"v":0,"d":"0.00"}},85.33,{"v":75.665,"d":"75.67"},"不合格","否"]
["毛林鹏","男","522322****1417","FJ2023010174",{"$f":"INDEX([1]总表!$I:$I,MATCH(D94,[1]总表!$F:$F,0))","v":{"v":60,"d":"60.00"}},{"$f":"INDEX([1]总表!$J:$J,MATCH(D94,[1]总表!$F:$F,0))","v":{"v":2,"d":"2.00"}},54.7,58.35,"不合格","否"]
["孙兴","男","522323****5456","FJ2023010470",{"$f":"INDEX([1]总表!$I:$I,MATCH(D95,[1]总表!$F:$F,0))","v":{"v":59,"d":"59.00"}},{"$f":"INDEX([1]总表!$J:$J,MATCH(D95,[1]总表!$F:$F,0))","v":{"v":2,"d":"2.00"}},76.7,68.85,"合格","是"]
["李仕龙","男","522323****8117","FJ2023010648",{"$f":"INDEX([1]总表!$I:$I,MATCH(D96,[1]总表!$F:$F,0))","v":{"v":60.5,"d":"60.50"}},{"$f":"INDEX([1]总表!$J:$J,MATCH(D96,[1]总表!$F:$F,0))","v":{"v":0,"d":"0.00"}},0,30.25,"不合格","否"]
["杨钰","男","522322****4810","FJ2023010505",{"$f":"INDEX([1]总表!$I:$I,MATCH(D97,[1]总表!$F:$F,0))","v":{"v":60.5,"d":"60.50"}},{"$f":"INDEX([1]总表!$J:$J,MATCH(D97,[1]总表!$F:$F,0))","v":{"v":0,"d":"0.00"}},69,64.75,"不合格","否"]
["吕刚","男","522321****0815","FJ2023010706",{"$f":"INDEX([1]总表!$I:$I,MATCH(D98,[1]总表!$F:$F,0))","v":{"v":60,"d":"60.00"}},{"$f":"INDEX([1]总表!$J:$J,MATCH(D98,[1]总表!$F:$F,0))","v":{"v":0,"d":"0.00"}},70.7,65.35,"不合格","否"]
["江晓于","男","522322****5812","FJ2023010620",{"$f":"INDEX([1]总表!$I:$I,MATCH(D99,[1]总表!$F:$F,0))","v":{"v":59,"d":"59.00"}},{"$f":"INDEX([1]总表!$J:$J,MATCH(D99,[1]总表!$F:$F,0))","v":{"v":0,"d":"0.00"}},71,{"v":65,"d":"65.00"},"不合格","否"]
["余伟伟","男","522324****4875","FJ2023010514",{"$f":"INDEX([1]总表!$I:$I,MATCH(D100,[1]总表!$F:$F,0))","v":{"v":54.5,"d":"54.50"}},{"$f":"INDEX([1]总表!$J:$J,MATCH(D100,[1]总表!$F:$F,0))","v":{"v":2,"d":"2.00"}},67,{"$f":"(E100+F100+G100)/2","v":61.75},"不合格","否"]
["赵勇","男","522321****5518","FJ2023010293",{"$f":"INDEX([1]总表!$I:$I,MATCH(D101,[1]总表!$F:$F,0))","v":{"v":53,"d":"53.00"}},{"$f":"INDEX([1]总表!$J:$J,MATCH(D101,[1]总表!$F:$F,0))","v":{"v":2,"d":"2.00"}},53.3,54.15,"不合格","否"]
["王本治","男","522328****0015","FJ2023010075",{"$f":"INDEX([1]总表!$I:$I,MATCH(D102,[1]总表!$F:$F,0))","v":{"v":52.5,"d":"52.50"}},{"$f":"INDEX([1]总表!$J:$J,MATCH(D102,[1]总表!$F:$F,0))","v":{"v":2,"d":"2.00"}},54.7,{"v":54.6,"d":"54.60"},"不合格","否"]
["王星葵","男","522321****0975","FJ2023010395",{"$f":"INDEX([1]总表!$I:$I,MATCH(D103,[1]总表!$F:$F,0))","v":{"v":52.5,"d":"52.50"}},{"$f":"INDEX([1]总表!$J:$J,MATCH(D103,[1]总表!$F:$F,0))","v":{"v":2,"d":"2.00"}},44.7,{"v":49.6,"d":"49.60"},"不合格","否"]
["余李超","男","522327****0015","FJ2023010462",{"$f":"INDEX([1]总表!$I:$I,MATCH(D104,[1]总表!$F:$F,0))","v":{"v":54.5,"d":"54.50"}},{"$f":"INDEX([1]总表!$J:$J,MATCH(D104,[1]总表!$F:$F,0))","v":{"v":0,"d":"0.00"}},45,49.75,"不合格","否"]
["罗思刚","男","522321****1616","FJ2023010162",{"$f":"INDEX([1]总表!$I:$I,MATCH(D105,[1]总表!$F:$F,0))","v":{"v":54,"d":"54.00"}},{"$f":"INDEX([1]总表!$J:$J,MATCH(D105,[1]总表!$F:$F,0))","v":{"v":0,"d":"0.00"}},82,{"v":68,"d":"68.00"},"合格","是"]
["韦守桢","男","522328****3211","FJ2023010655",{"$f":"INDEX([1]总表!$I:$I,MATCH(D106,[1]总表!$F:$F,0))","v":{"v":51,"d":"51.00"}},{"$f":"INDEX([1]总表!$J:$J,MATCH(D106,[1]总表!$F:$F,0))","v":{"v":2,"d":"2.00"}},65.7,59.35,"不合格","否"]
["汪远江","男","522321****3112","FJ2023010432",{"$f":"INDEX([1]总表!$I:$I,MATCH(D107,[1]总表!$F:$F,0))","v":{"v":53,"d":"53.00"}},{"$f":"INDEX([1]总表!$J:$J,MATCH(D107,[1]总表!$F:$F,0))","v":{"v":0,"d":"0.00"}},69.7,61.35,"不合格","否"]
["杨润林","男","522327****0016","FJ2023010433",{"$f":"INDEX([1]总表!$I:$I,MATCH(D108,[1]总表!$F:$F,0))","v":{"v":52,"d":"52.00"}},{"$f":"INDEX([1]总表!$J:$J,MATCH(D108,[1]总表!$F:$F,0))","v":{"v":0,"d":"0.00"}},0,{"v":26,"d":"26.00"},"不合格","否"]
["鄢朝宽","男","520202****4438","FJ2023010639",{"$f":"INDEX([1]总表!$I:$I,MATCH(D109,[1]总表!$F:$F,0))","v":{"v":50.5,"d":"50.50"}},{"$f":"INDEX([1]总表!$J:$J,MATCH(D109,[1]总表!$F:$F,0))","v":{"v":0,"d":"0.00"}},0,25.25,"不合格","否"]
["陈峰","男","522323****7516","FJ2023010660",{"$f":"INDEX([1]总表!$I:$I,MATCH(D110,[1]总表!$F:$F,0))","v":{"v":48,"d":"48.00"}},{"$f":"INDEX([1]总表!$J:$J,MATCH(D110,[1]总表!$F:$F,0))","v":{"v":2,"d":"2.00"}},72.3,61.15,"不合格","否"]
["吴胜佳","男","522322****0413","FJ2023010399",{"$f":"INDEX([1]总表!$I:$I,MATCH(D111,[1]总表!$F:$F,0))","v":{"v":46,"d":"46.00"}},{"$f":"INDEX([1]总表!$J:$J,MATCH(D111,[1]总表!$F:$F,0))","v":{"v":2,"d":"2.00"}},80.3,64.15,"不合格","否"]
["杨标","男","522328****5735","FJ2023010340",{"$f":"INDEX([1]总表!$I:$I,MATCH(D112,[1]总表!$F:$F,0))","v":{"v":48,"d":"48.00"}},{"$f":"INDEX([1]总表!$J:$J,MATCH(D112,[1]总表!$F:$F,0))","v":{"v":0,"d":"0.00"}},65,{"v":56.5,"d":"56.50"},"不合格","否"]
["郝超超","男","522322****1611","FJ2023010248",{"$f":"INDEX([1]总表!$I:$I,MATCH(D113,[1]总表!$F:$F,0))","v":{"v":47.5,"d":"47.50"}},{"$f":"INDEX([1]总表!$J:$J,MATCH(D113,[1]总表!$F:$F,0))","v":{"v":0,"d":"0.00"}},62.3,{"v":54.9,"d":"54.90"},"合格","是"]
["周滔滔","男","520202****5133","FJ2023010361",{"$f":"INDEX([1]总表!$I:$I,MATCH(D114,[1]总表!$F:$F,0))","v":{"v":67,"d":"67.00"}},{"$f":"INDEX([1]总表!$J:$J,MATCH(D114,[1]总表!$F:$F,0))","v":{"v":0,"d":"0.00"}},68.3,67.65,"不合格","否"]
["谭超","男","522321****7611","FJ2023010140",{"$f":"INDEX([1]总表!$I:$I,MATCH(D115,[1]总表!$F:$F,0))","v":{"v":58,"d":"58.00"}},{"$f":"INDEX([1]总表!$J:$J,MATCH(D115,[1]总表!$F:$F,0))","v":{"v":2,"d":"2.00"}},0,{"v":30,"d":"30.00"},"不合格","否"]
["周大发","男","522322****5812","FJ2023010621",{"$f":"INDEX([1]总表!$I:$I,MATCH(D116,[1]总表!$F:$F,0))","v":{"v":59.5,"d":"59.50"}},{"$f":"INDEX([1]总表!$J:$J,MATCH(D116,[1]总表!$F:$F,0))","v":{"v":0,"d":"0.00"}},73,66.25,"不合格","否"]
["李官富","男","522321****6813","FJ2023010641",{"$f":"INDEX([1]总表!$I:$I,MATCH(D117,[1]总表!$F:$F,0))","v":{"v":57.5,"d":"57.50"}},{"$f":"INDEX([1]总表!$J:$J,MATCH(D117,[1]总表!$F:$F,0))","v":{"v":0,"d":"0.00"}},72.3,{"v":64.9,"d":"64.90"},"不合格","否"]
["韦程章","男","522328****0817","FJ2023010065",{"$f":"INDEX([1]总表!$I:$I,MATCH(D118,[1]总表!$F:$F,0))","v":{"v":55,"d":"55.00"}},{"$f":"INDEX([1]总表!$J:$J,MATCH(D118,[1]总表!$F:$F,0))","v":{"v":2,"d":"2.00"}},69.3,63.15,"合格","是"]
["黄德报","男","522327****1833","FJ2023010464",{"$f":"INDEX([1]总表!$I:$I,MATCH(D119,[1]总表!$F:$F,0))","v":{"v":55,"d":"55.00"}},{"$f":"INDEX([1]总表!$J:$J,MATCH(D119,[1]总表!$F:$F,0))","v":{"v":2,"d":"2.00"}},32,{"v":44.5,"d":"44.50"},"不合格","否"]
["李健","男","520221****2019","FJ2023010434",{"$f":"INDEX([1]总表!$I:$I,MATCH(D120,[1]总表!$F:$F,0))","v":{"v":53.5,"d":"53.50"}},{"$f":"INDEX([1]总表!$J:$J,MATCH(D120,[1]总表!$F:$F,0))","v":{"v":0,"d":"0.00"}},68.7,{"v":61.1,"d":"61.10"},"不合格","否"]
["娄忠炳","男","522328****2032","FJ2023010443",{"$f":"INDEX([1]总表!$I:$I,MATCH(D121,[1]总表!$F:$F,0))","v":{"v":51.5,"d":"51.50"}},{"$f":"INDEX([1]总表!$J:$J,MATCH(D121,[1]总表!$F:$F,0))","v":{"v":2,"d":"2.00"}},0,26.75,"不合格","否"]
["张瑶","男","522323****4419","FJ2023010273",{"$f":"INDEX([1]总表!$I:$I,MATCH(D122,[1]总表!$F:$F,0))","v":{"v":49.5,"d":"49.50"}},{"$f":"INDEX([1]总表!$J:$J,MATCH(D122,[1]总表!$F:$F,0))","v":{"v":0,"d":"0.00"}},77.3,{"v":63.4,"d":"63.40"},"不合格","否"]
["陆阳","男","522324****5218","FJ2023010622",{"$f":"INDEX([1]总表!$I:$I,MATCH(D123,[1]总表!$F:$F,0))","v":{"v":46.5,"d":"46.50"}},{"$f":"INDEX([1]总表!$J:$J,MATCH(D123,[1]总表!$F:$F,0))","v":{"v":2,"d":"2.00"}},59,53.75,"不合格","否"]
["甘阳关","男","522327****2411","FJ2023010673",{"$f":"INDEX([1]总表!$I:$I,MATCH(D124,[1]总表!$F:$F,0))","v":{"v":45,"d":"45.00"}},{"$f":"INDEX([1]总表!$J:$J,MATCH(D124,[1]总表!$F:$F,0))","v":{"v":2,"d":"2.00"}},0,{"v":23.5,"d":"23.50"},"不合格","否"]
["王为杰","男","522321****0211","FJ2023010282",{"$f":"INDEX([1]总表!$I:$I,MATCH(D125,[1]总表!$F:$F,0))","v":{"v":43.5,"d":"43.50"}},{"$f":"INDEX([1]总表!$J:$J,MATCH(D125,[1]总表!$F:$F,0))","v":{"v":2,"d":"2.00"}},77.7,{"v":61.6,"d":"61.60"},"不合格","否"]
["郭坤方","男","522321****801X","FJ2023010084",{"$f":"INDEX([1]总表!$I:$I,MATCH(D126,[1]总表!$F:$F,0))","v":{"v":43.5,"d":"43.50"}},{"$f":"INDEX([1]总表!$J:$J,MATCH(D126,[1]总表!$F:$F,0))","v":{"v":0,"d":"0.00"}},55.3,{"v":49.4,"d":"49.40"},"不合格","否"]
["张军军","男","522323****5439","FJ2023010376",{"$f":"INDEX([1]总表!$I:$I,MATCH(D127,[1]总表!$F:$F,0))","v":{"v":43.5,"d":"43.50"}},{"$f":"INDEX([1]总表!$J:$J,MATCH(D127,[1]总表!$F:$F,0))","v":{"v":0,"d":"0.00"}},36.7,{"v":40.1,"d":"40.10"},"不合格","否"]
["张琪","男","522323****7514","FJ2023010051",{"$f":"INDEX([1]总表!$I:$I,MATCH(D128,[1]总表!$F:$F,0))","v":{"v":41,"d":"41.00"}},{"$f":"INDEX([1]总表!$J:$J,MATCH(D128,[1]总表!$F:$F,0))","v":{"v":2,"d":"2.00"}},64,{"v":53.5,"d":"53.50"},"不合格","否"]
["陈明昊","男","522323****0035","FJ2023010526",{"$f":"INDEX([1]总表!$I:$I,MATCH(D129,[1]总表!$F:$F,0))","v":{"v":40,"d":"40.00"}},{"$f":"INDEX([1]总表!$J:$J,MATCH(D129,[1]总表!$F:$F,0))","v":{"v":2,"d":"2.00"}},0,{"v":21,"d":"21.00"},"不合格","否"]
["曹仕贵","男","522321****0814","FJ2023010712",{"$f":"INDEX([1]总表!$I:$I,MATCH(D130,[1]总表!$F:$F,0))","v":{"v":42,"d":"42.00"}},{"$f":"INDEX([1]总表!$J:$J,MATCH(D130,[1]总表!$F:$F,0))","v":{"v":0,"d":"0.00"}},43,{"v":42.5,"d":"42.50"},"不合格","否"]
["康仕跃","男","520221****301X","FJ2023010310",{"$f":"INDEX([1]总表!$I:$I,MATCH(D131,[1]总表!$F:$F,0))","v":{"v":39.5,"d":"39.50"}},{"$f":"INDEX([1]总表!$J:$J,MATCH(D131,[1]总表!$F:$F,0))","v":{"v":0,"d":"0.00"}},0,19.75,"不合格","否"]
["邓瑞治","男","522324****4814","FJ2023010501",{"$f":"INDEX([1]总表!$I:$I,MATCH(D132,[1]总表!$F:$F,0))","v":{"v":35,"d":"35.00"}},{"$f":"INDEX([1]总表!$J:$J,MATCH(D132,[1]总表!$F:$F,0))","v":{"v":2,"d":"2.00"}},41.3,{"$f":"(E132+F132+G132)/2","v":39.15},"不合格","否"]
["晏稞红","男","522321****5514","FJ2023010078",{"$f":"INDEX([1]总表!$I:$I,MATCH(D133,[1]总表!$F:$F,0))","v":{"v":35,"d":"35.00"}},{"$f":"INDEX([1]总表!$J:$J,MATCH(D133,[1]总表!$F:$F,0))","v":{"v":0,"d":"0.00"}},34,{"v":34.5,"d":"34.50"},"不合格","否"]
["韦鹏","男","522321****0211","FJ2023010023",{"$f":"INDEX([1]总表!$I:$I,MATCH(D134,[1]总表!$F:$F,0))","v":{"v":61.5,"d":"61.50"}},{"$f":"INDEX([1]总表!$J:$J,MATCH(D134,[1]总表!$F:$F,0))","v":{"v":2,"d":"2.00"}},87.67,{"v":75.585,"d":"75.59"},"不合格","否"]
["余凯","男","522401****8218","FJ2023010454",{"$f":"INDEX([1]总表!$I:$I,MATCH(D135,[1]总表!$F:$F,0))","v":{"v":63.5,"d":"63.50"}},{"$f":"INDEX([1]总表!$J:$J,MATCH(D135,[1]总表!$F:$F,0))","v":{"v":0,"d":"0.00"}},0,31.75,"不合格","否"]
["饶露","男","522428****1050","FJ2023010564",{"$f":"INDEX([1]总表!$I:$I,MATCH(D136,[1]总表!$F:$F,0))","v":{"v":62,"d":"62.00"}},{"$f":"INDEX([1]总表!$J:$J,MATCH(D136,[1]总表!$F:$F,0))","v":{"v":0,"d":"0.00"}},79,{"v":70.5,"d":"70.50"},"合格","是"]
["安韦","男","522323****3810","FJ2023010226",{"$f":"INDEX([1]总表!$I:$I,MATCH(D137,[1]总表!$F:$F,0))","v":{"v":58.5,"d":"58.50"}},{"$f":"INDEX([1]总表!$J:$J,MATCH(D137,[1]总表!$F:$F,0))","v":{"v":2,"d":"2.00"}},66.33,{"v":63.415,"d":"63.42"},"合格","是"]
["易洪专","男","522324****4039","FJ2023010180",{"$f":"INDEX([1]总表!$I:$I,MATCH(D138,[1]总表!$F:$F,0))","v":{"v":58.5,"d":"58.50"}},{"$f":"INDEX([1]总表!$J:$J,MATCH(D138,[1]总表!$F:$F,0))","v":{"v":0,"d":"0.00"}},57.67,{"v":58.085,"d":"58.09"},"不合格","否"]
["林睿谦","男","522322****5019","FJ2023010315",{"$f":"INDEX([1]总表!$I:$I,MATCH(D139,[1]总表!$F:$F,0))","v":{"v":56.5,"d":"56.50"}},{"$f":"INDEX([1]总表!$J:$J,MATCH(D139,[1]总表!$F:$F,0))","v":{"v":0,"d":"0.00"}},0,28.25,"不合格","否"]
["付金龙","男","522321****6118","FJ2023010742",{"$f":"INDEX([1]总表!$I:$I,MATCH(D140,[1]总表!$F:$F,0))","v":{"v":56.5,"d":"56.50"}},{"$f":"INDEX([1]总表!$J:$J,MATCH(D140,[1]总表!$F:$F,0))","v":{"v":0,"d":"0.00"}},63,59.75,"合格","是"]
["李良城","男","522425****7517","FJ2023010549",{"$f":"INDEX([1]总表!$I:$I,MATCH(D141,[1]总表!$F:$F,0))","v":{"v":52,"d":"52.00"}},{"$f":"INDEX([1]总表!$J:$J,MATCH(D141,[1]总表!$F:$F,0))","v":{"v":2,"d":"2.00"}},51.67,{"v":52.835,"d":"52.84"},"不合格","否"]
["陈鑫林","男","511602****3358","FJ2023010296",{"$f":"INDEX([1]总表!$I:$I,MATCH(D142,[1]总表!$F:$F,0))","v":{"v":53.5,"d":"53.50"}},{"$f":"INDEX([1]总表!$J:$J,MATCH(D142,[1]总表!$F:$F,0))","v":{"v":0,"d":"0.00"}},81.33,{"v":67.415,"d":"67.42"},"合格","是"]
["徐东辉","男","522323****3018","FJ2023010359",{"$f":"INDEX([1]总表!$I:$I,MATCH(D143,[1]总表!$F:$F,0))","v":{"v":51,"d":"51.00"}},{"$f":"INDEX([1]总表!$J:$J,MATCH(D143,[1]总表!$F:$F,0))","v":{"v":2,"d":"2.00"}},65,{"v":59,"d":"59.00"},"不合格","否"]
["方文平","男","522321****1634","FJ2023010480",{"$f":"INDEX([1]总表!$I:$I,MATCH(D144,[1]总表!$F:$F,0))","v":{"v":51,"d":"51.00"}},{"$f":"INDEX([1]总表!$J:$J,MATCH(D144,[1]总表!$F:$F,0))","v":{"v":2,"d":"2.00"}},67,{"v":60,"d":"60.00"},"合格","是"]
["尚兆成","男","522321****5835","FJ2023010346",{"$f":"INDEX([1]总表!$I:$I,MATCH(D145,[1]总表!$F:$F,0))","v":{"v":52.5,"d":"52.50"}},{"$f":"INDEX([1]总表!$J:$J,MATCH(D145,[1]总表!$F:$F,0))","v":{"v":0,"d":"0.00"}},64,58.25,"合格","是"]
["邹磊","男","522322****1611","FJ2023010588",{"$f":"INDEX([1]总表!$I:$I,MATCH(D146,[1]总表!$F:$F,0))","v":{"v":52.5,"d":"52.50"}},{"$f":"INDEX([1]总表!$J:$J,MATCH(D146,[1]总表!$F:$F,0))","v":{"v":0,"d":"0.00"}},70.67,{"v":61.585,"d":"61.59"},"合格","是"]
["艾武清","男","522635****0455","FJ2023010597",{"$f":"INDEX([1]总表!$I:$I,MATCH(D147,[1]总表!$F:$F,0))","v":{"v":50,"d":"50.00"}},{"$f":"INDEX([1]总表!$J:$J,MATCH(D147,[1]总表!$F:$F,0))","v":{"v":2,"d":"2.00"}},75,{"v":63.5,"d":"63.50"},"合格","是"]
["浦绍允","男","522427****4617","FJ2023010280",{"$f":"INDEX([1]总表!$I:$I,MATCH(D148,[1]总表!$F:$F,0))","v":{"v":51,"d":"51.00"}},{"$f":"INDEX([1]总表!$J:$J,MATCH(D148,[1]总表!$F:$F,0))","v":{"v":0,"d":"0.00"}},60,{"v":55.5,"d":"55.50"},"合格","是"]
["罗高健","男","522321****0012","FJ2023010559",{"$f":"INDEX([1]总表!$I:$I,MATCH(D149,[1]总表!$F:$F,0))","v":{"v":51,"d":"51.00"}},{"$f":"INDEX([1]总表!$J:$J,MATCH(D149,[1]总表!$F:$F,0))","v":{"v":0,"d":"0.00"}},0,{"v":25.5,"d":"25.50"},"不合格","否"]
["张侣","男","520221****3311","FJ2023010572",{"$f":"INDEX([1]总表!$I:$I,MATCH(D150,[1]总表!$F:$F,0))","v":{"v":48,"d":"48.00"}},{"$f":"INDEX([1]总表!$J:$J,MATCH(D150,[1]总表!$F:$F,0))","v":{"v":2,"d":"2.00"}},76.33,{"v":63.165,"d":"63.17"},"合格","是"]
["哈应雄","男","522326****1812","FJ2023010608",{"$f":"INDEX([1]总表!$I:$I,MATCH(D151,[1]总表!$F:$F,0))","v":{"v":47.5,"d":"47.50"}},{"$f":"INDEX([1]总表!$J:$J,MATCH(D151,[1]总表!$F:$F,0))","v":{"v":2,"d":"2.00"}},59.33,{"v":54.415,"d":"54.42"},"不合格","否"]
["陈永任","男","522323****2314","FJ2023010672",{"$f":"INDEX([1]总表!$I:$I,MATCH(D152,[1]总表!$F:$F,0))","v":{"v":49,"d":"49.00"}},{"$f":"INDEX([1]总表!$J:$J,MATCH(D152,[1]总表!$F:$F,0))","v":{"v":0,"d":"0.00"}},75,{"v":62,"d":"62.00"},"不合格","否"]
["黄俊","男","522321****1237","FJ2023010484",{"$f":"INDEX([1]总表!$I:$I,MATCH(D153,[1]总表!$F:$F,0))","v":{"v":47,"d":"47.00"}},{"$f":"INDEX([1]总表!$J:$J,MATCH(D153,[1]总表!$F:$F,0))","v":{"v":0,"d":"0.00"}},54,{"v":50.5,"d":"50.50"},"不合格","否"]
["罗开平","男","522327****2855","FJ2023010190",{"$f":"INDEX([1]总表!$I:$I,MATCH(D154,[1]总表!$F:$F,0))","v":{"v":63.5,"d":"63.50"}},{"$f":"INDEX([1]总表!$J:$J,MATCH(D154,[1]总表!$F:$F,0))","v":{"v":2,"d":"2.00"}},63,64.25,"不合格","否"]
["黄启兴","男","522426****7519","FJ2023010460",{"$f":"INDEX([1]总表!$I:$I,MATCH(D155,[1]总表!$F:$F,0))","v":{"v":60,"d":"60.00"}},{"$f":"INDEX([1]总表!$J:$J,MATCH(D155,[1]总表!$F:$F,0))","v":{"v":0,"d":"0.00"}},69,{"v":64.5,"d":"64.50"},"合格","是"]
["袁明正","男","522324****0875","FJ2023010491",{"$f":"INDEX([1]总表!$I:$I,MATCH(D156,[1]总表!$F:$F,0))","v":{"v":57.5,"d":"57.50"}},{"$f":"INDEX([1]总表!$J:$J,MATCH(D156,[1]总表!$F:$F,0))","v":{"v":0,"d":"0.00"}},82,69.75,"不合格","否"]
["胡源","男","522301****9810","FJ2023010254",{"$f":"INDEX([1]总表!$I:$I,MATCH(D157,[1]总表!$F:$F,0))","v":{"v":57,"d":"57.00"}},{"$f":"INDEX([1]总表!$J:$J,MATCH(D157,[1]总表!$F:$F,0))","v":{"v":0,"d":"0.00"}},65,{"v":61,"d":"61.00"},"不合格","否"]
["龙海涛","男","522324****5210","FJ2023010546",{"$f":"INDEX([1]总表!$I:$I,MATCH(D158,[1]总表!$F:$F,0))","v":{"v":54.5,"d":"54.50"}},{"$f":"INDEX([1]总表!$J:$J,MATCH(D158,[1]总表!$F:$F,0))","v":{"v":2,"d":"2.00"}},57.67,{"v":57.085,"d":"57.09"},"不合格","否"]
["陈林","男","522323****7519","FJ2023010664",{"$f":"INDEX([1]总表!$I:$I,MATCH(D159,[1]总表!$F:$F,0))","v":{"v":51,"d":"51.00"}},{"$f":"INDEX([1]总表!$J:$J,MATCH(D159,[1]总表!$F:$F,0))","v":{"v":2,"d":"2.00"}},66,{"v":59.5,"d":"59.50"},"不合格","否"]
["李官翔","男","522326****1619","FJ2023010531",{"$f":"INDEX([1]总表!$I:$I,MATCH(D160,[1]总表!$F:$F,0))","v":{"v":50.5,"d":"50.50"}},{"$f":"INDEX([1]总表!$J:$J,MATCH(D160,[1]总表!$F:$F,0))","v":{"v":2,"d":"2.00"}},0,26.25,"不合格","否"]
["骆弟勇","男","522321****2812","FJ2023010637",{"$f":"INDEX([1]总表!$I:$I,MATCH(D161,[1]总表!$F:$F,0))","v":{"v":52,"d":"52.00"}},{"$f":"INDEX([1]总表!$J:$J,MATCH(D161,[1]总表!$F:$F,0))","v":{"v":0,"d":"0.00"}},69.33,{"v":60.665,"d":"60.67"},"不合格","否"]
["王忠义","男","522325****3650","FJ2023010021",{"$f":"INDEX([1]总表!$I:$I,MATCH(D162,[1]总表!$F:$F,0))","v":{"v":51,"d":"51.00"}},{"$f":"INDEX([1]总表!$J:$J,MATCH(D162,[1]总表!$F:$F,0))","v":{"v":0,"d":"0.00"}},61.33,{"v":56.165,"d":"56.17"},"合格","是"]
["舒小勇","男","522326****3019","FJ2023010170",{"$f":"INDEX([1]总表!$I:$I,MATCH(D163,[1]总表!$F:$F,0))","v":{"v":48.5,"d":"48.50"}},{"$f":"INDEX([1]总表!$J:$J,MATCH(D163,[1]总表!$F:$F,0))","v":{"v":2,"d":"2.00"}},69.33,{"v":59.915,"d":"59.92"},"合格","是"]
["袁永本","男","522322****1612","FJ2023010397",{"$f":"INDEX([1]总表!$I:$I,MATCH(D164,[1]总表!$F:$F,0))","v":{"v":50,"d":"50.00"}},{"$f":"INDEX([1]总表!$J:$J,MATCH(D164,[1]总表!$F:$F,0))","v":{"v":0,"d":"0.00"}},79.33,{"$f":"(E164+F164+G164)/2","v":{"v":64.665,"d":"64.67"}},"合格","是"]
["王礼云","男","522324****081X","FJ2023010405",{"$f":"INDEX([1]总表!$I:$I,MATCH(D165,[1]总表!$F:$F,0))","v":{"v":49,"d":"49.00"}},{"$f":"INDEX([1]总表!$J:$J,MATCH(D165,[1]总表!$F:$F,0))","v":{"v":0,"d":"0.00"}},65.67,{"v":57.335,"d":"57.34"},"不合格","否"]
["卢波","男","522321****0613","FJ2023010614",{"$f":"INDEX([1]总表!$I:$I,MATCH(D166,[1]总表!$F:$F,0))","v":{"v":49,"d":"49.00"}},{"$f":"INDEX([1]总表!$J:$J,MATCH(D166,[1]总表!$F:$F,0))","v":{"v":0,"d":"0.00"}},68.33,{"v":58.665,"d":"58.67"},"合格","是"]
["李吕","男","522324****1637","FJ2023010154",{"$f":"INDEX([1]总表!$I:$I,MATCH(D167,[1]总表!$F:$F,0))","v":{"v":48.5,"d":"48.50"}},{"$f":"INDEX([1]总表!$J:$J,MATCH(D167,[1]总表!$F:$F,0))","v":{"v":0,"d":"0.00"}},0,24.25,"不合格","否"]
["杜发","男","522322****1232","FJ2023010658",{"$f":"INDEX([1]总表!$I:$I,MATCH(D168,[1]总表!$F:$F,0))","v":{"v":48,"d":"48.00"}},{"$f":"INDEX([1]总表!$J:$J,MATCH(D168,[1]总表!$F:$F,0))","v":{"v":0,"d":"0.00"}},71,{"v":59.5,"d":"59.50"},"不合格","否"]
["龙洋","男","522324****4819","FJ2023010510",{"$f":"INDEX([1]总表!$I:$I,MATCH(D169,[1]总表!$F:$F,0))","v":{"v":45.5,"d":"45.50"}},{"$f":"INDEX([1]总表!$J:$J,MATCH(D169,[1]总表!$F:$F,0))","v":{"v":2,"d":"2.00"}},66.33,{"v":56.915,"d":"56.92"},"不合格","否"]
["汪宁","男","522324****0818","FJ2023010691",{"$f":"INDEX([1]总表!$I:$I,MATCH(D170,[1]总表!$F:$F,0))","v":{"v":46,"d":"46.00"}},{"$f":"INDEX([1]总表!$J:$J,MATCH(D170,[1]总表!$F:$F,0))","v":{"v":0,"d":"0.00"}},0,{"v":23,"d":"23.00"},"不合格","否"]
["罗霄","男","522324****4834","FJ2023010438",{"$f":"INDEX([1]总表!$I:$I,MATCH(D171,[1]总表!$F:$F,0))","v":{"v":43.5,"d":"43.50"}},{"$f":"INDEX([1]总表!$J:$J,MATCH(D171,[1]总表!$F:$F,0))","v":{"v":2,"d":"2.00"}},0,22.75,"不合格","否"]
["张龙","男","522322****2314","FJ2023010675",{"$f":"INDEX([1]总表!$I:$I,MATCH(D172,[1]总表!$F:$F,0))","v":{"v":45.5,"d":"45.50"}},{"$f":"INDEX([1]总表!$J:$J,MATCH(D172,[1]总表!$F:$F,0))","v":{"v":0,"d":"0.00"}},0,22.75,"不合格","否"]
["曾伟","男","522321****6113","FJ2023010009",{"$f":"INDEX([1]总表!$I:$I,MATCH(D173,[1]总表!$F:$F,0))","v":{"v":44,"d":"44.00"}},{"$f":"INDEX([1]总表!$J:$J,MATCH(D173,[1]总表!$F:$F,0))","v":{"v":0,"d":"0.00"}},57.33,{"v":50.665,"d":"50.67"},"不合格","否"]
["陈在杰","男","522321****1695","FJ2023010306",{"$f":"INDEX([1]总表!$I:$I,MATCH(D174,[1]总表!$F:$F,0))","v":{"v":62.5,"d":"62.50"}},{"$f":"INDEX([1]总表!$J:$J,MATCH(D174,[1]总表!$F:$F,0))","v":{"v":0,"d":"0.00"}},66.66,64.58,"合格","是"]
["张荣军","男","522328****2034","FJ2023010606",{"$f":"INDEX([1]总表!$I:$I,MATCH(D175,[1]总表!$F:$F,0))","v":{"v":59.5,"d":"59.50"}},{"$f":"INDEX([1]总表!$J:$J,MATCH(D175,[1]总表!$F:$F,0))","v":{"v":2,"d":"2.00"}},67.66,64.58,"合格","是"]
["欧阳武","男","522322****057X","FJ2023010186",{"$f":"INDEX([1]总表!$I:$I,MATCH(D176,[1]总表!$F:$F,0))","v":{"v":60.5,"d":"60.50"}},{"$f":"INDEX([1]总表!$J:$J,MATCH(D176,[1]总表!$F:$F,0))","v":{"v":0,"d":"0.00"}},74.33,{"v":67.415,"d":"67.42"},"合格","是"]
["韦科松","男","522321****1271","FJ2023010554",{"$f":"INDEX([1]总表!$I:$I,MATCH(D177,[1]总表!$F:$F,0))","v":{"v":57,"d":"57.00"}},{"$f":"INDEX([1]总表!$J:$J,MATCH(D177,[1]总表!$F:$F,0))","v":{"v":2,"d":"2.00"}},70.66,64.83,"合格","是"]
["杨真习","男","522324****3619","FJ2023010701",{"$f":"INDEX([1]总表!$I:$I,MATCH(D178,[1]总表!$F:$F,0))","v":{"v":56.5,"d":"56.50"}},{"$f":"INDEX([1]总表!$J:$J,MATCH(D178,[1]总表!$F:$F,0))","v":{"v":2,"d":"2.00"}},74.33,{"v":66.415,"d":"66.42"},"合格","是"]
["刘俊","男","522328****2016","FJ2023010141",{"$f":"INDEX([1]总表!$I:$I,MATCH(D179,[1]总表!$F:$F,0))","v":{"v":58,"d":"58.00"}},{"$f":"INDEX([1]总表!$J:$J,MATCH(D179,[1]总表!$F:$F,0))","v":{"v":0,"d":"0.00"}},70,{"v":64,"d":"64.00"},"合格","是"]
["侯金方","男","522323****0017","FJ2023010488",{"$f":"INDEX([1]总表!$I:$I,MATCH(D180,[1]总表!$F:$F,0))","v":{"v":56.5,"d":"56.50"}},{"$f":"INDEX([1]总表!$J:$J,MATCH(D180,[1]总表!$F:$F,0))","v":{"v":0,"d":"0.00"}},70,63.25,"不合格","否"]
["蒙杰","男","522622****0516","FJ2023010636",{"$f":"INDEX([1]总表!$I:$I,MATCH(D181,[1]总表!$F:$F,0))","v":{"v":55.5,"d":"55.50"}},{"$f":"INDEX([1]总表!$J:$J,MATCH(D181,[1]总表!$F:$F,0))","v":{"v":0,"d":"0.00"}},84.33,{"v":69.915,"d":"69.92"},"合格","是"]
["袁大顺","男","522321****7310","FJ2023010105",{"$f":"INDEX([1]总表!$I:$I,MATCH(D182,[1]总表!$F:$F,0))","v":{"v":55,"d":"55.00"}},{"$f":"INDEX([1]总表!$J:$J,MATCH(D182,[1]总表!$F:$F,0))","v":{"v":0,"d":"0.00"}},77.66,66.33,"合格","是"]
["陈开智","男","522729****3630","FJ2023010709",{"$f":"INDEX([1]总表!$I:$I,MATCH(D183,[1]总表!$F:$F,0))","v":{"v":52.5,"d":"52.50"}},{"$f":"INDEX([1]总表!$J:$J,MATCH(D183,[1]总表!$F:$F,0))","v":{"v":2,"d":"2.00"}},0,27.25,"不合格","否"]
["王阔","男","522323****0034","FJ2023010104",{"$f":"INDEX([1]总表!$I:$I,MATCH(D184,[1]总表!$F:$F,0))","v":{"v":54,"d":"54.00"}},{"$f":"INDEX([1]总表!$J:$J,MATCH(D184,[1]总表!$F:$F,0))","v":{"v":0,"d":"0.00"}},71.33,{"v":62.665,"d":"62.67"},"合格","是"]
["卢紫煜","男","522324****2010","FJ2023010743",{"$f":"INDEX([1]总表!$I:$I,MATCH(D185,[1]总表!$F:$F,0))","v":{"v":52,"d":"52.00"}},{"$f":"INDEX([1]总表!$J:$J,MATCH(D185,[1]总表!$F:$F,0))","v":{"v":2,"d":"2.00"}},66.33,{"v":60.165,"d":"60.17"},"不合格","否"]
["谭文","女","522323****8124","FJ2023010634",{"$f":"INDEX([1]总表!$I:$I,MATCH(D186,[1]总表!$F:$F,0))","v":{"v":51.5,"d":"51.50"}},{"$f":"INDEX([1]总表!$J:$J,MATCH(D186,[1]总表!$F:$F,0))","v":{"v":2,"d":"2.00"}},82.33,{"v":67.915,"d":"67.92"},"合格","是"]
["郑雄","男","522321****6715","FJ2023010024",{"$f":"INDEX([1]总表!$I:$I,MATCH(D187,[1]总表!$F:$F,0))","v":{"v":51,"d":"51.00"}},{"$f":"INDEX([1]总表!$J:$J,MATCH(D187,[1]总表!$F:$F,0))","v":{"v":2,"d":"2.00"}},69.33,{"v":61.165,"d":"61.17"},"合格","是"]
["赵渊民","男","520202****2033","FJ2023010274",{"$f":"INDEX([1]总表!$I:$I,MATCH(D188,[1]总表!$F:$F,0))","v":{"v":53,"d":"53.00"}},{"$f":"INDEX([1]总表!$J:$J,MATCH(D188,[1]总表!$F:$F,0))","v":{"v":0,"d":"0.00"}},0,{"v":26.5,"d":"26.50"},"不合格","否"]
["杨龙雷","男","520221****4718","FJ2023010096",{"$f":"INDEX([1]总表!$I:$I,MATCH(D189,[1]总表!$F:$F,0))","v":{"v":50.5,"d":"50.50"}},{"$f":"INDEX([1]总表!$J:$J,MATCH(D189,[1]总表!$F:$F,0))","v":{"v":2,"d":"2.00"}},67,59.75,"合格","是"]
["罗元锂","男","522328****0011","FJ2023010350",{"$f":"INDEX([1]总表!$I:$I,MATCH(D190,[1]总表!$F:$F,0))","v":{"v":49,"d":"49.00"}},{"$f":"INDEX([1]总表!$J:$J,MATCH(D190,[1]总表!$F:$F,0))","v":{"v":2,"d":"2.00"}},77.66,64.33,"合格","是"]
["刘天蓝","男","522321****4331","FJ2023010107",{"$f":"INDEX([1]总表!$I:$I,MATCH(D191,[1]总表!$F:$F,0))","v":{"v":48,"d":"48.00"}},{"$f":"INDEX([1]总表!$J:$J,MATCH(D191,[1]总表!$F:$F,0))","v":{"v":0,"d":"0.00"}},63.66,55.83,"不合格","否"]
["敖翔","男","522424****0016","FJ2023010200",{"$f":"INDEX([1]总表!$I:$I,MATCH(D192,[1]总表!$F:$F,0))","v":{"v":48,"d":"48.00"}},{"$f":"INDEX([1]总表!$J:$J,MATCH(D192,[1]总表!$F:$F,0))","v":{"v":0,"d":"0.00"}},71,{"v":59.5,"d":"59.50"},"合格","是"]
["刘娅娅","女","511602****0327","FJ2023010001",{"$f":"INDEX([1]总表!$I:$I,MATCH(D193,[1]总表!$F:$F,0))","v":{"v":46.5,"d":"46.50"}},{"$f":"INDEX([1]总表!$J:$J,MATCH(D193,[1]总表!$F:$F,0))","v":{"v":0,"d":"0.00"}},73,59.75,"合格","是"]
["王子昂","男","522322****0015","FJ2023010087",{"$f":"INDEX([1]总表!$I:$I,MATCH(D194,[1]总表!$F:$F,0))","v":{"v":44,"d":"44.00"}},{"$f":"INDEX([1]总表!$J:$J,MATCH(D194,[1]总表!$F:$F,0))","v":{"v":2,"d":"2.00"}},67.66,56.83,"合格","是"]
["张金","男","522321****8231","FJ2023010013",{"$f":"INDEX([1]总表!$I:$I,MATCH(D195,[1]总表!$F:$F,0))","v":{"v":45.5,"d":"45.50"}},{"$f":"INDEX([1]总表!$J:$J,MATCH(D195,[1]总表!$F:$F,0))","v":{"v":0,"d":"0.00"}},68,56.75,"合格","是"]
["徐磊","男","522322****1635","FJ2023010738",{"$f":"INDEX([1]总表!$I:$I,MATCH(D196,[1]总表!$F:$F,0))","v":{"v":42,"d":"42.00"}},{"$f":"INDEX([1]总表!$J:$J,MATCH(D196,[1]总表!$F:$F,0))","v":{"v":2,"d":"2.00"}},62.66,53.33,"不合格","否"]
["韦正校","男","522326****0812","FJ2023010697",{"$f":"INDEX([1]总表!$I:$I,MATCH(D197,[1]总表!$F:$F,0))","v":{"v":41,"d":"41.00"}},{"$f":"INDEX([1]总表!$J:$J,MATCH(D197,[1]总表!$F:$F,0))","v":{"v":2,"d":"2.00"}},65.33,{"v":54.165,"d":"54.17"},"不合格","否"]
["张仕勇","男","522321****1211","FJ2023010270",{"$f":"INDEX([1]总表!$I:$I,MATCH(D198,[1]总表!$F:$F,0))","v":{"v":38.5,"d":"38.50"}},{"$f":"INDEX([1]总表!$J:$J,MATCH(D198,[1]总表!$F:$F,0))","v":{"v":2,"d":"2.00"}},0,20.25,"不合格","否"]
["袁占引","男","522323****1478","FJ2023010444",{"$f":"INDEX([1]总表!$I:$I,MATCH(D199,[1]总表!$F:$F,0))","v":{"v":39,"d":"39.00"}},{"$f":"INDEX([1]总表!$J:$J,MATCH(D199,[1]总表!$F:$F,0))","v":{"v":0,"d":"0.00"}},66.33,{"v":52.665,"d":"52.67"},"不合格","否"]
["杨永康","男","522321****4917","FJ2023010665",{"$f":"INDEX([1]总表!$I:$I,MATCH(D200,[1]总表!$F:$F,0))","v":{"v":37,"d":"37.00"}},{"$f":"INDEX([1]总表!$J:$J,MATCH(D200,[1]总表!$F:$F,0))","v":{"v":2,"d":"2.00"}},64.33,{"v":51.665,"d":"51.67"},"不合格","否"]
["张浩","男","522323****4454","FJ2023010076",{"$f":"INDEX([1]总表!$I:$I,MATCH(D201,[1]总表!$F:$F,0))","v":{"v":35,"d":"35.00"}},{"$f":"INDEX([1]总表!$J:$J,MATCH(D201,[1]总表!$F:$F,0))","v":{"v":2,"d":"2.00"}},81.66,59.33,"合格","是"]
["李波","男","430524****0038","FJ2023010220",{"$f":"INDEX([1]总表!$I:$I,MATCH(D202,[1]总表!$F:$F,0))","v":{"v":37,"d":"37.00"}},{"$f":"INDEX([1]总表!$J:$J,MATCH(D202,[1]总表!$F:$F,0))","v":{"v":0,"d":"0.00"}},78.33,{"v":57.665,"d":"57.67"},"合格","是"]
["杨川黔","男","520326****9818","FJ2023010428",{"$f":"INDEX([1]总表!$I:$I,MATCH(D203,[1]总表!$F:$F,0))","v":{"v":35,"d":"35.00"}},{"$f":"INDEX([1]总表!$J:$J,MATCH(D203,[1]总表!$F:$F,0))","v":{"v":2,"d":"2.00"}},70.66,53.83,"不合格","否"]