{"text_format":"3","workbook":"xlsx","n_sheets":1,"sheets":["Sheet2"],"not_rendered":{"external_links":1,"defined_names":2},"read":"whole","date_system":"1900"}

{"sheet":"Sheet2","index":0,"n_rows":107,"n_cols":10,"rows_kept":107,"merged":[[1,0,1,9]]}
["附件"]
["威宁县部分县直单位2023年公开考调工作人员笔试、调研成绩及\n入围面试人员名单"]
["序号","姓名","报考岗位","岗位代码","准考证号","笔试\n成绩","调研\n座位号","调研\n成绩","笔试+调研总分","是否进入面试"]
[1,"马祯旺","中共威宁县委办公室","01",20230300081,{"v":61.7,"d":"61.70"},{"$f":"VLOOKUP(E4,[1]Sheet3!$B$1:$C$104,2,FALSE)","v":42},89.67,151.37,"是"]
[2,"赵飞鸿","中共威宁县委办公室","01",20230300077,{"v":62.3,"d":"62.30"},{"$f":"VLOOKUP(E5,[1]Sheet3!$B$1:$C$104,2,FALSE)","v":40},86.67,148.97,"是"]
[3,"所志杰","中共威宁县委办公室","01",20230300054,{"v":66.7,"d":"66.70"},{"$f":"VLOOKUP(E6,[1]Sheet3!$B$1:$C$104,2,FALSE)","v":28},{"v":82,"d":"82.00"},{"v":148.7,"d":"148.70"},"是"]
[4,"管倩","中共威宁县委办公室","01",20230300104,{"v":66.5,"d":"66.50"},{"$f":"VLOOKUP(E7,[1]Sheet3!$B$1:$C$104,2,FALSE)","v":51},81.67,148.17,"是"]
[5,"李冰雪","中共威宁县委办公室","01",20230300097,{"v":72.8,"d":"72.80"},{"$f":"VLOOKUP(E8,[1]Sheet3!$B$1:$C$104,2,FALSE)","v":49},75.67,148.47,"是"]
[6,"赵琴","中共威宁县委办公室","01",20230300037,{"v":65.9,"d":"65.90"},{"$f":"VLOOKUP(E9,[1]Sheet3!$B$1:$C$104,2,FALSE)","v":20},80.33,146.23,"是"]
[7,"邓向候","中共威宁县委办公室","01",20230300015,{"v":59.1,"d":"59.10"},{"$f":"VLOOKUP(E10,[1]Sheet3!$B$1:$C$104,2,FALSE)","v":10},82.67,141.77,"是"]
[8,"刘龙全","中共威宁县委办公室","01",20230300092,{"v":70.2,"d":"70.20"},{"$f":"VLOOKUP(E11,[1]Sheet3!$B$1:$C$104,2,FALSE)","v":47},74.33,144.53,"是"]
[9,"韩焓","中共威宁县委办公室","01",20230300084,{"v":67.8,"d":"67.80"},{"$f":"VLOOKUP(E12,[1]Sheet3!$B$1:$C$104,2,FALSE)","v":44},74.33,142.13,"是"]
[10,"马江红","中共威宁县委办公室","01",20230300008,{"v":73.7,"d":"73.70"},{"$f":"VLOOKUP(E13,[1]Sheet3!$B$1:$C$104,2,FALSE)","v":6},69.67,143.37,"是"]
[11,"陈亚东","中共威宁县委办公室","01",20230300083,{"v":66,"d":"66.00"},{"$f":"VLOOKUP(E14,[1]Sheet3!$B$1:$C$104,2,FALSE)","v":43},{"v":75,"d":"75.00"},{"v":141,"d":"141.00"},"是"]
[12,"罗棂洁","中共威宁县委办公室","01",20230300021,{"v":71.4,"d":"71.40"},{"$f":"VLOOKUP(E15,[1]Sheet3!$B$1:$C$104,2,FALSE)","v":13},70.67,142.07,"是"]
[13,"夏丽娟","中共威宁县委办公室","01",20230300058,{"v":70.6,"d":"70.60"},{"$f":"VLOOKUP(E16,[1]Sheet3!$B$1:$C$104,2,FALSE)","v":30},70.67,141.27,"是"]
[14,"马关宏","中共威宁县委办公室","01",20230300066,{"v":72.2,"d":"72.20"},{"$f":"VLOOKUP(E17,[1]Sheet3!$B$1:$C$104,2,FALSE)","v":35},68.67,140.87,"是"]
[15,"马志远","中共威宁县委办公室","01",20230300050,{"v":67.7,"d":"67.70"},{"$f":"VLOOKUP(E18,[1]Sheet3!$B$1:$C$104,2,FALSE)","v":27},71.67,139.37,"是"]
[16,"赵鹏","中共威宁县委办公室","01",20230300022,{"v":66.8,"d":"66.80"},{"$f":"VLOOKUP(E19,[1]Sheet3!$B$1:$C$104,2,FALSE)","v":14},72.33,139.13,"是"]
[17,"潘志兴","中共威宁县委办公室","01",20230300060,{"v":65.4,"d":"65.40"},{"$f":"VLOOKUP(E20,[1]Sheet3!$B$1:$C$104,2,FALSE)","v":31},{"v":72,"d":"72.00"},{"v":137.4,"d":"137.40"},"是"]
[18,"王芳","中共威宁县委办公室","01",20230300042,{"v":68.6,"d":"68.60"},{"$f":"VLOOKUP(E21,[1]Sheet3!$B$1:$C$104,2,FALSE)","v":22},69.33,137.93,"是"]
[19,"马礼甫","中共威宁县委办公室","01",20230300076,{"v":70.3,"d":"70.30"},{"$f":"VLOOKUP(E22,[1]Sheet3!$B$1:$C$104,2,FALSE)","v":39},{"v":67,"d":"67.00"},{"v":137.3,"d":"137.30"},"是"]
[20,"李昀欣","中共威宁县委办公室","01",20230300036,{"v":57.1,"d":"57.10"},{"$f":"VLOOKUP(E23,[1]Sheet3!$B$1:$C$104,2,FALSE)","v":19},76.67,133.77,"是"]
[21,"王晓嫒","中共威宁县委办公室","01",20230300065,{"v":65,"d":"65.00"},{"$f":"VLOOKUP(E24,[1]Sheet3!$B$1:$C$104,2,FALSE)","v":34},69.33,134.33,"是"]
[22,"蔡蕾","中共威宁县委办公室","01",20230300040,{"v":56.6,"d":"56.60"},{"$f":"VLOOKUP(E25,[1]Sheet3!$B$1:$C$104,2,FALSE)","v":21},{"v":75,"d":"75.00"},{"v":131.6,"d":"131.60"},"是"]
[23,"简红敏","中共威宁县委办公室","01",20230300062,{"v":62,"d":"62.00"},{"$f":"VLOOKUP(E26,[1]Sheet3!$B$1:$C$104,2,FALSE)","v":32},68.33,130.33,"是"]
[24,"李德鑫","中共威宁县委办公室","01",20230300047,{"v":60.2,"d":"60.20"},{"$f":"VLOOKUP(E27,[1]Sheet3!$B$1:$C$104,2,FALSE)","v":25},68.67,128.87,"是"]
[25,"秦奋","中共威宁县委办公室","01",20230300013,{"v":59.3,"d":"59.30"},{"$f":"VLOOKUP(E28,[1]Sheet3!$B$1:$C$104,2,FALSE)","v":9},{"v":69,"d":"69.00"},{"v":128.3,"d":"128.30"},"是"]
[26,"吴飞","中共威宁县委办公室","01",20230300090,{"v":58.1,"d":"58.10"},{"$f":"VLOOKUP(E29,[1]Sheet3!$B$1:$C$104,2,FALSE)","v":46},69.33,127.43,"是"]
[27,"柏文婷","中共威宁县委办公室","01",20230300007,{"v":62.5,"d":"62.50"},{"$f":"VLOOKUP(E30,[1]Sheet3!$B$1:$C$104,2,FALSE)","v":5},62.67,125.17,"是"]
[28,"张亚","中共威宁县委办公室","01",20230300044,{"v":63.2,"d":"63.20"},{"$f":"VLOOKUP(E31,[1]Sheet3!$B$1:$C$104,2,FALSE)","v":23},60.67,123.87,"否"]
[29,"赵春丽","中共威宁县委办公室","01",20230300056,{"v":57.6,"d":"57.60"},{"$f":"VLOOKUP(E32,[1]Sheet3!$B$1:$C$104,2,FALSE)","v":29},64.67,122.27,"否"]
[30,"锁才俊","中共威宁县委办公室","01",20230300018,{"v":54.3,"d":"54.30"},{"$f":"VLOOKUP(E33,[1]Sheet3!$B$1:$C$104,2,FALSE)","v":12},"缺考",{"v":54.3,"d":"54.30"},"否"]
[31,"马超宇","中共威宁县委办公室","01",20230300073,{"v":50.5,"d":"50.50"},{"$f":"VLOOKUP(E34,[1]Sheet3!$B$1:$C$104,2,FALSE)","v":38},"缺考",{"v":50.5,"d":"50.50"},"否"]
[32,"陈春静","中共威宁县委组织部","01",20230300064,{"v":65.2,"d":"65.20"},{"$f":"VLOOKUP(E35,[1]Sheet3!$B$1:$C$104,2,FALSE)","v":80},84.33,149.53,"是"]
[33,"李娜","中共威宁县委组织部","01",20230300011,{"v":63.8,"d":"63.80"},{"$f":"VLOOKUP(E36,[1]Sheet3!$B$1:$C$104,2,FALSE)","v":55},83.33,147.13,"是"]
[34,"马云飞","中共威宁县委组织部","01",20230300107,{"v":64.9,"d":"64.90"},{"$f":"VLOOKUP(E37,[1]Sheet3!$B$1:$C$104,2,FALSE)","v":104},{"v":82,"d":"82.00"},{"v":146.9,"d":"146.90"},"是"]
[35,"崔蝶","中共威宁县委组织部","01",20230300069,{"v":61,"d":"61.00"},{"$f":"VLOOKUP(E38,[1]Sheet3!$B$1:$C$104,2,FALSE)","v":81},83.33,144.33,"是"]
[36,"方晓荷","中共威宁县委组织部","01",20230300038,{"v":65.7,"d":"65.70"},{"$f":"VLOOKUP(E39,[1]Sheet3!$B$1:$C$104,2,FALSE)","v":67},79.33,145.03,"是"]
[37,"虎春梦","中共威宁县委组织部","01",20230300019,{"v":68.6,"d":"68.60"},{"$f":"VLOOKUP(E40,[1]Sheet3!$B$1:$C$104,2,FALSE)","v":58},73.67,142.27,"是"]
[38,"熊峻","中共威宁县委组织部","01",20230300102,{"v":63,"d":"63.00"},{"$f":"VLOOKUP(E41,[1]Sheet3!$B$1:$C$104,2,FALSE)","v":100},{"v":77,"d":"77.00"},{"v":140,"d":"140.00"},"是"]
[39,"蔡定龙","中共威宁县委组织部","01","20230300001",{"v":62.8,"d":"62.80"},{"$f":"VLOOKUP(E42,[1]Sheet3!$B$1:$C$104,2,FALSE)","v":52},{"v":76,"d":"76.00"},{"v":138.8,"d":"138.80"},"是"]
[40,"马雄","中共威宁县委组织部","01",20230300039,{"v":66.8,"d":"66.80"},{"$f":"VLOOKUP(E43,[1]Sheet3!$B$1:$C$104,2,FALSE)","v":68},72.33,139.13,"是"]
[41,"安莉","中共威宁县委组织部","01",20230300052,{"v":56,"d":"56.00"},{"$f":"VLOOKUP(E44,[1]Sheet3!$B$1:$C$104,2,FALSE)","v":74},{"v":80,"d":"80.00"},{"v":136,"d":"136.00"},"是"]
[42,"张杰","中共威宁县委组织部","01",20230300057,{"v":69.6,"d":"69.60"},{"$f":"VLOOKUP(E45,[1]Sheet3!$B$1:$C$104,2,FALSE)","v":77},{"v":65,"d":"65.00"},{"v":134.6,"d":"134.60"},"是"]
[43,"禄佳娜","中共威宁县委组织部","01",20230300016,{"v":70.6,"d":"70.60"},{"$f":"VLOOKUP(E46,[1]Sheet3!$B$1:$C$104,2,FALSE)","v":57},63.33,133.93,"是"]
[44,"赵立向","中共威宁县委组织部","01",20230300024,{"v":66.5,"d":"66.50"},{"$f":"VLOOKUP(E47,[1]Sheet3!$B$1:$C$104,2,FALSE)","v":61},65.67,132.17,"是"]
[45,"马关平","中共威宁县委组织部","01",20230300094,{"v":55.2,"d":"55.20"},{"$f":"VLOOKUP(E48,[1]Sheet3!$B$1:$C$104,2,FALSE)","v":94},68.33,123.53,"是"]
[46,"吴雪","中共威宁县委组织部","01",20230300075,{"v":60,"d":"60.00"},{"$f":"VLOOKUP(E49,[1]Sheet3!$B$1:$C$104,2,FALSE)","v":86},63.33,123.33,"是"]
[47,"陈兴泽","中共威宁县委组织部","01",20230300074,{"v":57,"d":"57.00"},{"$f":"VLOOKUP(E50,[1]Sheet3!$B$1:$C$104,2,FALSE)","v":85},{"v":65,"d":"65.00"},{"v":122,"d":"122.00"},"否"]
[48,"颜松修","中共威宁县委组织部","01",20230300091,{"v":58.2,"d":"58.20"},{"$f":"VLOOKUP(E51,[1]Sheet3!$B$1:$C$104,2,FALSE)","v":93},{"v":60,"d":"60.00"},{"v":118.2,"d":"118.20"},"否"]
[49,"陈瑶","中共威宁县委组织部","01",20230300082,{"v":60.6,"d":"60.60"},{"$f":"VLOOKUP(E52,[1]Sheet3!$B$1:$C$104,2,FALSE)","v":89},"缺考",{"v":60.6,"d":"60.60"},"否"]
[50,"袁杰","中共威宁县委组织部下属事业单位","01",20230300053,{"v":67.8,"d":"67.80"},{"$f":"VLOOKUP(E53,[1]Sheet3!$B$1:$C$104,2,FALSE)","v":75},64.33,132.13,"是"]
[51,"桂马春","中共威宁县委组织部下属事业单位","01",20230300048,{"v":63.7,"d":"63.70"},{"$f":"VLOOKUP(E54,[1]Sheet3!$B$1:$C$104,2,FALSE)","v":72},65.67,129.37,"是"]
[52,"李娟","中共威宁县委组织部下属事业单位","01",20230300100,{"v":62.9,"d":"62.90"},{"$f":"VLOOKUP(E55,[1]Sheet3!$B$1:$C$104,2,FALSE)","v":98},{"v":65,"d":"65.00"},{"v":127.9,"d":"127.90"},"是"]
[53,"吕艳宁","中共威宁县委组织部下属事业单位","01",20230300027,{"v":66.5,"d":"66.50"},{"$f":"VLOOKUP(E56,[1]Sheet3!$B$1:$C$104,2,FALSE)","v":63},60.67,127.17,"是"]
[54,"吕泽","中共威宁县委组织部下属事业单位","01",20230300078,{"v":64.2,"d":"64.20"},{"$f":"VLOOKUP(E57,[1]Sheet3!$B$1:$C$104,2,FALSE)","v":87},{"v":61,"d":"61.00"},{"v":125.2,"d":"125.20"},"是"]
[55,"薛涛","中共威宁县委组织部下属事业单位","01",20230300085,{"v":60.1,"d":"60.10"},{"$f":"VLOOKUP(E58,[1]Sheet3!$B$1:$C$104,2,FALSE)","v":90},61.67,121.77,"是"]
[56,"唐良中","中共威宁县委组织部下属事业单位","01",20230300086,{"v":59.4,"d":"59.40"},{"$f":"VLOOKUP(E59,[1]Sheet3!$B$1:$C$104,2,FALSE)","v":91},61.67,121.07,"是"]
[57,"李文正","中共威宁县委组织部下属事业单位","01",20230300059,{"v":58.2,"d":"58.20"},{"$f":"VLOOKUP(E60,[1]Sheet3!$B$1:$C$104,2,FALSE)","v":78},62.33,120.53,"是"]
[58,"汤云","中共威宁县委组织部下属事业单位","01",20230300096,{"v":60.8,"d":"60.80"},{"$f":"VLOOKUP(E61,[1]Sheet3!$B$1:$C$104,2,FALSE)","v":96},60.33,121.13,"是"]
[59,"陈娜","中共威宁县委组织部下属事业单位","01",20230300010,{"v":49.3,"d":"49.30"},{"$f":"VLOOKUP(E62,[1]Sheet3!$B$1:$C$104,2,FALSE)","v":54},{"v":66,"d":"66.00"},{"v":115.3,"d":"115.30"},"否"]
[60,"陈旷","中共威宁县委组织部下属事业单位","01",20230300055,{"v":54.4,"d":"54.40"},{"$f":"VLOOKUP(E63,[1]Sheet3!$B$1:$C$104,2,FALSE)","v":76},"缺考",{"v":54.4,"d":"54.40"},"否"]
[61,"马姣燕","中共威宁县委组织部下属事业单位","02",20230300079,{"v":71.4,"d":"71.40"},{"$f":"VLOOKUP(E64,[1]Sheet3!$B$1:$C$104,2,FALSE)","v":88},83.33,154.73,"是"]
[62,"李岗","中共威宁县委组织部下属事业单位","02",20230300087,{"v":71.8,"d":"71.80"},{"$f":"VLOOKUP(E65,[1]Sheet3!$B$1:$C$104,2,FALSE)","v":92},80.67,152.47,"是"]
[63,"蔡方祥","中共威宁县委组织部下属事业单位","02",20230300045,{"v":64.9,"d":"64.90"},{"$f":"VLOOKUP(E66,[1]Sheet3!$B$1:$C$104,2,FALSE)","v":71},74.67,139.57,"是"]
[64,"刘立","中共威宁县委组织部下属事业单位","02",20230300020,{"v":69.8,"d":"69.80"},{"$f":"VLOOKUP(E67,[1]Sheet3!$B$1:$C$104,2,FALSE)","v":59},69.33,139.13,"是"]
[65,"马超云","中共威宁县委组织部下属事业单位","02",20230300032,{"v":61.7,"d":"61.70"},{"$f":"VLOOKUP(E68,[1]Sheet3!$B$1:$C$104,2,FALSE)","v":65},72.33,134.03,"是"]
[66,"马淑妍","中共威宁县委组织部下属事业单位","02",20230300105,{"v":58.1,"d":"58.10"},{"$f":"VLOOKUP(E69,[1]Sheet3!$B$1:$C$104,2,FALSE)","v":102},{"v":74,"d":"74.00"},{"v":132.1,"d":"132.10"},"是"]
[67,"马雪艳","中共威宁县委组织部下属事业单位","02",20230300028,{"v":60,"d":"60.00"},{"$f":"VLOOKUP(E70,[1]Sheet3!$B$1:$C$104,2,FALSE)","v":64},68.67,128.67,"是"]
[68,"禄婵婵","中共威宁县委组织部下属事业单位","02",20230300006,{"v":64.2,"d":"64.20"},{"$f":"VLOOKUP(E71,[1]Sheet3!$B$1:$C$104,2,FALSE)","v":53},{"v":65,"d":"65.00"},{"v":129.2,"d":"129.20"},"是"]
[69,"张建","中共威宁县委组织部下属事业单位","02",20230300051,{"v":60.7,"d":"60.70"},{"$f":"VLOOKUP(E72,[1]Sheet3!$B$1:$C$104,2,FALSE)","v":73},{"v":65,"d":"65.00"},{"v":125.7,"d":"125.70"},"是"]
[70,"刘江余","中共威宁县委组织部下属事业单位","02",20230300072,{"v":66.4,"d":"66.40"},{"$f":"VLOOKUP(E73,[1]Sheet3!$B$1:$C$104,2,FALSE)","v":84},60.67,127.07,"是"]
[71,"胡少飞","中共威宁县委组织部下属事业单位","02",20230300014,{"v":63.4,"d":"63.40"},{"$f":"VLOOKUP(E74,[1]Sheet3!$B$1:$C$104,2,FALSE)","v":56},61.67,125.07,"是"]
[72,"赵影","中共威宁县委组织部下属事业单位","02",20230300025,{"v":62.3,"d":"62.30"},{"$f":"VLOOKUP(E75,[1]Sheet3!$B$1:$C$104,2,FALSE)","v":62},61.67,123.97,"是"]
[73,"阳德成","中共威宁县委组织部下属事业单位","02",20230300099,{"v":57.9,"d":"57.90"},{"$f":"VLOOKUP(E76,[1]Sheet3!$B$1:$C$104,2,FALSE)","v":97},61.67,119.57,"否"]
[74,"王俊","中共威宁县委宣传部","01",20230300088,{"v":68.3,"d":"68.30"},{"$f":"VLOOKUP(E77,[1]Sheet3!$B$1:$C$104,2,FALSE)","v":45},81.67,149.97,"是"]
[75,"吴太润","中共威宁县委宣传部","01",20230300098,{"v":66.1,"d":"66.10"},{"$f":"VLOOKUP(E78,[1]Sheet3!$B$1:$C$104,2,FALSE)","v":50},78.67,144.77,"是"]
[76,"杨娥姗","中共威宁县委宣传部","01",20230300030,{"v":63.9,"d":"63.90"},{"$f":"VLOOKUP(E79,[1]Sheet3!$B$1:$C$104,2,FALSE)","v":16},71.33,135.23,"是"]
[77,"王亚楠","中共威宁县委宣传部","01",20230300017,{"v":68.6,"d":"68.60"},{"$f":"VLOOKUP(E80,[1]Sheet3!$B$1:$C$104,2,FALSE)","v":11},65.67,134.27,"是"]
[78,"锁芳","中共威宁县委宣传部","01",20230300068,{"v":66,"d":"66.00"},{"$f":"VLOOKUP(E81,[1]Sheet3!$B$1:$C$104,2,FALSE)","v":37},67.33,133.33,"是"]
[79,"文彩云","中共威宁县委宣传部","01",20230300063,{"v":68.4,"d":"68.40"},{"$f":"VLOOKUP(E82,[1]Sheet3!$B$1:$C$104,2,FALSE)","v":33},62.67,131.07,"是"]
[80,"马雪芹","中共威宁县委宣传部","01",20230300067,{"v":62.4,"d":"62.40"},{"$f":"VLOOKUP(E83,[1]Sheet3!$B$1:$C$104,2,FALSE)","v":36},63.33,125.73,"否"]
[81,"马丽克","中共威宁县委宣传部","01",20230300002,{"v":54.9,"d":"54.90"},{"$f":"VLOOKUP(E84,[1]Sheet3!$B$1:$C$104,2,FALSE)","v":1},65.33,120.23,"否"]
[82,"杨娟","中共威宁县委宣传部","01",20230300046,{"v":56.7,"d":"56.70"},{"$f":"VLOOKUP(E85,[1]Sheet3!$B$1:$C$104,2,FALSE)","v":24},"缺考",{"v":56.7,"d":"56.70"},"否"]
[83,"朱俊达","中共威宁县委机构编制委员会办公室","01",20230300049,{"v":68.4,"d":"68.40"},{"$f":"VLOOKUP(E86,[1]Sheet3!$B$1:$C$104,2,FALSE)","v":26},{"v":81,"d":"81.00"},{"v":149.4,"d":"149.40"},"是"]
[84,"陈永碧","中共威宁县委机构编制委员会办公室","01",20230300012,{"v":71.8,"d":"71.80"},{"$f":"VLOOKUP(E87,[1]Sheet3!$B$1:$C$104,2,FALSE)","v":8},{"v":69,"d":"69.00"},{"v":140.8,"d":"140.80"},"是"]
[85,"马江会","中共威宁县委机构编制委员会办公室","01",20230300009,{"v":66.9,"d":"66.90"},{"$f":"VLOOKUP(E88,[1]Sheet3!$B$1:$C$104,2,FALSE)","v":7},69.67,136.57,"是"]
[86,"张毕","中共威宁县委机构编制委员会办公室","01",20230300003,{"v":66.7,"d":"66.70"},{"$f":"VLOOKUP(E89,[1]Sheet3!$B$1:$C$104,2,FALSE)","v":2},68.67,135.37,"否"]
[87,"文丹丹","中共威宁县委机构编制委员会办公室","01",20230300080,{"v":64.3,"d":"64.30"},{"$f":"VLOOKUP(E90,[1]Sheet3!$B$1:$C$104,2,FALSE)","v":41},{"v":66,"d":"66.00"},{"v":130.3,"d":"130.30"},"否"]
[88,"丁丽娜","中共威宁县委机构编制委员会办公室下属事业单位","01",20230300004,{"v":65.5,"d":"65.50"},{"$f":"VLOOKUP(E91,[1]Sheet3!$B$1:$C$104,2,FALSE)","v":3},74.33,139.83,"是"]
[89,"朱平阳","中共威宁县委机构编制委员会办公室下属事业单位","01",20230300033,{"v":66.2,"d":"66.20"},{"$f":"VLOOKUP(E92,[1]Sheet3!$B$1:$C$104,2,FALSE)","v":17},66.67,132.87,"是"]
[90,"明克仙","中共威宁县委机构编制委员会办公室下属事业单位","01",20230300005,{"v":67,"d":"67.00"},{"$f":"VLOOKUP(E93,[1]Sheet3!$B$1:$C$104,2,FALSE)","v":4},{"v":64,"d":"64.00"},{"v":131,"d":"131.00"},"是"]
[91,"贺艳","中共威宁县委机构编制委员会办公室下属事业单位","01",20230300035,{"v":59.4,"d":"59.40"},{"$f":"VLOOKUP(E94,[1]Sheet3!$B$1:$C$104,2,FALSE)","v":18},66.33,125.73,"是"]
[92,"马会利","中共威宁县委机构编制委员会办公室下属事业单位","01",20230300029,{"v":58.9,"d":"58.90"},{"$f":"VLOOKUP(E95,[1]Sheet3!$B$1:$C$104,2,FALSE)","v":15},64.33,123.23,"是"]
[93,"张春燕","中共威宁县委机构编制委员会办公室下属事业单位","01",20230300093,{"v":54.8,"d":"54.80"},{"$f":"VLOOKUP(E96,[1]Sheet3!$B$1:$C$104,2,FALSE)","v":48},61.33,116.13,"是"]
[94,"吴梓嘉","中共威宁县直属机关工作委员会","01",20230300101,{"v":66.5,"d":"66.50"},{"$f":"VLOOKUP(E97,[1]Sheet3!$B$1:$C$104,2,FALSE)","v":99},78.67,145.17,"是"]
[95,"陈丹","中共威宁县直属机关工作委员会","01",20230300103,{"v":64,"d":"64.00"},{"$f":"VLOOKUP(E98,[1]Sheet3!$B$1:$C$104,2,FALSE)","v":101},{"v":80,"d":"80.00"},{"v":144,"d":"144.00"},"是"]
[96,"刘菊","中共威宁县直属机关工作委员会","01",20230300034,{"v":68.4,"d":"68.40"},{"$f":"VLOOKUP(E99,[1]Sheet3!$B$1:$C$104,2,FALSE)","v":66},73.67,142.07,"是"]
[97,"谢婷婷","中共威宁县直属机关工作委员会","01",20230300061,{"v":63.3,"d":"63.30"},{"$f":"VLOOKUP(E100,[1]Sheet3!$B$1:$C$104,2,FALSE)","v":79},{"v":67,"d":"67.00"},{"v":130.3,"d":"130.30"},"是"]
[98,"陈龙","中共威宁县直属机关工作委员会","01",20230300070,{"v":59.9,"d":"59.90"},{"$f":"VLOOKUP(E101,[1]Sheet3!$B$1:$C$104,2,FALSE)","v":82},{"v":69,"d":"69.00"},{"v":128.9,"d":"128.90"},"是"]
[99,"马锐","中共威宁县直属机关工作委员会","01",20230300095,{"v":63.4,"d":"63.40"},{"$f":"VLOOKUP(E102,[1]Sheet3!$B$1:$C$104,2,FALSE)","v":95},{"v":66,"d":"66.00"},{"v":129.4,"d":"129.40"},"是"]
[100,"蔡怀智","中共威宁县直属机关工作委员会","01",20230300106,{"v":57.7,"d":"57.70"},{"$f":"VLOOKUP(E103,[1]Sheet3!$B$1:$C$104,2,FALSE)","v":103},{"v":70,"d":"70.00"},{"v":127.7,"d":"127.70"},"否"]
[101,"陈蕾","中共威宁县直属机关工作委员会","01",20230300043,{"v":57.4,"d":"57.40"},{"$f":"VLOOKUP(E104,[1]Sheet3!$B$1:$C$104,2,FALSE)","v":70},{"v":69,"d":"69.00"},{"v":126.4,"d":"126.40"},"否"]
[102,"程楠","共青团威宁县委员会","01",20230300023,{"v":66.8,"d":"66.80"},{"$f":"VLOOKUP(E105,[1]Sheet3!$B$1:$C$104,2,FALSE)","v":60},77.67,144.47,"是"]
[103,"马迪","共青团威宁县委员会","01",20230300071,{"v":63.9,"d":"63.90"},{"$f":"VLOOKUP(E106,[1]Sheet3!$B$1:$C$104,2,FALSE)","v":83},{"v":78,"d":"78.00"},{"v":141.9,"d":"141.90"},"是"]
[104,"晏付梅","共青团威宁县委员会","01",20230300041,{"v":60.4,"d":"60.40"},{"$f":"VLOOKUP(E107,[1]Sheet3!$B$1:$C$104,2,FALSE)","v":69},{"v":72,"d":"72.00"},{"v":132.4,"d":"132.40"},"是"]