{"text_format":"3","workbook":"xlsx","n_sheets":2,"sheets":["Sheet1 (3)","Sheet1"],"not_rendered":{"external_links":1},"read":"whole","date_system":"1900"}

{"sheet":"Sheet1 (3)","index":0,"n_rows":92,"n_cols":7,"rows_kept":92,"merged":[[0,0,0,6]]}
["乌当区水务管理局第十二届人博会人才引进初评成绩及岗位排名"]
["岗位名称及代码","姓名","性别","出生年月","初评成绩","岗位排名","备注"]
["2512专业技术岗位工作人员01","张海洋",{"$f":"VLOOKUP(B3,[1]Worksheet!$A$1:$D$225,4,FALSE)","v":"男"},"1993-03-12",76,1,"进入区级评审环节"]
["2512专业技术岗位工作人员01","李志慧",{"$f":"VLOOKUP(B4,[1]Worksheet!$A$1:$D$225,4,FALSE)","v":"男"},"1997-06-23",75,2,"进入区级评审环节"]
["2512专业技术岗位工作人员01","王莹",{"$f":"VLOOKUP(B5,[1]Worksheet!$A$1:$D$225,4,FALSE)","v":"女"},"1997-02-19",72,3,"进入区级评审环节"]
["2512专业技术岗位工作人员01","刘仍阳",{"$f":"VLOOKUP(B6,[1]Worksheet!$A$1:$D$225,4,FALSE)","v":"男"},"1997-03-01",72,3,"进入区级评审环节"]
["2512专业技术岗位工作人员01","代运",{"$f":"VLOOKUP(B7,[1]Worksheet!$A$1:$D$225,4,FALSE)","v":"男"},"1993-05-09",72,3,"进入区级评审环节"]
["2512专业技术岗位工作人员01","黄龙",{"$f":"VLOOKUP(B8,[1]Worksheet!$A$1:$D$225,4,FALSE)","v":"男"},"1997-09-18",71,6,"进入区级评审环节"]
["2512专业技术岗位工作人员01","刘承洋",{"$f":"VLOOKUP(B9,[1]Worksheet!$A$1:$D$225,4,FALSE)","v":"男"},"1999-10-14",70,7,"进入区级评审环节"]
["2512专业技术岗位工作人员01","杨涛",{"$f":"VLOOKUP(B10,[1]Worksheet!$A$1:$D$225,4,FALSE)","v":"男"},"1997-02-03",69,8,"进入区级评审环节"]
["2512专业技术岗位工作人员01","石询询",{"$f":"VLOOKUP(B11,[1]Worksheet!$A$1:$D$225,4,FALSE)","v":"女"},"1998-11-16",67,9,"进入区级评审环节"]
["2512专业技术岗位工作人员01","李林峰",{"$f":"VLOOKUP(B12,[1]Worksheet!$A$1:$D$225,4,FALSE)","v":"男"},"1999-03-27",67,9,"进入区级评审环节"]
["2512专业技术岗位工作人员01","马锦钰",{"$f":"VLOOKUP(B13,[1]Worksheet!$A$1:$D$225,4,FALSE)","v":"女"},"1995-07-23",67,9,"进入区级评审环节"]
["2512专业技术岗位工作人员01","赵映琴",{"$f":"VLOOKUP(B14,[1]Worksheet!$A$1:$D$225,4,FALSE)","v":"女"},"1997-12-21",66,12,"进入区级评审环节"]
["2512专业技术岗位工作人员01","徐刚敏",{"$f":"VLOOKUP(B15,[1]Worksheet!$A$1:$D$225,4,FALSE)","v":"女"},"1996-09-02",66,12,"进入区级评审环节"]
["2512专业技术岗位工作人员01","杨智",{"$f":"VLOOKUP(B16,[1]Worksheet!$A$1:$D$225,4,FALSE)","v":"男"},"1997-11-08",66,12,"进入区级评审环节"]
["2512专业技术岗位工作人员01","伍盛林",{"$f":"VLOOKUP(B17,[1]Worksheet!$A$1:$D$225,4,FALSE)","v":"男"},"1996-11-01",66,12,"进入区级评审环节"]
["2512专业技术岗位工作人员01","徐敏","男","1997-03-30",65,16]
["2512专业技术岗位工作人员01","孔威",{"$f":"VLOOKUP(B19,[1]Worksheet!$A$1:$D$225,4,FALSE)","v":"女"},"1996-03-17",65,16]
["2512专业技术岗位工作人员01","曹雪梅",{"$f":"VLOOKUP(B20,[1]Worksheet!$A$1:$D$225,4,FALSE)","v":"女"},"1999-04-30",64,18]
["2512专业技术岗位工作人员01","李小亚",{"$f":"VLOOKUP(B21,[1]Worksheet!$A$1:$D$225,4,FALSE)","v":"女"},"1996-01-08",64,18]
["2512专业技术岗位工作人员01","吕超",{"$f":"VLOOKUP(B22,[1]Worksheet!$A$1:$D$225,4,FALSE)","v":"男"},"1999-03-06",63,20]
["2512专业技术岗位工作人员01","万俊艺",{"$f":"VLOOKUP(B23,[1]Worksheet!$A$1:$D$225,4,FALSE)","v":"男"},"1998-05-11",62,21]
["2512专业技术岗位工作人员01","潘洪亮",{"$f":"VLOOKUP(B24,[1]Worksheet!$A$1:$D$225,4,FALSE)","v":"男"},"1996-03-04",62,21]
["2512专业技术岗位工作人员01","张应亮",{"$f":"VLOOKUP(B25,[1]Worksheet!$A$1:$D$225,4,FALSE)","v":"男"},"1997-06-22",62,21]
["2512专业技术岗位工作人员01","费丽珊",{"$f":"VLOOKUP(B26,[1]Worksheet!$A$1:$D$225,4,FALSE)","v":"女"},"1994-03-29",62,21]
["2512专业技术岗位工作人员01","袁世松",{"$f":"VLOOKUP(B27,[1]Worksheet!$A$1:$D$225,4,FALSE)","v":"男"},"1998-07-02",61,25]
["2512专业技术岗位工作人员01","班再伦",{"$f":"VLOOKUP(B28,[1]Worksheet!$A$1:$D$225,4,FALSE)","v":"男"},"1997-06-06",61,25]
["2512专业技术岗位工作人员01","李健",{"$f":"VLOOKUP(B29,[1]Worksheet!$A$1:$D$225,4,FALSE)","v":"男"},"1996-05-29",61,25]
["2512专业技术岗位工作人员01","张聪",{"$f":"VLOOKUP(B30,[1]Worksheet!$A$1:$D$225,4,FALSE)","v":"男"},"1997-03-11",60,28]
["2512专业技术岗位工作人员01","王东",{"$f":"VLOOKUP(B31,[1]Worksheet!$A$1:$D$225,4,FALSE)","v":"男"},"1998-01-12",60,28]
["2512专业技术岗位工作人员01","姜浙江",{"$f":"VLOOKUP(B32,[1]Worksheet!$A$1:$D$225,4,FALSE)","v":"男"},"1998-08-07",60,28]
["2512专业技术岗位工作人员01","杨进强",{"$f":"VLOOKUP(B33,[1]Worksheet!$A$1:$D$225,4,FALSE)","v":"男"},"1992-05-20",59,31]
["2512专业技术岗位工作人员01","王正金",{"$f":"VLOOKUP(B34,[1]Worksheet!$A$1:$D$225,4,FALSE)","v":"男"},"1998-10-19",59,31]
["2512专业技术岗位工作人员01","罗久安",{"$f":"VLOOKUP(B35,[1]Worksheet!$A$1:$D$225,4,FALSE)","v":"男"},"2000-03-16",58,31]
["2512专业技术岗位工作人员01","王啸峰",{"$f":"VLOOKUP(B36,[1]Worksheet!$A$1:$D$225,4,FALSE)","v":"男"},"1998-07-14",58,31]
["2512专业技术岗位工作人员01","巫奎君",{"$f":"VLOOKUP(B37,[1]Worksheet!$A$1:$D$225,4,FALSE)","v":"男"},"1995-10-25",57,35]
["2512专业技术岗位工作人员01","赖宇",{"$f":"VLOOKUP(B38,[1]Worksheet!$A$1:$D$225,4,FALSE)","v":"男"},"1997-11-15",57,35]
["2512专业技术岗位工作人员01","朱俊彬",{"$f":"VLOOKUP(B39,[1]Worksheet!$A$1:$D$225,4,FALSE)","v":"男"},"1996-07-01",57,35]
["2512专业技术岗位工作人员01","雷强",{"$f":"VLOOKUP(B40,[1]Worksheet!$A$1:$D$225,4,FALSE)","v":"男"},"1994-10-06",56,38]
["2512专业技术岗位工作人员01","陈相宇",{"$f":"VLOOKUP(B41,[1]Worksheet!$A$1:$D$225,4,FALSE)","v":"女"},"1997-02-28",56,38]
["2512专业技术岗位工作人员01","刘安尧",{"$f":"VLOOKUP(B42,[1]Worksheet!$A$1:$D$225,4,FALSE)","v":"男"},"1995-11-01",56,38]
["2512专业技术岗位工作人员01","郑滔",{"$f":"VLOOKUP(B43,[1]Worksheet!$A$1:$D$225,4,FALSE)","v":"男"},"1990-12-07",56,38]
["2512专业技术岗位工作人员01","潘小研",{"$f":"VLOOKUP(B44,[1]Worksheet!$A$1:$D$225,4,FALSE)","v":"女"},"1995-10-07",55,42]
["2512专业技术岗位工作人员01","申遥",{"$f":"VLOOKUP(B45,[1]Worksheet!$A$1:$D$225,4,FALSE)","v":"男"},"1996-07-12",55,42]
["2512专业技术岗位工作人员01","简兵希","男","1997-08-21",55,42]
["2512专业技术岗位工作人员01","宋雷",{"$f":"VLOOKUP(B47,[1]Worksheet!$A$1:$D$225,4,FALSE)","v":"男"},"1994-10-16",52,45]
["2512专业技术岗位工作人员01","罗兰",{"$f":"VLOOKUP(B48,[1]Worksheet!$A$1:$D$225,4,FALSE)","v":"女"},"1993-07-15",51,46]
["2512专业技术岗位工作人员01","张书倩",{"$f":"VLOOKUP(B49,[1]Worksheet!$A$1:$D$225,4,FALSE)","v":"女"},"1998-03-24",50,47]
["2512专业技术岗位工作人员01","李松徽",{"$f":"VLOOKUP(B50,[1]Worksheet!$A$1:$D$225,4,FALSE)","v":"男"},"1991-11-16",50,47]
["2512专业技术岗位工作人员01","杨昌文","男","1994-05-10",49,49]
["2512专业技术岗位工作人员01","罗乔稚",{"$f":"VLOOKUP(B52,[1]Worksheet!$A$1:$D$225,4,FALSE)","v":"女"},"1997-09-19",null,null,"缺考"]
["2512专业技术岗位工作人员01","杨兆群",{"$f":"VLOOKUP(B53,[1]Worksheet!$A$1:$D$225,4,FALSE)","v":"女"},"1998-06-01",null,null,"缺考"]
["2512专业技术岗位工作人员01","吴红梅",{"$f":"VLOOKUP(B54,[1]Worksheet!$A$1:$D$225,4,FALSE)","v":"女"},"1997-11-26",null,null,"缺考"]
["2512专业技术岗位工作人员01","朱星遇",{"$f":"VLOOKUP(B55,[1]Worksheet!$A$1:$D$225,4,FALSE)","v":"女"},"1999-01-29",null,null,"缺考"]
["2512专业技术岗位工作人员01","罗亮",{"$f":"VLOOKUP(B56,[1]Worksheet!$A$1:$D$225,4,FALSE)","v":"女"},"1998-09-11",null,null,"缺考"]
["2512专业技术岗位工作人员01","夏侦祯","女","1994-01-15",null,null,"缺考"]
["2512专业技术岗位工作人员01","杨金灿","男","1996-05-01",null,null,"缺考"]
["2512专业技术岗位工作人员01","徐敏",{"$f":"VLOOKUP(B59,[1]Worksheet!$A$1:$D$225,4,FALSE)","v":"女"},"1996-04-10",null,null,"缺考"]
["2512专业技术岗位工作人员01","冉强三",{"$f":"VLOOKUP(B60,[1]Worksheet!$A$1:$D$225,4,FALSE)","v":"男"},"1996-03-29",null,null,"缺考"]
["2512专业技术岗位工作人员01","杨晓苏",{"$f":"VLOOKUP(B61,[1]Worksheet!$A$1:$D$225,4,FALSE)","v":"女"},"1998-05-20",null,null,"缺考"]
["2512专业技术岗位工作人员01","陈仕海",{"$f":"VLOOKUP(B62,[1]Worksheet!$A$1:$D$225,4,FALSE)","v":"男"},"1997-12-15",null,null,"缺考"]
["2512专业技术岗位工作人员01","王国庆","男","1992-08-24",null,null,"缺考"]
["2512专业技术岗位工作人员01","赵同强",{"$f":"VLOOKUP(B64,[1]Worksheet!$A$1:$D$225,4,FALSE)","v":"男"},"1995-09-24",null,null,"缺考"]
["2512专业技术岗位工作人员01","蔡宗友",{"$f":"VLOOKUP(B65,[1]Worksheet!$A$1:$D$225,4,FALSE)","v":"男"},"1997-05-18",null,null,"缺考"]
["2512专业技术岗位工作人员01","许源",{"$f":"VLOOKUP(B66,[1]Worksheet!$A$1:$D$225,4,FALSE)","v":"男"},"1997-04-12",null,null,"缺考"]
["2512专业技术岗位工作人员01","张继铭",{"$f":"VLOOKUP(B67,[1]Worksheet!$A$1:$D$225,4,FALSE)","v":"男"},"1997-10-14",null,null,"缺考"]
["2512专业技术岗位工作人员01","陶如发",{"$f":"VLOOKUP(B68,[1]Worksheet!$A$1:$D$225,4,FALSE)","v":"男"},"1997-10-14",null,null,"缺考"]
["2512专业技术岗位工作人员01","廖正毅",{"$f":"VLOOKUP(B69,[1]Worksheet!$A$1:$D$225,4,FALSE)","v":"男"},"1999-02-11",null,null,"缺考"]
["2512专业技术岗位工作人员01","陈立仁",{"$f":"VLOOKUP(B70,[1]Worksheet!$A$1:$D$225,4,FALSE)","v":"男"},"1997-07-05",null,null,"缺考"]
["2512专业技术岗位工作人员01","陈成",{"$f":"VLOOKUP(B71,[1]Worksheet!$A$1:$D$225,4,FALSE)","v":"男"},"1997-08-25",null,null,"缺考"]
["2512专业技术岗位工作人员01","袁侨蔚",{"$f":"VLOOKUP(B72,[1]Worksheet!$A$1:$D$225,4,FALSE)","v":"女"},"1997-09-26",null,null,"缺考"]
["2512专业技术岗位工作人员01","杨钧羽",{"$f":"VLOOKUP(B73,[1]Worksheet!$A$1:$D$225,4,FALSE)","v":"男"},"1999-05-08",null,null,"缺考"]
["2512专业技术岗位工作人员01","金忠友",{"$f":"VLOOKUP(B74,[1]Worksheet!$A$1:$D$225,4,FALSE)","v":"男"},"1997-10-12",null,null,"缺考"]
["2512专业技术岗位工作人员01","杨娴",{"$f":"VLOOKUP(B75,[1]Worksheet!$A$1:$D$225,4,FALSE)","v":"女"},"1999-04-05",null,null,"缺考"]
["2512专业技术岗位工作人员01","夏莹莹",{"$f":"VLOOKUP(B76,[1]Worksheet!$A$1:$D$225,4,FALSE)","v":"女"},"1998-06-18",null,null,"缺考"]
["2512专业技术岗位工作人员01","姜志恒",{"$f":"VLOOKUP(B77,[1]Worksheet!$A$1:$D$225,4,FALSE)","v":"男"},"1995-06-03",null,null,"缺考"]
["2512专业技术岗位工作人员01","张钊",{"$f":"VLOOKUP(B78,[1]Worksheet!$A$1:$D$225,4,FALSE)","v":"男"},"1997-02-25",null,null,"缺考"]
["2512专业技术岗位工作人员01","吴德杨",{"$f":"VLOOKUP(B79,[1]Worksheet!$A$1:$D$225,4,FALSE)","v":"女"},"1997-12-21",null,null,"缺考"]
["2512专业技术岗位工作人员01","吴玥",{"$f":"VLOOKUP(B80,[1]Worksheet!$A$1:$D$225,4,FALSE)","v":"女"},"1999-04-29",null,null,"缺考"]
["2512专业技术岗位工作人员01","程妍妮",{"$f":"VLOOKUP(B81,[1]Worksheet!$A$1:$D$225,4,FALSE)","v":"女"},"1998-09-09",null,null,"缺考"]
["2512专业技术岗位工作人员01","吴梦岚",{"$f":"VLOOKUP(B82,[1]Worksheet!$A$1:$D$225,4,FALSE)","v":"女"},"1999-03-23",null,null,"缺考"]
["2512专业技术岗位工作人员01","王露",{"$f":"VLOOKUP(B83,[1]Worksheet!$A$1:$D$225,4,FALSE)","v":"女"},"1997-09-19",null,null,"缺考"]
["2512专业技术岗位工作人员01","罗淳",{"$f":"VLOOKUP(B84,[1]Worksheet!$A$1:$D$225,4,FALSE)","v":"女"},"1998-08-25",null,null,"缺考"]
["2512专业技术岗位工作人员01","余红刚",{"$f":"VLOOKUP(B85,[1]Worksheet!$A$1:$D$225,4,FALSE)","v":"男"},"1999-12-27",null,null,"缺考"]
["2512专业技术岗位工作人员01","吴远成",{"$f":"VLOOKUP(B86,[1]Worksheet!$A$1:$D$225,4,FALSE)","v":"男"},"1997-09-17",null,null,"缺考"]
["2512专业技术岗位工作人员01","向凯",{"$f":"VLOOKUP(B87,[1]Worksheet!$A$1:$D$225,4,FALSE)","v":"男"},"1997-09-22",null,null,"缺考"]
["2512专业技术岗位工作人员01","管锴",{"$f":"VLOOKUP(B88,[1]Worksheet!$A$1:$D$225,4,FALSE)","v":"男"},"1996-11-03",null,null,"缺考"]
["2512专业技术岗位工作人员01","彭磊",{"$f":"VLOOKUP(B89,[1]Worksheet!$A$1:$D$225,4,FALSE)","v":"男"},"1997-05-29",null,null,"缺考"]
["2512专业技术岗位工作人员01","刘浪",{"$f":"VLOOKUP(B90,[1]Worksheet!$A$1:$D$225,4,FALSE)","v":"男"},"1998-07-15",null,null,"缺考"]
["2512专业技术岗位工作人员01","王崇勋",{"$f":"VLOOKUP(B91,[1]Worksheet!$A$1:$D$225,4,FALSE)","v":"女"},"2000-03-26",null,null,"缺考"]
["2512专业技术岗位工作人员01","李丽","女","1996-05-28",null,null,"缺考"]

{"sheet":"Sheet1","index":1,"n_rows":0,"n_cols":0,"rows_kept":0}