{"text_format":"3","workbook":"xlsx","n_sheets":1,"sheets":["Sheet1"],"not_rendered":{"external_links":1,"defined_names":1},"read":"whole","date_system":"1900"}

{"sheet":"Sheet1","index":0,"n_rows":369,"n_cols":3,"rows_kept":369,"merged":[[0,0,0,2]]}
["观山湖区2024年面向区属“双轨制”教师公开招聘中小学教师笔试成绩"]
["准考证号","成绩","报考单位及岗位"]
["24040500101",122,{"$f":"VLOOKUP(A3,[1]工作表1!$D:$K,8,0)","v":"外国语实验小学-01小学语文教师"}]
["24040500102",107.5,{"$f":"VLOOKUP(A4,[1]工作表1!$D:$K,8,0)","v":"华东师范大学附属贵阳学校-小学音乐教师"}]
["24040500103",102.5,{"$f":"VLOOKUP(A5,[1]工作表1!$D:$K,8,0)","v":"华东师范大学附属贵阳学校-小学体育教师"}]
["24040500104",120,{"$f":"VLOOKUP(A6,[1]工作表1!$D:$K,8,0)","v":"华东师范大学附属贵阳学校-初中英语教师"}]
["24040500105",112,{"$f":"VLOOKUP(A7,[1]工作表1!$D:$K,8,0)","v":"观山湖区阅山湖小学-小学美术教师"}]
["24040500106",103,{"$f":"VLOOKUP(A8,[1]工作表1!$D:$K,8,0)","v":"华东师范大学附属贵阳学校-小学音乐教师"}]
["24040500107",112.5,{"$f":"VLOOKUP(A9,[1]工作表1!$D:$K,8,0)","v":"华东师范大学附属贵阳学校-小学体育教师"}]
["24040500108",124.5,{"$f":"VLOOKUP(A10,[1]工作表1!$D:$K,8,0)","v":"贵阳市第三中学-初中音乐教师"}]
["24040500109",113,{"$f":"VLOOKUP(A11,[1]工作表1!$D:$K,8,0)","v":"华东师范大学附属贵阳学校-初中数学教师"}]
["24040500110",121.5,{"$f":"VLOOKUP(A12,[1]工作表1!$D:$K,8,0)","v":"华东师范大学附属贵阳学校-01小学语文教师"}]
["24040500111",105.5,{"$f":"VLOOKUP(A13,[1]工作表1!$D:$K,8,0)","v":"华东师范大学附属贵阳学校-小学体育教师"}]
["24040500113",117,{"$f":"VLOOKUP(A14,[1]工作表1!$D:$K,8,0)","v":"华东师范大学附属贵阳学校-小学英语教师"}]
["24040500114",108,{"$f":"VLOOKUP(A15,[1]工作表1!$D:$K,8,0)","v":"外国语实验小学-02小学语文教师"}]
["24040500115",126.5,{"$f":"VLOOKUP(A16,[1]工作表1!$D:$K,8,0)","v":"华东师范大学附属贵阳学校-小学英语教师"}]
["24040500116",124.5,{"$f":"VLOOKUP(A17,[1]工作表1!$D:$K,8,0)","v":"外国语实验中学-小学语文教师"}]
["24040500117",119.5,{"$f":"VLOOKUP(A18,[1]工作表1!$D:$K,8,0)","v":"华东师范大学附属贵阳学校-初中英语教师"}]
["24040500118",125.5,{"$f":"VLOOKUP(A19,[1]工作表1!$D:$K,8,0)","v":"观山湖区阅山湖小学-小学美术教师"}]
["24040500119",113.5,{"$f":"VLOOKUP(A20,[1]工作表1!$D:$K,8,0)","v":"华东师范大学附属贵阳学校-02小学语文教师"}]
["24040500120",102,{"$f":"VLOOKUP(A21,[1]工作表1!$D:$K,8,0)","v":"贵阳市师范学校附属实验小学-小学数学教师"}]
["24040500121",112,{"$f":"VLOOKUP(A22,[1]工作表1!$D:$K,8,0)","v":"外国语实验中学-小学语文教师"}]
["24040500122",119.5,{"$f":"VLOOKUP(A23,[1]工作表1!$D:$K,8,0)","v":"华东师范大学附属贵阳学校-01小学语文教师"}]
["24040500123",122,{"$f":"VLOOKUP(A24,[1]工作表1!$D:$K,8,0)","v":"华东师范大学附属贵阳学校-小学英语教师"}]
["24040500124",125.5,{"$f":"VLOOKUP(A25,[1]工作表1!$D:$K,8,0)","v":"观山湖区第七中学-初中英语教师"}]
["24040500125",112.5,{"$f":"VLOOKUP(A26,[1]工作表1!$D:$K,8,0)","v":"华东师范大学附属贵阳学校-小学英语教师"}]
["24040500126",85.5,{"$f":"VLOOKUP(A27,[1]工作表1!$D:$K,8,0)","v":"观山湖区阅山湖小学-小学美术教师"}]
["24040500127",109.5,{"$f":"VLOOKUP(A28,[1]工作表1!$D:$K,8,0)","v":"外国语实验小学-02小学语文教师"}]
["24040500128",117,{"$f":"VLOOKUP(A29,[1]工作表1!$D:$K,8,0)","v":"外国语实验小学-01小学语文教师"}]
["24040500129",122.5,{"$f":"VLOOKUP(A30,[1]工作表1!$D:$K,8,0)","v":"华东师范大学附属贵阳学校-初中语文教师"}]
["24040500130",119,{"$f":"VLOOKUP(A31,[1]工作表1!$D:$K,8,0)","v":"外国语实验中学-小学语文教师"}]
["24040500201",102.5,{"$f":"VLOOKUP(A32,[1]工作表1!$D:$K,8,0)","v":"外国语实验小学-01小学语文教师"}]
["24040500202",109,{"$f":"VLOOKUP(A33,[1]工作表1!$D:$K,8,0)","v":"外国语实验小学-小学英语教师"}]
["24040500203",117.5,{"$f":"VLOOKUP(A34,[1]工作表1!$D:$K,8,0)","v":"华东师范大学附属贵阳学校-初中英语教师"}]
["24040500204",92.5,{"$f":"VLOOKUP(A35,[1]工作表1!$D:$K,8,0)","v":"外国语实验小学-小学数学教师"}]
["24040500205",110.5,{"$f":"VLOOKUP(A36,[1]工作表1!$D:$K,8,0)","v":"外国语实验小学-小学英语教师"}]
["24040500206",119.5,{"$f":"VLOOKUP(A37,[1]工作表1!$D:$K,8,0)","v":"贵阳市第一实验中学-初中历史教师"}]
["24040500207",107.5,{"$f":"VLOOKUP(A38,[1]工作表1!$D:$K,8,0)","v":"观山湖区华润小学-小学语文教师"}]
["24040500208",0,{"$f":"VLOOKUP(A39,[1]工作表1!$D:$K,8,0)","v":"观山湖区华润小学-小学语文教师"}]
["24040500209",130.5,{"$f":"VLOOKUP(A40,[1]工作表1!$D:$K,8,0)","v":"华东师范大学附属贵阳学校-02小学语文教师"}]
["24040500210",108.5,{"$f":"VLOOKUP(A41,[1]工作表1!$D:$K,8,0)","v":"华东师范大学附属贵阳学校-02小学语文教师"}]
["24040500212",114,{"$f":"VLOOKUP(A42,[1]工作表1!$D:$K,8,0)","v":"华东师范大学附属贵阳学校-01小学语文教师"}]
["24040500213",0,{"$f":"VLOOKUP(A43,[1]工作表1!$D:$K,8,0)","v":"华东师范大学附属贵阳学校-02小学语文教师"}]
["24040500214",101,{"$f":"VLOOKUP(A44,[1]工作表1!$D:$K,8,0)","v":"华东师范大学附属贵阳学校-01小学语文教师"}]
["24040500215",101,{"$f":"VLOOKUP(A45,[1]工作表1!$D:$K,8,0)","v":"外国语实验小学-小学数学教师"}]
["24040500216",120.5,{"$f":"VLOOKUP(A46,[1]工作表1!$D:$K,8,0)","v":"外国语实验中学-小学语文教师"}]
["24040500217",116.5,{"$f":"VLOOKUP(A47,[1]工作表1!$D:$K,8,0)","v":"观山湖区阅山湖小学-小学美术教师"}]
["24040500218",97,{"$f":"VLOOKUP(A48,[1]工作表1!$D:$K,8,0)","v":"华东师范大学附属贵阳学校-初中语文教师"}]
["24040500219",115.5,{"$f":"VLOOKUP(A49,[1]工作表1!$D:$K,8,0)","v":"观山湖区第十二小学-小学科学教师"}]
["24040500220",101,{"$f":"VLOOKUP(A50,[1]工作表1!$D:$K,8,0)","v":"观山湖区华润中学-初中语文教师"}]
["24040500221",97,{"$f":"VLOOKUP(A51,[1]工作表1!$D:$K,8,0)","v":"贵阳市师范学校附属实验小学-小学数学教师"}]
["24040500222",98.5,{"$f":"VLOOKUP(A52,[1]工作表1!$D:$K,8,0)","v":"外国语实验中学-小学语文教师"}]
["24040500223",114,{"$f":"VLOOKUP(A53,[1]工作表1!$D:$K,8,0)","v":"贵阳市第一实验中学-初中历史教师"}]
["24040500224",104.5,{"$f":"VLOOKUP(A54,[1]工作表1!$D:$K,8,0)","v":"观山湖区第十二小学-小学科学教师"}]
["24040500225",108,{"$f":"VLOOKUP(A55,[1]工作表1!$D:$K,8,0)","v":"观山湖区第七中学-初中英语教师"}]
["24040500226",98.5,{"$f":"VLOOKUP(A56,[1]工作表1!$D:$K,8,0)","v":"外国语实验小学-01小学语文教师"}]
["24040500227",109,{"$f":"VLOOKUP(A57,[1]工作表1!$D:$K,8,0)","v":"外国语实验小学-小学英语教师"}]
["24040500228",85,{"$f":"VLOOKUP(A58,[1]工作表1!$D:$K,8,0)","v":"外国语实验小学-01小学语文教师"}]
["24040500229",121,{"$f":"VLOOKUP(A59,[1]工作表1!$D:$K,8,0)","v":"华东师范大学附属贵阳学校-小学音乐教师"}]
["24040500230",0,{"$f":"VLOOKUP(A60,[1]工作表1!$D:$K,8,0)","v":"观山湖区世纪城小学-小学科学教师"}]
["24040500301",110,{"$f":"VLOOKUP(A61,[1]工作表1!$D:$K,8,0)","v":"外国语实验小学-小学数学教师"}]
["24040500302",102,{"$f":"VLOOKUP(A62,[1]工作表1!$D:$K,8,0)","v":"华东师范大学附属贵阳学校-02小学语文教师"}]
["24040500303",123,{"$f":"VLOOKUP(A63,[1]工作表1!$D:$K,8,0)","v":"外国语实验小学-01小学语文教师"}]
["24040500304",106,{"$f":"VLOOKUP(A64,[1]工作表1!$D:$K,8,0)","v":"华东师范大学附属贵阳学校-小学英语教师"}]
["24040500305",125.5,{"$f":"VLOOKUP(A65,[1]工作表1!$D:$K,8,0)","v":"外国语实验中学-初中语文教师"}]
["24040500306",118.5,{"$f":"VLOOKUP(A66,[1]工作表1!$D:$K,8,0)","v":"华东师范大学附属贵阳学校-小学数学教师"}]
["24040500307",120,{"$f":"VLOOKUP(A67,[1]工作表1!$D:$K,8,0)","v":"外国语实验中学-小学语文教师"}]
["24040500308",118,{"$f":"VLOOKUP(A68,[1]工作表1!$D:$K,8,0)","v":"观山湖区第七中学-初中英语教师"}]
["24040500309",111.5,{"$f":"VLOOKUP(A69,[1]工作表1!$D:$K,8,0)","v":"观山湖区第七中学-初中英语教师"}]
["24040500310",111,{"$f":"VLOOKUP(A70,[1]工作表1!$D:$K,8,0)","v":"外国语实验小学-小学英语教师"}]
["24040500311",95,{"$f":"VLOOKUP(A71,[1]工作表1!$D:$K,8,0)","v":"外国语实验小学-01小学语文教师"}]
["24040500312",122,{"$f":"VLOOKUP(A72,[1]工作表1!$D:$K,8,0)","v":"外国语实验小学-01小学语文教师"}]
["24040500313",117.5,{"$f":"VLOOKUP(A73,[1]工作表1!$D:$K,8,0)","v":"华东师范大学附属贵阳学校-小学数学教师"}]
["24040500314",110,{"$f":"VLOOKUP(A74,[1]工作表1!$D:$K,8,0)","v":"外国语实验小学-小学数学教师"}]
["24040500315",107,{"$f":"VLOOKUP(A75,[1]工作表1!$D:$K,8,0)","v":"华东师范大学附属贵阳学校-小学数学教师"}]
["24040500316",106,{"$f":"VLOOKUP(A76,[1]工作表1!$D:$K,8,0)","v":"外国语实验小学-02小学语文教师"}]
["24040500317",106.5,{"$f":"VLOOKUP(A77,[1]工作表1!$D:$K,8,0)","v":"外国语实验小学-小学数学教师"}]
["24040500318",108.5,{"$f":"VLOOKUP(A78,[1]工作表1!$D:$K,8,0)","v":"华东师范大学附属贵阳学校-小学数学教师"}]
["24040500319",108,{"$f":"VLOOKUP(A79,[1]工作表1!$D:$K,8,0)","v":"外国语实验小学-02小学语文教师"}]
["24040500320",112,{"$f":"VLOOKUP(A80,[1]工作表1!$D:$K,8,0)","v":"外国语实验小学-小学英语教师"}]
["24040500321",112.5,{"$f":"VLOOKUP(A81,[1]工作表1!$D:$K,8,0)","v":"贵阳市第一实验小学-小学体育教师"}]
["24040500322",87,{"$f":"VLOOKUP(A82,[1]工作表1!$D:$K,8,0)","v":"外国语实验中学-初中体育教师"}]
["24040500323",94,{"$f":"VLOOKUP(A83,[1]工作表1!$D:$K,8,0)","v":"华东师范大学附属贵阳学校-02小学语文教师"}]
["24040500324",119,{"$f":"VLOOKUP(A84,[1]工作表1!$D:$K,8,0)","v":"华东师范大学附属贵阳学校-01小学语文教师"}]
["24040500325",113.5,{"$f":"VLOOKUP(A85,[1]工作表1!$D:$K,8,0)","v":"华东师范大学附属贵阳学校-初中英语教师"}]
["24040500326",98,{"$f":"VLOOKUP(A86,[1]工作表1!$D:$K,8,0)","v":"外国语实验小学-小学数学教师"}]
["24040500327",77,{"$f":"VLOOKUP(A87,[1]工作表1!$D:$K,8,0)","v":"观山湖区世纪城小学-小学科学教师"}]
["24040500328",113,{"$f":"VLOOKUP(A88,[1]工作表1!$D:$K,8,0)","v":"观山湖区阅山湖小学-小学美术教师"}]
["24040500329",109.5,{"$f":"VLOOKUP(A89,[1]工作表1!$D:$K,8,0)","v":"华东师范大学附属贵阳学校-小学数学教师"}]
["24040500330",105,{"$f":"VLOOKUP(A90,[1]工作表1!$D:$K,8,0)","v":"外国语实验小学-小学英语教师"}]
["24040500401",97,{"$f":"VLOOKUP(A91,[1]工作表1!$D:$K,8,0)","v":"观山湖区华润中学-初中数学教师"}]
["24040500402",88.5,{"$f":"VLOOKUP(A92,[1]工作表1!$D:$K,8,0)","v":"华东师范大学附属贵阳学校-01小学语文教师"}]
["24040500403",120.5,{"$f":"VLOOKUP(A93,[1]工作表1!$D:$K,8,0)","v":"外国语实验小学-小学英语教师"}]
["24040500404",0,{"$f":"VLOOKUP(A94,[1]工作表1!$D:$K,8,0)","v":"观山湖区第十中学-初中信息科技教师"}]
["24040500405",131.5,{"$f":"VLOOKUP(A95,[1]工作表1!$D:$K,8,0)","v":"贵阳市第一实验中学-初中历史教师"}]
["24040500406",108,{"$f":"VLOOKUP(A96,[1]工作表1!$D:$K,8,0)","v":"外国语实验小学-小学体育教师"}]
["24040500407",107,{"$f":"VLOOKUP(A97,[1]工作表1!$D:$K,8,0)","v":"华东师范大学附属贵阳学校-02小学语文教师"}]
["24040500408",108.5,{"$f":"VLOOKUP(A98,[1]工作表1!$D:$K,8,0)","v":"外国语实验小学-小学数学教师"}]
["24040500409",105,{"$f":"VLOOKUP(A99,[1]工作表1!$D:$K,8,0)","v":"华东师范大学附属贵阳学校-01小学语文教师"}]
["24040500410",114.5,{"$f":"VLOOKUP(A100,[1]工作表1!$D:$K,8,0)","v":"华东师范大学附属贵阳学校-小学数学教师"}]
["24040500411",115,{"$f":"VLOOKUP(A101,[1]工作表1!$D:$K,8,0)","v":"外国语实验小学-01小学语文教师"}]
["24040500412",122.5,{"$f":"VLOOKUP(A102,[1]工作表1!$D:$K,8,0)","v":"观山湖区华润小学-小学语文教师"}]
["24040500413",119,{"$f":"VLOOKUP(A103,[1]工作表1!$D:$K,8,0)","v":"外国语实验小学-01小学语文教师"}]
["24040500414",89,{"$f":"VLOOKUP(A104,[1]工作表1!$D:$K,8,0)","v":"观山湖区阅山湖小学-小学美术教师"}]
["24040500415",103.5,{"$f":"VLOOKUP(A105,[1]工作表1!$D:$K,8,0)","v":"贵阳市师范学校附属实验小学-小学数学教师"}]
["24040500416",108,{"$f":"VLOOKUP(A106,[1]工作表1!$D:$K,8,0)","v":"观山湖区世纪城小学-小学科学教师"}]
["24040500417",0,{"$f":"VLOOKUP(A107,[1]工作表1!$D:$K,8,0)","v":"外国语实验中学-初中语文教师"}]
["24040500418",116,{"$f":"VLOOKUP(A108,[1]工作表1!$D:$K,8,0)","v":"观山湖区逸都国际学校-初中体育教师"}]
["24040500419",112.5,{"$f":"VLOOKUP(A109,[1]工作表1!$D:$K,8,0)","v":"华东师范大学附属贵阳学校-小学数学教师"}]
["24040500420",124.5,{"$f":"VLOOKUP(A110,[1]工作表1!$D:$K,8,0)","v":"华东师范大学附属贵阳学校-小学英语教师"}]
["24040500421",119,{"$f":"VLOOKUP(A111,[1]工作表1!$D:$K,8,0)","v":"外国语实验小学-01小学语文教师"}]
["24040500422",114,{"$f":"VLOOKUP(A112,[1]工作表1!$D:$K,8,0)","v":"华东师范大学附属贵阳学校-小学数学教师"}]
["24040500423",104.5,{"$f":"VLOOKUP(A113,[1]工作表1!$D:$K,8,0)","v":"华东师范大学附属贵阳学校-小学数学教师"}]
["24040500424",106,{"$f":"VLOOKUP(A114,[1]工作表1!$D:$K,8,0)","v":"华东师范大学附属贵阳学校-02小学语文教师"}]
["24040500425",104.5,{"$f":"VLOOKUP(A115,[1]工作表1!$D:$K,8,0)","v":"外国语实验中学-初中体育教师"}]
["24040500426",88.5,{"$f":"VLOOKUP(A116,[1]工作表1!$D:$K,8,0)","v":"华东师范大学附属贵阳学校-小学数学教师"}]
["24040500427",112.5,{"$f":"VLOOKUP(A117,[1]工作表1!$D:$K,8,0)","v":"华东师范大学附属贵阳学校-02小学语文教师"}]
["24040500428",119,{"$f":"VLOOKUP(A118,[1]工作表1!$D:$K,8,0)","v":"华东师范大学附属贵阳学校-小学数学教师"}]
["24040500429",0,{"$f":"VLOOKUP(A119,[1]工作表1!$D:$K,8,0)","v":"华东师范大学附属贵阳学校-小学数学教师"}]
["24040500430",115,{"$f":"VLOOKUP(A120,[1]工作表1!$D:$K,8,0)","v":"外国语实验小学-01小学语文教师"}]
["24040500501",125,{"$f":"VLOOKUP(A121,[1]工作表1!$D:$K,8,0)","v":"华东师范大学附属贵阳学校-小学英语教师"}]
["24040500502",104.5,{"$f":"VLOOKUP(A122,[1]工作表1!$D:$K,8,0)","v":"外国语实验中学-初中语文教师"}]
["24040500503",0,{"$f":"VLOOKUP(A123,[1]工作表1!$D:$K,8,0)","v":"华东师范大学附属贵阳学校-小学数学教师"}]
["24040500504",124,{"$f":"VLOOKUP(A124,[1]工作表1!$D:$K,8,0)","v":"华东师范大学附属贵阳学校-01小学语文教师"}]
["24040500505",108,{"$f":"VLOOKUP(A125,[1]工作表1!$D:$K,8,0)","v":"外国语实验小学-02小学语文教师"}]
["24040500506",124.5,{"$f":"VLOOKUP(A126,[1]工作表1!$D:$K,8,0)","v":"华东师范大学附属贵阳学校-01小学语文教师"}]
["24040500507",111,{"$f":"VLOOKUP(A127,[1]工作表1!$D:$K,8,0)","v":"贵阳市第三中学-初中音乐教师"}]
["24040500508",102,{"$f":"VLOOKUP(A128,[1]工作表1!$D:$K,8,0)","v":"观山湖区逸都国际学校-初中体育教师"}]
["24040500509",108.5,{"$f":"VLOOKUP(A129,[1]工作表1!$D:$K,8,0)","v":"外国语实验小学-01小学语文教师"}]
["24040500510",110,{"$f":"VLOOKUP(A130,[1]工作表1!$D:$K,8,0)","v":"华东师范大学附属贵阳学校-小学数学教师"}]
["24040500511",113.5,{"$f":"VLOOKUP(A131,[1]工作表1!$D:$K,8,0)","v":"观山湖区第十中学-初中语文教师"}]
["24040500512",105.5,{"$f":"VLOOKUP(A132,[1]工作表1!$D:$K,8,0)","v":"贵阳市第三中学-初中音乐教师"}]
["24040500513",124,{"$f":"VLOOKUP(A133,[1]工作表1!$D:$K,8,0)","v":"观山湖区世纪城小学-小学科学教师"}]
["24040500514",109,{"$f":"VLOOKUP(A134,[1]工作表1!$D:$K,8,0)","v":"华东师范大学附属贵阳学校-初中数学教师"}]
["24040500515",122,{"$f":"VLOOKUP(A135,[1]工作表1!$D:$K,8,0)","v":"观山湖区第九中学-初中道德与法治教师"}]
["24040500516",112.5,{"$f":"VLOOKUP(A136,[1]工作表1!$D:$K,8,0)","v":"华东师范大学附属贵阳学校-小学数学教师"}]
["24040500517",108.5,{"$f":"VLOOKUP(A137,[1]工作表1!$D:$K,8,0)","v":"外国语实验小学-01小学语文教师"}]
["24040500518",95,{"$f":"VLOOKUP(A138,[1]工作表1!$D:$K,8,0)","v":"外国语实验中学-小学语文教师"}]
["24040500519",110,{"$f":"VLOOKUP(A139,[1]工作表1!$D:$K,8,0)","v":"华东师范大学附属贵阳学校-小学体育教师"}]
["24040500520",127,{"$f":"VLOOKUP(A140,[1]工作表1!$D:$K,8,0)","v":"观山湖区华润小学-小学语文教师"}]
["24040500521",81,{"$f":"VLOOKUP(A141,[1]工作表1!$D:$K,8,0)","v":"外国语实验中学-小学语文教师"}]
["24040500522",102.5,{"$f":"VLOOKUP(A142,[1]工作表1!$D:$K,8,0)","v":"外国语实验中学-小学语文教师"}]
["24040500523",95.5,{"$f":"VLOOKUP(A143,[1]工作表1!$D:$K,8,0)","v":"华东师范大学附属贵阳学校-小学体育教师"}]
["24040500524",89,{"$f":"VLOOKUP(A144,[1]工作表1!$D:$K,8,0)","v":"外国语实验中学-初中体育教师"}]
["24040500525",103,{"$f":"VLOOKUP(A145,[1]工作表1!$D:$K,8,0)","v":"华东师范大学附属贵阳学校-小学数学教师"}]
["24040500526",114.5,{"$f":"VLOOKUP(A146,[1]工作表1!$D:$K,8,0)","v":"华东师范大学附属贵阳学校-初中语文教师"}]
["24040500527",96.5,{"$f":"VLOOKUP(A147,[1]工作表1!$D:$K,8,0)","v":"华东师范大学附属贵阳学校-小学数学教师"}]
["24040500528",125,{"$f":"VLOOKUP(A148,[1]工作表1!$D:$K,8,0)","v":"华东师范大学附属贵阳学校-小学音乐教师"}]
["24040500529",116.5,{"$f":"VLOOKUP(A149,[1]工作表1!$D:$K,8,0)","v":"华东师范大学附属贵阳学校-01小学语文教师"}]
["24040500530",118.5,{"$f":"VLOOKUP(A150,[1]工作表1!$D:$K,8,0)","v":"贵阳市第一实验中学-初中历史教师"}]
["24040500601",113,{"$f":"VLOOKUP(A151,[1]工作表1!$D:$K,8,0)","v":"外国语实验小学-小学数学教师"}]
["24040500602",123,{"$f":"VLOOKUP(A152,[1]工作表1!$D:$K,8,0)","v":"观山湖区第十二小学-小学科学教师"}]
["24040500603",117,{"$f":"VLOOKUP(A153,[1]工作表1!$D:$K,8,0)","v":"华东师范大学附属贵阳学校-01小学语文教师"}]
["24040500604",99,{"$f":"VLOOKUP(A154,[1]工作表1!$D:$K,8,0)","v":"北京市西城区黄城根小学贵阳分校-小学美术教师"}]
["24040500605",102.5,{"$f":"VLOOKUP(A155,[1]工作表1!$D:$K,8,0)","v":"华东师范大学附属贵阳学校-初中数学教师"}]
["24040500606",99,{"$f":"VLOOKUP(A156,[1]工作表1!$D:$K,8,0)","v":"外国语实验小学-小学数学教师"}]
["24040500607",107,{"$f":"VLOOKUP(A157,[1]工作表1!$D:$K,8,0)","v":"外国语实验小学-02小学语文教师"}]
["24040500609",121,{"$f":"VLOOKUP(A158,[1]工作表1!$D:$K,8,0)","v":"观山湖区华润小学-小学语文教师"}]
["24040500610",132.5,{"$f":"VLOOKUP(A159,[1]工作表1!$D:$K,8,0)","v":"华东师范大学附属贵阳学校-小学数学教师"}]
["24040500611",122,{"$f":"VLOOKUP(A160,[1]工作表1!$D:$K,8,0)","v":"观山湖区阅山湖小学-小学美术教师"}]
["24040500612",111.5,{"$f":"VLOOKUP(A161,[1]工作表1!$D:$K,8,0)","v":"观山湖区世纪城小学-小学科学教师"}]
["24040500613",111,{"$f":"VLOOKUP(A162,[1]工作表1!$D:$K,8,0)","v":"华东师范大学附属贵阳学校-小学体育教师"}]
["24040500614",110,{"$f":"VLOOKUP(A163,[1]工作表1!$D:$K,8,0)","v":"华东师范大学附属贵阳学校-小学数学教师"}]
["24040500615",120,{"$f":"VLOOKUP(A164,[1]工作表1!$D:$K,8,0)","v":"外国语实验小学-小学体育教师"}]
["24040500616",115.5,{"$f":"VLOOKUP(A165,[1]工作表1!$D:$K,8,0)","v":"华东师范大学附属贵阳学校-小学数学教师"}]
["24040500617",116.5,{"$f":"VLOOKUP(A166,[1]工作表1!$D:$K,8,0)","v":"外国语实验小学-小学数学教师"}]
["24040500618",108,{"$f":"VLOOKUP(A167,[1]工作表1!$D:$K,8,0)","v":"外国语实验小学-02小学语文教师"}]
["24040500619",117.5,{"$f":"VLOOKUP(A168,[1]工作表1!$D:$K,8,0)","v":"华东师范大学附属贵阳学校-01小学语文教师"}]
["24040500620",96,{"$f":"VLOOKUP(A169,[1]工作表1!$D:$K,8,0)","v":"外国语实验小学-01小学语文教师"}]
["24040500621",108.5,{"$f":"VLOOKUP(A170,[1]工作表1!$D:$K,8,0)","v":"外国语实验小学-小学体育教师"}]
["24040500622",104.5,{"$f":"VLOOKUP(A171,[1]工作表1!$D:$K,8,0)","v":"华东师范大学附属贵阳学校-01小学语文教师"}]
["24040500623",108,{"$f":"VLOOKUP(A172,[1]工作表1!$D:$K,8,0)","v":"观山湖区世纪城小学-小学科学教师"}]
["24040500624",125.5,{"$f":"VLOOKUP(A173,[1]工作表1!$D:$K,8,0)","v":"华东师范大学附属贵阳学校-小学数学教师"}]
["24040500625",120,{"$f":"VLOOKUP(A174,[1]工作表1!$D:$K,8,0)","v":"外国语实验小学-小学英语教师"}]
["24040500626",105.5,{"$f":"VLOOKUP(A175,[1]工作表1!$D:$K,8,0)","v":"外国语实验小学-01小学语文教师"}]
["24040500627",115.5,{"$f":"VLOOKUP(A176,[1]工作表1!$D:$K,8,0)","v":"华东师范大学附属贵阳学校-小学音乐教师"}]
["24040500628",123,{"$f":"VLOOKUP(A177,[1]工作表1!$D:$K,8,0)","v":"外国语实验小学-02小学语文教师"}]
["24040500629",108.5,{"$f":"VLOOKUP(A178,[1]工作表1!$D:$K,8,0)","v":"观山湖区第十二小学-小学科学教师"}]
["24040500630",115,{"$f":"VLOOKUP(A179,[1]工作表1!$D:$K,8,0)","v":"华东师范大学附属贵阳学校-小学英语教师"}]
["24040500701",126,{"$f":"VLOOKUP(A180,[1]工作表1!$D:$K,8,0)","v":"华东师范大学附属贵阳学校-初中语文教师"}]
["24040500702",111.5,{"$f":"VLOOKUP(A181,[1]工作表1!$D:$K,8,0)","v":"北京市西城区黄城根小学贵阳分校-小学美术教师"}]
["24040500703",116,{"$f":"VLOOKUP(A182,[1]工作表1!$D:$K,8,0)","v":"华东师范大学附属贵阳学校-01小学语文教师"}]
["24040500704",110,{"$f":"VLOOKUP(A183,[1]工作表1!$D:$K,8,0)","v":"华东师范大学附属贵阳学校-小学数学教师"}]
["24040500705",116,{"$f":"VLOOKUP(A184,[1]工作表1!$D:$K,8,0)","v":"外国语实验中学-小学语文教师"}]
["24040500706",79.5,{"$f":"VLOOKUP(A185,[1]工作表1!$D:$K,8,0)","v":"外国语实验中学-初中体育教师"}]
["24040500707",128,{"$f":"VLOOKUP(A186,[1]工作表1!$D:$K,8,0)","v":"华东师范大学附属贵阳学校-小学体育教师"}]
["24040500708",125.5,{"$f":"VLOOKUP(A187,[1]工作表1!$D:$K,8,0)","v":"北京市西城区黄城根小学贵阳分校-小学美术教师"}]
["24040500709",117.5,{"$f":"VLOOKUP(A188,[1]工作表1!$D:$K,8,0)","v":"华东师范大学附属贵阳学校-小学数学教师"}]
["24040500710",0,{"$f":"VLOOKUP(A189,[1]工作表1!$D:$K,8,0)","v":"北京市西城区黄城根小学贵阳分校-小学美术教师"}]
["24040500711",120.5,{"$f":"VLOOKUP(A190,[1]工作表1!$D:$K,8,0)","v":"北京市西城区黄城根小学贵阳分校-小学美术教师"}]
["24040500712",91,{"$f":"VLOOKUP(A191,[1]工作表1!$D:$K,8,0)","v":"北京市西城区黄城根小学贵阳分校-小学美术教师"}]
["24040500713",116,{"$f":"VLOOKUP(A192,[1]工作表1!$D:$K,8,0)","v":"华东师范大学附属贵阳学校-小学数学教师"}]
["24040500714",115,{"$f":"VLOOKUP(A193,[1]工作表1!$D:$K,8,0)","v":"贵阳市第一实验中学-初中历史教师"}]
["24040500715",119.5,{"$f":"VLOOKUP(A194,[1]工作表1!$D:$K,8,0)","v":"观山湖区阅山湖小学-小学美术教师"}]
["24040500716",120.5,{"$f":"VLOOKUP(A195,[1]工作表1!$D:$K,8,0)","v":"华东师范大学附属贵阳学校-01小学语文教师"}]
["24040500717",109,{"$f":"VLOOKUP(A196,[1]工作表1!$D:$K,8,0)","v":"外国语实验小学-02小学语文教师"}]
["24040500718",122.5,{"$f":"VLOOKUP(A197,[1]工作表1!$D:$K,8,0)","v":"观山湖区华润小学-小学语文教师"}]
["24040500719",105.5,{"$f":"VLOOKUP(A198,[1]工作表1!$D:$K,8,0)","v":"观山湖区逸都国际学校-初中体育教师"}]
["24040500720",106.5,{"$f":"VLOOKUP(A199,[1]工作表1!$D:$K,8,0)","v":"观山湖区阅山湖小学-小学美术教师"}]
["24040500721",107,{"$f":"VLOOKUP(A200,[1]工作表1!$D:$K,8,0)","v":"贵阳市第一实验小学-小学体育教师"}]
["24040500722",114,{"$f":"VLOOKUP(A201,[1]工作表1!$D:$K,8,0)","v":"华东师范大学附属贵阳学校-小学体育教师"}]
["24040500723",132.5,{"$f":"VLOOKUP(A202,[1]工作表1!$D:$K,8,0)","v":"贵阳市师范学校附属实验小学-小学数学教师"}]
["24040500724",99,{"$f":"VLOOKUP(A203,[1]工作表1!$D:$K,8,0)","v":"外国语实验小学-小学体育教师"}]
["24040500725",103.5,{"$f":"VLOOKUP(A204,[1]工作表1!$D:$K,8,0)","v":"华东师范大学附属贵阳学校-小学音乐教师"}]
["24040500726",97.5,{"$f":"VLOOKUP(A205,[1]工作表1!$D:$K,8,0)","v":"贵阳市师范学校附属实验小学-小学数学教师"}]
["24040500727",120,{"$f":"VLOOKUP(A206,[1]工作表1!$D:$K,8,0)","v":"外国语实验小学-小学体育教师"}]
["24040500728",113.5,{"$f":"VLOOKUP(A207,[1]工作表1!$D:$K,8,0)","v":"华东师范大学附属贵阳学校-小学数学教师"}]
["24040500729",122.5,{"$f":"VLOOKUP(A208,[1]工作表1!$D:$K,8,0)","v":"外国语实验小学-01小学语文教师"}]
["24040500730",114.5,{"$f":"VLOOKUP(A209,[1]工作表1!$D:$K,8,0)","v":"观山湖区世纪城小学-小学科学教师"}]
["24040500801",112.5,{"$f":"VLOOKUP(A210,[1]工作表1!$D:$K,8,0)","v":"华东师范大学附属贵阳学校-小学数学教师"}]
["24040500802",104,{"$f":"VLOOKUP(A211,[1]工作表1!$D:$K,8,0)","v":"外国语实验小学-02小学语文教师"}]
["24040500803",113.5,{"$f":"VLOOKUP(A212,[1]工作表1!$D:$K,8,0)","v":"观山湖区华润中学-初中数学教师"}]
["24040500804",112,{"$f":"VLOOKUP(A213,[1]工作表1!$D:$K,8,0)","v":"外国语实验小学-小学体育教师"}]
["24040500805",100,{"$f":"VLOOKUP(A214,[1]工作表1!$D:$K,8,0)","v":"贵阳市第一实验小学-小学体育教师"}]
["24040500806",94.5,{"$f":"VLOOKUP(A215,[1]工作表1!$D:$K,8,0)","v":"华东师范大学附属贵阳学校-小学体育教师"}]
["24040500807",125.5,{"$f":"VLOOKUP(A216,[1]工作表1!$D:$K,8,0)","v":"外国语实验小学-01小学语文教师"}]
["24040500808",103.5,{"$f":"VLOOKUP(A217,[1]工作表1!$D:$K,8,0)","v":"华东师范大学附属贵阳学校-小学数学教师"}]
["24040500809",122,{"$f":"VLOOKUP(A218,[1]工作表1!$D:$K,8,0)","v":"外国语实验中学-小学语文教师"}]
["24040500810",108,{"$f":"VLOOKUP(A219,[1]工作表1!$D:$K,8,0)","v":"观山湖区逸都国际学校-初中体育教师"}]
["24040500811",122,{"$f":"VLOOKUP(A220,[1]工作表1!$D:$K,8,0)","v":"外国语实验小学-01小学语文教师"}]
["24040500812",106.5,{"$f":"VLOOKUP(A221,[1]工作表1!$D:$K,8,0)","v":"华东师范大学附属贵阳学校-小学体育教师"}]
["24040500813",93,{"$f":"VLOOKUP(A222,[1]工作表1!$D:$K,8,0)","v":"华东师范大学附属贵阳学校-小学数学教师"}]
["24040500814",108,{"$f":"VLOOKUP(A223,[1]工作表1!$D:$K,8,0)","v":"外国语实验中学-小学语文教师"}]
["24040500815",0,{"$f":"VLOOKUP(A224,[1]工作表1!$D:$K,8,0)","v":"北京市西城区黄城根小学贵阳分校-小学美术教师"}]
["24040500816",102,{"$f":"VLOOKUP(A225,[1]工作表1!$D:$K,8,0)","v":"观山湖区华润中学-初中数学教师"}]
["24040500817",110.5,{"$f":"VLOOKUP(A226,[1]工作表1!$D:$K,8,0)","v":"华东师范大学附属贵阳学校-初中英语教师"}]
["24040500818",114,{"$f":"VLOOKUP(A227,[1]工作表1!$D:$K,8,0)","v":"外国语实验小学-小学英语教师"}]
["24040500819",117.5,{"$f":"VLOOKUP(A228,[1]工作表1!$D:$K,8,0)","v":"外国语实验小学-01小学语文教师"}]
["24040500820",115.5,{"$f":"VLOOKUP(A229,[1]工作表1!$D:$K,8,0)","v":"华东师范大学附属贵阳学校-小学体育教师"}]
["24040500821",127.5,{"$f":"VLOOKUP(A230,[1]工作表1!$D:$K,8,0)","v":"华东师范大学附属贵阳学校-01小学语文教师"}]
["24040500822",121,{"$f":"VLOOKUP(A231,[1]工作表1!$D:$K,8,0)","v":"观山湖区世纪城小学-小学科学教师"}]
["24040500823",128,{"$f":"VLOOKUP(A232,[1]工作表1!$D:$K,8,0)","v":"华东师范大学附属贵阳学校-02小学语文教师"}]
["24040500824",117,{"$f":"VLOOKUP(A233,[1]工作表1!$D:$K,8,0)","v":"外国语实验小学-02小学语文教师"}]
["24040500825",126,{"$f":"VLOOKUP(A234,[1]工作表1!$D:$K,8,0)","v":"外国语实验小学-02小学语文教师"}]
["24040500826",107,{"$f":"VLOOKUP(A235,[1]工作表1!$D:$K,8,0)","v":"外国语实验小学-01小学语文教师"}]
["24040500827",111.5,{"$f":"VLOOKUP(A236,[1]工作表1!$D:$K,8,0)","v":"贵阳市师范学校附属实验小学-小学数学教师"}]
["24040500828",108,{"$f":"VLOOKUP(A237,[1]工作表1!$D:$K,8,0)","v":"外国语实验中学-小学语文教师"}]
["24040500829",113,{"$f":"VLOOKUP(A238,[1]工作表1!$D:$K,8,0)","v":"华东师范大学附属贵阳学校-小学音乐教师"}]
["24040500830",108,{"$f":"VLOOKUP(A239,[1]工作表1!$D:$K,8,0)","v":"贵阳市第三中学-初中音乐教师"}]
["24040500901",101.5,{"$f":"VLOOKUP(A240,[1]工作表1!$D:$K,8,0)","v":"贵阳市师范学校附属实验小学-小学数学教师"}]
["24040500902",91,{"$f":"VLOOKUP(A241,[1]工作表1!$D:$K,8,0)","v":"外国语实验中学-初中语文教师"}]
["24040500903",119.5,{"$f":"VLOOKUP(A242,[1]工作表1!$D:$K,8,0)","v":"观山湖区第十中学-初中数学教师"}]
["24040500904",124,{"$f":"VLOOKUP(A243,[1]工作表1!$D:$K,8,0)","v":"观山湖区第十中学-初中信息科技教师"}]
["24040500905",108.5,{"$f":"VLOOKUP(A244,[1]工作表1!$D:$K,8,0)","v":"外国语实验小学-02小学语文教师"}]
["24040500906",112,{"$f":"VLOOKUP(A245,[1]工作表1!$D:$K,8,0)","v":"外国语实验中学-初中语文教师"}]
["24040500907",101,{"$f":"VLOOKUP(A246,[1]工作表1!$D:$K,8,0)","v":"外国语实验中学-小学语文教师"}]
["24040500908",106,{"$f":"VLOOKUP(A247,[1]工作表1!$D:$K,8,0)","v":"贵阳市第三中学-初中语文教师"}]
["24040500909",116,{"$f":"VLOOKUP(A248,[1]工作表1!$D:$K,8,0)","v":"华东师范大学附属贵阳学校-小学音乐教师"}]
["24040500910",124,{"$f":"VLOOKUP(A249,[1]工作表1!$D:$K,8,0)","v":"观山湖区第十二小学-小学科学教师"}]
["24040500911",90,{"$f":"VLOOKUP(A250,[1]工作表1!$D:$K,8,0)","v":"贵阳市师范学校附属实验小学-小学数学教师"}]
["24040500912",101,{"$f":"VLOOKUP(A251,[1]工作表1!$D:$K,8,0)","v":"华东师范大学附属贵阳学校-01小学语文教师"}]
["24040500913",119,{"$f":"VLOOKUP(A252,[1]工作表1!$D:$K,8,0)","v":"观山湖区世纪城小学-小学科学教师"}]
["24040500914",119,{"$f":"VLOOKUP(A253,[1]工作表1!$D:$K,8,0)","v":"外国语实验中学-小学语文教师"}]
["24040500915",118.5,{"$f":"VLOOKUP(A254,[1]工作表1!$D:$K,8,0)","v":"华东师范大学附属贵阳学校-01小学语文教师"}]
["24040500916",106.5,{"$f":"VLOOKUP(A255,[1]工作表1!$D:$K,8,0)","v":"贵阳市第三中学-初中语文教师"}]
["24040500917",124.5,{"$f":"VLOOKUP(A256,[1]工作表1!$D:$K,8,0)","v":"观山湖区第十中学-初中数学教师"}]
["24040500918",116,{"$f":"VLOOKUP(A257,[1]工作表1!$D:$K,8,0)","v":"观山湖区第七中学-初中英语教师"}]
["24040500919",117.5,{"$f":"VLOOKUP(A258,[1]工作表1!$D:$K,8,0)","v":"贵阳市第三中学-初中语文教师"}]
["24040500920",107.5,{"$f":"VLOOKUP(A259,[1]工作表1!$D:$K,8,0)","v":"观山湖区第十中学-初中语文教师"}]
["24040500921",122,{"$f":"VLOOKUP(A260,[1]工作表1!$D:$K,8,0)","v":"外国语实验小学-小学数学教师"}]
["24040500922",120.5,{"$f":"VLOOKUP(A261,[1]工作表1!$D:$K,8,0)","v":"华东师范大学附属贵阳学校-初中英语教师"}]
["24040500924",110,{"$f":"VLOOKUP(A262,[1]工作表1!$D:$K,8,0)","v":"华东师范大学附属贵阳学校-小学英语教师"}]
["24040500925",0,{"$f":"VLOOKUP(A263,[1]工作表1!$D:$K,8,0)","v":"贵阳市师范学校附属实验小学-小学数学教师"}]
["24040500926",116,{"$f":"VLOOKUP(A264,[1]工作表1!$D:$K,8,0)","v":"观山湖区世纪城小学-小学科学教师"}]
["24040500927",93.5,{"$f":"VLOOKUP(A265,[1]工作表1!$D:$K,8,0)","v":"贵阳市师范学校附属实验小学-小学数学教师"}]
["24040500928",112,{"$f":"VLOOKUP(A266,[1]工作表1!$D:$K,8,0)","v":"贵阳市第三中学-初中音乐教师"}]
["24040500929",114.5,{"$f":"VLOOKUP(A267,[1]工作表1!$D:$K,8,0)","v":"观山湖区第十中学-初中信息科技教师"}]
["24040500930",102.5,{"$f":"VLOOKUP(A268,[1]工作表1!$D:$K,8,0)","v":"华东师范大学附属贵阳学校-小学英语教师"}]
["24040501001",109,{"$f":"VLOOKUP(A269,[1]工作表1!$D:$K,8,0)","v":"观山湖区阅山湖小学-小学美术教师"}]
["24040501002",115,{"$f":"VLOOKUP(A270,[1]工作表1!$D:$K,8,0)","v":"华东师范大学附属贵阳学校-小学音乐教师"}]
["24040501003",131.5,{"$f":"VLOOKUP(A271,[1]工作表1!$D:$K,8,0)","v":"华东师范大学附属贵阳学校-02小学语文教师"}]
["24040501004",125,{"$f":"VLOOKUP(A272,[1]工作表1!$D:$K,8,0)","v":"华东师范大学附属贵阳学校-02小学语文教师"}]
["24040501005",119,{"$f":"VLOOKUP(A273,[1]工作表1!$D:$K,8,0)","v":"华东师范大学附属贵阳学校-02小学语文教师"}]
["24040501006",117.5,{"$f":"VLOOKUP(A274,[1]工作表1!$D:$K,8,0)","v":"贵阳市第一实验中学-初中历史教师"}]
["24040501007",110.5,{"$f":"VLOOKUP(A275,[1]工作表1!$D:$K,8,0)","v":"北京市西城区黄城根小学贵阳分校-小学美术教师"}]
["24040501008",84.5,{"$f":"VLOOKUP(A276,[1]工作表1!$D:$K,8,0)","v":"华东师范大学附属贵阳学校-小学数学教师"}]
["24040501009",114.5,{"$f":"VLOOKUP(A277,[1]工作表1!$D:$K,8,0)","v":"华东师范大学附属贵阳学校-01小学语文教师"}]
["24040501010",117.5,{"$f":"VLOOKUP(A278,[1]工作表1!$D:$K,8,0)","v":"观山湖区第十中学-初中信息科技教师"}]
["24040501011",116,{"$f":"VLOOKUP(A279,[1]工作表1!$D:$K,8,0)","v":"观山湖区第十中学-初中语文教师"}]
["24040501012",114.5,{"$f":"VLOOKUP(A280,[1]工作表1!$D:$K,8,0)","v":"观山湖区第十中学-初中语文教师"}]
["24040501013",102,{"$f":"VLOOKUP(A281,[1]工作表1!$D:$K,8,0)","v":"华东师范大学附属贵阳学校-小学数学教师"}]
["24040501014",129.5,{"$f":"VLOOKUP(A282,[1]工作表1!$D:$K,8,0)","v":"华东师范大学附属贵阳学校-02小学语文教师"}]
["24040501015",117.5,{"$f":"VLOOKUP(A283,[1]工作表1!$D:$K,8,0)","v":"观山湖区世纪城小学-小学科学教师"}]
["24040501016",114.5,{"$f":"VLOOKUP(A284,[1]工作表1!$D:$K,8,0)","v":"华东师范大学附属贵阳学校-小学数学教师"}]
["24040501017",100.5,{"$f":"VLOOKUP(A285,[1]工作表1!$D:$K,8,0)","v":"外国语实验中学-小学语文教师"}]
["24040501018",111.5,{"$f":"VLOOKUP(A286,[1]工作表1!$D:$K,8,0)","v":"观山湖区第十中学-初中信息科技教师"}]
["24040501019",121,{"$f":"VLOOKUP(A287,[1]工作表1!$D:$K,8,0)","v":"华东师范大学附属贵阳学校-01小学语文教师"}]
["24040501020",96,{"$f":"VLOOKUP(A288,[1]工作表1!$D:$K,8,0)","v":"观山湖区逸都国际学校-初中体育教师"}]
["24040501021",105.5,{"$f":"VLOOKUP(A289,[1]工作表1!$D:$K,8,0)","v":"外国语实验小学-02小学语文教师"}]
["24040501022",106,{"$f":"VLOOKUP(A290,[1]工作表1!$D:$K,8,0)","v":"外国语实验中学-初中语文教师"}]
["24040501023",108,{"$f":"VLOOKUP(A291,[1]工作表1!$D:$K,8,0)","v":"外国语实验中学-小学语文教师"}]
["24040501024",106.5,{"$f":"VLOOKUP(A292,[1]工作表1!$D:$K,8,0)","v":"观山湖区第十二小学-小学科学教师"}]
["24040501025",110,{"$f":"VLOOKUP(A293,[1]工作表1!$D:$K,8,0)","v":"观山湖区第十二小学-小学科学教师"}]
["24040501026",120.5,{"$f":"VLOOKUP(A294,[1]工作表1!$D:$K,8,0)","v":"外国语实验中学-小学语文教师"}]
["24040501027",0,{"$f":"VLOOKUP(A295,[1]工作表1!$D:$K,8,0)","v":"华东师范大学附属贵阳学校-小学数学教师"}]
["24040501028",120,{"$f":"VLOOKUP(A296,[1]工作表1!$D:$K,8,0)","v":"观山湖区第十中学-初中信息科技教师"}]
["24040501029",111,{"$f":"VLOOKUP(A297,[1]工作表1!$D:$K,8,0)","v":"外国语实验小学-01小学语文教师"}]
["24040501030",113,{"$f":"VLOOKUP(A298,[1]工作表1!$D:$K,8,0)","v":"外国语实验小学-小学体育教师"}]
["24040501101",106,{"$f":"VLOOKUP(A299,[1]工作表1!$D:$K,8,0)","v":"华东师范大学附属贵阳学校-02小学语文教师"}]
["24040501103",103,{"$f":"VLOOKUP(A300,[1]工作表1!$D:$K,8,0)","v":"观山湖区逸都国际学校-初中体育教师"}]
["24040501104",116.5,{"$f":"VLOOKUP(A301,[1]工作表1!$D:$K,8,0)","v":"观山湖区华润中学-初中数学教师"}]
["24040501105",96.5,{"$f":"VLOOKUP(A302,[1]工作表1!$D:$K,8,0)","v":"华东师范大学附属贵阳学校-小学数学教师"}]
["24040501106",110,{"$f":"VLOOKUP(A303,[1]工作表1!$D:$K,8,0)","v":"外国语实验中学-小学语文教师"}]
["24040501107",104.5,{"$f":"VLOOKUP(A304,[1]工作表1!$D:$K,8,0)","v":"北京市西城区黄城根小学贵阳分校-小学美术教师"}]
["24040501108",112,{"$f":"VLOOKUP(A305,[1]工作表1!$D:$K,8,0)","v":"外国语实验小学-01小学语文教师"}]
["24040501109",105,{"$f":"VLOOKUP(A306,[1]工作表1!$D:$K,8,0)","v":"贵阳市第一实验小学-小学体育教师"}]
["24040501110",113.5,{"$f":"VLOOKUP(A307,[1]工作表1!$D:$K,8,0)","v":"华东师范大学附属贵阳学校-01小学语文教师"}]
["24040501111",117.5,{"$f":"VLOOKUP(A308,[1]工作表1!$D:$K,8,0)","v":"华东师范大学附属贵阳学校-01小学语文教师"}]
["24040501112",0,{"$f":"VLOOKUP(A309,[1]工作表1!$D:$K,8,0)","v":"外国语实验小学-小学英语教师"}]
["24040501114",117,{"$f":"VLOOKUP(A310,[1]工作表1!$D:$K,8,0)","v":"华东师范大学附属贵阳学校-初中英语教师"}]
["24040501115",111.5,{"$f":"VLOOKUP(A311,[1]工作表1!$D:$K,8,0)","v":"华东师范大学附属贵阳学校-小学音乐教师"}]
["24040501116",111.5,{"$f":"VLOOKUP(A312,[1]工作表1!$D:$K,8,0)","v":"华东师范大学附属贵阳学校-02小学语文教师"}]
["24040501117",127,{"$f":"VLOOKUP(A313,[1]工作表1!$D:$K,8,0)","v":"观山湖区华润中学-初中语文教师"}]
["24040501118",120,{"$f":"VLOOKUP(A314,[1]工作表1!$D:$K,8,0)","v":"观山湖区阅山湖小学-小学美术教师"}]
["24040501119",120.5,{"$f":"VLOOKUP(A315,[1]工作表1!$D:$K,8,0)","v":"华东师范大学附属贵阳学校-小学音乐教师"}]
["24040501120",115,{"$f":"VLOOKUP(A316,[1]工作表1!$D:$K,8,0)","v":"观山湖区第九中学-初中道德与法治教师"}]
["24040501121",102,{"$f":"VLOOKUP(A317,[1]工作表1!$D:$K,8,0)","v":"观山湖区华润小学-小学语文教师"}]
["24040501122",109,{"$f":"VLOOKUP(A318,[1]工作表1!$D:$K,8,0)","v":"华东师范大学附属贵阳学校-小学数学教师"}]
["24040501123",73.5,{"$f":"VLOOKUP(A319,[1]工作表1!$D:$K,8,0)","v":"观山湖区第十中学-初中信息科技教师"}]
["24040501124",105.5,{"$f":"VLOOKUP(A320,[1]工作表1!$D:$K,8,0)","v":"外国语实验小学-小学数学教师"}]
["24040501125",100.5,{"$f":"VLOOKUP(A321,[1]工作表1!$D:$K,8,0)","v":"华东师范大学附属贵阳学校-小学英语教师"}]
["24040501127",117,{"$f":"VLOOKUP(A322,[1]工作表1!$D:$K,8,0)","v":"观山湖区第十中学-初中数学教师"}]
["24040501128",109.5,{"$f":"VLOOKUP(A323,[1]工作表1!$D:$K,8,0)","v":"观山湖区华润中学-初中语文教师"}]
["24040501129",126,{"$f":"VLOOKUP(A324,[1]工作表1!$D:$K,8,0)","v":"观山湖区第九中学-初中道德与法治教师"}]
["24040501130",114,{"$f":"VLOOKUP(A325,[1]工作表1!$D:$K,8,0)","v":"观山湖区世纪城小学-小学科学教师"}]
["24040501201",119.5,{"$f":"VLOOKUP(A326,[1]工作表1!$D:$K,8,0)","v":"外国语实验中学-初中体育教师"}]
["24040501202",110.5,{"$f":"VLOOKUP(A327,[1]工作表1!$D:$K,8,0)","v":"外国语实验小学-小学体育教师"}]
["24040501203",103,{"$f":"VLOOKUP(A328,[1]工作表1!$D:$K,8,0)","v":"观山湖区华润中学-初中语文教师"}]
["24040501204",113,{"$f":"VLOOKUP(A329,[1]工作表1!$D:$K,8,0)","v":"华东师范大学附属贵阳学校-小学数学教师"}]
["24040501205",99.5,{"$f":"VLOOKUP(A330,[1]工作表1!$D:$K,8,0)","v":"华东师范大学附属贵阳学校-小学数学教师"}]
["24040501206",119,{"$f":"VLOOKUP(A331,[1]工作表1!$D:$K,8,0)","v":"观山湖区第十二小学-小学科学教师"}]
["24040501207",111,{"$f":"VLOOKUP(A332,[1]工作表1!$D:$K,8,0)","v":"华东师范大学附属贵阳学校-初中数学教师"}]
["24040501208",122,{"$f":"VLOOKUP(A333,[1]工作表1!$D:$K,8,0)","v":"贵阳市第一实验中学-初中历史教师"}]
["24040501209",109,{"$f":"VLOOKUP(A334,[1]工作表1!$D:$K,8,0)","v":"华东师范大学附属贵阳学校-02小学语文教师"}]
["24040501210",116,{"$f":"VLOOKUP(A335,[1]工作表1!$D:$K,8,0)","v":"观山湖区华润中学-初中语文教师"}]
["24040501211",117.5,{"$f":"VLOOKUP(A336,[1]工作表1!$D:$K,8,0)","v":"贵阳市第一实验小学-小学体育教师"}]
["24040501212",114,{"$f":"VLOOKUP(A337,[1]工作表1!$D:$K,8,0)","v":"观山湖区世纪城小学-小学科学教师"}]
["24040501213",104.5,{"$f":"VLOOKUP(A338,[1]工作表1!$D:$K,8,0)","v":"华东师范大学附属贵阳学校-02小学语文教师"}]
["24040501214",98.5,{"$f":"VLOOKUP(A339,[1]工作表1!$D:$K,8,0)","v":"观山湖区逸都国际学校-初中体育教师"}]
["24040501215",105,{"$f":"VLOOKUP(A340,[1]工作表1!$D:$K,8,0)","v":"外国语实验小学-小学体育教师"}]
["24040501216",116.5,{"$f":"VLOOKUP(A341,[1]工作表1!$D:$K,8,0)","v":"外国语实验中学-小学语文教师"}]
["24040501217",121.5,{"$f":"VLOOKUP(A342,[1]工作表1!$D:$K,8,0)","v":"华东师范大学附属贵阳学校-02小学语文教师"}]
["24040501218",99.5,{"$f":"VLOOKUP(A343,[1]工作表1!$D:$K,8,0)","v":"华东师范大学附属贵阳学校-小学体育教师"}]
["24040501219",129,{"$f":"VLOOKUP(A344,[1]工作表1!$D:$K,8,0)","v":"华东师范大学附属贵阳学校-初中英语教师"}]
["24040501220",105,{"$f":"VLOOKUP(A345,[1]工作表1!$D:$K,8,0)","v":"华东师范大学附属贵阳学校-初中数学教师"}]
["24040501221",102,{"$f":"VLOOKUP(A346,[1]工作表1!$D:$K,8,0)","v":"外国语实验小学-小学体育教师"}]
["24040501222",114,{"$f":"VLOOKUP(A347,[1]工作表1!$D:$K,8,0)","v":"华东师范大学附属贵阳学校-01小学语文教师"}]
["24040501223",121,{"$f":"VLOOKUP(A348,[1]工作表1!$D:$K,8,0)","v":"观山湖区第九中学-初中道德与法治教师"}]
["24040501224",118,{"$f":"VLOOKUP(A349,[1]工作表1!$D:$K,8,0)","v":"外国语实验小学-02小学语文教师"}]
["24040501225",100,{"$f":"VLOOKUP(A350,[1]工作表1!$D:$K,8,0)","v":"华东师范大学附属贵阳学校-小学音乐教师"}]
["24040501226",115.5,{"$f":"VLOOKUP(A351,[1]工作表1!$D:$K,8,0)","v":"观山湖区第九中学-初中道德与法治教师"}]
["24040501227",100,{"$f":"VLOOKUP(A352,[1]工作表1!$D:$K,8,0)","v":"华东师范大学附属贵阳学校-01小学语文教师"}]
["24040501228",96.5,{"$f":"VLOOKUP(A353,[1]工作表1!$D:$K,8,0)","v":"贵阳市第一实验中学-初中历史教师"}]
["24040501229",129.5,{"$f":"VLOOKUP(A354,[1]工作表1!$D:$K,8,0)","v":"华东师范大学附属贵阳学校-小学音乐教师"}]
["24040501230",113.5,{"$f":"VLOOKUP(A355,[1]工作表1!$D:$K,8,0)","v":"观山湖区第十中学-初中信息科技教师"}]
["24040501301",115.5,{"$f":"VLOOKUP(A356,[1]工作表1!$D:$K,8,0)","v":"外国语实验小学-01小学语文教师"}]
["24040501303",110,{"$f":"VLOOKUP(A357,[1]工作表1!$D:$K,8,0)","v":"外国语实验小学-小学体育教师"}]
["24040501304",115,{"$f":"VLOOKUP(A358,[1]工作表1!$D:$K,8,0)","v":"外国语实验中学-初中体育教师"}]
["24040501305",106,{"$f":"VLOOKUP(A359,[1]工作表1!$D:$K,8,0)","v":"外国语实验中学-初中体育教师"}]
["24040501306",119.5,{"$f":"VLOOKUP(A360,[1]工作表1!$D:$K,8,0)","v":"观山湖区第七中学-初中英语教师"}]
["24040501307",90.5,{"$f":"VLOOKUP(A361,[1]工作表1!$D:$K,8,0)","v":"外国语实验小学-小学体育教师"}]
["24040501308",121,{"$f":"VLOOKUP(A362,[1]工作表1!$D:$K,8,0)","v":"观山湖区第九中学-初中道德与法治教师"}]
["24040501309",96,{"$f":"VLOOKUP(A363,[1]工作表1!$D:$K,8,0)","v":"贵阳市第一实验小学-小学体育教师"}]
["24040501310",110.5,{"$f":"VLOOKUP(A364,[1]工作表1!$D:$K,8,0)","v":"贵阳市第一实验小学-小学体育教师"}]
["24040501311",119,{"$f":"VLOOKUP(A365,[1]工作表1!$D:$K,8,0)","v":"观山湖区世纪城小学-小学科学教师"}]
["24040501312",110,{"$f":"VLOOKUP(A366,[1]工作表1!$D:$K,8,0)","v":"观山湖区逸都国际学校-初中体育教师"}]
["24040501313",105,{"$f":"VLOOKUP(A367,[1]工作表1!$D:$K,8,0)","v":"华东师范大学附属贵阳学校-小学体育教师"}]
["24040501314",109.5,{"$f":"VLOOKUP(A368,[1]工作表1!$D:$K,8,0)","v":"外国语实验中学-小学语文教师"}]
["24040501316",118,{"$f":"VLOOKUP(A369,[1]工作表1!$D:$K,8,0)","v":"华东师范大学附属贵阳学校-小学数学教师"}]