{"text_format":"3","workbook":"xlsx","n_sheets":1,"sheets":["拟聘人员名单"],"not_rendered":{"external_links":1,"defined_names":2},"read":"whole","date_system":"1900"}

{"sheet":"拟聘人员名单","index":0,"n_rows":61,"n_cols":7,"rows_kept":61,"merged":[[0,0,0,6],[1,0,1,6]]}
["附件"]
["观山湖区2023年面向社会招聘中小学、幼儿园“双轨制”教师和财务人员\n拟聘人员名单（第二批）"]
["序号","姓名","身份证号码","准考证号","报考单位\n及代码","报考岗位\n及代码","备注"]
[1,"胡洪霞","5202**********582X","9880100100614","202301观山湖区第二幼儿园",{"$f":"VLOOKUP(D4,[1]递补用!$A:$C,3,0)","v":"01幼儿园教师"}]
[2,"汪芝菊","5223**********122X","9880100406505","202302观山湖区第三幼儿园",{"$f":"VLOOKUP(D5,[1]递补用!$A:$C,3,0)","v":"01幼儿园教师"}]
[3,"金昌玲","5222**********0842","9880100104015","202304观山湖区第五幼儿园",{"$f":"VLOOKUP(D6,[1]递补用!$A:$C,3,0)","v":"01幼儿园教师"}]
[4,"曾燕","5222**********326X","9880100403014","202304观山湖区第五幼儿园",{"$f":"VLOOKUP(D7,[1]递补用!$A:$C,3,0)","v":"02幼儿园教师"}]
[5,"杨红燕","5221**********1522","9880100604111","202304观山湖区第五幼儿园",{"$f":"VLOOKUP(D8,[1]递补用!$A:$C,3,0)","v":"02幼儿园教师"}]
[6,"石玉","5224**********1029","9880100500221","202305观山湖区第六幼儿园",{"$f":"VLOOKUP(D9,[1]递补用!$A:$C,3,0)","v":"01幼儿园教师"}]
[7,"韦薇","5221**********782X","9880100604125","202305观山湖区第六幼儿园",{"$f":"VLOOKUP(D10,[1]递补用!$A:$C,3,0)","v":"01幼儿园教师"}]
[8,"王流婷","5201**********1028","9880100406812","202306观山湖区第九幼儿园",{"$f":"VLOOKUP(D11,[1]递补用!$A:$C,3,0)","v":"01幼儿园教师"}]
[9,"刘欢","5221**********0925","9880100404425","202306观山湖区第九幼儿园",{"$f":"VLOOKUP(D12,[1]递补用!$A:$C,3,0)","v":"02幼儿园教师"}]
[10,"周维","5224**********3223","9880100605213","202306观山湖区第九幼儿园",{"$f":"VLOOKUP(D13,[1]递补用!$A:$C,3,0)","v":"02幼儿园教师"}]
[11,"张晓莹萌","5201**********3221","9880100203002","202306观山湖区第九幼儿园",{"$f":"VLOOKUP(D14,[1]递补用!$A:$C,3,0)","v":"03幼儿园教师"}]
[12,"侯燕","5224**********0445","9880100101028","202307观山湖区第十七幼儿园",{"$f":"VLOOKUP(D15,[1]递补用!$A:$C,3,0)","v":"01幼儿园教师"}]
[13,"覃宁伞","5227**********0423","9880100402227","202307观山湖区第十七幼儿园",{"$f":"VLOOKUP(D16,[1]递补用!$A:$C,3,0)","v":"02幼儿园教师"}]
[14,"王欣钰","5201**********4442","9880100202420","202311观山湖区第三十九幼儿园",{"$f":"VLOOKUP(D17,[1]递补用!$A:$C,3,0)","v":"01幼儿园教师"}]
[15,"冉娇娇","5222**********0847","9880100401830","202312观山湖区第四十三幼儿园",{"$f":"VLOOKUP(D18,[1]递补用!$A:$C,3,0)","v":"01幼儿园教师"}]
[16,"李玉婷","5201**********3227","9880100606022","202313观山湖区第四十四幼儿园",{"$f":"VLOOKUP(D19,[1]递补用!$A:$C,3,0)","v":"01幼儿园教师"}]
[17,"龙盛华","5226**********5622","9880100102617","202315观山湖区第一小学",{"$f":"VLOOKUP(D20,[1]递补用!$A:$C,3,0)","v":"01小学道德与法治教师"}]
[18,"张琴","5221**********3664","9880100407730","202315观山湖区第一小学",{"$f":"VLOOKUP(D21,[1]递补用!$A:$C,3,0)","v":"02小学科学教师"}]
[19,"杨欢","5224**********1524","9880100407325","202316贵阳市第一实验小学",{"$f":"VLOOKUP(D22,[1]递补用!$A:$C,3,0)","v":"02小学数学教师"}]
[20,"肖淋丹","5224**********0845","9880100601717","202316贵阳市第一实验小学",{"$f":"VLOOKUP(D23,[1]递补用!$A:$C,3,0)","v":"04小学科学教师"}]
[21,"陈洁","5225**********0826","9880100702424","202321贵阳市师范学校附属实验小学",{"$f":"VLOOKUP(D24,[1]递补用!$A:$C,3,0)","v":"01小学语文教师"}]
[22,"蒋安瑶","5224**********2240","9880100606709","202322观山湖区世纪城小学（理想城分校）",{"$f":"VLOOKUP(D25,[1]递补用!$A:$C,3,0)","v":"04小学信息技术教师"}]
[23,"王宗敏","5221**********2543","9880100201816","202323观山湖区外国语实验小学",{"$f":"VLOOKUP(D26,[1]递补用!$A:$C,3,0)","v":"01小学语文教师"}]
[24,"唐智丽","5201**********0321","9880100601605","202323观山湖区外国语实验小学",{"$f":"VLOOKUP(D27,[1]递补用!$A:$C,3,0)","v":"01小学语文教师"}]
[25,"江娜","5221**********2820","9880100101809","202323观山湖区外国语实验小学",{"$f":"VLOOKUP(D28,[1]递补用!$A:$C,3,0)","v":"02小学数学教师"}]
[26,"吴婧文","4312**********1085","9880100607111","202325观山湖区华润小学",{"$f":"VLOOKUP(D29,[1]递补用!$A:$C,3,0)","v":"01小学语文教师"}]
[27,"梅颖","5222**********2426","9880100501215","202327贵阳市第三中学",{"$f":"VLOOKUP(D30,[1]递补用!$A:$C,3,0)","v":"01初中语文教师"}]
[28,"毛希豪","5202**********0035","9880100402916","202327贵阳市第三中学",{"$f":"VLOOKUP(D31,[1]递补用!$A:$C,3,0)","v":"01初中语文教师"}]
[29,"刘天保","5226**********1613","9880100502502","202327贵阳市第三中学",{"$f":"VLOOKUP(D32,[1]递补用!$A:$C,3,0)","v":"02初中数学教师"}]
[30,"唐令余","5224**********1722","9880100701701","202329观山湖区美的中学",{"$f":"VLOOKUP(D33,[1]递补用!$A:$C,3,0)","v":"02初中语文教师"}]
[31,"吴俊洋","5221**********7222","9880100701910","202329观山湖区美的中学",{"$f":"VLOOKUP(D34,[1]递补用!$A:$C,3,0)","v":"03初中英语教师"}]
[32,"肖建兰","5221**********6542","9880100300312","202330观山湖区华润中学",{"$f":"VLOOKUP(D35,[1]递补用!$A:$C,3,0)","v":"01初中物理教师"}]
[33,"罗光凯","5227**********1538","9880100302412","202331观山湖中学",{"$f":"VLOOKUP(D36,[1]递补用!$A:$C,3,0)","v":"03初中体育教师"}]
[34,"张建兰","5221**********7527","9880100402030","202332华东师范大学附属贵阳学校",{"$f":"VLOOKUP(D37,[1]递补用!$A:$C,3,0)","v":"01小学语文教师"}]
[35,"罗芳","5201**********178X","9880100402407","202332华东师范大学附属贵阳学校",{"$f":"VLOOKUP(D38,[1]递补用!$A:$C,3,0)","v":"01小学语文教师"}]
[36,"胡冰雪","5221**********1661","9880100200319","202332华东师范大学附属贵阳学校",{"$f":"VLOOKUP(D39,[1]递补用!$A:$C,3,0)","v":"03小学英语教师"}]
[37,"张蓉蓉","5222**********2022","9880100202305","202332华东师范大学附属贵阳学校",{"$f":"VLOOKUP(D40,[1]递补用!$A:$C,3,0)","v":"06小学美术教师"}]
[38,"王超","1310**********2413","9880100603608","202332华东师范大学附属贵阳学校",{"$f":"VLOOKUP(D41,[1]递补用!$A:$C,3,0)","v":"08初中语文教师"}]
[39,"秦兰","5201**********2825","9880100201312","202333观山湖区外国语实验中学",{"$f":"VLOOKUP(D42,[1]递补用!$A:$C,3,0)","v":"01小学语文教师"}]
[40,"邹敏","5221**********1040","9880100603509","202333观山湖区外国语实验中学",{"$f":"VLOOKUP(D43,[1]递补用!$A:$C,3,0)","v":"02小学数学教师"}]
[41,"徐家艺","5221**********1026","9880100607514","202333观山湖区外国语实验中学",{"$f":"VLOOKUP(D44,[1]递补用!$A:$C,3,0)","v":"03小学科学教师"}]
[42,"安兰","5221**********658X","9880100101325","202333观山湖区外国语实验中学",{"$f":"VLOOKUP(D45,[1]递补用!$A:$C,3,0)","v":"04小学音乐教师"}]
[43,"覃诗倩","5227**********0042","9880100502318","202333观山湖区外国语实验中学",{"$f":"VLOOKUP(D46,[1]递补用!$A:$C,3,0)","v":"05小学体育教师"}]
[44,"王正遇","5224**********9829","9880100406605","202334观山湖区第七中学",{"$f":"VLOOKUP(D47,[1]递补用!$A:$C,3,0)","v":"02初中数学教师"}]
[45,"吴润宁","5202**********4022","9880100408415","202334观山湖区第七中学",{"$f":"VLOOKUP(D48,[1]递补用!$A:$C,3,0)","v":"07初中历史教师"}]
[46,"罗米","5223**********0045","9880100104625","202334观山湖区第七中学",{"$f":"VLOOKUP(D49,[1]递补用!$A:$C,3,0)","v":"10初中物理教师"}]
[47,"方启利","5221**********0922","9880100406003","202335观山湖区第八中学",{"$f":"VLOOKUP(D50,[1]递补用!$A:$C,3,0)","v":"01初中数学教师"}]
[48,"田池","5222**********1650","9880100407928","202336观山湖区第九中学",{"$f":"VLOOKUP(D51,[1]递补用!$A:$C,3,0)","v":"02小学数学教师"}]
[49,"龙美伶","5201**********0860","9880100406022","202336观山湖区第九中学",{"$f":"VLOOKUP(D52,[1]递补用!$A:$C,3,0)","v":"04初中数学教师"}]
[50,"江杉","5224**********0043","9880100100225","202336观山湖区第九中学",{"$f":"VLOOKUP(D53,[1]递补用!$A:$C,3,0)","v":"07初中历史教师"}]
[51,"王欣怡","5225**********0489","9880100401906","202337观山湖区第十中学",{"$f":"VLOOKUP(D54,[1]递补用!$A:$C,3,0)","v":"01小学语文教师"}]
[52,"张琦","5202**********0022","9880100407724","202337观山湖区第十中学",{"$f":"VLOOKUP(D55,[1]递补用!$A:$C,3,0)","v":"02小学数学教师"}]
[53,"唐敏","5227**********7129","9880100201717","202337观山湖区第十中学",{"$f":"VLOOKUP(D56,[1]递补用!$A:$C,3,0)","v":"03初中数学教师"}]
[54,"黄丽","5221**********3749","9880100101420","202337观山湖区第十中学",{"$f":"VLOOKUP(D57,[1]递补用!$A:$C,3,0)","v":"03初中数学教师"}]
[55,"叶青","5224**********8321","9880100302210","202338贵阳市第一实验中学",{"$f":"VLOOKUP(D58,[1]递补用!$A:$C,3,0)","v":"03初中语文教师"}]
[56,"陈莉","5222**********2041","9880100404216","202338贵阳市第一实验中学",{"$f":"VLOOKUP(D59,[1]递补用!$A:$C,3,0)","v":"04初中数学教师"}]
[57,"吴艳梅","5130**********4604","9880100602614","202338贵阳市第一实验中学",{"$f":"VLOOKUP(D60,[1]递补用!$A:$C,3,0)","v":"05初中英语教师"}]
[58,"杨长辽","5226**********2626","9880100703209","202341教育系统财务人员",{"$f":"VLOOKUP(D61,[1]递补用!$A:$C,3,0)","v":"01财务人员"}]