{"text_format":"3","workbook":"xlsx","n_sheets":3,"sheets":["总成绩排名及拟进入体检人员名单","Sheet2","Sheet3"],"not_rendered":{"external_links":1,"defined_names":2},"read":"whole","date_system":"1900"}

{"sheet":"总成绩排名及拟进入体检人员名单","index":0,"n_rows":38,"n_cols":15,"rows_kept":38,"merged":[[0,0,0,14]]}
["黔南州2024年面向社会公开招聘国有企业工作人员总成绩排名及拟进入体检人员名单"]
["序号","地区","面试准考证号","姓名","招聘单位名称","单位代码","招聘岗位名称","岗位代码","笔试成绩","面试成绩","总成绩（按百分制折算后）","排名","岗位实际招聘人数","是否拟进入体检环节","备注"]
[1,{"$f":"INDEX([1]基础!$B:$B,MATCH($H3,[1]基础!$G:$G,0))","v":"州直"},"273301","毛南","贵州好花红国有资本运营有限公司",{"$f":"INDEX([1]基础!$E:$E,MATCH($H3,[1]基础!$G:$G,0))","v":1001},"法务人员",27301100101,120.88,{"v":79.6,"d":"79.60"},80.09,1,1,"是"]
[2,{"$f":"INDEX([1]基础!$B:$B,MATCH($H4,[1]基础!$G:$G,0))","v":"州直"},"273302","岑小美","贵州好花红国有资本运营有限公司",{"$f":"INDEX([1]基础!$E:$E,MATCH($H4,[1]基础!$G:$G,0))","v":1001},"法务人员",27301100101,116.35,{"v":76.6,"d":"76.60"},77.08,2,1,""]
[3,{"$f":"INDEX([1]基础!$B:$B,MATCH($H5,[1]基础!$G:$G,0))","v":"州直"},"273303","秦蕾","贵州好花红国有资本运营有限公司",{"$f":"INDEX([1]基础!$E:$E,MATCH($H5,[1]基础!$G:$G,0))","v":1001},"法务人员",27301100101,113.47,{"v":78.2,"d":"78.20"},76.92,3,1,""]
[4,{"$f":"INDEX([1]基础!$B:$B,MATCH($H6,[1]基础!$G:$G,0))","v":"州直"},"273304","蒋宏兴","黔南水利水电勘测设计研究院有限公司",{"$f":"INDEX([1]基础!$E:$E,MATCH($H6,[1]基础!$G:$G,0))","v":1004},"工程设计",27301100401,119.45,{"v":77.4,"d":"77.40"},78.52,1,1,"是"]
[5,{"$f":"INDEX([1]基础!$B:$B,MATCH($H7,[1]基础!$G:$G,0))","v":"州直"},"273305","刘举","黔南水利水电勘测设计研究院有限公司",{"$f":"INDEX([1]基础!$E:$E,MATCH($H7,[1]基础!$G:$G,0))","v":1004},"工程设计",27301100401,110.48,{"v":77.6,"d":"77.60"},75.63,2,1,""]
[6,{"$f":"INDEX([1]基础!$B:$B,MATCH($H8,[1]基础!$G:$G,0))","v":"都匀市"},"273306","韦启龙","贵州弘能科建建设有限公司",{"$f":"INDEX([1]基础!$E:$E,MATCH($H8,[1]基础!$G:$G,0))","v":1005},"施工员",27302100501,{"v":105.2,"d":"105.20"},{"v":75.2,"d":"75.20"},72.67,1,1,"是"]
[7,{"$f":"INDEX([1]基础!$B:$B,MATCH($H9,[1]基础!$G:$G,0))","v":"都匀市"},"273307","王攀锋","贵州弘能科建建设有限公司",{"$f":"INDEX([1]基础!$E:$E,MATCH($H9,[1]基础!$G:$G,0))","v":1005},"施工员",27302100501,{"v":102.4,"d":"102.40"},{"v":74,"d":"74.00"},71.13,2,1,""]
[8,{"$f":"INDEX([1]基础!$B:$B,MATCH($H10,[1]基础!$G:$G,0))","v":"都匀市"},"273308","杨光强","贵州弘能科建建设有限公司",{"$f":"INDEX([1]基础!$E:$E,MATCH($H10,[1]基础!$G:$G,0))","v":1005},"施工员",27302100501,102.09,{"v":71.8,"d":"71.80"},69.93,3,1,""]
[9,{"$f":"INDEX([1]基础!$B:$B,MATCH($H11,[1]基础!$G:$G,0))","v":"都匀市"},"273311","安晓丽","贵州弘能科建建设有限公司",{"$f":"INDEX([1]基础!$E:$E,MATCH($H11,[1]基础!$G:$G,0))","v":1005},"预算员",27302100502,106.09,{"v":78.6,"d":"78.60"},74.66,1,1,"是"]
[10,{"$f":"INDEX([1]基础!$B:$B,MATCH($H12,[1]基础!$G:$G,0))","v":"都匀市"},"273309","陈安民","贵州弘能科建建设有限公司",{"$f":"INDEX([1]基础!$E:$E,MATCH($H12,[1]基础!$G:$G,0))","v":1005},"预算员",27302100502,109.56,{"v":74.8,"d":"74.80"},73.92,2,1,""]
[11,{"$f":"INDEX([1]基础!$B:$B,MATCH($H13,[1]基础!$G:$G,0))","v":"都匀市"},"273310","郑行","贵州弘能科建建设有限公司",{"$f":"INDEX([1]基础!$E:$E,MATCH($H13,[1]基础!$G:$G,0))","v":1005},"预算员",27302100502,106.69,{"v":75,"d":"75.00"},73.06,3,1,""]
[12,{"$f":"INDEX([1]基础!$B:$B,MATCH($H14,[1]基础!$G:$G,0))","v":"都匀市"},"273312","陈国顺","贵州弘能科建建设有限公司",{"$f":"INDEX([1]基础!$E:$E,MATCH($H14,[1]基础!$G:$G,0))","v":1005},"材料员",27302100503,117.67,{"v":76.6,"d":"76.60"},77.52,1,1,"是"]
[13,{"$f":"INDEX([1]基础!$B:$B,MATCH($H15,[1]基础!$G:$G,0))","v":"都匀市"},"273314","张梅","贵州弘能科建建设有限公司",{"$f":"INDEX([1]基础!$E:$E,MATCH($H15,[1]基础!$G:$G,0))","v":1005},"材料员",27302100503,113.84,{"v":79,"d":"79.00"},77.45,2,1,""]
[14,{"$f":"INDEX([1]基础!$B:$B,MATCH($H16,[1]基础!$G:$G,0))","v":"都匀市"},"273313","王正卿","贵州弘能科建建设有限公司",{"$f":"INDEX([1]基础!$E:$E,MATCH($H16,[1]基础!$G:$G,0))","v":1005},"材料员",27302100503,115.43,{"v":73.4,"d":"73.40"},75.18,3,1,""]
[15,{"$f":"INDEX([1]基础!$B:$B,MATCH($H17,[1]基础!$G:$G,0))","v":"都匀市"},"273315","胡苇","都匀市匀创文化传媒有限公司",{"$f":"INDEX([1]基础!$E:$E,MATCH($H17,[1]基础!$G:$G,0))","v":1006},"市场销售",27302100601,111.74,{"v":73.6,"d":"73.60"},74.05,1,1,"是"]
[16,{"$f":"INDEX([1]基础!$B:$B,MATCH($H18,[1]基础!$G:$G,0))","v":"都匀市"},"273317","毛松","都匀市匀创文化传媒有限公司",{"$f":"INDEX([1]基础!$E:$E,MATCH($H18,[1]基础!$G:$G,0))","v":1006},"市场销售",27302100601,106.86,{"v":73.6,"d":"73.60"},72.42,2,1,""]
[17,{"$f":"INDEX([1]基础!$B:$B,MATCH($H19,[1]基础!$G:$G,0))","v":"都匀市"},"273316","吴盛世","都匀市匀创文化传媒有限公司",{"$f":"INDEX([1]基础!$E:$E,MATCH($H19,[1]基础!$G:$G,0))","v":1006},"市场销售",27302100601,108.56,"缺考","——","——",1,""]
[18,{"$f":"INDEX([1]基础!$B:$B,MATCH($H20,[1]基础!$G:$G,0))","v":"都匀市"},"273401","张瀚予","都匀市匀创文化传媒有限公司",{"$f":"INDEX([1]基础!$E:$E,MATCH($H20,[1]基础!$G:$G,0))","v":1006},"项目管理",27302100602,112.11,{"v":79.4,"d":"79.40"},77.07,1,1,"是"]
[19,{"$f":"INDEX([1]基础!$B:$B,MATCH($H21,[1]基础!$G:$G,0))","v":"都匀市"},"273403","杨健伟","都匀市匀创文化传媒有限公司",{"$f":"INDEX([1]基础!$E:$E,MATCH($H21,[1]基础!$G:$G,0))","v":1006},"项目管理",27302100602,105.61,{"v":82.6,"d":"82.60"},{"v":76.5,"d":"76.50"},2,1,""]
[20,{"$f":"INDEX([1]基础!$B:$B,MATCH($H22,[1]基础!$G:$G,0))","v":"都匀市"},"273402","卢毅","都匀市匀创文化传媒有限公司",{"$f":"INDEX([1]基础!$E:$E,MATCH($H22,[1]基础!$G:$G,0))","v":1006},"项目管理",27302100602,111.67,{"v":71.6,"d":"71.60"},73.02,3,1,""]
[21,{"$f":"INDEX([1]基础!$B:$B,MATCH($H23,[1]基础!$G:$G,0))","v":"龙里县"},"273318","刘涵","贵州兴园工业发展有限公司",{"$f":"INDEX([1]基础!$E:$E,MATCH($H23,[1]基础!$G:$G,0))","v":1007},"审计风控部审计管理岗工作员",27306100701,113.14,{"v":76.2,"d":"76.20"},75.81,1,1,"是"]
[22,{"$f":"INDEX([1]基础!$B:$B,MATCH($H24,[1]基础!$G:$G,0))","v":"三都县"},"273404","兰祥曦","贵州省珠江源实业集团有限责任公司",{"$f":"INDEX([1]基础!$E:$E,MATCH($H24,[1]基础!$G:$G,0))","v":1008},"风控法务部工作人员",27310100801,109.62,{"v":77.2,"d":"77.20"},75.14,1,1,"是"]
[23,{"$f":"INDEX([1]基础!$B:$B,MATCH($H25,[1]基础!$G:$G,0))","v":"三都县"},"273406","吴雪琪","贵州省珠江源实业集团有限责任公司",{"$f":"INDEX([1]基础!$E:$E,MATCH($H25,[1]基础!$G:$G,0))","v":1008},"风控法务部工作人员",27310100801,{"v":103.9,"d":"103.90"},{"v":79,"d":"79.00"},74.13,2,1,""]
[24,{"$f":"INDEX([1]基础!$B:$B,MATCH($H26,[1]基础!$G:$G,0))","v":"三都县"},"273405","代钧辉","贵州省珠江源实业集团有限责任公司",{"$f":"INDEX([1]基础!$E:$E,MATCH($H26,[1]基础!$G:$G,0))","v":1008},"风控法务部工作人员",27310100801,104.43,{"v":73.6,"d":"73.60"},71.61,3,1,""]
[25,{"$f":"INDEX([1]基础!$B:$B,MATCH($H27,[1]基础!$G:$G,0))","v":"三都县"},"273407","缪征锜","贵州省珠江源实业集团有限责任公司",{"$f":"INDEX([1]基础!$E:$E,MATCH($H27,[1]基础!$G:$G,0))","v":1008},"资产运营管理部工作人员",27310100802,{"v":119,"d":"119.00"},{"v":81.8,"d":"81.80"},80.57,1,1,"是"]
[26,{"$f":"INDEX([1]基础!$B:$B,MATCH($H28,[1]基础!$G:$G,0))","v":"三都县"},"273408","陆治任","贵州省珠江源实业集团有限责任公司",{"$f":"INDEX([1]基础!$E:$E,MATCH($H28,[1]基础!$G:$G,0))","v":1008},"资产运营管理部工作人员",27310100802,114.84,{"v":77.4,"d":"77.40"},76.98,2,1,""]
[27,{"$f":"INDEX([1]基础!$B:$B,MATCH($H29,[1]基础!$G:$G,0))","v":"三都县"},"273409","管旭","贵州省珠江源实业集团有限责任公司",{"$f":"INDEX([1]基础!$E:$E,MATCH($H29,[1]基础!$G:$G,0))","v":1008},"资产运营管理部工作人员",27310100802,112.23,{"v":74.2,"d":"74.20"},74.51,3,1,""]
[28,{"$f":"INDEX([1]基础!$B:$B,MATCH($H30,[1]基础!$G:$G,0))","v":"三都县"},"273410","邹佳兴","贵州省珠江源实业集团有限责任公司",{"$f":"INDEX([1]基础!$E:$E,MATCH($H30,[1]基础!$G:$G,0))","v":1008},"人力资源部工作人员",27310100803,118.63,{"v":77.2,"d":"77.20"},78.14,1,1,"是"]
[29,{"$f":"INDEX([1]基础!$B:$B,MATCH($H31,[1]基础!$G:$G,0))","v":"三都县"},"273412","谢兴菊","贵州省珠江源实业集团有限责任公司",{"$f":"INDEX([1]基础!$E:$E,MATCH($H31,[1]基础!$G:$G,0))","v":1008},"人力资源部工作人员",27310100803,108.41,{"v":81.8,"d":"81.80"},77.04,2,1,""]
[30,{"$f":"INDEX([1]基础!$B:$B,MATCH($H32,[1]基础!$G:$G,0))","v":"三都县"},"273411","娄颖","贵州省珠江源实业集团有限责任公司",{"$f":"INDEX([1]基础!$E:$E,MATCH($H32,[1]基础!$G:$G,0))","v":1008},"人力资源部工作人员",27310100803,110.61,{"v":77.4,"d":"77.40"},75.57,3,1,""]
[31,{"$f":"INDEX([1]基础!$B:$B,MATCH($H33,[1]基础!$G:$G,0))","v":"三都县"},"273413","万继红","贵州水族文化旅游产业投资开发有限责任公司",{"$f":"INDEX([1]基础!$E:$E,MATCH($H33,[1]基础!$G:$G,0))","v":1009},"行政部工作人员",27310100901,126.97,{"v":81.6,"d":"81.60"},83.12,1,1,"是"]
[32,{"$f":"INDEX([1]基础!$B:$B,MATCH($H34,[1]基础!$G:$G,0))","v":"三都县"},"273414","宋飞燕","贵州水族文化旅游产业投资开发有限责任公司",{"$f":"INDEX([1]基础!$E:$E,MATCH($H34,[1]基础!$G:$G,0))","v":1009},"行政部工作人员",27310100901,119.59,{"v":79.8,"d":"79.80"},79.76,2,1,""]
[33,{"$f":"INDEX([1]基础!$B:$B,MATCH($H35,[1]基础!$G:$G,0))","v":"三都县"},"273415","陈俊锟","贵州水族文化旅游产业投资开发有限责任公司",{"$f":"INDEX([1]基础!$E:$E,MATCH($H35,[1]基础!$G:$G,0))","v":1009},"行政部工作人员",27310100901,112.92,{"v":78.4,"d":"78.40"},76.84,3,1,""]
[34,{"$f":"INDEX([1]基础!$B:$B,MATCH($H36,[1]基础!$G:$G,0))","v":"三都县"},"273416","王一羽","三都县珠江源运输服务有限公司",{"$f":"INDEX([1]基础!$E:$E,MATCH($H36,[1]基础!$G:$G,0))","v":1010},"综合科工作人员",27310101001,117.94,{"v":76,"d":"76.00"},77.31,1,1,"是"]
[35,{"$f":"INDEX([1]基础!$B:$B,MATCH($H37,[1]基础!$G:$G,0))","v":"三都县"},"273417","王小兵","三都县珠江源运输服务有限公司",{"$f":"INDEX([1]基础!$E:$E,MATCH($H37,[1]基础!$G:$G,0))","v":1010},"综合科工作人员",27310101001,107.77,{"v":77.2,"d":"77.20"},74.52,2,1,""]
[36,{"$f":"INDEX([1]基础!$B:$B,MATCH($H38,[1]基础!$G:$G,0))","v":"三都县"},"273418","王定法","三都县珠江源运输服务有限公司",{"$f":"INDEX([1]基础!$E:$E,MATCH($H38,[1]基础!$G:$G,0))","v":1010},"综合科工作人员",27310101001,106.91,{"v":76.2,"d":"76.20"},73.74,3,1,""]

{"sheet":"Sheet2","index":1,"n_rows":0,"n_cols":0,"rows_kept":0}

{"sheet":"Sheet3","index":2,"n_rows":0,"n_cols":0,"rows_kept":0}