{"text_format":"3","workbook":"xlsx","n_sheets":1,"sheets":["附件"],"not_rendered":{"external_links":1,"defined_names":2},"read":"whole","date_system":"1900"}

{"sheet":"附件","index":0,"n_rows":77,"n_cols":13,"rows_kept":77,"merged":[[1,0,1,12]]}
["附件："]
["独山县县管国有企业2023年统一面向社会公开招聘工作人员面试成绩、总成绩及排名、拟进入体检环节人员名单"]
["序号","姓名","性别","准考证号","招聘单位及职位代码（职位名称）","笔试成绩","面试考场","面试抽签号","面试成绩","总成绩（总成绩=笔试成绩*50%+面试成绩*50）","总成绩排名","是否拟进入体检","备注"]
[1,"潘永香","女","116200101006","贵州恒源国投集团有限公司202302001工作人员",{"$f":"_xlfn.XLOOKUP(B4,[1]附件!$B$4:$B$77,[1]附件!$G$4:$G$77)","v":"73.72"},"第二考场",15,80.12,76.92,{"$f":"COUNTIFS(E:E,E4,J:J,\">\"&J4)+1","v":1},"是"]
[2,"罗廷衢","女","116200103021","贵州恒源国投集团有限公司202302001工作人员",{"$f":"_xlfn.XLOOKUP(B5,[1]附件!$B$4:$B$77,[1]附件!$G$4:$G$77)","v":"71.22"},"第二考场",11,{"v":72.6,"d":"72.60"},71.91,{"$f":"COUNTIFS(E:E,E5,J:J,\">\"&J5)+1","v":2}]
[3,"韦宗丽","女","116200102213","贵州恒源国投集团有限公司202302001工作人员",{"$f":"_xlfn.XLOOKUP(B6,[1]附件!$B$4:$B$77,[1]附件!$G$4:$G$77)","v":"70.20"},"第二考场",12,71.72,70.96,{"$f":"COUNTIFS(E:E,E6,J:J,\">\"&J6)+1","v":3}]
[4,"孟金爽","女","116200100908","贵州恒源国投集团有限公司202302002工作人员",{"$f":"_xlfn.XLOOKUP(B7,[1]附件!$B$4:$B$77,[1]附件!$G$4:$G$77)","v":"74.84"},"第二考场",5,86.36,{"v":80.6,"d":"80.60"},{"$f":"COUNTIFS(E:E,E7,J:J,\">\"&J7)+1","v":1},"是"]
[5,"胡昌建","男","116200101129","贵州恒源国投集团有限公司202302002工作人员",{"$f":"_xlfn.XLOOKUP(B8,[1]附件!$B$4:$B$77,[1]附件!$G$4:$G$77)","v":"75.01"},"第二考场",2,82.26,{"v":78.635,"d":"78.64"},{"$f":"COUNTIFS(E:E,E8,J:J,\">\"&J8)+1","v":2}]
[6,"韦奇","女","116200100224","贵州恒源国投集团有限公司202302002工作人员",{"$f":"_xlfn.XLOOKUP(B9,[1]附件!$B$4:$B$77,[1]附件!$G$4:$G$77)","v":"73.77"},"第二考场",3,{"v":81.4,"d":"81.40"},{"v":77.585,"d":"77.59"},{"$f":"COUNTIFS(E:E,E9,J:J,\">\"&J9)+1","v":3}]
[7,"卢丹丹","女","116200100916","贵州恒源国投集团有限公司202302003工作人员",{"$f":"_xlfn.XLOOKUP(B10,[1]附件!$B$4:$B$77,[1]附件!$G$4:$G$77)","v":"79.01"},"第二考场",1,81.94,{"v":80.475,"d":"80.48"},{"$f":"COUNTIFS(E:E,E10,J:J,\">\"&J10)+1","v":1},"是"]
[8,"孟青云","女","116200100416","贵州恒源国投集团有限公司202302003工作人员",{"$f":"_xlfn.XLOOKUP(B11,[1]附件!$B$4:$B$77,[1]附件!$G$4:$G$77)","v":"71.74"},"第二考场","缺考","缺考","缺考","缺考","否"]
[9,"韦广姣","女","116200100819","贵州恒源国投集团有限公司202302003工作人员",{"$f":"_xlfn.XLOOKUP(B12,[1]附件!$B$4:$B$77,[1]附件!$G$4:$G$77)","v":"65.54"},"第二考场","缺考","缺考","缺考","缺考","否"]
[10,"陈华海","男","116200101918","贵州恒源国投集团有限公司202302004工作人员",{"$f":"_xlfn.XLOOKUP(B13,[1]附件!$B$4:$B$77,[1]附件!$G$4:$G$77)","v":"75.15"},"第二考场",9,{"v":81.4,"d":"81.40"},{"v":78.275,"d":"78.28"},{"$f":"COUNTIFS(E:E,E13,J:J,\">\"&J13)+1","v":1},"是"]
[11,"黎正爽","女","116200100115","贵州恒源国投集团有限公司202302004工作人员",{"$f":"_xlfn.XLOOKUP(B14,[1]附件!$B$4:$B$77,[1]附件!$G$4:$G$77)","v":"70.21"},"第二考场",7,78.31,74.26,{"$f":"COUNTIFS(E:E,E14,J:J,\">\"&J14)+1","v":2}]
[12,"杨丹","女","116200100222","贵州恒源国投集团有限公司202302004工作人员",{"$f":"_xlfn.XLOOKUP(B15,[1]附件!$B$4:$B$77,[1]附件!$G$4:$G$77)","v":"70.42"},"第二考场",4,73.96,72.19,{"$f":"COUNTIFS(E:E,E15,J:J,\">\"&J15)+1","v":3}]
[13,"杨光文","男","116200100717","贵州恒源国投集团有限公司202302005工作人员",{"$f":"_xlfn.XLOOKUP(B16,[1]附件!$B$4:$B$77,[1]附件!$G$4:$G$77)","v":"66.64"},"第三考场",15,74.32,70.48,{"$f":"COUNTIFS(E:E,E16,J:J,\">\"&J16)+1","v":1},"是"]
[14,"杨启兴","男","116200102415","贵州恒源国投集团有限公司202302005工作人员",{"$f":"_xlfn.XLOOKUP(B17,[1]附件!$B$4:$B$77,[1]附件!$G$4:$G$77)","v":"69.81"},"第三考场",16,70.46,{"v":70.135,"d":"70.14"},{"$f":"COUNTIFS(E:E,E17,J:J,\">\"&J17)+1","v":2}]
[15,"罗含佶","男","116200100228","贵州恒源国投集团有限公司202302005工作人员",{"$f":"_xlfn.XLOOKUP(B18,[1]附件!$B$4:$B$77,[1]附件!$G$4:$G$77)","v":"61.23"},"第三考场",1,73.26,{"v":67.245,"d":"67.25"},{"$f":"COUNTIFS(E:E,E18,J:J,\">\"&J18)+1","v":3}]
[16,"陆家良","男","116200100221","贵州恒源国投集团有限公司202302007工作人员",{"$f":"_xlfn.XLOOKUP(B19,[1]附件!$B$4:$B$77,[1]附件!$G$4:$G$77)","v":"65.32"},"第三考场",13,{"v":76.1,"d":"76.10"},70.71,{"$f":"COUNTIFS(E:E,E19,J:J,\">\"&J19)+1","v":1},"是"]
[17,"李维","男","116200102617","贵州恒源国投集团有限公司202302007工作人员",{"$f":"_xlfn.XLOOKUP(B20,[1]附件!$B$4:$B$77,[1]附件!$G$4:$G$77)","v":"63.46"},"第三考场",3,73.42,68.44,{"$f":"COUNTIFS(E:E,E20,J:J,\">\"&J20)+1","v":2}]
[18,"石鸿紫","男","116200101411","贵州金晟实业集团有限公司202303001工作人员",{"$f":"_xlfn.XLOOKUP(B21,[1]附件!$B$4:$B$77,[1]附件!$G$4:$G$77)","v":"68.99"},"第三考场",12,{"v":79.4,"d":"79.40"},{"v":74.195,"d":"74.20"},{"$f":"COUNTIFS(E:E,E21,J:J,\">\"&J21)+1","v":1},"是"]
[19,"黎祥娜","女","116200102620","贵州金晟实业集团有限公司202303001工作人员",{"$f":"_xlfn.XLOOKUP(B22,[1]附件!$B$4:$B$77,[1]附件!$G$4:$G$77)","v":"71.97"},"第三考场",5,74.18,{"v":73.075,"d":"73.08"},{"$f":"COUNTIFS(E:E,E22,J:J,\">\"&J22)+1","v":2}]
[20,"杨小调","女","116200100809","贵州金晟实业集团有限公司202303001工作人员",{"$f":"_xlfn.XLOOKUP(B23,[1]附件!$B$4:$B$77,[1]附件!$G$4:$G$77)","v":"64.33"},"第三考场",7,70.14,{"v":67.235,"d":"67.24"},{"$f":"COUNTIFS(E:E,E23,J:J,\">\"&J23)+1","v":3}]
[21,"杨昌彬","男","116200101027","贵州金晟实业集团有限公司202303002工作人员",{"$f":"_xlfn.XLOOKUP(B24,[1]附件!$B$4:$B$77,[1]附件!$G$4:$G$77)","v":"51.46"},"第三考场",14,{"v":65.8,"d":"65.80"},58.63,{"$f":"COUNTIFS(E:E,E24,J:J,\">\"&J24)+1","v":1},"否","面试成绩未达到最低合格分数线70分"]
[22,"谭德勇","男","116200100829","贵州金晟实业集团有限公司202303002工作人员",{"$f":"_xlfn.XLOOKUP(B25,[1]附件!$B$4:$B$77,[1]附件!$G$4:$G$77)","v":"75.02"},"第三考场","缺考","缺考","缺考","缺考","否"]
[23,"陈双","男","116200101118","贵州金晟实业集团有限公司202303003副部长",{"$f":"_xlfn.XLOOKUP(B26,[1]附件!$B$4:$B$77,[1]附件!$G$4:$G$77)","v":"67.06"},"第四考场",8,{"v":77.4,"d":"77.40"},72.23,{"$f":"COUNTIFS(E:E,E26,J:J,\">\"&J26)+1","v":1},"是"]
[24,"梁漂英","女","116200103018","贵州金晟实业集团有限公司202303004工作人员",{"$f":"_xlfn.XLOOKUP(B27,[1]附件!$B$4:$B$77,[1]附件!$G$4:$G$77)","v":"79.12"},"第三考场",11,{"v":79.3,"d":"79.30"},79.21,{"$f":"COUNTIFS(E:E,E27,J:J,\">\"&J27)+1","v":1},"是"]
[25,"莫凯","男","116200100508","贵州金晟实业集团有限公司202303004工作人员",{"$f":"_xlfn.XLOOKUP(B28,[1]附件!$B$4:$B$77,[1]附件!$G$4:$G$77)","v":"78.03"},"第三考场",6,77.82,{"v":77.925,"d":"77.93"},{"$f":"COUNTIFS(E:E,E28,J:J,\">\"&J28)+1","v":2}]
[26,"郭丽红","女","116200102911","贵州金晟实业集团有限公司202303004工作人员",{"$f":"_xlfn.XLOOKUP(B29,[1]附件!$B$4:$B$77,[1]附件!$G$4:$G$77)","v":"78.50"},"第三考场","缺考","缺考","缺考","缺考","否"]
[27,"杨明","男","116200100926","贵州金晟实业集团有限公司202303005工作人员",{"$f":"_xlfn.XLOOKUP(B30,[1]附件!$B$4:$B$77,[1]附件!$G$4:$G$77)","v":"70.17"},"第三考场",9,76.06,{"v":73.115,"d":"73.12"},{"$f":"COUNTIFS(E:E,E30,J:J,\">\"&J30)+1","v":1},"是"]
[28,"莫建昌","男","116200102006","贵州金晟实业集团有限公司202303005工作人员",{"$f":"_xlfn.XLOOKUP(B31,[1]附件!$B$4:$B$77,[1]附件!$G$4:$G$77)","v":"68.65"},"第三考场",4,65.96,{"v":67.305,"d":"67.31"},{"$f":"COUNTIFS(E:E,E31,J:J,\">\"&J31)+1","v":2},"否","面试成绩未达到最低合格分数线70分"]
[29,"陈静茹","女","116200102114","贵州金晟实业集团有限公司202303005工作人员",{"$f":"_xlfn.XLOOKUP(B32,[1]附件!$B$4:$B$77,[1]附件!$G$4:$G$77)","v":"65.87"},"第三考场","缺考","缺考","缺考","缺考","否"]
[30,"骆筱汀","男","116200102623","贵州金晟实业集团有限公司202303006工作人员",{"$f":"_xlfn.XLOOKUP(B33,[1]附件!$B$4:$B$77,[1]附件!$G$4:$G$77)","v":"61.81"},"第三考场",10,{"v":85.2,"d":"85.20"},{"v":73.505,"d":"73.51"},{"$f":"COUNTIFS(E:E,E33,J:J,\">\"&J33)+1","v":1},"是"]
[31,"陆恩坡","男","116200101316","贵州金晟实业集团有限公司202303006工作人员",{"$f":"_xlfn.XLOOKUP(B34,[1]附件!$B$4:$B$77,[1]附件!$G$4:$G$77)","v":"71.49"},"第三考场",2,{"v":75.1,"d":"75.10"},{"v":73.295,"d":"73.30"},{"$f":"COUNTIFS(E:E,E34,J:J,\">\"&J34)+1","v":2}]
[32,"莫立望","男","116200100713","贵州金晟实业集团有限公司202303006工作人员",{"$f":"_xlfn.XLOOKUP(B35,[1]附件!$B$4:$B$77,[1]附件!$G$4:$G$77)","v":"70.33"},"第三考场",8,70.62,{"v":70.475,"d":"70.48"},{"$f":"COUNTIFS(E:E,E35,J:J,\">\"&J35)+1","v":3}]
[33,"白钦超","男","116200100225","贵州金晟实业集团有限公司202303007工作人员",{"$f":"_xlfn.XLOOKUP(B36,[1]附件!$B$4:$B$77,[1]附件!$G$4:$G$77)","v":"75.92"},"第四考场",10,81.36,78.64,{"$f":"COUNTIFS(E:E,E36,J:J,\">\"&J36)+1","v":1},"是"]
[34,"杨文智","男","116200102128","贵州金晟实业集团有限公司202303007工作人员",{"$f":"_xlfn.XLOOKUP(B37,[1]附件!$B$4:$B$77,[1]附件!$G$4:$G$77)","v":"77.68"},"第四考场",2,{"v":78.7,"d":"78.70"},78.19,{"$f":"COUNTIFS(E:E,E37,J:J,\">\"&J37)+1","v":2},"是"]
[35,"赵支文","男","116200101619","贵州金晟实业集团有限公司202303007工作人员",{"$f":"_xlfn.XLOOKUP(B38,[1]附件!$B$4:$B$77,[1]附件!$G$4:$G$77)","v":"78.04"},"第四考场",14,77.56,{"v":77.8,"d":"77.80"},{"$f":"COUNTIFS(E:E,E38,J:J,\">\"&J38)+1","v":3}]
[36,"张忠曼","女","116200100208","贵州金晟实业集团有限公司202303007工作人员",{"$f":"_xlfn.XLOOKUP(B39,[1]附件!$B$4:$B$77,[1]附件!$G$4:$G$77)","v":"76.16"},"第四考场",11,78.94,77.55,{"$f":"COUNTIFS(E:E,E39,J:J,\">\"&J39)+1","v":4}]
[37,"蒙正莲","女","116200102610","贵州金晟实业集团有限公司202303007工作人员",{"$f":"_xlfn.XLOOKUP(B40,[1]附件!$B$4:$B$77,[1]附件!$G$4:$G$77)","v":"76.74"},"第四考场",4,{"v":77.8,"d":"77.80"},77.27,{"$f":"COUNTIFS(E:E,E40,J:J,\">\"&J40)+1","v":5}]
[38,"吴键","男","116200100414","贵州金晟实业集团有限公司202303007工作人员",{"$f":"_xlfn.XLOOKUP(B41,[1]附件!$B$4:$B$77,[1]附件!$G$4:$G$77)","v":"75.32"},"第四考场",12,77.48,{"v":76.4,"d":"76.40"},{"$f":"COUNTIFS(E:E,E41,J:J,\">\"&J41)+1","v":6}]
[39,"罗洁","女","116200102514","贵州金晟实业集团有限公司202303008工作人员",{"$f":"_xlfn.XLOOKUP(B42,[1]附件!$B$4:$B$77,[1]附件!$G$4:$G$77)","v":"74.29"},"第四考场",7,74.96,{"v":74.625,"d":"74.63"},{"$f":"COUNTIFS(E:E,E42,J:J,\">\"&J42)+1","v":1},"是"]
[40,"韦泽彩","女","116200101605","贵州金晟实业集团有限公司202303008工作人员",{"$f":"_xlfn.XLOOKUP(B43,[1]附件!$B$4:$B$77,[1]附件!$G$4:$G$77)","v":"70.06"},"第四考场",13,{"v":73.4,"d":"73.40"},71.73,{"$f":"COUNTIFS(E:E,E43,J:J,\">\"&J43)+1","v":2}]
[41,"黎金妹","女","116200100129","贵州金晟实业集团有限公司202303008工作人员",{"$f":"_xlfn.XLOOKUP(B44,[1]附件!$B$4:$B$77,[1]附件!$G$4:$G$77)","v":"66.70"},"第四考场",15,75.96,71.33,{"$f":"COUNTIFS(E:E,E44,J:J,\">\"&J44)+1","v":3}]
[42,"何国友","男","116200100310","贵州金晟实业集团有限公司202303009工作人员",{"$f":"_xlfn.XLOOKUP(B45,[1]附件!$B$4:$B$77,[1]附件!$G$4:$G$77)","v":"66.45"},"第四考场",17,74.32,{"v":70.385,"d":"70.39"},{"$f":"COUNTIFS(E:E,E45,J:J,\">\"&J45)+1","v":1},"是"]
[43,"文际登","男","116200100623","贵州金晟实业集团有限公司202303009工作人员",{"$f":"_xlfn.XLOOKUP(B46,[1]附件!$B$4:$B$77,[1]附件!$G$4:$G$77)","v":"64.44"},"第四考场",9,75.08,69.76,{"$f":"COUNTIFS(E:E,E46,J:J,\">\"&J46)+1","v":2}]
[44,"杨佳梁","男","116200101023","贵州金晟实业集团有限公司202303009工作人员",{"$f":"_xlfn.XLOOKUP(B47,[1]附件!$B$4:$B$77,[1]附件!$G$4:$G$77)","v":"62.85"},"第四考场",3,{"v":75.5,"d":"75.50"},{"v":69.175,"d":"69.18"},{"$f":"COUNTIFS(E:E,E47,J:J,\">\"&J47)+1","v":3}]
[45,"郑青青","女","116200101828","贵州金晟实业集团有限公司202303010工作人员",{"$f":"_xlfn.XLOOKUP(B48,[1]附件!$B$4:$B$77,[1]附件!$G$4:$G$77)","v":"71.23"},"第四考场",5,78.52,{"v":74.875,"d":"74.88"},{"$f":"COUNTIFS(E:E,E48,J:J,\">\"&J48)+1","v":1},"是"]
[46,"张露","女","116200100104","贵州金晟实业集团有限公司202303010工作人员",{"$f":"_xlfn.XLOOKUP(B49,[1]附件!$B$4:$B$77,[1]附件!$G$4:$G$77)","v":"75.59"},"第四考场",16,{"v":74.1,"d":"74.10"},{"v":74.845,"d":"74.85"},{"$f":"COUNTIFS(E:E,E49,J:J,\">\"&J49)+1","v":2}]
[47,"周子菁","女","116200101614","贵州金晟实业集团有限公司202303010工作人员",{"$f":"_xlfn.XLOOKUP(B50,[1]附件!$B$4:$B$77,[1]附件!$G$4:$G$77)","v":"66.35"},"第四考场","缺考","缺考","缺考","缺考","否"]
[48,"魏欢","女","116200102012","贵州金晟实业集团有限公司202303011工作人员",{"$f":"_xlfn.XLOOKUP(B51,[1]附件!$B$4:$B$77,[1]附件!$G$4:$G$77)","v":"72.63"},"第四考场",1,{"v":76.6,"d":"76.60"},{"v":74.615,"d":"74.62"},{"$f":"COUNTIFS(E:E,E51,J:J,\">\"&J51)+1","v":1},"是"]
[49,"罗娜","女","116200102604","贵州金晟实业集团有限公司202303011工作人员",{"$f":"_xlfn.XLOOKUP(B52,[1]附件!$B$4:$B$77,[1]附件!$G$4:$G$77)","v":"68.48"},"第四考场",6,{"v":76.1,"d":"76.10"},72.29,{"$f":"COUNTIFS(E:E,E52,J:J,\">\"&J52)+1","v":2}]
[50,"吴明威","男","116200100627","贵州金晟实业集团有限公司202303011工作人员",{"$f":"_xlfn.XLOOKUP(B53,[1]附件!$B$4:$B$77,[1]附件!$G$4:$G$77)","v":"66.66"},"第四考场","缺考","缺考","缺考","缺考","否"]
[51,"李扬","男","116200100727","贵州鑫凤实业集团有限公司202301001工作人员",{"$f":"_xlfn.XLOOKUP(B54,[1]附件!$B$4:$B$77,[1]附件!$G$4:$G$77)","v":"70.35"},"第一考场",9,79.32,{"v":74.835,"d":"74.84"},{"$f":"COUNTIFS(E:E,E54,J:J,\">\"&J54)+1","v":1},"是"]
[52,"粟深华","男","116200101303","贵州鑫凤实业集团有限公司202301001工作人员",{"$f":"_xlfn.XLOOKUP(B55,[1]附件!$B$4:$B$77,[1]附件!$G$4:$G$77)","v":"73.42"},"第一考场",14,74.08,73.75,{"$f":"COUNTIFS(E:E,E55,J:J,\">\"&J55)+1","v":2}]
[53,"何立静","女","116200102328","贵州鑫凤实业集团有限公司202301001工作人员",{"$f":"_xlfn.XLOOKUP(B56,[1]附件!$B$4:$B$77,[1]附件!$G$4:$G$77)","v":"70.56"},"第一考场",3,73.96,72.26,{"$f":"COUNTIFS(E:E,E56,J:J,\">\"&J56)+1","v":3}]
[54,"吴金宝","男","116200102329","贵州鑫凤实业集团有限公司202301002工作人员",{"$f":"_xlfn.XLOOKUP(B57,[1]附件!$B$4:$B$77,[1]附件!$G$4:$G$77)","v":"75.88"},"第一考场",4,82.18,79.03,{"$f":"COUNTIFS(E:E,E57,J:J,\">\"&J57)+1","v":1},"是"]
[55,"何祥勋","男","116200102227","贵州鑫凤实业集团有限公司202301002工作人员",{"$f":"_xlfn.XLOOKUP(B58,[1]附件!$B$4:$B$77,[1]附件!$G$4:$G$77)","v":"77.14"},"第一考场",1,80.46,{"v":78.8,"d":"78.80"},{"$f":"COUNTIFS(E:E,E58,J:J,\">\"&J58)+1","v":2}]
[56,"石启莲","女","116200100519","贵州鑫凤实业集团有限公司202301002工作人员",{"$f":"_xlfn.XLOOKUP(B59,[1]附件!$B$4:$B$77,[1]附件!$G$4:$G$77)","v":"72.14"},"第一考场",5,{"v":72.8,"d":"72.80"},72.47,{"$f":"COUNTIFS(E:E,E59,J:J,\">\"&J59)+1","v":3}]
[57,"吴弘宇","女","116200102929","贵州鑫凤实业集团有限公司202301003工作人员",{"$f":"_xlfn.XLOOKUP(B60,[1]附件!$B$4:$B$77,[1]附件!$G$4:$G$77)","v":"74.89"},"第一考场",12,81.92,{"v":78.405,"d":"78.41"},{"$f":"COUNTIFS(E:E,E60,J:J,\">\"&J60)+1","v":1},"是"]
[58,"韦鑫","女","116200101824","贵州鑫凤实业集团有限公司202301003工作人员",{"$f":"_xlfn.XLOOKUP(B61,[1]附件!$B$4:$B$77,[1]附件!$G$4:$G$77)","v":"72.80"},"第一考场",8,83.36,78.08,{"$f":"COUNTIFS(E:E,E61,J:J,\">\"&J61)+1","v":2}]
[59,"张曦冉","女","116200102923","贵州鑫凤实业集团有限公司202301003工作人员",{"$f":"_xlfn.XLOOKUP(B62,[1]附件!$B$4:$B$77,[1]附件!$G$4:$G$77)","v":"72.08"},"第一考场","缺考","缺考","缺考","缺考","否"]
[60,"华灿凯","男","116200101525","贵州鑫凤实业集团有限公司202301004工作人员",{"$f":"_xlfn.XLOOKUP(B63,[1]附件!$B$4:$B$77,[1]附件!$G$4:$G$77)","v":"71.12"},"第一考场",17,{"v":79.4,"d":"79.40"},75.26,{"$f":"COUNTIFS(E:E,E63,J:J,\">\"&J63)+1","v":1},"是"]
[61,"张焕然","男","116200102812","贵州鑫凤实业集团有限公司202301004工作人员",{"$f":"_xlfn.XLOOKUP(B64,[1]附件!$B$4:$B$77,[1]附件!$G$4:$G$77)","v":"68.00"},"第一考场",16,{"v":76.6,"d":"76.60"},{"v":72.3,"d":"72.30"},{"$f":"COUNTIFS(E:E,E64,J:J,\">\"&J64)+1","v":2}]
[62,"艾涛","男","116200102719","贵州鑫凤实业集团有限公司202301004工作人员",{"$f":"_xlfn.XLOOKUP(B65,[1]附件!$B$4:$B$77,[1]附件!$G$4:$G$77)","v":"67.28"},"第一考场",15,71.46,69.37,{"$f":"COUNTIFS(E:E,E65,J:J,\">\"&J65)+1","v":3}]
[63,"罗晓飞","男","116200100403","贵州鑫凤实业集团有限公司202301005工作人员",{"$f":"_xlfn.XLOOKUP(B66,[1]附件!$B$4:$B$77,[1]附件!$G$4:$G$77)","v":"82.86"},"第一考场",6,{"v":83.7,"d":"83.70"},83.28,{"$f":"COUNTIFS(E:E,E66,J:J,\">\"&J66)+1","v":1},"是"]
[64,"吴明健","男","116200102503","贵州鑫凤实业集团有限公司202301005工作人员",{"$f":"_xlfn.XLOOKUP(B67,[1]附件!$B$4:$B$77,[1]附件!$G$4:$G$77)","v":"76.92"},"第一考场",11,84.82,80.87,{"$f":"COUNTIFS(E:E,E67,J:J,\">\"&J67)+1","v":2},"是"]
[65,"韦天娇","女","116200102001","贵州鑫凤实业集团有限公司202301005工作人员",{"$f":"_xlfn.XLOOKUP(B68,[1]附件!$B$4:$B$77,[1]附件!$G$4:$G$77)","v":"77.30"},"第一考场",7,81.58,79.44,{"$f":"COUNTIFS(E:E,E68,J:J,\">\"&J68)+1","v":3}]
[66,"罗传学","男","116200100516","贵州鑫凤实业集团有限公司202301005工作人员",{"$f":"_xlfn.XLOOKUP(B69,[1]附件!$B$4:$B$77,[1]附件!$G$4:$G$77)","v":"79.04"},"第一考场",13,76.24,77.64,{"$f":"COUNTIFS(E:E,E69,J:J,\">\"&J69)+1","v":4}]
[67,"姚佳伦","女","116200102628","贵州鑫凤实业集团有限公司202301005工作人员",{"$f":"_xlfn.XLOOKUP(B70,[1]附件!$B$4:$B$77,[1]附件!$G$4:$G$77)","v":"77.48"},"第一考场",10,{"v":74.7,"d":"74.70"},76.09,{"$f":"COUNTIFS(E:E,E70,J:J,\">\"&J70)+1","v":5}]
[68,"蒙正宽","男","116200100114","贵州鑫凤实业集团有限公司202301005工作人员",{"$f":"_xlfn.XLOOKUP(B71,[1]附件!$B$4:$B$77,[1]附件!$G$4:$G$77)","v":"78.15"},"第一考场",2,74.02,{"v":76.085,"d":"76.09"},{"$f":"COUNTIFS(E:E,E71,J:J,\">\"&J71)+1","v":6}]
[69,"岑瑞","男","116200100719","贵州鑫凤实业集团有限公司202301006工作人员",{"$f":"_xlfn.XLOOKUP(B72,[1]附件!$B$4:$B$77,[1]附件!$G$4:$G$77)","v":"73.82"},"第二考场",13,{"v":84.7,"d":"84.70"},79.26,{"$f":"COUNTIFS(E:E,E72,J:J,\">\"&J72)+1","v":1},"是"]
[70,"孟发洁","女","116200101802","贵州鑫凤实业集团有限公司202301006工作人员",{"$f":"_xlfn.XLOOKUP(B73,[1]附件!$B$4:$B$77,[1]附件!$G$4:$G$77)","v":"73.45"},"第二考场",6,80.62,{"v":77.035,"d":"77.04"},{"$f":"COUNTIFS(E:E,E73,J:J,\">\"&J73)+1","v":2}]
[71,"全修绒","女","116200100125","贵州鑫凤实业集团有限公司202301006工作人员",{"$f":"_xlfn.XLOOKUP(B74,[1]附件!$B$4:$B$77,[1]附件!$G$4:$G$77)","v":"73.79"},"第二考场",10,75.64,{"v":74.715,"d":"74.72"},{"$f":"COUNTIFS(E:E,E74,J:J,\">\"&J74)+1","v":3}]
[72,"杨蕴琨","男","116200102505","贵州鑫凤实业集团有限公司202301007工作人员",{"$f":"_xlfn.XLOOKUP(B75,[1]附件!$B$4:$B$77,[1]附件!$G$4:$G$77)","v":"72.23"},"第二考场",14,86.72,{"v":79.475,"d":"79.48"},{"$f":"COUNTIFS(E:E,E75,J:J,\">\"&J75)+1","v":1},"是"]
[73,"莫欢","男","116200101119","贵州鑫凤实业集团有限公司202301007工作人员",{"$f":"_xlfn.XLOOKUP(B76,[1]附件!$B$4:$B$77,[1]附件!$G$4:$G$77)","v":"72.62"},"第二考场",8,77.34,74.98,{"$f":"COUNTIFS(E:E,E76,J:J,\">\"&J76)+1","v":2}]
[74,"邓渊","男","116200102414","贵州鑫凤实业集团有限公司202301007工作人员",{"$f":"_xlfn.XLOOKUP(B77,[1]附件!$B$4:$B$77,[1]附件!$G$4:$G$77)","v":"73.38"},"第二考场","缺考","缺考","缺考","缺考","否"]